{"text_format":"1","workbook":"xlsx","n_sheets":22,"sheets":["Apoio","Ficha de Inscrição","q32eliminaçãodireta","ELIMINAÇÃODIRETAQ64","T642derrota","quadro82derrota","quadro162derrota","5","SS-InfA","8","SS-InfB","SS-Ini","SH-Ini","SH-InfB","SH-Juv","16","32","Contactos","Calendário","34","quadro322derrota","4"],"not_rendered":{"charts":0,"images":18,"macros":1,"external_links":2,"defined_names":53,"comments":0,"pivot_tables":0},"unopened":[],"bounds":{"document_bytes":16777216,"sheet_cells":100000,"rows_first":2000,"rows_last":500,"rows_between":2000,"halvings":0,"cell_chars":16384,"cell_head_chars":4096},"cells_cut":0,"cells_raw":0,"read":"whole","date_system":"1900"}

{"sheet":"Apoio","index":0,"n_rows":500,"n_cols":15,"rows_kept":500,"cut":false,"hidden":false,"merged":[[9,8,9,11],[13,3,13,6],[9,3,10,4],[9,5,10,6],[26,3,26,4],[21,3,21,5],[22,3,22,5],[23,3,23,5],[26,5,26,6],[24,3,24,5]]}
[]
[null,null,null,null,null,null,null,null,null,null,null,null,null,"Indicações"]
[null,null,null,null,null,null,null,null,null,null,null,null,"1-","Utilizar o links   (Guardar) e (Guardar e Sair) quando terminar."]
[null,null,null,null,null,null,null,null,null,null,null,null,null,"Este é um processo automatico que atribui o nome correcto ao ficheiro."]
[]
[null,null,null,null,null,null,null,null,null,null,null,null,"2-"," Ao criar o quadro competitivo deverá escolher as ABV (abreviaturas)"]
[null,null,null,null,null,null,null,null,null,null,null,null,null," e respectivo escalão nas celulas A4 ou B11."]
[null,null,null,null,null,null,null,null,null,null,null,null,null,"ABV","Nome da Prova"]
[null,null,null,null,null,null,null,null,null,null,null,null,null,"EH","Equipas Homens"]
[null,null,null,"Ano Letivo:",null,"2017/2018",null,null,"Criação de Novos Quadro Competitivos",null,null,null,null,"ES","Equipas Senhoras"]
[null,null,null,null,null,null,null,null,null,null,null,null,null,"EM-Juv","Equipas Mistas - Juvenis"]
[null,null,null,null,null,null,null,null,null,null,null,null,null,"PH-InfA","Pares Homens - Infantis A"]
[null,null,null,"Torneio",null,null,null,null,null,null,null,null,null,"PH-InfB","Pares Homens - Infantis B"]
[null,null,null,{"$f":"IF(ISERROR('Ficha de Inscrição'!J4),\"Nome do Torneio\",(\"Ténis de Mesa \"&'Ficha de Inscrição'!A5&\" de \"&TEXT('Ficha de Inscrição'!J4,\"dd-mm-aaaa\")))","v":"Ténis de Mesa Torneio Nº 4 de 17-01-2018"},null,null,null,null,null,null,null,null,null,"PH-Ini","Pares Homens - Iniciados"]
[null,null,null,null,null,null,null,null,null,null,null,null,null,"PH-Jun","Pares Homens - Juniores"]
[null,null,null,null,null,null,null,null,null,null,null,null,null,"PH-Juv","Pares Homens - Juvenis"]
[null,null,null,null,null,null,null,null,null,null,null,null,null,"PM-Ini","Pares Mistos - Iniciados"]
[null,null,null,null,null,null,null,null,null,null,null,null,null,"PS-InfA","Pares Senhoras - Infantis A"]
[null,null,null,null,null,null,null,null,null,null,null,null,null,"PS-InfB","Pares Senhoras - Infantis B"]
[null,null,null,null,null,null,null,null,null,null,null,null,null,"PS-Ini","Pares Senhoras - Iniciados"]
[null,null,null,"Lista de Participantes",null,"Contactos","Calendário",null,null,null,null,null,null,"PS-Jun","Pares Senhoras - Juniores"]
[null,null,null,null,null,null,null,null,null,null,null,null,null,"PS-Juv","Pares Senhoras - Juvenis"]
[null,null,null,null,null,null,null,null,null,null,null,null,null,"SH-InfA","Singulares Homens - Infantis A"]
[null,null,null,null,null,null,null,null,null,null,null,null,null,"SH-InfB","Singulares Homens - Infantis B"]
[null,null,null,null,null,null,null,null,null,null,null,null,null,"SH-Ini","Singulares Homens - Iniciados"]
[null,null,null,null,null,null,null,null,null,null,null,null,null,"SH-Jun","Singulares Homens - Juniores"]
[null,null,null," Guardar e Sair",null,"  Guardar",null,null,null,null,null,null,null,"SH-Juv","Singulares Homens - Juvenis"]
[null,null,null,null,null,null,null,null,null,null,null,null,null,"SS-InfA","Singulares Senhoras - Infantis A"]
[null,null,null,null,null,null,null,null,null,null,null,null,null,"SS-InfB","Singulares Senhoras - Infantis B"]
[null,null,null,null,null,null,null,null,null,null,null,null,null,"SS-Ini","Singulares Senhoras - Iniciados"]
[null,null,null,null,null,null,null,null,null,null,null,null,null,"SS-Juv","Singulares Senhoras - Juvenis"]
[null,null,null,null,null,null,null,null,null,null,null,null,null,"SS-Jun","Singulares Senhoras - Juniores"]
["Autor:Paulo Jorge Nobre dos Santos Águas"]
[]
[]
[]
[]
[]
[]
[]
[]
[]
[]
[]
[]
[]
[]
[]
[]
[]
[]
[]
[]
[]
[]
[null,"Paulo Jorge Nobre dos Santos Águas"]
[]
[]
[]
[]
[]
[]
[]
[]
[]
[]
[]
[]
[]
[]
[]
[]
[]
[]
[]
[]
[]
[]
[]
[]
[]
[]
[]
[]
[]
[]
[]
[]
[]
[]
[]
[]
[]
[]
[]
[]
[]
[]
[]
[]
[]
[]
[]
[]
[]
[]
[]
[]
[]
[]
[]
[]
[]
[]
[]
[]
[]
[]
[]
[]
[]
[]
[]
[]
[]
[]
[]
[]
[]
[]
[]
[]
[]
[]
[]
[]
[]
[]
[]
[]
[]
[]
[]
[]
[]
[]
[]
[]
[]
[]
[]
[]
[]
[]
[]
[]
[]
[]
[]
[]
[]
[]
[]
[]
[]
[]
[]
[]
[]
[]
[]
[]
[]
[]
[]
[]
[]
[]
[]
[]
[]
[]
[]
[]
[]
[]
[]
[]
[]
[]
[]
[]
[]
[]
[]
[]
[]
[]
[]
[]
[]
[]
[]
[]
[]
[]
[]
[]
[]
[]
[]
[]
[]
[]
[]
[]
[]
[]
[]
[]
[]
[]
[]
[]
[]
[]
[]
[]
[]
[]
[]
[]
[]
[]
[]
[]
[]
[]
[]
[]
[]
[]
[]
[]
[]
[]
[]
[]
[]
[]
[]
[]
[]
[]
[]
[]
[]
[]
[]
[]
[]
[]
[]
[]
[]
[]
[]
[]
[]
[]
[]
[]
[]
[]
[]
[]
[]
[]
[]
[]
[]
[]
[]
[]
[]
[]
[]
[]
[]
[]
[]
[]
[]
[]
[]
[]
[]
[]
[]
[]
[]
[]
[]
[]
[]
[]
[]
[]
[]
[]
[]
[]
[]
[]
[]
[]
[]
[]
[]
[]
[]
[]
[]
[]
[]
[]
[]
[]
[]
[]
[]
[]
[]
[]
[]
[]
[]
[]
[]
[]
[]
[]
[]
[]
[]
[]
[]
[]
[]
[]
[]
[]
[]
[]
[]
[]
[]
[]
[]
[]
[]
[]
[]
[]
[]
[]
[]
[]
[]
[]
[]
[]
[]
[]
[]
[]
[]
[]
[]
[]
[]
[]
[]
[]
[]
[]
[]
[]
[]
[]
[]
[]
[]
[]
[]
[]
[]
[]
[]
[]
[]
[]
[]
[]
[]
[]
[]
[]
[]
[]
[]
[]
[]
[]
[]
[]
[]
[]
[]
[]
[]
[]
[]
[]
[]
[]
[]
[]
[]
[]
[]
[]
[]
[]
[]
[]
[]
[]
[]
[]
[]
[]
[]
[]
[]
[]
[]
[]
[]
[]
[]
[]
[]
[]
[]
[]
[]
[]
[]
[]
[]
[]
[]
[]
[]
[]
[]
[]
[]
[]
[]
[]
[]
[]
[]
[]
[]
[]
[]
[]
[]
[]
[]
[]
[]
[]
[]
[]
[]
[]
[]
[]
[]
[]
[]
[]
[]
[]
[]
["Autor:Paulo Jorge Nobre dos Santos Águas"]

{"sheet":"Ficha de Inscrição","index":1,"n_rows":158,"n_cols":26,"rows_kept":158,"cut":false,"hidden":false,"merged":[[8,12,8,13],[2,9,2,10],[3,0,3,1],[12,12,12,13],[3,3,3,8],[9,12,9,13],[10,12,10,13],[11,12,11,13],[7,12,7,13],[3,9,3,10],[4,6,4,7],[6,0,6,1],[4,0,4,2],[5,0,5,1],[0,2,0,8],[1,2,1,8],[2,0,2,1],[4,8,4,10],[6,2,6,3]]}
[null,null,"Direcção Regional de Educação do Algarve",null,null,null,null,null,null,null,null,null,null,null,null,null,null,null,null,"SS"]
[null,null,"Badminton 2017/2018",null,null,null,null,null,null,null,null,null,"SS","SH",null,null,null,null,"Sexo","SH"]
["Zona",null,"Nº Escola","Escola Organizadora",null,null,null,null,null,"Data",null,null,{"$f":"COUNTIFS($G$9:$G$158,M9,$J$9:$J$158,$M$2)","v":6},{"$f":"COUNTIFS($G$9:$G$158,M9,$J$9:$J$158,$N$2)","v":1},"Infantis A"]
[{"$f":"LOOKUP(D4,V6:Z50,Z6:Z50)","v":2},null,{"$f":"LOOKUP(D4,V6:Z38,Y6:Y38)","v":"Nº"},"ACav.Silva",null,null,null,null,null,{"$f":"VLOOKUP($A$5,$M$17:$R$52,6,0)","v":"2018-01-17"},null,null,{"$f":"COUNTIFS($G$9:$G$158,M10,$J$9:$J$158,$M$2)","v":21},{"$f":"COUNTIFS($G$9:$G$158,M10,$J$9:$J$158,$N$2)","v":15},"Infantis B",null,null,null,"F","PS"]
["Torneio Nº 4",null,null,null,null,null,"Professor\nOrganizador",null,{"$f":"VLOOKUP(D4,O17:Q56,3,0)","v":"Vanda Drago"},null,null,null,{"$f":"COUNTIFS($G$9:$G$158,M11,$J$9:$J$158,$M$2)","v":5},{"$f":"COUNTIFS($G$9:$G$158,M11,$J$9:$J$158,$N$2)","v":10},"Iniciados",null,null,null,"M","PH"]
[null,null,null,null,null,null,null,null,null,null,null,null,{"$f":"COUNTIFS($G$9:$G$158,M12,$J$9:$J$158,$M$2)","v":0},{"$f":"COUNTIFS($G$9:$G$158,M12,$J$9:$J$158,$N$2)","v":3},"Juvenis",null,null,null,"Anos",null,null,"A Escola (Clique aqui p/ Escolher Nome da Lista)","Abv","Nome do Professor","Nº","Zn"]
[null,null,null,null,null,null,null,null,null,{"$f":"SUBTOTAL(103,J9:J158)","v":61},{"$f":"SUBTOTAL(103,K9:K158)","v":0},null,{"$f":"COUNTIFS($G$9:$G$158,M13,$J$9:$J$158,$M$2)","v":0},{"$f":"COUNTIFS($G$9:$G$158,M13,$J$9:$J$158,$N$2)","v":0},"Juniores",null,null,null,1996,null,null,{"$f":"O17","v":"JCabanita"},{"$f":"P17","v":"JCC"},{"$f":"Q17","v":"Rosa Silva"},21,2]
["#","Nº","Nome (1º e último)","Escola","Abv.","Ano Nasc.","Escalão","Sexo","Observações","Insc. Prova",null,null," Escalão  ",null," Ano de Nascimento  "," Sexo  ",null,null,{"$f":"S7+1","v":1997},null,null,{"$f":"O18","v":"Emil.Costa"},"EC","Nídia Agostinho",4,1]
[1,null,"Laura Grade","ACav.Silva","ACV",2007,"Infantis A","F",null,"SS",null,null,"Infantis A",null,{"$f":"S19&\"/\"&S21","v":"2008/2010"}," Masc./Fem.  ",null,null,{"$f":"S8+1","v":1998},null,null,{"$f":"O19","v":"JCarlosMaia"},"JCM","Luis Fernandes",32,2]
[2,null,"Iris Rodrigues","ACav.Silva","ACV",2005,"Infantis B","F",null,"SS",null,null,"Infantis B",null,{"$f":"S17&\"/\"&S18","v":"2006/2007"}," Masc./Fem.  ",null,null,1999,null,null,{"$f":"O20","v":"ACav.Silva"},"ACav","Vanda Drago",30,2]
[3,null,"Tânia Jesus","ACav.Silva","ACV",2005,"Infantis B","F",null,"SS",null,null,"Iniciados",null,{"$f":"S15&\"/\"&S16","v":"2004/2005"}," Masc./Fem.  ",null,null,2000,null,null,{"$f":"O21","v":"PNogueira"},"PN","Luís Brites",9,1]
[4,null,"Beatriz Coelho","ACav.Silva","ACV",2005,"Infantis B","F",null,"SS",null,null,"Juvenis",null,{"$f":"S12&\"/\"&S14","v":"2001/2003"}," Masc. /Fem.  ",null,null,2001,null,null,{"$f":"O22","v":"ASAgostinho"},"ASA","João Pereira",13,1]
[5,null,"Vitória Coelho","ACav.Silva","ACV",2006,"Infantis B","F",null,"SS",null,null,"Juniores",null,{"$f":"S8&\"/\"&S11","v":"1997/2000"}," Masc. /Fem.  ",null,null,2002,null,null,{"$f":"O23","v":"JCabanita"},"JCC","Rosa Silva",14,1]
[6,null,"Iara Nascimento","ACav.Silva","ACV",2006,"Infantis B","F",null,"SS",null,null,null,null,null,null,null,null,{"$f":"S13+1","v":2003},null,null,{"$f":"O24","v":"Emil.Costa"},"EC","Nídia Agostinho",18,2]
[7,null,"Carolina Lima","ACav.Silva","ACV",2006,"Infantis B","F",null,"SS",null,null,null,null,null,null,null,null,2004,null,null,{"$f":"O25","v":"ACav.Silva"},"ACav","Vanda Drago",16,1]
[8,null,"Leonor Inácio","ACav.Silva","ACV",2006,"Infantis B","F",null,"SS",null,null,null,"Torneio Nº","Escola","Abv","Professor Responsável","Data",2005,null,null,{"$f":"O26","v":"PNogueira"},"PN","Luís Brites",20,2]
[9,null,"Daniela Dias","ACav.Silva","ACV",2006,"Infantis B","F",null,"SS",null,null,{"$f":"CONCATENATE($N$16,\" \",N17)","v":"Torneio Nº 1"},1,"JCabanita","JCC","Rosa Silva","2018-01-17",2006,null,null,{"$f":"O27","v":"PNogueira"},"PN","Luís Brites",26,2]
[10,null,"Carolina Rodrigues","ACav.Silva","ACV",2005,"Infantis B","F",null,"SS",null,null,{"$f":"CONCATENATE($N$16,\" \",N18)","v":"Torneio Nº 2"},2,"Emil.Costa","EC","Nídia Agostinho","2018-01-18",2007,null,null,{"$f":"O28","v":"João da Rosa"},"JR","Hugo Guerreiro",7,1]
[11,null,"Catarina Perruca","ACav.Silva","ACV",2004,"Iniciados","F",null,"SS",null,null,"Torneio Nº 3",3,"JCarlosMaia","JCM","Luis Fernandes","2018-01-17",2008,null,null,{"$f":"O29","v":"FFLopes"},"FFL","José Cristina",31,2]
[12,null,"Inês Matos","ACav.Silva","ACV",2004,"Iniciados","F",null,"SS",null,null,"Torneio Nº 4",4,"ACav.Silva","ACav","Vanda Drago","2018-01-17",2009,null,null,{"$f":"O30","v":"FFLopes"},"FFL","José Cristina",12,1]
[13,null,"Jasmin Clarke","ACav.Silva","ACV",2003,"Iniciados","F",null,"SS",null,null,"Torneio Nº 5",5,"PNogueira","PN","Luís Brites","2018-01-16",2010,null,null,{"$f":"O31","v":"FFLopes"},"FFL","José Cristina",11,1]
[14,null,"Rafael Gonçalves","ACav.Silva","ACV",2004,"Iniciados","M",null,"SH",null,null,"Torneio Nº 6",6,"ASAgostinho","ASA","João Pereira","2018-03-08",null,null,null,{"$f":"O32","v":"AJEusébio"},"AJE","José Cristina",15,1]
[15,null,"Daniel Pop","ACav.Silva","ACV",2004,"Iniciados","M",null,"SH",null,null,"Torneio Nº 7",7,"JCabanita","JCC","Rosa Silva","2018-02-06","Torneio Nº 00",null,null,{"$f":"O33","v":"AJEusébio"},"AJE","José Cristina",8,1]
[16,null,"Renato Sobreira","ACav.Silva","ACV",2004,"Iniciados","M",null,"SH",null,null,"Torneio Nº 8",8,"Emil.Costa","EC","Nídia Agostinho","2018-02-06","Torneio Nº 01",null,null,{"$f":"O34","v":"AJEusébio"},"AJE","José Cristina",3,1]
[17,null,"Simão Dias","ACav.Silva","ACV",2004,"Iniciados","M",null,"SH",null,null,"Torneio Nº 9",9,"ACav.Silva","ACav","Vanda Drago","2018-03-08","Torneio Nº 02",null,null,{"$f":"O35","v":"DPacheco"},"DP","Carlos Oliveira",25,2]
[18,null,"Miguel Santos","ACav.Silva","ACV",2003,"Iniciados","M",null,"SH",null,null,"Torneio Nº 10",10,"PNogueira","PN","Luís Brites","2018-02-06","Torneio Nº 03",null,null,{"$f":"O36","v":"DPacheco"},"DP","Carlos Oliveira",23,2]
[19,null,"Cristina Curnic","DPacheco","DP",2006,"Infantis B","F",null,"SS",null,null,"Torneio Nº 11",11,"PNogueira","PN","Luís Brites","2018-03-08","Torneio Nº 04",null,null,{"$f":"O37","v":"PNogueira"},"PN","Luis Brites",28,2]
[20,null,"Jessica Rochefort","DPacheco","DP",2007,"Infantis A","F",null,"SS",null,null,"Torneio Nº 12",12,"João da Rosa","JR","Hugo Guerreiro","2018-02-06","Torneio Nº 05",null,null,{"$f":"O38","v":"DNegrão"},"DN","João Marques",17,2]
[21,null,"Leonor Guerreiro","DPacheco","DP",2007,"Infantis A","F",null,"SS",null,null,"Torneio Nº 13",13,"FFLopes","FFL","José Cristina","2018-01-16","Torneio Nº 06",null,null,{"$f":"O39","v":"Rio Arade"},"RA","Sandra Freitas",10,1]
[22,null,"Maira Kaushik","DPacheco","DP",2007,"Infantis A","F",null,"SS",null,null,"Torneio Nº 14",14,"FFLopes","FFL","José Cristina","2018-02-07","Torneio Nº 07",null,null,{"$f":"O40","v":"S.Vicente"},"SV","Vitor Rito",1,1]
[23,null,"Tomás Guerreiro","DPacheco","DP",2007,"Infantis A","M","Cass.Independente","SH",null,null,"Torneio Nº 15",15,"FFLopes","FFL","José Cristina","2018-03-07","Torneio Nº 08",null,null,{"$f":"O41","v":"St.António"},"SA","João Pimenta",24,2]
[24,null,"Sandro Revez","DPacheco","DP",2005,"Infantis B","M",null,"SH",null,null,"Torneio Nº 16",16,"AJEusébio","AJE","José Cristina","2018-01-17","Torneio Nº 09",null,null,{"$f":"O42","v":"PNogueira"},"PN","Rui Marques",19,2]
[25,null,"Francisco Carvalho","DPacheco","DP",2006,"Infantis B","M",null,"SH",null,null,"Torneio Nº 17",17,"AJEusébio","AJE","José Cristina","2018-02-06","Torneio Nº 10",null,null,{"$f":"O43","v":"Mex. Grande"},"MG","João Salgado ",5,1]
[26,null,"Polina Lesyuk","DPacheco","DP",2007,"Infantis A","F",null,"SS",null,null,"Torneio Nº 18",18,"AJEusébio","AJE","José Cristina","2018-03-08","Torneio Nº 11",null,null,{"$f":"O44","v":"PNogueira"},"PN","Luís Fernandes",29,2]
[27,null,"Violeta Pshenychnicova","DPacheco","DP",2007,"Infantis A","F",null,"SS",null,null,"Torneio Nº 19",19,"DPacheco","DP","Carlos Oliveira","2018-02-06","Torneio Nº 12",null,null,{"$f":"O45","v":"ASAgostinho"},"ASA","Sónia Botelho",22,2]
[28,null,"Alexandre Malveiro","DPacheco","DP",2006,"Infantis B","M",null,"SH",null,null,"Torneio Nº 20",20,"DPacheco","DP","Carlos Oliveira","2018-03-08","Torneio Nº 13",null,null,{"$f":"O46","v":"Emil. Costa"},"EC","José Cristina",27,2]
[29,null,"Afonso Brito","DPacheco","DP",2006,"Infantis B","M",null,"SH",null,null,"Torneio Nº 21",21,"PNogueira","PN","Luis Brites",null,"Torneio Nº 14",null,null,{"$f":"O47","v":"Júlio Dantas"},"JD","Rita Correia",2,1]
[30,null,"Bárbara Fernandes","DPacheco","DP",2006,"Infantis B","F",null,"SS",null,null,"Torneio Nº 22",22,"DNegrão","DN","João Marques",null,"Torneio Nº 15",null,null,{"$f":"O48","v":"D.José I"},"DJI","Joaquim Dionísio",6,1]
[31,null,"Elena Rafael","DPacheco","DP",2006,"Infantis B","F",null,"SS",null,null,"Torneio Nº 23",23,"Rio Arade","RA","Sandra Freitas",null,"Torneio Nº 16"]
[32,null,"Valentim Boros","DPacheco","DP",2006,"Infantis B","M",null,"SH",null,null,"Torneio Nº 24",24,"S.Vicente","SV","Vitor Rito",null,"Torneio Nº 17"]
[33,null,"Miguel Ponte","DPacheco","DP",2006,"Infantis B","M",null,"SH",null,null,"Torneio Nº 25",25,"St.António","SA","João Pimenta",null,"Torneio Nº 18"]
[34,null,"Guilherme Ponte","DPacheco","DP",2006,"Infantis B","M",null,"SH",null,null,"Torneio Nº 26",26,"PNogueira","PN","Rui Marques",null,"Reg. InfantisA e B"," "]
[35,null,"Loredana Junea","DPacheco","DP",2006,"Infantis B","F",null,"SS",null,null,"Torneio Nº 27",27,"Mex. Grande","MG","João Salgado ",null,"Reg. Iniciados"]
[36,null,"Luana Piedade","DPacheco","DP",2005,"Infantis B","F",null,"SS",null,null,"Torneio Nº 28",28,"PNogueira","PN","Luís Fernandes",null,"Reg. Juvenis"]
[37,null,"Mário Silveira","DPacheco","DP",2004,"Iniciados","M",null,"SH",null,null,"Torneio Nº 29",29,"ASAgostinho","ASA","Sónia Botelho",null,"Reg. Juniores"]
[38,null,"Paula Tijaro","DPacheco","DP",2006,"Infantis B","F",null,"SS",null,null,"Torneio Nº 30",30,"Emil. Costa","EC","José Cristina"]
[39,null,"Daniel Espadinha","DPacheco","DP",2004,"Iniciados","M",null,"SH",null,null,"Torneio Nº 31",31,"Júlio Dantas","JD","Rita Correia"]
[40,null,"Laura Gomes","DPacheco","DP",2005,"Infantis B","F",null,"SS",null,null,"Torneio Nº 32",32,"D.José I","DJI","Joaquim Dionísio"]
[41,null,"Rui Bernardo","DPacheco","DP",2005,"Infantis B","M",null,"SH",null,null,"Torneio Nº 33",33,"ASAgostinho","ASA","Nuno Martins"]
[42,null,"Alexandre Guerreiro","DPacheco","DP",2003,"Iniciados","M",null,"SH",null,null,"Torneio Nº 34",34,"D.José I","DJI","Carla Paiva"]
[43,null,"João Alexandre","DPacheco","DP",2005,"Infantis B","M",null,"SH",null,null,"Torneio Nº 35",35,"ASAgostinho","ASA","Nuno Martins"]
[44,null,"Carina Croitoru","ASAgostinho","ASA",2006,"Infantis B","F",null,"SS",null,null,"Torneio Nº 36",36,"D.José I","DJI","Carla Paiva"]
[45,null,"Mário Delgado","ASAgostinho","ASA",2006,"Infantis B","M",null,"SH"]
[46,null,"Pedro Dionísio","ASAgostinho","ASA",2006,"Infantis B","M",null,"SH"]
[47,null,"António Correia","ASAgostinho","ASA",2006,"Infantis B","M",null,"SH"]
[48,null,"Jasmine Campbell","ASAgostinho","ASA",2006,"Infantis B","F",null,"SS"]
[49,null,"Eva Oliveira","ASAgostinho","ASA",2006,"Infantis B","F",null,"SS"]
[50,null,"Lara Carvalho","ASAgostinho","ASA",2006,"Infantis B","F",null,"SS"]
[51,null,"Jayden Fortes","ASAgostinho","ASA",2005,"Infantis B","M",null,"SH"]
[52,null,"Gustavo Estevão","ASAgostinho","ASA",2005,"Infantis B","M",null,"SH"]
[53,null,"Liliam Vogt","ASAgostinho","ASA",2005,"Infantis B","F",null,"SS"]
[54,null,"Diogo Esteves","ASAgostinho","ASA",2005,"Infantis B","M",null,"SH"]
[55,null,"Eduardo Contreras","ASAgostinho","ASA",2004,"Iniciados","M",null,"SH"]
[56,null,"Lia Teixeira","ASAgostinho","ASA",2004,"Iniciados","F",null,"SS"]
[57,null,"Adilson Cruz","ASAgostinho","ASA",2004,"Iniciados","M",null,"SH"]
[58,null,"Lucineia Sanches","ASAgostinho","ASA",2004,"Iniciados","F",null,"SS"]
[59,null,"Nuno Araújo","ASAgostinho","ASA",2002,"Juvenis","M",null,"SH"]
[60,null,"Pedro Luz","ASAgostinho","ASA",2001,"Juvenis","M",null,"SH"]
[61,null,"Gheorghe Tefan","ASAgostinho","ASA",2001,"Juvenis","M",null,"SH"]
[62,null,null,null,null,null,{"$f":"IF(F70=\"\",\"\",IF(F70>2005,\"Infantis A\",IF(F70>2003,\"Infantis B\",IF(F70>2001,\"Iniciados\",IF(F70>1998,\"Juvenis\",\"Juniores\")))))","v":""}]
[63,null,null,null,null,null,""]
[64,null,null,null,null,null,""]
[65,null,null,null,null,null,{"$f":"IF(F73=\"\",\"\",IF(F73>2005,\"Infantis A\",IF(F73>2003,\"Infantis B\",IF(F73>2001,\"Iniciados\",IF(F73>1998,\"Juvenis\",\"Juniores\")))))","v":""}]
[66,null,null,null,null,null,""]
[67,null,null,null,null,null,""]
[68,null,null,null,null,null,""]
[69,null,null,null,null,null,""]
[70,null,null,null,null,null,""]
[71,null,null,null,null,null,""]
[72,null,null,null,null,null,""]
[73,null,null,null,null,null,""]
[74,null,null,null,null,null,""]
[75,null,null,null,null,null,""]
[76,null,null,null,null,null,""]
[77,null,null,null,null,null,""]
[78,null,null,null,null,null,""]
[79,null,null,null,null,null,""]
[80,null,null,null,null,null,""]
[81,null,null,null,null,null,""]
[82,null,null,null,null,null,""]
[83,null,null,null,null,null,""]
[84,null,null,null,null,null,""]
[85,null,null,null,null,null,""]
[86,null,null,null,null,null,""]
[87,null,null,null,null,null,""]
[88,null,null,null,null,null,""]
[89,null,null,null,null,null,""]
[90,null,null,null,null,null,""]
[91,null,null,null,null,null,""]
[92,null,null,null,null,null,""]
[93,null,null,null,null,null,""]
[94,null,null,null,null,null,""]
[95,null,null,null,null,null,""]
[96,null,null,null,null,null,""]
[97,null,null,null,null,null,{"$f":"IF(F105=\"\",\"\",IF(F105>2005,\"Infantis A\",IF(F105>2003,\"Infantis B\",IF(F105>2001,\"Iniciados\",IF(F105>1998,\"Juvenis\",\"Juniores\")))))","v":""}]
[98,null,null,null,null,null,""]
[99,null,null,null,null,null,""]
[100,null,null,null,null,null,""]
[101,null,null,null,null,null,""]
[102,null,null,null,null,null,""]
[103,null,null,null,null,null,""]
[104,null,null,null,null,null,""]
[105,null,null,null,null,null,""]
[106,null,null,null,null,null,""]
[107,null,null,null,null,null,""]
[108,null,null,null,null,null,""]
[109,null,null,null,null,null,""]
[110,null,null,null,null,null,""]
[111,null,null,null,null,null,""]
[112,null,null,null,null,null,""]
[113,null,null,null,null,null,""]
[114,null,null,null,null,null,""]
[115,null,null,null,null,null,""]
[116,null,null,null,null,null,""]
[117,null,null,null,null,null,""]
[118,null,null,null,null,{"$f":"IF(E126=\"\",\"\",IF(E126>2005,\"Infantis A\",IF(E126>2003,\"Infantis B\",IF(E126>2001,\"Iniciados\",IF(E126>1998,\"Juvenis\",\"Juniores\")))))","v":""},""]
[119,null,null,null,null,"",""]
[120,null,null,null,null,"",""]
[121,null,null,null,null,"",""]
[122,null,null,null,null,"",""]
[123,null,null,null,null,"",""]
[124,null,null,null,null,"",""]
[125,null,null,null,null,"",""]
[126,null,null,null,null,"",""]
[127,null,null,null,null,"",""]
[128,null,null,null,null,"",""]
[129,null,null,null,null,"",{"$f":"IF(F137=\"\",\"\",IF(F137>2005,\"Infantis A\",IF(F137>2003,\"Infantis B\",IF(F137>2001,\"Iniciados\",IF(F137>1998,\"Juvenis\",\"Juniores\")))))","v":""}]
[130,null,null,null,null,"",""]
[131,null,null,null,null,"",""]
[132,null,null,null,null,"",""]
[133,null,null,null,null,"",""]
[134,null,null,null,null,"",""]
[135,null,null,null,null,"",""]
[136,null,null,null,null,"",""]
[137,null,null,null,null,"",""]
[138,null,null,null,null,"",""]
[139,null,null,null,null,"",""]
[140,null,null,null,null,"",""]
[141,null,null,null,null,"",""]
[142,null,null,null,null,"",""]
[143,null,null,null,null,"",""]
[144,null,null,null,null,{"$f":"IF(E152=\"\",\"\",IF(E152>2005,\"Infantis A\",IF(E152>2003,\"Infantis B\",IF(E152>2001,\"Iniciados\",IF(E152>1998,\"Juvenis\",\"Juniores\")))))","v":""},""]
[145,null,null,null,null,"",""]
[146,null,null,null,null,"",""]
[147,null,null,null,null,"",""]
[148,null,null,null,null,"",""]
[149,null,null,null,null,"",""]
[150,null,null,null,null,"",""]

{"sheet":"q32eliminaçãodireta","index":2,"n_rows":88,"n_cols":116,"rows_kept":88,"cut":false,"hidden":true,"merged":[[1,9,1,14],[3,8,3,14],[6,0,6,1],[6,7,7,7],[7,0,7,1],[8,0,8,1],[8,7,9,7],[9,0,9,1],[9,74,9,79],[4,0,4,1],[4,2,4,7],[9,81,9,91],[10,0,10,1],[10,7,11,7],[10,14,10,18],[10,74,10,76],[10,78,10,79],[11,0,11,1],[11,74,11,76],[11,78,11,79],[14,108,15,108],[15,0,15,1],[15,74,15,76],[15,78,15,79],[12,0,12,1],[12,7,13,7],[12,74,12,76],[12,78,12,79],[13,0,13,1],[13,74,13,76],[13,78,13,79],[16,0,16,1],[16,7,17,7],[16,74,16,76],[16,78,16,79],[17,0,17,1],[17,74,17,76],[17,78,17,79],[14,0,14,1],[14,7,15,7],[14,20,14,24],[14,74,14,76],[14,78,14,79],[20,0,20,1],[20,7,21,7],[20,26,20,30],[20,74,20,76],[20,78,20,79],[21,0,21,1],[21,74,21,76],[21,78,21,79],[18,0,18,1],[18,7,19,7],[18,14,18,18],[18,74,18,76],[18,78,18,79],[19,0,19,1],[19,26,19,30],[19,74,19,76],[19,78,19,79],[22,0,22,1],[22,7,23,7],[22,26,22,29],[22,74,22,76],[22,78,22,79],[23,0,23,1],[23,26,23,29],[23,74,23,76],[23,78,23,79],[24,0,24,1],[24,7,25,7],[24,32,24,36],[24,74,24,76],[24,78,24,79],[25,0,25,1],[25,32,25,36],[25,74,25,76],[25,78,25,79],[28,0,28,1],[28,7,29,7],[28,74,28,76],[28,78,28,79],[29,0,29,1],[29,74,29,76],[29,78,29,79],[26,0,26,1],[26,7,27,7],[26,14,26,18],[26,26,26,29],[26,74,26,76],[26,78,26,79],[27,0,27,1],[27,26,27,29],[27,74,27,76],[27,78,27,79],[32,0,32,1],[32,7,33,7],[32,74,32,76],[32,78,32,79],[33,0,33,1],[33,74,33,76],[33,78,33,79],[30,0,30,1],[30,7,31,7],[30,20,30,24],[30,74,30,76],[30,78,30,79],[31,0,31,1],[31,74,31,76],[31,78,31,79],[41,74,41,76],[41,78,41,79],[42,74,42,76],[42,78,42,79],[87,74,88,76],[87,77,92,82],[90,74,91,76],[38,74,38,76],[38,78,38,79],[39,74,39,76],[39,78,39,79],[40,74,40,76],[40,78,40,79],[36,0,36,1],[36,7,37,7],[36,74,36,76],[36,78,36,79],[37,0,37,1],[37,74,37,76],[37,78,37,79],[34,0,34,1],[34,7,35,7],[34,14,34,18],[34,74,34,76],[34,78,34,79],[35,0,35,1],[35,74,35,76],[35,78,35,79]]}
[null,null,null,null,null,null,null,null,"Direcção Regional de Educação do Algarve"]
[null,null,null,null,null,null,null,null,{"$f":"Apoio!D10","v":"Ano Letivo:"},{"$f":"Apoio!F10","v":"2017/2018"},null,null,null,null,null,null,null,null,null,null,null,null,null,null,null,null,null,null,null,null,null,null,null,null,null,null,null,null,null,null,null,null,null,null,null,null,null,null,null,null,null,null,null,null,null,null,null,null,null,null,null,null,null,null,null,null,null,null,null,null,null,null,{"$f":"SUM(BU4:BU21)","v":0}]
[null,null,null,null,null,null,null,null,null,null,null,null,null,null,null,null,null,null,null,null,null,null,null,null,null,null,null,null,null,null,null,null,null,null,null,null,null,null,null,null,null,null,null,null,null,null,null,null,null,null,null,null,null,null,null,null,null,null,null,null,null,null,null,null,null,null,null,null,null,null,null,null,{"$f":"SUM(BU4:BU21)","v":0}]
[null,null,null,null,null,null,null,null,{"$f":"Apoio!D14","v":"Ténis de Mesa Torneio Nº 4 de 17-01-2018"},null,null,null,null,null,null,null,null,null,null,null,null,null,null,null,null,null,null,null,null,null,null,null,null,null,null,null,null,null,null,null,null,null,null,null,null,null,null,null,null,null,null,null,null,null,null,null,null,null,null,null,null,null,null,null,null,null,null,null,null,null,null,null,{"$f":"IF(ISBLANK(#REF!),COUNTA(CF13:$CF$28),0)","v":0}]
["PH-Juv",null,{"$f":"LOOKUP(A5,Apoio!N10:N40,Apoio!O10:O40)","v":"Pares Homens - Juvenis"},null,null,null,null,null,null,null,null,null,null,null,null,null,null,null,null,null,null,null,null,null,null,null,null,null,null,null,null,null,null,null,null,null,null,null,null,null,null,null,null,null,null,null,null,null,null,null,null,null,null,null,null,null,null,null,null,null,null,null,null,null,null,null,null,null,null,null,null,null,{"$f":"IF(ISBLANK(CF13),COUNTA(CF14:$CF$28),0)","v":0}]
[null,null,null,null,null,null,null,null,null,null,null,null,null,null,null,null,null,null,null,null,null,null,null,null,null,null,null,null,null,null,null,null,null,null,null,null,null,null,"Ordenar p/ DG 3",null,null,null,"Ordenar p/ GM 1",null,null,null,"Ordenar p/ GM 2",null,null,null,"Ordenar p/ GM 3",null,null,null,null,null,null,null,null,null,null,null,null,null,null,null,null,null,"Vencedores","Derrotados",null,null,{"$f":"IF(ISBLANK(#REF!),COUNTA(CF14:$CF$28),0)","v":0}]
[1,null,{"$f":"CF12","v":0},null,null,null,{"$f":"IF(ISBLANK(D7),\"\",SUM(IF(D7>D8,1,0)+(IF(E7>E8,1,0)+(IF(F7>F8,1,0)))))","v":""},"P1",{"$f":"IF(G7=G8,IF(C7=\"Bye\",C8,IF(C8=\"Bye\",C7)),(IF(ISBLANK(D7),\"\",IF(G7>G8,C7,C8))))","v":false},null,null,null,null,"P17",null,null,null,null,null,null,null,null,null,null,null,null,null,null,null,null,null,null,null,null,null,null,null,null,null,null,null,null,null,null,null,null,null,null,null,null,null,null,null,null,null,null,null,null,null,null,null,null,null,null,null,null,null,null,{"$f":"IF(#REF!<>\"\",IF(#REF!>#REF!,#REF!,IF(#REF!>#REF!,#REF!,\"Empate\")),\"\")","v":{"$error":"#REF!"}},{"$f":"IF(#REF!<>\"\",IF(#REF!<#REF!,#REF!,IF(#REF!<#REF!,#REF!,\"Empate\")),\"\")","v":{"$error":"#REF!"}},null,null,{"$f":"IF(ISBLANK(CF14),COUNTA(CF15:$CF$28),0)","v":0}]
[2,null,{"$f":"CF13","v":0},null,null,null,{"$f":"IF(ISBLANK(D7),\"\",SUM(IF(D8>D7,1,0)+(IF(E8>E7,1,0)+(IF(F8>F7,1,0)))))","v":""},null,{"$f":"IF(I7=FALSE,\"\",I7)","v":""},null,null,null,{"$f":"IF(ISBLANK(J8),\"\",SUM(IF(J8>J10,1,0)+(IF(K8>K10,1,0)+(IF(L8>L10,1,0)))))","v":""},null,{"$f":"IF(M8=M10,IF(I8=\"Bye\",I10,IF(I10=\"Bye\",I8)),(IF(ISBLANK(J8),\"\",IF(M8>M10,I8,I10))))","v":false},null,null,null,null,"P25"]
[3,null,0,null,null,null,{"$f":"IF(ISBLANK(D9),\"\",SUM(IF(D9>D10,1,0)+(IF(E9>E10,1,0)+(IF(F9>F10,1,0)))))","v":""},"P2",{"$f":"IF(G9=G10,IF(C9=\"Bye\",C10,IF(C10=\"Bye\",C9)),(IF(ISBLANK(D9),\"\",IF(G9>G10,C9,C10))))","v":false},null,"(V1)",null,null,null,{"$f":"IF(O8=FALSE,\"\",O8)","v":""},null,null,null,{"$f":"IF(ISBLANK(P9),\"\",SUM(IF(P9>P13,1,0)+(IF(Q9>Q13,1,0)+(IF(R9>R13,1,0)))))","v":""},null,null,null,null,null,null,null,null,null,null,null,null,null,null,null,null,null,null,null,{"$f":"IF(AND(#REF!=AK9,AL9>#REF!),#REF!,AJ9)","v":{"$error":"#REF!"}},{"$f":"VLOOKUP(AM9,H8:S9,9,FALSE)","v":{"$error":"#REF!"}},{"$f":"VLOOKUP(AM9,H8:S9,8,FALSE)","v":{"$error":"#REF!"}},{"$f":"VLOOKUP(AM9,H8:S9,6,FALSE)","v":{"$error":"#REF!"}},{"$f":"IF(AND(AN9=#REF!,AO9=#REF!,#REF!>AP9),#REF!,AM9)","v":{"$error":"#REF!"}},{"$f":"VLOOKUP(AQ9,H8:S9,9,FALSE)","v":{"$error":"#REF!"}},{"$f":"VLOOKUP(AQ9,H8:S9,8,FALSE)","v":{"$error":"#REF!"}},{"$f":"VLOOKUP(AQ9,H8:S9,6,FALSE)","v":{"$error":"#REF!"}},{"$f":"IF(AND(AR8=AR9,AS8=AS9,#REF!>AT8),AQ8,AQ9)","v":{"$error":"#REF!"}},{"$f":"VLOOKUP(AU9,H8:S9,9,FALSE)","v":{"$error":"#REF!"}},{"$f":"VLOOKUP(AU9,H8:S9,8,FALSE)","v":{"$error":"#REF!"}},{"$f":"VLOOKUP(AU9,H8:S9,6,FALSE)","v":{"$error":"#REF!"}},{"$f":"IF(AND(#REF!=AV9,#REF!=AW9,AX9>#REF!),#REF!,AU9)","v":{"$error":"#REF!"}},{"$f":"VLOOKUP(AY9,H8:S9,9,FALSE)","v":{"$error":"#REF!"}},{"$f":"VLOOKUP(AY9,H8:S9,8,FALSE)","v":{"$error":"#REF!"}},{"$f":"VLOOKUP(AY9,H8:S9,6,FALSE)","v":{"$error":"#REF!"}},null,null,null,{"$f":"AY9","v":{"$error":"#REF!"}},{"$f":"VLOOKUP(BF9,H8:S9,2,FALSE)","v":{"$error":"#REF!"}},{"$f":"VLOOKUP(BF9,H8:S9,3,FALSE)","v":{"$error":"#REF!"}},{"$f":"VLOOKUP(BF9,H8:S9,4,FALSE)","v":{"$error":"#REF!"}},{"$f":"VLOOKUP(BF9,H8:S9,5,FALSE)","v":{"$error":"#REF!"}},{"$f":"VLOOKUP(BF9,H8:S9,6,FALSE)","v":{"$error":"#REF!"}},{"$f":"VLOOKUP(BF9,H8:S9,7,FALSE)","v":{"$error":"#REF!"}},{"$f":"VLOOKUP(BF9,H8:S9,8,FALSE)","v":{"$error":"#REF!"}},{"$f":"VLOOKUP(BF9,H8:S9,9,FALSE)","v":{"$error":"#REF!"}},null,null,{"$f":"IF(#REF!<>\"\",IF(#REF!>#REF!,#REF!,IF(#REF!>#REF!,#REF!,\"Empate\")),\"\")","v":{"$error":"#REF!"}},{"$f":"IF(#REF!<>\"\",IF(#REF!<#REF!,#REF!,IF(#REF!<#REF!,#REF!,\"Empate\")),\"\")","v":{"$error":"#REF!"}},null,null,{"$f":"IF(ISBLANK(CF16),COUNTA(CF17:$CF$28),0)","v":0},null,null,null,null,null,null,null,null,null,null,null,null,null,null,null,null,null,null,null,null,null,null,null,null,null,null,null,null,null,null,null,null,null,null,null,"PROCV($EU$12;$AE$9:$AI$13;2;FALSO)"]
[4,null,0,null,null,null,{"$f":"IF(ISBLANK(D9),\"\",SUM(IF(D10>D9,1,0)+(IF(E10>E9,1,0)+(IF(F10>F9,1,0)))))","v":""},null,{"$f":"IF(I9=FALSE,\"\",I9)","v":""},null,null,null,{"$f":"IF(ISBLANK(J8),\"\",SUM(IF(J10>J8,1,0)+(IF(K10>K8,1,0)+(IF(L10>L8,1,0)))))","v":""},null,null,null,null,null,null,null,{"$f":"IF(S9=S13,IF(O9=\"Bye\",O13,IF(O13=\"Bye\",O13)),(IF(ISBLANK(P9),\"\",IF(S9>S13,O9,O13))))","v":false},null,null,null,null,"P29",null,null,null,null,null,null,null,null,null,null,null,null,null,null,null,null,null,null,null,null,null,null,null,null,null,null,null,null,null,null,null,null,null,null,null,null,null,null,null,null,null,null,null,null,null,null,{"$f":"IF(ISBLANK(CF17),COUNTA(CF18:$CF$28),0)","v":0},null,"Classificação"]
[5,null,0,null,null,null,{"$f":"IF(ISBLANK(D11),\"\",SUM(IF(D11>D12,1,0)+(IF(E11>E12,1,0)+(IF(F11>F12,1,0)))))","v":""},"P3",{"$f":"IF(G11=G12,IF(C11=\"Bye\",C12,IF(C12=\"Bye\",C11)),(IF(ISBLANK(D11),\"\",IF(G11>G12,C11,C12))))","v":false},null,null,null,null,"P18","(V9)",null,null,null,null,null,{"$f":"IF(U10=FALSE,\"\",U10)","v":""},null,null,null,{"$f":"IF(ISBLANK(V11),\"\",SUM(IF(V11>V19,1,0)+(IF(W11>W19,1,0)+(IF(X11>X19,1,0)))))","v":""},null,null,null,null,null,null,null,null,null,null,null,null,null,null,null,null,null,null,null,null,null,null,null,null,null,null,null,null,null,null,null,null,null,null,null,null,null,null,null,null,null,null,null,{"$f":"IF(#REF!<>\"\",IF(#REF!>#REF!,#REF!,IF(#REF!>#REF!,#REF!,\"Empate\")),\"\")","v":{"$error":"#REF!"}},{"$f":"IF(#REF!<>\"\",IF(#REF!<#REF!,#REF!,IF(#REF!<#REF!,#REF!,\"Empate\")),\"\")","v":{"$error":"#REF!"}},null,null,{"$f":"IF(ISBLANK(CF18),COUNTA(CF19:$CF$28),0)","v":0},null,"NºJ",null,null,"Nome","Pts",null,null,"Ordem","Nº","Nome (1º e último)","Escola","Abv.","Ano Nasc.","Escalão","Sexo","Observações","Insc. Prova",null,null,"VENCIDO (P49)","PM","PS","DIF","VENCIDO (P50)","PM","PM","DIF","VENCIDO (P51)","PM","PS","DIF","VENCIDO (P52)","PM","PM","DIF","VENCIDO (P49)",null,null,null,null,null,"PAULO JORGE NOBRE DOS SANTOS ÁGUAS"]
[6,null,0,null,null,null,{"$f":"IF(ISBLANK(D11),\"\",SUM(IF(D12>D11,1,0)+(IF(E12>E11,1,0)+(IF(F12>F11,1,0)))))","v":""},null,{"$f":"IF(I11=FALSE,\"\",I11)","v":""},null,null,null,{"$f":"IF(ISBLANK(J12),\"\",SUM(IF(J12>J14,1,0)+(IF(K12>K14,1,0)+(IF(L12>L14,1,0)))))","v":""},null,{"$f":"IF(M12=M14,IF(I12=\"Bye\",I14,IF(I14=\"Bye\",I12)),(IF(ISBLANK(J12),\"\",IF(M12>M14,I12,I14))))","v":false},null,null,null,null,null,null,null,null,null,null,null,null,null,null,null,null,null,null,null,null,null,null,null,{"$f":"IF(AND(AK12=#REF!,#REF!>AL12),#REF!,AJ12)","v":{"$error":"#REF!"}},{"$f":"VLOOKUP(AM12,H12:S13,9,FALSE)","v":{"$error":"#REF!"}},{"$f":"VLOOKUP(AM12,H12:S13,8,FALSE)","v":{"$error":"#REF!"}},{"$f":"VLOOKUP(AM12,H12:S13,6,FALSE)","v":{"$error":"#REF!"}},{"$f":"IF(AND(AN12=#REF!,AO12=#REF!,#REF!>AP12),#REF!,AM12)","v":{"$error":"#REF!"}},{"$f":"VLOOKUP(AQ12,H12:S13,9,FALSE)","v":{"$error":"#REF!"}},{"$f":"VLOOKUP(AQ12,H12:S13,8,FALSE)","v":{"$error":"#REF!"}},{"$f":"VLOOKUP(AQ12,H12:S13,6,FALSE)","v":{"$error":"#REF!"}},{"$f":"IF(AND(AR12=AR13,AS12=AS13,AT13>AT12),AQ13,AQ12)","v":{"$error":"#REF!"}},{"$f":"VLOOKUP(AU12,H12:S13,9,FALSE)","v":{"$error":"#REF!"}},{"$f":"VLOOKUP(AU12,H12:S13,8,FALSE)","v":{"$error":"#REF!"}},{"$f":"VLOOKUP(AU12,H12:S13,6,FALSE)","v":{"$error":"#REF!"}},{"$f":"IF(AND(AV12=#REF!,AW12=#REF!,#REF!>AX12),#REF!,AU12)","v":{"$error":"#REF!"}},{"$f":"VLOOKUP(AY12,H12:S13,9,FALSE)","v":{"$error":"#REF!"}},{"$f":"VLOOKUP(AY12,H12:S13,8,FALSE)","v":{"$error":"#REF!"}},{"$f":"VLOOKUP(AY12,H12:S13,6,FALSE)","v":{"$error":"#REF!"}},null,null,null,{"$f":"AY12","v":{"$error":"#REF!"}},{"$f":"VLOOKUP(BF12,H12:S13,2,FALSE)","v":{"$error":"#REF!"}},{"$f":"VLOOKUP(BF12,H12:S13,3,FALSE)","v":{"$error":"#REF!"}},{"$f":"VLOOKUP(BF12,H12:S13,4,FALSE)","v":{"$error":"#REF!"}},{"$f":"VLOOKUP(BF12,H12:S13,5,FALSE)","v":{"$error":"#REF!"}},{"$f":"VLOOKUP(BF12,H12:S13,6,FALSE)","v":{"$error":"#REF!"}},{"$f":"VLOOKUP(BF12,H12:S13,7,FALSE)","v":{"$error":"#REF!"}},{"$f":"VLOOKUP(BF12,H12:S13,8,FALSE)","v":{"$error":"#REF!"}},{"$f":"VLOOKUP(BF12,H12:S13,9,FALSE)","v":{"$error":"#REF!"}},null,null,{"$f":"IF(#REF!<>\"\",IF(#REF!>#REF!,#REF!,IF(#REF!>#REF!,#REF!,\"Empate\")),\"\")","v":{"$error":"#REF!"}},{"$f":"IF(#REF!<>\"\",IF(#REF!<#REF!,#REF!,IF(#REF!<#REF!,#REF!,\"Empate\")),\"\")","v":{"$error":"#REF!"}},null,null,{"$f":"IF(ISBLANK(CF19),COUNTA(CF20:$CF$28),0)","v":0},null,"1º",null,null,{"$f":"AG23","v":""},12,null,null,1,null,null,null,null,null,null,null,null,null,null,null,null,{"$f":"VLOOKUP($CP$12,#REF!,2,FALSE)","v":{"$error":"#REF!"}},null,null,null,null,null,null,null,null,null,null,null,null,null,"PROCV($FK$12;;2;FALSO)",{"$f":"IF(#REF!=#REF!,IF(#REF!=\"Bye\",#REF!,IF(#REF!=\"Bye\",#REF!)),(IF(ISBLANK(#REF!),\"\",IF(#REF!>#REF!,#REF!,#REF!))))","v":{"$error":"#REF!"}}]
[7,null,0,null,null,null,{"$f":"IF(ISBLANK(D13),\"\",SUM(IF(D13>D14,1,0)+(IF(E13>E14,1,0)+(IF(F13>F14,1,0)))))","v":""},"P4",{"$f":"IF(G13=G14,IF(C13=\"Bye\",C14,IF(C14=\"Bye\",C13)),(IF(ISBLANK(D13),\"\",IF(G13>G14,C13,C14))))","v":false},null,"(V2)",null,null,null,{"$f":"IF(O12=FALSE,\"\",O12)","v":""},null,null,null,{"$f":"IF(ISBLANK(P13),\"\",SUM(IF(P13>P9,1,0)+(IF(Q13>Q9,1,0)+(IF(R13>R9,1,0)))))","v":""},null,null,null,null,null,null,null,null,null,null,null,null,null,null,null,null,null,null,null,{"$f":"IF(AND(#REF!=AK13,AL13>#REF!),#REF!,AJ13)","v":{"$error":"#REF!"}},{"$f":"VLOOKUP(AM13,H12:S13,9,FALSE)","v":{"$error":"#REF!"}},{"$f":"VLOOKUP(AM13,H12:S13,8,FALSE)","v":{"$error":"#REF!"}},{"$f":"VLOOKUP(AM13,H12:S13,6,FALSE)","v":{"$error":"#REF!"}},{"$f":"IF(AND(AN13=#REF!,AO13=#REF!,#REF!>AP13),#REF!,AM13)","v":{"$error":"#REF!"}},{"$f":"VLOOKUP(AQ13,H12:S13,9,FALSE)","v":{"$error":"#REF!"}},{"$f":"VLOOKUP(AQ13,H12:S13,8,FALSE)","v":{"$error":"#REF!"}},{"$f":"VLOOKUP(AQ13,H12:S13,6,FALSE)","v":{"$error":"#REF!"}},{"$f":"IF(AND(AR12=AR13,AS12=AS13,#REF!>AT12),AQ12,AQ13)","v":{"$error":"#REF!"}},{"$f":"VLOOKUP(AU13,H12:S13,9,FALSE)","v":{"$error":"#REF!"}},{"$f":"VLOOKUP(AU13,H12:S13,8,FALSE)","v":{"$error":"#REF!"}},{"$f":"VLOOKUP(AU13,H12:S13,6,FALSE)","v":{"$error":"#REF!"}},{"$f":"IF(AND(#REF!=AV13,#REF!=AW13,AX13>#REF!),#REF!,AU13)","v":{"$error":"#REF!"}},{"$f":"VLOOKUP(AY13,H12:S13,9,FALSE)","v":{"$error":"#REF!"}},{"$f":"VLOOKUP(AY13,H12:S13,8,FALSE)","v":{"$error":"#REF!"}},{"$f":"VLOOKUP(AY13,H12:S13,6,FALSE)","v":{"$error":"#REF!"}},null,null,null,{"$f":"AY13","v":{"$error":"#REF!"}},{"$f":"VLOOKUP(BF13,H12:S13,2,FALSE)","v":{"$error":"#REF!"}},{"$f":"VLOOKUP(BF13,H12:S13,3,FALSE)","v":{"$error":"#REF!"}},{"$f":"VLOOKUP(BF13,H12:S13,4,FALSE)","v":{"$error":"#REF!"}},{"$f":"VLOOKUP(BF13,H12:S13,5,FALSE)","v":{"$error":"#REF!"}},{"$f":"VLOOKUP(BF13,H12:S13,6,FALSE)","v":{"$error":"#REF!"}},{"$f":"VLOOKUP(BF13,H12:S13,7,FALSE)","v":{"$error":"#REF!"}},{"$f":"VLOOKUP(BF13,H12:S13,8,FALSE)","v":{"$error":"#REF!"}},{"$f":"VLOOKUP(BF13,H12:S13,9,FALSE)","v":{"$error":"#REF!"}},null,null,{"$f":"IF(#REF!<>\"\",IF(#REF!>#REF!,#REF!,IF(#REF!>#REF!,#REF!,\"Empate\")),\"\")","v":{"$error":"#REF!"}},{"$f":"IF(#REF!<>\"\",IF(#REF!<#REF!,#REF!,IF(#REF!<#REF!,#REF!,\"Empate\")),\"\")","v":{"$error":"#REF!"}},null,null,{"$f":"IF(ISBLANK(CF20),COUNTA(CF21:$CF$28),0)","v":0},null,"2º",null,null,{"$f":"IF(BZ12=AA15,AA31,AA15)","v":""},11,null,null,2]
[8,null,0,null,null,null,{"$f":"IF(ISBLANK(D13),\"\",SUM(IF(D14>D13,1,0)+(IF(E14>E13,1,0)+(IF(F14>F13,1,0)))))","v":""},null,{"$f":"IF(I13=FALSE,\"\",I13)","v":""},null,null,null,{"$f":"IF(ISBLANK(J12),\"\",SUM(IF(J14>J12,1,0)+(IF(K14>K12,1,0)+(IF(L14>L12,1,0)))))","v":""},null,null,null,null,null,null,null,null,null,null,null,null,null,{"$f":"IF(Y11=Y19,IF(U11=\"Bye\",U19,IF(U19=\"Bye\",U19)),(IF(ISBLANK(V11),\"\",IF(Y11>Y19,U11,U19))))","v":false},null,null,null,null,"P31",null,null,null,null,null,null,null,null,null,null,null,null,null,null,null,null,null,null,null,null,null,null,null,null,null,null,null,null,null,null,null,null,null,null,null,null,null,null,null,null,{"$f":"IF(ISBLANK(CF21),COUNTA(CF22:$CF$28),0)","v":0},null,"3º",null,null,{"$f":"AA23","v":""},10,null,null,3,null,null,null,null,null,null,null,null,null,null,null,null,null,null,null,null,null,null,null,null,null,null,null,null,null,null,null,null,null,null,null,"PM","PS","DIF"]
[9,null,0,null,null,null,{"$f":"IF(ISBLANK(D15),\"\",SUM(IF(D15>D16,1,0)+(IF(E15>E16,1,0)+(IF(F15>F16,1,0)))))","v":""},"P5",{"$f":"IF(G15=G16,IF(C15=\"Bye\",C16,IF(C16=\"Bye\",C15)),(IF(ISBLANK(D15),\"\",IF(G15>G16,C15,C16))))","v":false},null,null,null,null,"P19",null,null,null,null,null,null,"(V13)",null,null,null,null,null,{"$f":"IF(AA14=FALSE,\"\",AA14)","v":""},null,null,null,{"$f":"IF(ISBLANK(AB15),\"\",SUM(IF(AB15>AB31,1,0)+(IF(AC15>AC31,1,0)+(IF(AD15>AD31,1,0)))))","v":""},null,null,null,null,null,null,null,null,null,null,null,null,null,null,null,null,null,null,null,null,null,null,null,null,null,null,null,null,null,null,null,null,null,null,null,null,null,{"$f":"IF(#REF!<>\"\",IF(#REF!>#REF!,#REF!,IF(#REF!>#REF!,#REF!,\"Empate\")),\"\")","v":{"$error":"#REF!"}},{"$f":"IF(#REF!<>\"\",IF(#REF!<#REF!,#REF!,IF(#REF!<#REF!,#REF!,\"Empate\")),\"\")","v":{"$error":"#REF!"}},null,null,{"$f":"IF(ISBLANK(CF22),COUNTA(CF23:$CF$28),0)","v":0},null,"4º",null,null,{"$f":"AA27","v":""},9,null,null,4,null,null,null,null,null,null,null,null,null,null,null,null,"p49",null,null,null,null,null,null,null,null,null,null,null,null,null,{"$f":"IF(#REF!=#REF!,IF(#REF!=\"Bye\",#REF!,IF(#REF!=\"Bye\",#REF!)),(IF(ISBLANK(#REF!),\"\",IF(#REF!>#REF!,#REF!,#REF!))))","v":{"$error":"#REF!"}},{"$f":"#REF!","v":{"$error":"#REF!"}},{"$f":"#REF!","v":{"$error":"#REF!"}},{"$f":"#REF!","v":{"$error":"#REF!"}},{"$f":"#REF!","v":{"$error":"#REF!"}},{"$f":"DG15+DH15+DI15","v":{"$error":"#REF!"}},{"$f":"DG16+DH16+DI16","v":{"$error":"#REF!"}},{"$f":"DJ15-DK15","v":{"$error":"#REF!"}}]
[10,null,0,null,null,null,{"$f":"IF(ISBLANK(D15),\"\",SUM(IF(D16>D15,1,0)+(IF(E16>E15,1,0)+(IF(F16>F15,1,0)))))","v":""},null,{"$f":"IF(I15=FALSE,\"\",I15)","v":""},null,null,null,{"$f":"IF(ISBLANK(J16),\"\",SUM(IF(J16>J18,1,0)+(IF(K16>K18,1,0)+(IF(L16>L18,1,0)))))","v":""},null,{"$f":"IF(M16=M18,IF(I16=\"Bye\",I18,IF(I18=\"Bye\",I16)),(IF(ISBLANK(J16),\"\",IF(M16>M18,I16,I18))))","v":false},null,null,null,null,"P26",null,null,null,null,null,null,null,null,null,null,null,null,null,null,null,null,null,null,{"$f":"IF(AND(AK16=#REF!,#REF!>AL16),#REF!,AJ16)","v":{"$error":"#REF!"}},{"$f":"VLOOKUP(AM16,H16:S17,9,FALSE)","v":{"$error":"#REF!"}},{"$f":"VLOOKUP(AM16,H16:S17,8,FALSE)","v":{"$error":"#REF!"}},{"$f":"VLOOKUP(AM16,H16:S17,6,FALSE)","v":{"$error":"#REF!"}},{"$f":"IF(AND(AN16=#REF!,AO16=#REF!,#REF!>AP16),#REF!,AM16)","v":{"$error":"#REF!"}},{"$f":"VLOOKUP(AQ16,H16:S17,9,FALSE)","v":{"$error":"#REF!"}},{"$f":"VLOOKUP(AQ16,H16:S17,8,FALSE)","v":{"$error":"#REF!"}},{"$f":"VLOOKUP(AQ16,H16:S17,6,FALSE)","v":{"$error":"#REF!"}},{"$f":"IF(AND(AR16=AR17,AS16=AS17,AT17>AT16),AQ17,AQ16)","v":{"$error":"#REF!"}},{"$f":"VLOOKUP(AU16,H16:S17,9,FALSE)","v":{"$error":"#REF!"}},{"$f":"VLOOKUP(AU16,H16:S17,8,FALSE)","v":{"$error":"#REF!"}},{"$f":"VLOOKUP(AU16,H16:S17,6,FALSE)","v":{"$error":"#REF!"}},{"$f":"IF(AND(AV16=#REF!,AW16=#REF!,#REF!>AX16),#REF!,AU16)","v":{"$error":"#REF!"}},{"$f":"VLOOKUP(AY16,H16:S17,9,FALSE)","v":{"$error":"#REF!"}},{"$f":"VLOOKUP(AY16,H16:S17,8,FALSE)","v":{"$error":"#REF!"}},{"$f":"VLOOKUP(AY16,H16:S17,6,FALSE)","v":{"$error":"#REF!"}},null,null,null,{"$f":"AY16","v":{"$error":"#REF!"}},{"$f":"VLOOKUP(BF16,H16:S17,2,FALSE)","v":{"$error":"#REF!"}},{"$f":"VLOOKUP(BF16,H16:S17,3,FALSE)","v":{"$error":"#REF!"}},{"$f":"VLOOKUP(BF16,H16:S17,4,FALSE)","v":{"$error":"#REF!"}},{"$f":"VLOOKUP(BF16,H16:S17,5,FALSE)","v":{"$error":"#REF!"}},{"$f":"VLOOKUP(BF16,H16:S17,6,FALSE)","v":{"$error":"#REF!"}},{"$f":"VLOOKUP(BF16,H16:S17,7,FALSE)","v":{"$error":"#REF!"}},{"$f":"VLOOKUP(BF16,H16:S17,8,FALSE)","v":{"$error":"#REF!"}},{"$f":"VLOOKUP(BF16,H16:S17,9,FALSE)","v":{"$error":"#REF!"}},null,null,{"$f":"IF(#REF!<>\"\",IF(#REF!>#REF!,#REF!,IF(#REF!>#REF!,#REF!,\"Empate\")),\"\")","v":{"$error":"#REF!"}},{"$f":"IF(#REF!<>\"\",IF(#REF!<#REF!,#REF!,IF(#REF!<#REF!,#REF!,\"Empate\")),\"\")","v":{"$error":"#REF!"}},null,null,{"$f":"IF(ISBLANK(CF23),COUNTA(CF24:$CF$28),0)","v":0},null,"5º",null,null,{"$f":"IF(S9=S13,\"\",IF(S9>S13,O13,O9))","v":""},8,null,null,5,null,null,null,null,null,null,null,null,null,null,null,null,null,null,null,null,null,null,null,null,null,null,null,null,null,null,null,{"$f":"#REF!","v":{"$error":"#REF!"}},{"$f":"#REF!","v":{"$error":"#REF!"}},{"$f":"#REF!","v":{"$error":"#REF!"}},{"$f":"#REF!","v":{"$error":"#REF!"}},{"$error":"#REF!"},{"$f":"DG15+DH15+DI15","v":{"$error":"#REF!"}},{"$error":"#REF!"}]
[11,null,0,null,null,null,{"$f":"IF(ISBLANK(D17),\"\",SUM(IF(D17>D18,1,0)+(IF(E17>E18,1,0)+(IF(F17>F18,1,0)))))","v":""},"P6",{"$f":"IF(G17=G18,IF(C17=\"Bye\",C18,IF(C18=\"Bye\",C17)),(IF(ISBLANK(D17),\"\",IF(G17>G18,C17,C18))))","v":false},null,"(V3)",null,null,null,{"$f":"IF(O16=FALSE,\"\",O16)","v":""},null,null,null,{"$f":"IF(ISBLANK(P17),\"\",SUM(IF(P17>P21,1,0)+(IF(Q17>Q21,1,0)+(IF(R17>R21,1,0)))))","v":""},null,null,null,null,null,null,null,null,null,null,null,null,null,null,null,null,null,null,null,{"$f":"IF(AND(#REF!=AK17,AL17>#REF!),#REF!,AJ17)","v":{"$error":"#REF!"}},{"$f":"VLOOKUP(AM17,H16:S17,9,FALSE)","v":{"$error":"#REF!"}},{"$f":"VLOOKUP(AM17,H16:S17,8,FALSE)","v":{"$error":"#REF!"}},{"$f":"VLOOKUP(AM17,H16:S17,6,FALSE)","v":{"$error":"#REF!"}},{"$f":"IF(AND(AN17=#REF!,AO17=#REF!,#REF!>AP17),#REF!,AM17)","v":{"$error":"#REF!"}},{"$f":"VLOOKUP(AQ17,H16:S17,9,FALSE)","v":{"$error":"#REF!"}},{"$f":"VLOOKUP(AQ17,H16:S17,8,FALSE)","v":{"$error":"#REF!"}},{"$f":"VLOOKUP(AQ17,H16:S17,6,FALSE)","v":{"$error":"#REF!"}},{"$f":"IF(AND(AR16=AR17,AS16=AS17,#REF!>AT16),AQ16,AQ17)","v":{"$error":"#REF!"}},{"$f":"VLOOKUP(AU17,H16:S17,9,FALSE)","v":{"$error":"#REF!"}},{"$f":"VLOOKUP(AU17,H16:S17,8,FALSE)","v":{"$error":"#REF!"}},{"$f":"VLOOKUP(AU17,H16:S17,6,FALSE)","v":{"$error":"#REF!"}},{"$f":"IF(AND(#REF!=AV17,#REF!=AW17,AX17>#REF!),#REF!,AU17)","v":{"$error":"#REF!"}},{"$f":"VLOOKUP(AY17,H16:S17,9,FALSE)","v":{"$error":"#REF!"}},{"$f":"VLOOKUP(AY17,H16:S17,8,FALSE)","v":{"$error":"#REF!"}},{"$f":"VLOOKUP(AY17,H16:S17,6,FALSE)","v":{"$error":"#REF!"}},null,null,null,{"$f":"AY17","v":{"$error":"#REF!"}},{"$f":"VLOOKUP(BF17,H16:S17,2,FALSE)","v":{"$error":"#REF!"}},{"$f":"VLOOKUP(BF17,H16:S17,3,FALSE)","v":{"$error":"#REF!"}},{"$f":"VLOOKUP(BF17,H16:S17,4,FALSE)","v":{"$error":"#REF!"}},{"$f":"VLOOKUP(BF17,H16:S17,5,FALSE)","v":{"$error":"#REF!"}},{"$f":"VLOOKUP(BF17,H16:S17,6,FALSE)","v":{"$error":"#REF!"}},{"$f":"VLOOKUP(BF17,H16:S17,7,FALSE)","v":{"$error":"#REF!"}},{"$f":"VLOOKUP(BF17,H16:S17,8,FALSE)","v":{"$error":"#REF!"}},{"$f":"VLOOKUP(BF17,H16:S17,9,FALSE)","v":{"$error":"#REF!"}},null,null,{"$f":"IF(#REF!<>\"\",IF(#REF!>#REF!,#REF!,IF(#REF!>#REF!,#REF!,\"Empate\")),\"\")","v":{"$error":"#REF!"}},{"$f":"IF(#REF!<>\"\",IF(#REF!<#REF!,#REF!,IF(#REF!<#REF!,#REF!,\"Empate\")),\"\")","v":{"$error":"#REF!"}},null,null,{"$f":"IF(ISBLANK(#REF!),COUNTA(CF24:$CF$28),0)","v":0},null,"6º",null,null,{"$f":"IF(S17=S21,\"\",IF(S17>S21,O21,O17))","v":""},8,null,null,6,null,null,null,null,null,null,null,null,null,null,null,null,"P50",null,null,null,null,null,null,null,null,null,null,null,null,null,"P50",{"$f":"#REF!","v":{"$error":"#REF!"}},{"$f":"#REF!","v":{"$error":"#REF!"}},{"$f":"#REF!","v":{"$error":"#REF!"}},{"$f":"#REF!","v":{"$error":"#REF!"}},{"$error":"#REF!"},{"$f":"DG18+DH18+DI18","v":{"$error":"#REF!"}},{"$error":"#REF!"}]
[12,null,0,null,null,null,{"$f":"IF(ISBLANK(D17),\"\",SUM(IF(D18>D17,1,0)+(IF(E18>E17,1,0)+(IF(F18>F17,1,0)))))","v":""},null,{"$f":"IF(I17=FALSE,\"\",I17)","v":""},null,null,null,{"$f":"IF(ISBLANK(J16),\"\",SUM(IF(J18>J16,1,0)+(IF(K18>K16,1,0)+(IF(L18>L16,1,0)))))","v":""},null,null,null,null,null,null,null,{"$f":"IF(S17=S21,IF(O17=\"Bye\",O21,IF(O21=\"Bye\",O21)),(IF(ISBLANK(P17),\"\",IF(S17>S21,O17,O21))))","v":false},null,null,null,null,null,null,null,null,null,null,null,null,null,null,null,null,null,null,null,null,null,null,null,null,null,null,null,null,null,null,null,null,null,null,null,null,null,null,null,null,null,null,null,null,null,null,null,null,null,null,null,{"$f":"IF(ISBLANK(CF25),COUNTA(CF26:$CF$28),0)","v":0},null,"7º",null,null,{"$f":"IF(S25=S29,\"\",IF(S25>S29,O29,O25))","v":""},8,null,null,7,null,null,null,null,null,null,null,null,null,null,null,null,null,null,null,null,null,null,null,null,null,null,null,null,null,null,null,{"$f":"#REF!","v":{"$error":"#REF!"}},{"$f":"#REF!","v":{"$error":"#REF!"}},{"$f":"#REF!","v":{"$error":"#REF!"}},{"$f":"#REF!","v":{"$error":"#REF!"}},{"$error":"#REF!"},{"$f":"DG17+DH17+DI17","v":{"$error":"#REF!"}},{"$error":"#REF!"}]
[13,null,0,null,null,null,{"$f":"IF(ISBLANK(D19),\"\",SUM(IF(D19>D20,1,0)+(IF(E19>E20,1,0)+(IF(F19>F20,1,0)))))","v":""},"P7",{"$f":"IF(G19=G20,IF(C19=\"Bye\",C20,IF(C20=\"Bye\",C19)),(IF(ISBLANK(D19),\"\",IF(G19>G20,C19,C20))))","v":false},null,null,null,null,"P20","(V10)",null,null,null,null,null,{"$f":"IF(U18=FALSE,\"\",U18)","v":""},null,null,null,{"$f":"IF(ISBLANK(V19),\"\",SUM(IF(V19>V11,1,0)+(IF(W19>W11,1,0)+(IF(X19>X11,1,0)))))","v":""},null,null,null,null,null,null,null,null,null,null,null,null,null,null,null,null,null,null,null,null,null,null,null,null,null,null,null,null,null,null,null,null,null,null,null,null,null,null,null,null,null,null,null,{"$f":"IF(#REF!<>\"\",IF(#REF!>#REF!,#REF!,IF(#REF!>#REF!,#REF!,\"Empate\")),\"\")","v":{"$error":"#REF!"}},{"$f":"IF(#REF!<>\"\",IF(#REF!<#REF!,#REF!,IF(#REF!<#REF!,#REF!,\"Empate\")),\"\")","v":{"$error":"#REF!"}},null,null,{"$f":"IF(ISBLANK(CF26),COUNTA(CF27:$CF$28),0)","v":0},null,"8º",null,null,{"$f":"IF(S33=S37,\"\",IF(S33>S37,O37,O33))","v":""},8,null,null,8,null,null,null,null,null,null,null,null,null,null,null,null,"P51",null,null,null,null,null,null,null,null,null,null,null,null,null,"P51",{"$f":"#REF!","v":{"$error":"#REF!"}},{"$f":"#REF!","v":{"$error":"#REF!"}},{"$f":"#REF!","v":{"$error":"#REF!"}},{"$f":"#REF!","v":{"$error":"#REF!"}},{"$error":"#REF!"},{"$f":"DG20+DH20+DI20","v":{"$error":"#REF!"}},{"$error":"#REF!"}]
[14,null,0,null,null,null,{"$f":"IF(ISBLANK(D19),\"\",SUM(IF(D20>D19,1,0)+(IF(E20>E19,1,0)+(IF(F20>F19,1,0)))))","v":""},null,{"$f":"IF(I19=FALSE,\"\",I19)","v":""},null,null,null,{"$f":"IF(ISBLANK(J20),\"\",SUM(IF(J20>J22,1,0)+(IF(K20>K22,1,0)+(IF(L20>L22,1,0)))))","v":""},null,{"$f":"IF(M20=M22,IF(I20=\"Bye\",I22,IF(I22=\"Bye\",I20)),(IF(ISBLANK(J20),\"\",IF(M20>M22,I20,I22))))","v":false},null,null,null,null,null,null,null,null,null,null,null,"(V15)",null,null,null,null,null,null,null,null,null,null,null,{"$f":"IF(AND(AK20=#REF!,#REF!>AL20),#REF!,AJ20)","v":{"$error":"#REF!"}},{"$f":"VLOOKUP(AM20,H20:S21,9,FALSE)","v":{"$error":"#REF!"}},{"$f":"VLOOKUP(AM20,H20:S21,8,FALSE)","v":{"$error":"#REF!"}},{"$f":"VLOOKUP(AM20,H20:S21,6,FALSE)","v":{"$error":"#REF!"}},{"$f":"IF(AND(AN20=#REF!,AO20=#REF!,#REF!>AP20),#REF!,AM20)","v":{"$error":"#REF!"}},{"$f":"VLOOKUP(AQ20,H20:S21,9,FALSE)","v":{"$error":"#REF!"}},{"$f":"VLOOKUP(AQ20,H20:S21,8,FALSE)","v":{"$error":"#REF!"}},{"$f":"VLOOKUP(AQ20,H20:S21,6,FALSE)","v":{"$error":"#REF!"}},{"$f":"IF(AND(AR20=AR21,AS20=AS21,AT21>AT20),AQ21,AQ20)","v":{"$error":"#REF!"}},{"$f":"VLOOKUP(AU20,H20:S21,9,FALSE)","v":{"$error":"#REF!"}},{"$f":"VLOOKUP(AU20,H20:S21,8,FALSE)","v":{"$error":"#REF!"}},{"$f":"VLOOKUP(AU20,H20:S21,6,FALSE)","v":{"$error":"#REF!"}},{"$f":"IF(AND(AV20=#REF!,AW20=#REF!,#REF!>AX20),#REF!,AU20)","v":{"$error":"#REF!"}},{"$f":"VLOOKUP(AY20,H20:S21,9,FALSE)","v":{"$error":"#REF!"}},{"$f":"VLOOKUP(AY20,H20:S21,8,FALSE)","v":{"$error":"#REF!"}},{"$f":"VLOOKUP(AY20,H20:S21,6,FALSE)","v":{"$error":"#REF!"}},null,null,null,{"$f":"AY20","v":{"$error":"#REF!"}},{"$f":"VLOOKUP(BF20,H20:S21,2,FALSE)","v":{"$error":"#REF!"}},{"$f":"VLOOKUP(BF20,H20:S21,3,FALSE)","v":{"$error":"#REF!"}},{"$f":"VLOOKUP(BF20,H20:S21,4,FALSE)","v":{"$error":"#REF!"}},{"$f":"VLOOKUP(BF20,H20:S21,5,FALSE)","v":{"$error":"#REF!"}},{"$f":"VLOOKUP(BF20,H20:S21,6,FALSE)","v":{"$error":"#REF!"}},{"$f":"VLOOKUP(BF20,H20:S21,7,FALSE)","v":{"$error":"#REF!"}},{"$f":"VLOOKUP(BF20,H20:S21,8,FALSE)","v":{"$error":"#REF!"}},{"$f":"VLOOKUP(BF20,H20:S21,9,FALSE)","v":{"$error":"#REF!"}},null,null,{"$f":"IF(#REF!<>\"\",IF(#REF!>#REF!,#REF!,IF(#REF!>#REF!,#REF!,\"Empate\")),\"\")","v":{"$error":"#REF!"}},{"$f":"IF(#REF!<>\"\",IF(#REF!<#REF!,#REF!,IF(#REF!<#REF!,#REF!,\"Empate\")),\"\")","v":{"$error":"#REF!"}},null,null,{"$f":"IF(ISBLANK(CF27),COUNTA(CF28:$CF$28),0)","v":0},null,"9º",null,null,{"$f":"IF(M8=S10,\"\",IF(M8>M10,I10,I8))","v":""},6,null,null,9,null,null,null,null,null,null,null,null,null,null,null,null,null,null,null,null,null,null,null,null,null,null,null,null,null,null,null,{"$f":"#REF!","v":{"$error":"#REF!"}},{"$f":"#REF!","v":{"$error":"#REF!"}},{"$f":"#REF!","v":{"$error":"#REF!"}},{"$f":"#REF!","v":{"$error":"#REF!"}},{"$error":"#REF!"},{"$f":"DG19+DH19+DI19","v":{"$error":"#REF!"}},{"$error":"#REF!"}]
[15,null,0,null,null,null,{"$f":"IF(ISBLANK(D21),\"\",SUM(IF(D21>D22,1,0)+(IF(E21>E22,1,0)+(IF(F21>F22,1,0)))))","v":""},"P8",{"$f":"IF(G21=G22,IF(C21=\"Bye\",C22,IF(C22=\"Bye\",C21)),(IF(ISBLANK(D21),\"\",IF(G21>G22,C21,C22))))","v":false},null,"(V4)",null,null,null,{"$f":"IF(O20=FALSE,\"\",O20)","v":""},null,null,null,{"$f":"IF(ISBLANK(P21),\"\",SUM(IF(P21>P17,1,0)+(IF(Q21>Q17,1,0)+(IF(R21>R17,1,0)))))","v":""},null,{"$f":"IF(Y11=Y19,IF(U11=\"Bye\",U19,IF(U19=\"Bye\",U11)),(IF(ISBLANK(V11),\"\",IF(Y11>Y19,U19,U11))))","v":false},null,null,null,"P33",null,null,null,null,null,null,null,null,null,null,null,null,null,{"$f":"IF(AND(#REF!=AK21,AL21>#REF!),#REF!,AJ21)","v":{"$error":"#REF!"}},{"$f":"VLOOKUP(AM21,H20:S21,9,FALSE)","v":{"$error":"#REF!"}},{"$f":"VLOOKUP(AM21,H20:S21,8,FALSE)","v":{"$error":"#REF!"}},{"$f":"VLOOKUP(AM21,H20:S21,6,FALSE)","v":{"$error":"#REF!"}},{"$f":"IF(AND(AN21=#REF!,AO21=#REF!,#REF!>AP21),#REF!,AM21)","v":{"$error":"#REF!"}},{"$f":"VLOOKUP(AQ21,H20:S21,9,FALSE)","v":{"$error":"#REF!"}},{"$f":"VLOOKUP(AQ21,H20:S21,8,FALSE)","v":{"$error":"#REF!"}},{"$f":"VLOOKUP(AQ21,H20:S21,6,FALSE)","v":{"$error":"#REF!"}},{"$f":"IF(AND(AR20=AR21,AS20=AS21,#REF!>AT20),AQ20,AQ21)","v":{"$error":"#REF!"}},{"$f":"VLOOKUP(AU21,H20:S21,9,FALSE)","v":{"$error":"#REF!"}},{"$f":"VLOOKUP(AU21,H20:S21,8,FALSE)","v":{"$error":"#REF!"}},{"$f":"VLOOKUP(AU21,H20:S21,6,FALSE)","v":{"$error":"#REF!"}},{"$f":"IF(AND(#REF!=AV21,#REF!=AW21,AX21>#REF!),#REF!,AU21)","v":{"$error":"#REF!"}},{"$f":"VLOOKUP(AY21,H20:S21,9,FALSE)","v":{"$error":"#REF!"}},{"$f":"VLOOKUP(AY21,H20:S21,8,FALSE)","v":{"$error":"#REF!"}},{"$f":"VLOOKUP(AY21,H20:S21,6,FALSE)","v":{"$error":"#REF!"}},null,null,null,{"$f":"AY21","v":{"$error":"#REF!"}},{"$f":"VLOOKUP(BF21,H20:S21,2,FALSE)","v":{"$error":"#REF!"}},{"$f":"VLOOKUP(BF21,H20:S21,3,FALSE)","v":{"$error":"#REF!"}},{"$f":"VLOOKUP(BF21,H20:S21,4,FALSE)","v":{"$error":"#REF!"}},{"$f":"VLOOKUP(BF21,H20:S21,5,FALSE)","v":{"$error":"#REF!"}},{"$f":"VLOOKUP(BF21,H20:S21,6,FALSE)","v":{"$error":"#REF!"}},{"$f":"VLOOKUP(BF21,H20:S21,7,FALSE)","v":{"$error":"#REF!"}},{"$f":"VLOOKUP(BF21,H20:S21,8,FALSE)","v":{"$error":"#REF!"}},{"$f":"VLOOKUP(BF21,H20:S21,9,FALSE)","v":{"$error":"#REF!"}},null,null,{"$f":"IF(#REF!<>\"\",IF(#REF!>#REF!,#REF!,IF(#REF!>#REF!,#REF!,\"Empate\")),\"\")","v":{"$error":"#REF!"}},{"$f":"IF(#REF!<>\"\",IF(#REF!<#REF!,#REF!,IF(#REF!<#REF!,#REF!,\"Empate\")),\"\")","v":{"$error":"#REF!"}},null,null,{"$f":"IF(ISBLANK(CF28),COUNTA(BX$86:$BX87),0)","v":0},null,"10º",null,null,{"$f":"IF(M12=S14,\"\",IF(M12>M14,I14,I12))","v":""},6,null,null,10,null,null,null,null,null,null,null,null,null,null,null,null,"P52",null,null,null,null,null,null,null,null,null,null,null,null,null,"P52",{"$f":"#REF!","v":{"$error":"#REF!"}},{"$f":"#REF!","v":{"$error":"#REF!"}},{"$f":"#REF!","v":{"$error":"#REF!"}},{"$f":"#REF!","v":{"$error":"#REF!"}},{"$error":"#REF!"},{"$f":"DG22+DH22+DI22","v":{"$error":"#REF!"}},{"$error":"#REF!"}]
[16,null,0,null,null,null,{"$f":"IF(ISBLANK(D21),\"\",SUM(IF(D22>D21,1,0)+(IF(E22>E21,1,0)+(IF(F22>F21,1,0)))))","v":""},null,{"$f":"IF(I21=FALSE,\"\",I21)","v":""},null,null,null,{"$f":"IF(ISBLANK(J20),\"\",SUM(IF(J22>J20,1,0)+(IF(K22>K20,1,0)+(IF(L22>L20,1,0)))))","v":""},null,null,null,null,null,null,null,{"$f":"IF(U21=FALSE,\"\",U21)","v":""},null,null,null,{"$f":"IF(ISBLANK(V22),\"\",SUM(IF(V22>V24,1,0)+(IF(W22>W24,1,0)+(IF(X22>X24,1,0)))))","v":""},null,{"$f":"IF(Y22=Y24,IF(U22=\"Bye\",U24,IF(U24=\"Bye\",U22)),(IF(ISBLANK(V22),\"\",IF(Y22>Y24,U22,U24))))","v":false},null,null,null,null,null,"P32",null,null,null,null,null,null,null,null,null,null,null,null,null,null,null,null,null,null,null,null,null,null,null,null,null,null,null,null,null,null,null,null,null,null,null,null,null,null,null,null,null,"11º",null,null,{"$f":"IF(M16=M18,\"\",IF(M16>M18,I18,I16))","v":""},6,null,null,11,null,null,null,null,null,null,null,null,null,null,null,null,null,null,null,null,null,null,null,null,null,null,null,null,null,null,null,{"$f":"#REF!","v":{"$error":"#REF!"}},{"$f":"#REF!","v":{"$error":"#REF!"}},{"$f":"#REF!","v":{"$error":"#REF!"}},{"$f":"#REF!","v":{"$error":"#REF!"}},{"$error":"#REF!"},{"$f":"DG21+DH21+DI21","v":{"$error":"#REF!"}},{"$error":"#REF!"}]
[17,null,0,null,null,null,{"$f":"IF(ISBLANK(D23),\"\",SUM(IF(D23>D24,1,0)+(IF(E23>E24,1,0)+(IF(F23>F24,1,0)))))","v":""},"P9",{"$f":"IF(G23=G24,IF(C23=\"Bye\",C24,IF(C24=\"Bye\",C23)),(IF(ISBLANK(D23),\"\",IF(G23>G24,C23,C24))))","v":false},null,null,null,null,"P21",null,null,null,null,null,null,{"$f":"IF(Y27=Y35,IF(U27=\"Bye\",U35,IF(U35=\"Bye\",U27)),(IF(ISBLANK(V27),\"\",IF(Y27>Y35,U35,U27))))","v":false},null,"(V7)",null,null,null,{"$f":"IF(AA22=FALSE,\"\",AA22)","v":""},null,null,null,null,null,{"$f":"IF(AE15=AE31,\"\",IF(AE15>AE31,AA15,AA31))","v":""},null,null,null,null,null,null,null,null,null,null,null,null,null,null,null,null,null,null,null,null,null,null,null,null,null,null,null,null,null,null,null,null,null,null,null,{"$f":"IF(#REF!<>\"\",IF(#REF!>#REF!,#REF!,IF(#REF!>#REF!,#REF!,\"Empate\")),\"\")","v":{"$error":"#REF!"}},{"$f":"IF(#REF!<>\"\",IF(#REF!<#REF!,#REF!,IF(#REF!<#REF!,#REF!,\"Empate\")),\"\")","v":{"$error":"#REF!"}},null,null,null,null,"12º",null,null,{"$f":"IF(M20=M22,\"\",IF(M20>M22,I22,I20))","v":""},6,null,null,12]
[18,null,0,null,null,null,{"$f":"IF(ISBLANK(D23),\"\",SUM(IF(D24>D23,1,0)+(IF(E24>E23,1,0)+(IF(F24>F23,1,0)))))","v":""},null,{"$f":"IF(I23=FALSE,\"\",I23)","v":""},null,null,null,{"$f":"IF(ISBLANK(J24),\"\",SUM(IF(J24>J26,1,0)+(IF(K24>K26,1,0)+(IF(L24>L26,1,0)))))","v":""},null,{"$f":"IF(M24=M26,IF(I24=\"Bye\",I26,IF(I26=\"Bye\",I24)),(IF(ISBLANK(J24),\"\",IF(M24>M26,I24,I26))))","v":false},null,null,null,"P27",null,{"$f":"IF(U23=FALSE,\"\",U23)","v":""},null,null,null,{"$f":"IF(ISBLANK(V22),\"\",SUM(IF(V24>V22,1,0)+(IF(W24>W22,1,0)+(IF(X24>X22,1,0)))))","v":""},null,"3ºCLASSICADO",null,null,null,null,null,null,null,null,null,null,null,{"$f":"IF(AND(AK24=AK25,AL25>AL24),AJ25,AJ24)","v":0},{"$f":"VLOOKUP(AM24,H24:S25,9,FALSE)","v":{"$error":"#N/A"}},{"$f":"VLOOKUP(AM24,H24:S25,8,FALSE)","v":{"$error":"#N/A"}},{"$f":"VLOOKUP(AM24,H24:S25,6,FALSE)","v":{"$error":"#N/A"}},{"$f":"IF(AND(#REF!=AN24,#REF!=AO24,AP24>#REF!),#REF!,AM24)","v":{"$error":"#REF!"}},{"$f":"VLOOKUP(AQ24,H24:S25,9,FALSE)","v":{"$error":"#REF!"}},{"$f":"VLOOKUP(AQ24,H24:S25,8,FALSE)","v":{"$error":"#REF!"}},{"$f":"VLOOKUP(AQ24,H24:S25,6,FALSE)","v":{"$error":"#REF!"}},{"$f":"IF(AND(AR24=#REF!,AS24=#REF!,#REF!>AT24),#REF!,AQ24)","v":{"$error":"#REF!"}},{"$f":"VLOOKUP(AU24,H24:S25,9,FALSE)","v":{"$error":"#REF!"}},{"$f":"VLOOKUP(AU24,H24:S25,8,FALSE)","v":{"$error":"#REF!"}},{"$f":"VLOOKUP(AU24,H24:S25,6,FALSE)","v":{"$error":"#REF!"}},{"$f":"IF(AND(AV24=AV25,AW24=AW25,AX25>AX24),AU25,AU24)","v":{"$error":"#REF!"}},{"$f":"VLOOKUP(AY24,H24:S25,9,FALSE)","v":{"$error":"#REF!"}},{"$f":"VLOOKUP(AY24,H24:S25,8,FALSE)","v":{"$error":"#REF!"}},{"$f":"VLOOKUP(AY24,H24:S25,6,FALSE)","v":{"$error":"#REF!"}},null,null,null,{"$f":"AY24","v":{"$error":"#REF!"}},{"$f":"VLOOKUP(BF24,H24:S25,2,FALSE)","v":{"$error":"#REF!"}},{"$f":"VLOOKUP(BF24,H24:S25,3,FALSE)","v":{"$error":"#REF!"}},{"$f":"VLOOKUP(BF24,H24:S25,4,FALSE)","v":{"$error":"#REF!"}},{"$f":"VLOOKUP(BF24,H24:S25,5,FALSE)","v":{"$error":"#REF!"}},{"$f":"VLOOKUP(BF24,H24:S25,6,FALSE)","v":{"$error":"#REF!"}},{"$f":"VLOOKUP(BF24,H24:S25,7,FALSE)","v":{"$error":"#REF!"}},{"$f":"VLOOKUP(BF24,H24:S25,8,FALSE)","v":{"$error":"#REF!"}},{"$f":"VLOOKUP(BF24,H24:S25,9,FALSE)","v":{"$error":"#REF!"}},null,null,{"$f":"IF(#REF!<>\"\",IF(#REF!>#REF!,#REF!,IF(#REF!>#REF!,#REF!,\"Empate\")),\"\")","v":{"$error":"#REF!"}},{"$f":"IF(#REF!<>\"\",IF(#REF!<#REF!,#REF!,IF(#REF!<#REF!,#REF!,\"Empate\")),\"\")","v":{"$error":"#REF!"}},null,null,null,null,"13º",null,null,{"$f":"IF(M24=M26,\"\",IF(M24>M26,I26,I24))","v":""},4,null,null,13]
[19,null,0,null,null,null,{"$f":"IF(ISBLANK(D25),\"\",SUM(IF(D25>D26,1,0)+(IF(E25>E26,1,0)+(IF(F25>F26,1,0)))))","v":""},"P10",{"$f":"IF(G25=G26,IF(C25=\"Bye\",C26,IF(C26=\"Bye\",C25)),(IF(ISBLANK(D25),\"\",IF(G25>G26,C25,C26))))","v":false},null,"(V5)",null,null,null,{"$f":"IF(O24=FALSE,\"\",O24)","v":""},null,null,null,{"$f":"IF(ISBLANK(P25),\"\",SUM(IF(P25>P29,1,0)+(IF(Q25>Q29,1,0)+(IF(R25>R29,1,0)))))","v":""},null,null,null,null,null,null,null,null,null,null,null,null,null,{"$f":"AG23","v":""},null,null,null,null,null,{"$f":"IF(AND(AK24=AK25,AL25>AL24),AJ24,AJ25)","v":0},{"$f":"VLOOKUP(AM25,H24:S25,9,FALSE)","v":{"$error":"#N/A"}},{"$f":"VLOOKUP(AM25,H24:S25,8,FALSE)","v":{"$error":"#N/A"}},{"$f":"VLOOKUP(AM25,H24:S25,6,FALSE)","v":{"$error":"#N/A"}},{"$f":"IF(AND(AN25=#REF!,AO25=#REF!,#REF!>AP25),#REF!,AM25)","v":{"$error":"#N/A"}},{"$f":"VLOOKUP(AQ25,H24:S25,9,FALSE)","v":{"$error":"#N/A"}},{"$f":"VLOOKUP(AQ25,H24:S25,8,FALSE)","v":{"$error":"#N/A"}},{"$f":"VLOOKUP(AQ25,H24:S25,6,FALSE)","v":{"$error":"#N/A"}},{"$f":"IF(AND(#REF!=AR25,#REF!=AS25,AT24>#REF!),#REF!,AQ25)","v":{"$error":"#REF!"}},{"$f":"VLOOKUP(AU25,H24:S25,9,FALSE)","v":{"$error":"#REF!"}},{"$f":"VLOOKUP(AU25,H24:S25,8,FALSE)","v":{"$error":"#REF!"}},{"$f":"VLOOKUP(AU25,H24:S25,6,FALSE)","v":{"$error":"#REF!"}},{"$f":"IF(AND(AV24=AV25,AW24=AW25,AX25>AX24),AU24,AU25)","v":{"$error":"#REF!"}},{"$f":"VLOOKUP(AY25,H24:S25,9,FALSE)","v":{"$error":"#REF!"}},{"$f":"VLOOKUP(AY25,H24:S25,8,FALSE)","v":{"$error":"#REF!"}},{"$f":"VLOOKUP(AY25,H24:S25,6,FALSE)","v":{"$error":"#REF!"}},null,null,null,{"$f":"AY25","v":{"$error":"#REF!"}},{"$f":"VLOOKUP(BF25,H24:S25,2,FALSE)","v":{"$error":"#REF!"}},{"$f":"VLOOKUP(BF25,H24:S25,3,FALSE)","v":{"$error":"#REF!"}},{"$f":"VLOOKUP(BF25,H24:S25,4,FALSE)","v":{"$error":"#REF!"}},{"$f":"VLOOKUP(BF25,H24:S25,5,FALSE)","v":{"$error":"#REF!"}},{"$f":"VLOOKUP(BF25,H24:S25,6,FALSE)","v":{"$error":"#REF!"}},{"$f":"VLOOKUP(BF25,H24:S25,7,FALSE)","v":{"$error":"#REF!"}},{"$f":"VLOOKUP(BF25,H24:S25,8,FALSE)","v":{"$error":"#REF!"}},{"$f":"VLOOKUP(BF25,H24:S25,9,FALSE)","v":{"$error":"#REF!"}},null,null,{"$f":"IF(#REF!<>\"\",IF(#REF!>#REF!,#REF!,IF(#REF!>#REF!,#REF!,\"Empate\")),\"\")","v":{"$error":"#REF!"}},{"$f":"IF(#REF!<>\"\",IF(#REF!<#REF!,#REF!,IF(#REF!<#REF!,#REF!,\"Empate\")),\"\")","v":{"$error":"#REF!"}},null,null,null,null,"14º",null,null,{"$f":"IF(M28=M30,\"\",IF(M28>M30,I30,I28))","v":""},4,null,null,14]
[20,null,0,null,null,null,{"$f":"IF(ISBLANK(D25),\"\",SUM(IF(D26>D25,1,0)+(IF(E26>E25,1,0)+(IF(F26>F25,1,0)))))","v":""},null,{"$f":"IF(I25=FALSE,\"\",I25)","v":""},null,null,null,{"$f":"IF(ISBLANK(J24),\"\",SUM(IF(J26>J24,1,0)+(IF(K26>K24,1,0)+(IF(L26>L24,1,0)))))","v":""},null,null,null,null,null,null,null,{"$f":"IF(S25=S29,IF(O25=\"Bye\",O29,IF(O29=\"Bye\",O29)),(IF(ISBLANK(P25),\"\",IF(S25>S29,O25,O29))))","v":false},null,null,null,null,"P30",{"$f":"IF(Y22=Y24,IF(U22=\"Bye\",U24,IF(U24=\"Bye\",U22)),(IF(ISBLANK(V22),\"\",IF(Y22>Y24,U24,U22))))","v":false},null,null,null,null,null,"CAMPEÃO",null,null,null,null,null,null,null,null,null,null,null,null,null,null,null,null,null,null,null,null,null,null,null,null,null,null,null,null,null,null,null,null,null,null,null,null,null,null,null,null,null,"15º",null,null,{"$f":"IF(M32=M34,\"\",IF(M32>M34,I34,I32))","v":""},4,null,null,15]
[21,null,0,null,null,null,{"$f":"IF(ISBLANK(D27),\"\",SUM(IF(D27>D28,1,0)+(IF(E27>E28,1,0)+(IF(F27>F28,1,0)))))","v":""},"P11",{"$f":"IF(G27=G28,IF(C27=\"Bye\",C28,IF(C28=\"Bye\",C27)),(IF(ISBLANK(D27),\"\",IF(G27>G28,C27,C28))))","v":false},null,null,null,null,"P22","(V11)",null,null,null,null,null,{"$f":"IF(U26=FALSE,\"\",U26)","v":""},null,null,null,{"$f":"IF(ISBLANK(V27),\"\",SUM(IF(V27>V35,1,0)+(IF(W27>W35,1,0)+(IF(X27>X35,1,0)))))","v":""},null,{"$f":"IF(AA26=FALSE,\"\",AA26)","v":""},null,null,null,null,null,null,null,null,null,null,null,null,null,null,null,null,null,null,null,null,null,null,null,null,null,null,null,null,null,null,null,null,null,null,null,null,null,null,null,null,null,{"$f":"IF(#REF!<>\"\",IF(#REF!>#REF!,#REF!,IF(#REF!>#REF!,#REF!,\"Empate\")),\"\")","v":{"$error":"#REF!"}},{"$f":"IF(#REF!<>\"\",IF(#REF!<#REF!,#REF!,IF(#REF!<#REF!,#REF!,\"Empate\")),\"\")","v":{"$error":"#REF!"}},null,null,null,null,"16º",null,null,{"$f":"IF(M36=M38,\"\",IF(M36>M38,I38,I36))","v":""},4,null,null,16]
[22,null,0,null,null,null,{"$f":"IF(ISBLANK(D27),\"\",SUM(IF(D28>D27,1,0)+(IF(E28>E27,1,0)+(IF(F28>F27,1,0)))))","v":""},null,{"$f":"IF(I27=FALSE,\"\",I27)","v":""},null,null,null,{"$f":"IF(ISBLANK(J28),\"\",SUM(IF(J28>J30,1,0)+(IF(K28>K30,1,0)+(IF(L28>L30,1,0)))))","v":""},null,{"$f":"IF(M28=M30,IF(I28=\"Bye\",I30,IF(I30=\"Bye\",I28)),(IF(ISBLANK(J28),\"\",IF(M28>M30,I28,I30))))","v":false},null,null,null,null,null,null,null,null,null,null,null,"4ºCLASSICADO",null,null,null,null,null,null,null,null,null,null,null,{"$f":"IF(AND(AK28=#REF!,#REF!>AL28),#REF!,AJ28)","v":{"$error":"#REF!"}},{"$f":"VLOOKUP(AM28,H28:S29,9,FALSE)","v":{"$error":"#REF!"}},{"$f":"VLOOKUP(AM28,H28:S29,8,FALSE)","v":{"$error":"#REF!"}},{"$f":"VLOOKUP(AM28,H28:S29,6,FALSE)","v":{"$error":"#REF!"}},{"$f":"IF(AND(AN28=#REF!,AO28=#REF!,#REF!>AP28),#REF!,AM28)","v":{"$error":"#REF!"}},{"$f":"VLOOKUP(AQ28,H28:S29,9,FALSE)","v":{"$error":"#REF!"}},{"$f":"VLOOKUP(AQ28,H28:S29,8,FALSE)","v":{"$error":"#REF!"}},{"$f":"VLOOKUP(AQ28,H28:S29,6,FALSE)","v":{"$error":"#REF!"}},{"$f":"IF(AND(AR28=AR29,AS28=AS29,AT29>AT28),AQ29,AQ28)","v":{"$error":"#REF!"}},{"$f":"VLOOKUP(AU28,H28:S29,9,FALSE)","v":{"$error":"#REF!"}},{"$f":"VLOOKUP(AU28,H28:S29,8,FALSE)","v":{"$error":"#REF!"}},{"$f":"VLOOKUP(AU28,H28:S29,6,FALSE)","v":{"$error":"#REF!"}},{"$f":"IF(AND(AV28=#REF!,AW28=#REF!,#REF!>AX28),#REF!,AU28)","v":{"$error":"#REF!"}},{"$f":"VLOOKUP(AY28,H28:S29,9,FALSE)","v":{"$error":"#REF!"}},{"$f":"VLOOKUP(AY28,H28:S29,8,FALSE)","v":{"$error":"#REF!"}},{"$f":"VLOOKUP(AY28,H28:S29,6,FALSE)","v":{"$error":"#REF!"}},null,null,null,{"$f":"AY28","v":{"$error":"#REF!"}},{"$f":"VLOOKUP(BF28,H28:S29,2,FALSE)","v":{"$error":"#REF!"}},{"$f":"VLOOKUP(BF28,H28:S29,3,FALSE)","v":{"$error":"#REF!"}},{"$f":"VLOOKUP(BF28,H28:S29,4,FALSE)","v":{"$error":"#REF!"}},{"$f":"VLOOKUP(BF28,H28:S29,5,FALSE)","v":{"$error":"#REF!"}},{"$f":"VLOOKUP(BF28,H28:S29,6,FALSE)","v":{"$error":"#REF!"}},{"$f":"VLOOKUP(BF28,H28:S29,7,FALSE)","v":{"$error":"#REF!"}},{"$f":"VLOOKUP(BF28,H28:S29,8,FALSE)","v":{"$error":"#REF!"}},{"$f":"VLOOKUP(BF28,H28:S29,9,FALSE)","v":{"$error":"#REF!"}},null,null,{"$f":"IF(#REF!<>\"\",IF(#REF!>#REF!,#REF!,IF(#REF!>#REF!,#REF!,\"Empate\")),\"\")","v":{"$error":"#REF!"}},{"$f":"IF(#REF!<>\"\",IF(#REF!<#REF!,#REF!,IF(#REF!<#REF!,#REF!,\"Empate\")),\"\")","v":{"$error":"#REF!"}},null,null,null,null,"17º",null,null,{"$f":"IF(G7=G8,\"\",IF(G7>G8,C8,C7))","v":""},2,null,null,17]
[23,null,0,null,null,null,{"$f":"IF(ISBLANK(D29),\"\",SUM(IF(D29>D30,1,0)+(IF(E29>E30,1,0)+(IF(F29>F30,1,0)))))","v":""},"P12",{"$f":"IF(G29=G30,IF(C29=\"Bye\",C30,IF(C30=\"Bye\",C29)),(IF(ISBLANK(D29),\"\",IF(G29>G30,C29,C30))))","v":false},null,"(V6)",null,null,null,{"$f":"IF(O28=FALSE,\"\",O28)","v":""},null,null,null,{"$f":"IF(ISBLANK(P29),\"\",SUM(IF(P29>P25,1,0)+(IF(Q29>Q25,1,0)+(IF(R29>R25,1,0)))))","v":""},null,null,null,null,null,null,null,null,null,null,null,null,null,null,null,null,null,null,null,{"$f":"IF(AND(#REF!=AK29,AL29>#REF!),#REF!,AJ29)","v":{"$error":"#REF!"}},{"$f":"VLOOKUP(AM29,H28:S29,9,FALSE)","v":{"$error":"#REF!"}},{"$f":"VLOOKUP(AM29,H28:S29,8,FALSE)","v":{"$error":"#REF!"}},{"$f":"VLOOKUP(AM29,H28:S29,6,FALSE)","v":{"$error":"#REF!"}},{"$f":"IF(AND(AN29=#REF!,AO29=#REF!,#REF!>AP29),#REF!,AM29)","v":{"$error":"#REF!"}},{"$f":"VLOOKUP(AQ29,H28:S29,9,FALSE)","v":{"$error":"#REF!"}},{"$f":"VLOOKUP(AQ29,H28:S29,8,FALSE)","v":{"$error":"#REF!"}},{"$f":"VLOOKUP(AQ29,H28:S29,6,FALSE)","v":{"$error":"#REF!"}},{"$f":"IF(AND(AR28=AR29,AS28=AS29,#REF!>AT28),AQ28,AQ29)","v":{"$error":"#REF!"}},{"$f":"VLOOKUP(AU29,H28:S29,9,FALSE)","v":{"$error":"#REF!"}},{"$f":"VLOOKUP(AU29,H28:S29,8,FALSE)","v":{"$error":"#REF!"}},{"$f":"VLOOKUP(AU29,H28:S29,6,FALSE)","v":{"$error":"#REF!"}},{"$f":"IF(AND(#REF!=AV29,#REF!=AW29,AX29>#REF!),#REF!,AU29)","v":{"$error":"#REF!"}},{"$f":"VLOOKUP(AY29,H28:S29,9,FALSE)","v":{"$error":"#REF!"}},{"$f":"VLOOKUP(AY29,H28:S29,8,FALSE)","v":{"$error":"#REF!"}},{"$f":"VLOOKUP(AY29,H28:S29,6,FALSE)","v":{"$error":"#REF!"}},null,null,null,{"$f":"AY29","v":{"$error":"#REF!"}},{"$f":"VLOOKUP(BF29,H28:S29,2,FALSE)","v":{"$error":"#REF!"}},{"$f":"VLOOKUP(BF29,H28:S29,3,FALSE)","v":{"$error":"#REF!"}},{"$f":"VLOOKUP(BF29,H28:S29,4,FALSE)","v":{"$error":"#REF!"}},{"$f":"VLOOKUP(BF29,H28:S29,5,FALSE)","v":{"$error":"#REF!"}},{"$f":"VLOOKUP(BF29,H28:S29,6,FALSE)","v":{"$error":"#REF!"}},{"$f":"VLOOKUP(BF29,H28:S29,7,FALSE)","v":{"$error":"#REF!"}},{"$f":"VLOOKUP(BF29,H28:S29,8,FALSE)","v":{"$error":"#REF!"}},{"$f":"VLOOKUP(BF29,H28:S29,9,FALSE)","v":{"$error":"#REF!"}},null,null,{"$f":"IF(#REF!<>\"\",IF(#REF!>#REF!,#REF!,IF(#REF!>#REF!,#REF!,\"Empate\")),\"\")","v":{"$error":"#REF!"}},{"$f":"IF(#REF!<>\"\",IF(#REF!<#REF!,#REF!,IF(#REF!<#REF!,#REF!,\"Empate\")),\"\")","v":{"$error":"#REF!"}},null,null,null,null,"18º",null,null,{"$f":"IF(G9=G10,\"\",IF(G9>G10,C10,C9))","v":""},2,null,null,18]
[24,null,0,null,null,null,{"$f":"IF(ISBLANK(D29),\"\",SUM(IF(D30>D29,1,0)+(IF(E30>E29,1,0)+(IF(F30>F29,1,0)))))","v":""},null,{"$f":"IF(I29=FALSE,\"\",I29)","v":""},null,null,null,{"$f":"IF(ISBLANK(J28),\"\",SUM(IF(J30>J28,1,0)+(IF(K30>K28,1,0)+(IF(L30>L28,1,0)))))","v":""},null,null,null,null,null,null,null,null,null,null,null,null,null,{"$f":"IF(Y27=Y35,IF(U27=\"Bye\",U35,IF(U35=\"Bye\",U35)),(IF(ISBLANK(V27),\"\",IF(Y27>Y35,U27,U35))))","v":false},null,null,null,null,null,null,null,null,null,null,null,null,null,null,null,null,null,null,null,null,null,null,null,null,null,null,null,null,null,null,null,null,null,null,null,null,null,null,null,null,null,null,null,null,null,null,null,"19º",null,null,{"$f":"IF(G11=G12,\"\",IF(G11>G12,C12,C11))","v":""},2,null,null,19]
[25,null,0,null,null,null,{"$f":"IF(ISBLANK(D31),\"\",SUM(IF(D31>D32,1,0)+(IF(E31>E32,1,0)+(IF(F31>F32,1,0)))))","v":""},"P13",{"$f":"IF(G31=G32,IF(C31=\"Bye\",C32,IF(C32=\"Bye\",C31)),(IF(ISBLANK(D31),\"\",IF(G31>G32,C31,C32))))","v":false},null,null,null,null,"P23",null,null,null,null,null,null,"(V14)",null,null,null,null,null,{"$f":"IF(AA30=FALSE,\"\",AA30)","v":""},null,null,null,{"$f":"IF(ISBLANK(AB31),\"\",SUM(IF(AB31>AB15,1,0)+(IF(AC31>AC15,1,0)+(IF(AD31>AD15,1,0)))))","v":""},null,null,null,null,null,null,null,null,null,null,null,null,null,null,null,null,null,null,null,null,null,null,null,null,null,null,null,null,null,null,null,null,null,null,null,null,null,{"$f":"IF(#REF!<>\"\",IF(#REF!>#REF!,#REF!,IF(#REF!>#REF!,#REF!,\"Empate\")),\"\")","v":{"$error":"#REF!"}},{"$f":"IF(#REF!<>\"\",IF(#REF!<#REF!,#REF!,IF(#REF!<#REF!,#REF!,\"Empate\")),\"\")","v":{"$error":"#REF!"}},null,null,null,null,"20º",null,null,{"$f":"IF(G13=G14,\"\",IF(G13>G14,C14,C13))","v":""},2,null,null,20]
[26,null,0,null,null,null,{"$f":"IF(ISBLANK(D31),\"\",SUM(IF(D32>D31,1,0)+(IF(E32>E31,1,0)+(IF(F32>F31,1,0)))))","v":""},null,{"$f":"IF(I31=FALSE,\"\",I31)","v":""},null,null,null,{"$f":"IF(ISBLANK(J32),\"\",SUM(IF(J32>J34,1,0)+(IF(K32>K34,1,0)+(IF(L32>L34,1,0)))))","v":""},null,{"$f":"IF(M32=M34,IF(I32=\"Bye\",I34,IF(I34=\"Bye\",I32)),(IF(ISBLANK(J32),\"\",IF(M32>M34,I32,I34))))","v":false},null,null,null,null,"P28",null,null,null,null,null,null,null,null,null,null,null,null,null,null,null,null,null,null,{"$f":"IF(AND(AK32=#REF!,#REF!>AL32),#REF!,AJ32)","v":{"$error":"#REF!"}},{"$f":"VLOOKUP(AM32,H32:S33,9,FALSE)","v":{"$error":"#REF!"}},{"$f":"VLOOKUP(AM32,H32:S33,8,FALSE)","v":{"$error":"#REF!"}},{"$f":"VLOOKUP(AM32,H32:S33,6,FALSE)","v":{"$error":"#REF!"}},{"$f":"IF(AND(AN32=#REF!,AO32=#REF!,#REF!>AP32),#REF!,AM32)","v":{"$error":"#REF!"}},{"$f":"VLOOKUP(AQ32,H32:S33,9,FALSE)","v":{"$error":"#REF!"}},{"$f":"VLOOKUP(AQ32,H32:S33,8,FALSE)","v":{"$error":"#REF!"}},{"$f":"VLOOKUP(AQ32,H32:S33,6,FALSE)","v":{"$error":"#REF!"}},{"$f":"IF(AND(AR32=AR33,AS32=AS33,AT33>AT32),AQ33,AQ32)","v":{"$error":"#REF!"}},{"$f":"VLOOKUP(AU32,H32:S33,9,FALSE)","v":{"$error":"#REF!"}},{"$f":"VLOOKUP(AU32,H32:S33,8,FALSE)","v":{"$error":"#REF!"}},{"$f":"VLOOKUP(AU32,H32:S33,6,FALSE)","v":{"$error":"#REF!"}},{"$f":"IF(AND(AV32=#REF!,AW32=#REF!,#REF!>AX32),#REF!,AU32)","v":{"$error":"#REF!"}},{"$f":"VLOOKUP(AY32,H32:S33,9,FALSE)","v":{"$error":"#REF!"}},{"$f":"VLOOKUP(AY32,H32:S33,8,FALSE)","v":{"$error":"#REF!"}},{"$f":"VLOOKUP(AY32,H32:S33,6,FALSE)","v":{"$error":"#REF!"}},null,null,null,{"$f":"AY32","v":{"$error":"#REF!"}},{"$f":"VLOOKUP(BF32,H32:S33,2,FALSE)","v":{"$error":"#REF!"}},{"$f":"VLOOKUP(BF32,H32:S33,3,FALSE)","v":{"$error":"#REF!"}},{"$f":"VLOOKUP(BF32,H32:S33,4,FALSE)","v":{"$error":"#REF!"}},{"$f":"VLOOKUP(BF32,H32:S33,5,FALSE)","v":{"$error":"#REF!"}},{"$f":"VLOOKUP(BF32,H32:S33,6,FALSE)","v":{"$error":"#REF!"}},{"$f":"VLOOKUP(BF32,H32:S33,7,FALSE)","v":{"$error":"#REF!"}},{"$f":"VLOOKUP(BF32,H32:S33,8,FALSE)","v":{"$error":"#REF!"}},{"$f":"VLOOKUP(BF32,H32:S33,9,FALSE)","v":{"$error":"#REF!"}},null,null,{"$f":"IF(#REF!<>\"\",IF(#REF!>#REF!,#REF!,IF(#REF!>#REF!,#REF!,\"Empate\")),\"\")","v":{"$error":"#REF!"}},{"$f":"IF(#REF!<>\"\",IF(#REF!<#REF!,#REF!,IF(#REF!<#REF!,#REF!,\"Empate\")),\"\")","v":{"$error":"#REF!"}},null,null,null,null,"21º",null,null,{"$f":"IF(G15=G16,\"\",IF(G15>G16,C16,C15))","v":""},2,null,null,21]
[27,null,0,null,null,null,{"$f":"IF(ISBLANK(D33),\"\",SUM(IF(D33>D34,1,0)+(IF(E33>E34,1,0)+(IF(F33>F34,1,0)))))","v":""},"P14",{"$f":"IF(G33=G34,IF(C33=\"Bye\",C34,IF(C34=\"Bye\",C33)),(IF(ISBLANK(D33),\"\",IF(G33>G34,C33,C34))))","v":false},null,"(V7)",null,null,null,{"$f":"IF(O32=FALSE,\"\",O32)","v":""},null,null,null,{"$f":"IF(ISBLANK(P33),\"\",SUM(IF(P33>P37,1,0)+(IF(Q33>Q37,1,0)+(IF(R33>R37,1,0)))))","v":""},null,null,null,null,null,null,null,null,null,null,null,null,null,null,null,null,null,null,null,{"$f":"IF(AND(#REF!=AK33,AL33>#REF!),#REF!,AJ33)","v":{"$error":"#REF!"}},{"$f":"VLOOKUP(AM33,H32:S33,9,FALSE)","v":{"$error":"#REF!"}},{"$f":"VLOOKUP(AM33,H32:S33,8,FALSE)","v":{"$error":"#REF!"}},{"$f":"VLOOKUP(AM33,H32:S33,6,FALSE)","v":{"$error":"#REF!"}},{"$f":"IF(AND(AN33=#REF!,AO33=#REF!,#REF!>AP33),#REF!,AM33)","v":{"$error":"#REF!"}},{"$f":"VLOOKUP(AQ33,H32:S33,9,FALSE)","v":{"$error":"#REF!"}},{"$f":"VLOOKUP(AQ33,H32:S33,8,FALSE)","v":{"$error":"#REF!"}},{"$f":"VLOOKUP(AQ33,H32:S33,6,FALSE)","v":{"$error":"#REF!"}},{"$f":"IF(AND(AR32=AR33,AS32=AS33,#REF!>AT32),AQ32,AQ33)","v":{"$error":"#REF!"}},{"$f":"VLOOKUP(AU33,H32:S33,9,FALSE)","v":{"$error":"#REF!"}},{"$f":"VLOOKUP(AU33,H32:S33,8,FALSE)","v":{"$error":"#REF!"}},{"$f":"VLOOKUP(AU33,H32:S33,6,FALSE)","v":{"$error":"#REF!"}},{"$f":"IF(AND(#REF!=AV33,#REF!=AW33,AX33>#REF!),#REF!,AU33)","v":{"$error":"#REF!"}},{"$f":"VLOOKUP(AY33,H32:S33,9,FALSE)","v":{"$error":"#REF!"}},{"$f":"VLOOKUP(AY33,H32:S33,8,FALSE)","v":{"$error":"#REF!"}},{"$f":"VLOOKUP(AY33,H32:S33,6,FALSE)","v":{"$error":"#REF!"}},null,null,null,{"$f":"AY33","v":{"$error":"#REF!"}},{"$f":"VLOOKUP(BF33,H32:S33,2,FALSE)","v":{"$error":"#REF!"}},{"$f":"VLOOKUP(BF33,H32:S33,3,FALSE)","v":{"$error":"#REF!"}},{"$f":"VLOOKUP(BF33,H32:S33,4,FALSE)","v":{"$error":"#REF!"}},{"$f":"VLOOKUP(BF33,H32:S33,5,FALSE)","v":{"$error":"#REF!"}},{"$f":"VLOOKUP(BF33,H32:S33,6,FALSE)","v":{"$error":"#REF!"}},{"$f":"VLOOKUP(BF33,H32:S33,7,FALSE)","v":{"$error":"#REF!"}},{"$f":"VLOOKUP(BF33,H32:S33,8,FALSE)","v":{"$error":"#REF!"}},{"$f":"VLOOKUP(BF33,H32:S33,9,FALSE)","v":{"$error":"#REF!"}},null,null,{"$f":"IF(#REF!<>\"\",IF(#REF!>#REF!,#REF!,IF(#REF!>#REF!,#REF!,\"Empate\")),\"\")","v":{"$error":"#REF!"}},{"$f":"IF(#REF!<>\"\",IF(#REF!<#REF!,#REF!,IF(#REF!<#REF!,#REF!,\"Empate\")),\"\")","v":{"$error":"#REF!"}},null,null,null,null,"22º",null,null,{"$f":"IF(G17=G18,\"\",IF(G17>G18,C18,C17))","v":""},2,null,null,22]
[28,null,0,null,null,null,{"$f":"IF(ISBLANK(D33),\"\",SUM(IF(D34>D33,1,0)+(IF(E34>E33,1,0)+(IF(F34>F33,1,0)))))","v":""},null,{"$f":"IF(I33=FALSE,\"\",I33)","v":""},null,null,null,{"$f":"IF(ISBLANK(J32),\"\",SUM(IF(J34>J32,1,0)+(IF(K34>K32,1,0)+(IF(L34>L32,1,0)))))","v":""},null,null,null,null,null,null,null,{"$f":"IF(S33=S37,IF(O33=\"Bye\",O37,IF(O37=\"Bye\",O37)),(IF(ISBLANK(P33),\"\",IF(S33>S37,O33,O37))))","v":false},null,null,null,null,null,null,null,null,null,null,null,null,null,null,null,null,null,null,null,null,null,null,null,null,null,null,null,null,null,null,null,null,null,null,null,null,null,null,null,null,null,null,null,null,null,null,null,null,null,null,null,null,null,"23º",null,null,{"$f":"IF(G19=G20,\"\",IF(G19>G20,C20,C19))","v":""},2,null,null,23]
[29,null,0,null,null,null,{"$f":"IF(ISBLANK(D35),\"\",SUM(IF(D35>D36,1,0)+(IF(E35>E36,1,0)+(IF(F35>F36,1,0)))))","v":""},"P15",{"$f":"IF(G35=G36,IF(C35=\"Bye\",C36,IF(C36=\"Bye\",C35)),(IF(ISBLANK(D35),\"\",IF(G35>G36,C35,C36))))","v":false},null,null,null,null,"P24","(V12)",null,null,null,null,null,{"$f":"IF(U34=FALSE,\"\",U34)","v":""},null,null,null,{"$f":"IF(ISBLANK(V35),\"\",SUM(IF(V35>V27,1,0)+(IF(W35>W27,1,0)+(IF(X35>X27,1,0)))))","v":""},null,null,null,null,null,null,null,null,null,null,null,null,null,null,null,null,null,null,null,null,null,null,null,null,null,null,null,null,null,null,null,null,null,null,null,null,null,null,null,null,null,null,null,{"$f":"IF(#REF!<>\"\",IF(#REF!>#REF!,#REF!,IF(#REF!>#REF!,#REF!,\"Empate\")),\"\")","v":{"$error":"#REF!"}},{"$f":"IF(#REF!<>\"\",IF(#REF!<#REF!,#REF!,IF(#REF!<#REF!,#REF!,\"Empate\")),\"\")","v":{"$error":"#REF!"}},null,null,null,null,"24º",null,null,{"$f":"IF(G21=G22,\"\",IF(G21>G22,C22,C21))","v":""},2,null,null,24]
[30,null,0,null,null,null,{"$f":"IF(ISBLANK(D35),\"\",SUM(IF(D36>D35,1,0)+(IF(E36>E35,1,0)+(IF(F36>F35,1,0)))))","v":""},null,{"$f":"IF(I35=FALSE,\"\",I35)","v":""},null,null,null,{"$f":"IF(ISBLANK(J36),\"\",SUM(IF(J36>J38,1,0)+(IF(K36>K38,1,0)+(IF(L36>L38,1,0)))))","v":""},null,{"$f":"IF(M36=M38,IF(I36=\"Bye\",I38,IF(I38=\"Bye\",I36)),(IF(ISBLANK(J36),\"\",IF(M36>M38,I36,I38))))","v":false},null,null,null,null,null,null,null,null,null,null,null,null,null,null,null,null,null,null,null,null,null,null,null,{"$f":"IF(AND(AK36=#REF!,#REF!>AL36),#REF!,AJ36)","v":{"$error":"#REF!"}},{"$f":"VLOOKUP(AM36,H36:S37,9,FALSE)","v":{"$error":"#REF!"}},{"$f":"VLOOKUP(AM36,H36:S37,8,FALSE)","v":{"$error":"#REF!"}},{"$f":"VLOOKUP(AM36,H36:S37,6,FALSE)","v":{"$error":"#REF!"}},{"$f":"IF(AND(AN36=#REF!,AO36=#REF!,#REF!>AP36),#REF!,AM36)","v":{"$error":"#REF!"}},{"$f":"VLOOKUP(AQ36,H36:S37,9,FALSE)","v":{"$error":"#REF!"}},{"$f":"VLOOKUP(AQ36,H36:S37,8,FALSE)","v":{"$error":"#REF!"}},{"$f":"VLOOKUP(AQ36,H36:S37,6,FALSE)","v":{"$error":"#REF!"}},{"$f":"IF(AND(AR36=AR37,AS36=AS37,AT37>AT36),AQ37,AQ36)","v":{"$error":"#REF!"}},{"$f":"VLOOKUP(AU36,H36:S37,9,FALSE)","v":{"$error":"#REF!"}},{"$f":"VLOOKUP(AU36,H36:S37,8,FALSE)","v":{"$error":"#REF!"}},{"$f":"VLOOKUP(AU36,H36:S37,6,FALSE)","v":{"$error":"#REF!"}},{"$f":"IF(AND(AV36=#REF!,AW36=#REF!,#REF!>AX36),#REF!,AU36)","v":{"$error":"#REF!"}},{"$f":"VLOOKUP(AY36,H36:S37,9,FALSE)","v":{"$error":"#REF!"}},{"$f":"VLOOKUP(AY36,H36:S37,8,FALSE)","v":{"$error":"#REF!"}},{"$f":"VLOOKUP(AY36,H36:S37,6,FALSE)","v":{"$error":"#REF!"}},null,null,null,{"$f":"AY36","v":{"$error":"#REF!"}},{"$f":"VLOOKUP(BF36,H36:S37,2,FALSE)","v":{"$error":"#REF!"}},{"$f":"VLOOKUP(BF36,H36:S37,3,FALSE)","v":{"$error":"#REF!"}},{"$f":"VLOOKUP(BF36,H36:S37,4,FALSE)","v":{"$error":"#REF!"}},{"$f":"VLOOKUP(BF36,H36:S37,5,FALSE)","v":{"$error":"#REF!"}},{"$f":"VLOOKUP(BF36,H36:S37,6,FALSE)","v":{"$error":"#REF!"}},{"$f":"VLOOKUP(BF36,H36:S37,7,FALSE)","v":{"$error":"#REF!"}},{"$f":"VLOOKUP(BF36,H36:S37,8,FALSE)","v":{"$error":"#REF!"}},{"$f":"VLOOKUP(BF36,H36:S37,9,FALSE)","v":{"$error":"#REF!"}},null,null,{"$f":"IF(#REF!<>\"\",IF(#REF!>#REF!,#REF!,IF(#REF!>#REF!,#REF!,\"Empate\")),\"\")","v":{"$error":"#REF!"}},{"$f":"IF(#REF!<>\"\",IF(#REF!<#REF!,#REF!,IF(#REF!<#REF!,#REF!,\"Empate\")),\"\")","v":{"$error":"#REF!"}},null,null,null,null,"25º",null,null,{"$f":"IF(G23=G24,\"\",IF(G23>G24,C24,C23))","v":""},1,null,null,25]
[31,null,0,null,null,null,{"$f":"IF(ISBLANK(D37),\"\",SUM(IF(D37>D38,1,0)+(IF(E37>E38,1,0)+(IF(F37>F38,1,0)))))","v":""},"P16",{"$f":"IF(G37=G38,IF(C37=\"Bye\",C38,IF(C38=\"Bye\",C37)),(IF(ISBLANK(D37),\"\",IF(G37>G38,C37,C38))))","v":false},null,"(V8)",null,null,null,{"$f":"IF(O36=FALSE,\"\",O36)","v":""},null,null,null,{"$f":"IF(ISBLANK(P37),\"\",SUM(IF(P37>P33,1,0)+(IF(Q37>Q33,1,0)+(IF(R37>R33,1,0)))))","v":""},null,null,null,null,null,null,null,null,null,null,null,null,null,null,null,null,null,null,null,{"$f":"IF(AND(#REF!=AK37,AL37>#REF!),#REF!,AJ37)","v":{"$error":"#REF!"}},{"$f":"VLOOKUP(AM37,H36:S37,9,FALSE)","v":{"$error":"#REF!"}},{"$f":"VLOOKUP(AM37,H36:S37,8,FALSE)","v":{"$error":"#REF!"}},{"$f":"VLOOKUP(AM37,H36:S37,6,FALSE)","v":{"$error":"#REF!"}},{"$f":"IF(AND(AN37=#REF!,AO37=#REF!,#REF!>AP37),#REF!,AM37)","v":{"$error":"#REF!"}},{"$f":"VLOOKUP(AQ37,H36:S37,9,FALSE)","v":{"$error":"#REF!"}},{"$f":"VLOOKUP(AQ37,H36:S37,8,FALSE)","v":{"$error":"#REF!"}},{"$f":"VLOOKUP(AQ37,H36:S37,6,FALSE)","v":{"$error":"#REF!"}},{"$f":"IF(AND(AR36=AR37,AS36=AS37,#REF!>AT36),AQ36,AQ37)","v":{"$error":"#REF!"}},{"$f":"VLOOKUP(AU37,H36:S37,9,FALSE)","v":{"$error":"#REF!"}},{"$f":"VLOOKUP(AU37,H36:S37,8,FALSE)","v":{"$error":"#REF!"}},{"$f":"VLOOKUP(AU37,H36:S37,6,FALSE)","v":{"$error":"#REF!"}},{"$f":"IF(AND(#REF!=AV37,#REF!=AW37,AX37>#REF!),#REF!,AU37)","v":{"$error":"#REF!"}},{"$f":"VLOOKUP(AY37,H36:S37,9,FALSE)","v":{"$error":"#REF!"}},{"$f":"VLOOKUP(AY37,H36:S37,8,FALSE)","v":{"$error":"#REF!"}},{"$f":"VLOOKUP(AY37,H36:S37,6,FALSE)","v":{"$error":"#REF!"}},null,null,null,{"$f":"AY37","v":{"$error":"#REF!"}},{"$f":"VLOOKUP(BF37,H36:S37,2,FALSE)","v":{"$error":"#REF!"}},{"$f":"VLOOKUP(BF37,H36:S37,3,FALSE)","v":{"$error":"#REF!"}},{"$f":"VLOOKUP(BF37,H36:S37,4,FALSE)","v":{"$error":"#REF!"}},{"$f":"VLOOKUP(BF37,H36:S37,5,FALSE)","v":{"$error":"#REF!"}},{"$f":"VLOOKUP(BF37,H36:S37,6,FALSE)","v":{"$error":"#REF!"}},{"$f":"VLOOKUP(BF37,H36:S37,7,FALSE)","v":{"$error":"#REF!"}},{"$f":"VLOOKUP(BF37,H36:S37,8,FALSE)","v":{"$error":"#REF!"}},{"$f":"VLOOKUP(BF37,H36:S37,9,FALSE)","v":{"$error":"#REF!"}},null,null,{"$f":"IF(#REF!<>\"\",IF(#REF!>#REF!,#REF!,IF(#REF!>#REF!,#REF!,\"Empate\")),\"\")","v":{"$error":"#REF!"}},{"$f":"IF(#REF!<>\"\",IF(#REF!<#REF!,#REF!,IF(#REF!<#REF!,#REF!,\"Empate\")),\"\")","v":{"$error":"#REF!"}},null,null,null,null,"26º",null,null,{"$f":"IF(G25=G26,\"\",IF(G25>G26,C26,C25))","v":""},1,null,null,26]
[32,null,0,null,null,null,{"$f":"IF(ISBLANK(D37),\"\",SUM(IF(D38>D37,1,0)+(IF(E38>E37,1,0)+(IF(F38>F37,1,0)))))","v":""},null,{"$f":"IF(I37=FALSE,\"\",I37)","v":""},null,null,null,{"$f":"IF(ISBLANK(J36),\"\",SUM(IF(J38>J36,1,0)+(IF(K38>K36,1,0)+(IF(L38>L36,1,0)))))","v":""},null,null,null,null,null,null,null,null,null,null,null,null,null,null,null,null,null,null,null,null,null,null,null,null,null,null,null,null,null,null,null,null,null,null,null,null,null,null,null,null,null,null,null,null,null,null,null,null,null,null,null,null,null,null,null,null,null,null,null,null,null,"27º",null,null,{"$f":"IF(G27=G28,\"\",IF(G27>G28,C28,C27))","v":""},1,null,null,27]
[null,null,null,null,null,null,null,null,null,null,null,null,null,null,null,null,null,null,null,null,null,null,null,null,null,null,null,null,null,null,null,null,null,null,null,null,null,null,null,null,null,null,null,null,null,null,null,null,null,null,null,null,null,null,null,null,null,null,null,null,null,null,null,null,null,null,null,null,null,null,null,null,null,null,"28º",null,null,{"$f":"IF(G29=G30,\"\",IF(G29>G30,C30,C29))","v":""},1,null,null,28]
[null,null,null,null,null,null,null,null,null,null,null,null,null,null,null,null,null,null,null,null,null,null,null,null,null,null,null,null,null,null,null,null,null,null,null,null,null,null,null,null,null,null,null,null,null,null,null,null,null,null,null,null,null,null,null,null,null,null,null,null,null,null,null,null,null,null,null,null,null,null,null,null,null,null,"29º",null,null,{"$f":"IF(G31=G32,\"\",IF(G31>G32,C32,C31))","v":""},1,null,null,29]
[null,null,null,null,null,null,null,null,null,null,null,null,null,null,null,null,null,null,null,null,null,null,null,null,null,null,null,null,null,null,null,null,null,null,null,null,null,null,null,null,null,null,null,null,null,null,null,null,null,null,null,null,null,null,null,null,null,null,null,null,null,null,null,null,null,null,null,null,null,null,null,null,null,null,"30º",null,null,{"$f":"IF(G33=G34,\"\",IF(G33>G34,C34,C33))","v":""},1,null,null,30]
[null,null,null,null,null,null,null,null,null,null,null,null,null,null,null,null,null,null,null,null,null,null,null,null,null,null,null,null,null,null,null,null,null,null,null,null,null,null,null,null,null,null,null,null,null,null,null,null,null,null,null,null,null,null,null,null,null,null,null,null,null,null,null,null,null,null,null,null,null,null,null,null,null,null,"31º",null,null,{"$f":"IF(G35=G36,\"\",IF(G35>G36,C36,C35))","v":""},1,null,null,31]
[null,null,null,null,null,null,null,null,null,null,null,null,null,null,null,null,null,null,null,null,null,null,null,null,null,null,null,null,null,null,null,null,null,null,null,null,null,null,null,null,null,null,null,null,null,null,null,null,null,null,null,null,null,null,null,null,null,null,null,null,null,null,null,null,null,null,null,null,null,null,null,null,null,null,"32º",null,null,{"$f":"IF(G37=G38,\"\",IF(G37>G38,C38,C37))","v":""},1,null,null,32]
[]
[]
[]
[]
[]
[]
[]
[]
[]
[]
[]
[]
[]
[]
[]
[]
[]
[]
[]
[]
[]
[]
[]
[]
[]
[]
[]
[]
[]
[]
[]
[]
[]
[]
[]
[]
[]
[]
[]
[]
[]
[]
[]
[]
[null,null,null,null,null,null,null,null,null,null,null,null,null,null,null,null,null,null,null,null,null,null,null,null,null,null,null,null,null,null,null,null,null,null,null,null,null,null,null,null,null,null,null,null,null,null,null,null,null,null,null,null,null,null,null,null,null,null,null,null,null,null,null,null,null,null,null,null,null,null,null,null,null,null,null,null,null,{"$f":"IF(BU2>0,#REF!,\"\")","v":""}]

{"sheet":"ELIMINAÇÃODIRETAQ64","index":3,"n_rows":75,"n_cols":117,"rows_kept":75,"cut":false,"hidden":true,"merged":[[0,27,0,33],[1,9,1,18],[6,1,6,2],[6,8,7,8],[7,1,7,2],[8,1,8,2],[8,8,9,8],[9,1,9,2],[9,75,9,80],[10,1,10,2],[10,8,11,8],[10,15,10,19],[10,75,10,77],[10,79,10,80],[11,1,11,2],[14,109,15,109],[15,1,15,2],[15,75,15,77],[15,79,15,80],[11,75,11,77],[11,79,11,80],[12,1,12,2],[12,8,13,8],[12,75,12,77],[12,79,12,80],[13,1,13,2],[13,75,13,77],[13,79,13,80],[16,1,16,2],[16,8,17,8],[16,75,16,77],[16,79,16,80],[17,1,17,2],[17,75,17,77],[17,79,17,80],[14,1,14,2],[14,8,15,8],[14,21,14,25],[14,75,14,77],[14,79,14,80],[20,1,20,2],[20,8,21,8],[20,75,20,77],[20,79,20,80],[21,1,21,2],[21,75,21,77],[21,79,21,80],[18,1,18,2],[18,8,19,8],[18,15,18,19],[18,75,18,77],[18,79,18,80],[19,1,19,2],[19,75,19,77],[19,79,19,80],[24,1,24,2],[24,8,25,8],[24,75,24,77],[24,79,24,80],[25,1,25,2],[25,27,25,30],[25,75,25,77],[25,79,25,80],[22,1,22,2],[22,8,23,8],[22,27,22,31],[22,75,22,77],[22,79,22,80],[23,1,23,2],[23,75,23,77],[23,79,23,80],[28,1,28,2],[28,8,29,8],[28,75,28,77],[28,79,28,80],[29,1,29,2],[29,75,29,77],[29,79,29,80],[26,1,26,2],[26,8,27,8],[26,15,26,19],[26,75,26,77],[26,79,26,80],[27,1,27,2],[27,75,27,77],[27,79,27,80],[32,1,32,2],[32,8,33,8],[32,75,32,77],[32,79,32,80],[33,1,33,2],[33,75,33,77],[33,79,33,80],[30,1,30,2],[30,8,31,8],[30,21,30,25],[30,75,30,77],[30,79,30,80],[31,1,31,2],[31,75,31,77],[31,79,31,80],[36,1,36,2],[36,8,37,8],[36,27,36,31],[36,75,36,77],[36,79,36,80],[37,1,37,2],[37,75,37,77],[37,79,37,80],[34,1,34,2],[34,8,35,8],[34,15,34,19],[34,75,34,77],[34,79,34,80],[35,1,35,2],[35,75,35,77],[35,79,35,80],[38,1,38,2],[38,8,39,8],[38,27,38,30],[38,33,38,37],[38,75,38,77],[38,79,38,80],[39,1,39,2],[39,27,39,30],[39,33,39,37],[39,75,39,77],[39,79,39,80],[40,1,40,2],[40,8,41,8],[40,75,40,77],[40,79,40,80],[41,1,41,2],[41,27,41,30],[41,75,41,77],[41,79,41,80],[42,1,42,2],[42,8,43,8],[42,15,42,19],[42,27,42,30],[42,75,42,77],[42,79,42,80],[43,1,43,2],[43,75,43,77],[43,79,43,80],[46,1,46,2],[46,8,47,8],[46,21,46,25],[46,75,46,77],[46,79,46,80],[47,1,47,2],[47,75,47,77],[47,79,47,80],[44,1,44,2],[44,8,45,8],[44,75,44,77],[44,79,44,80],[45,1,45,2],[45,75,45,77],[45,79,45,80],[50,1,50,2],[50,8,51,8],[50,15,50,19],[50,75,50,77],[50,79,50,80],[51,1,51,2],[51,75,51,77],[51,79,51,80],[48,1,48,2],[48,8,49,8],[48,75,48,77],[48,79,48,80],[49,1,49,2],[49,75,49,77],[49,79,49,80],[54,1,54,2],[54,8,55,8],[54,27,54,31],[54,75,54,77],[54,79,54,80],[55,1,55,2],[55,75,55,77],[55,79,55,80],[52,1,52,2],[52,8,53,8],[52,75,52,77],[52,79,52,80],[53,1,53,2],[53,75,53,77],[53,79,53,80],[58,1,58,2],[58,8,59,8],[58,15,58,19],[58,75,58,77],[58,79,58,80],[59,1,59,2],[59,75,59,77],[59,79,59,80],[56,1,56,2],[56,8,57,8],[56,75,56,77],[56,79,56,80],[57,1,57,2],[57,75,57,77],[57,79,57,80],[62,1,62,2],[62,8,63,8],[62,21,62,25],[62,75,62,77],[62,79,62,80],[63,1,63,2],[63,75,63,77],[63,79,63,80],[60,1,60,2],[60,8,61,8],[60,75,60,77],[60,79,60,80],[61,1,61,2],[61,75,61,77],[61,79,61,80],[67,1,67,2],[67,75,67,77],[67,79,67,80],[64,1,64,2],[64,8,65,8],[64,75,64,77],[64,79,64,80],[65,1,65,2],[65,75,65,77],[65,79,65,80],[73,75,73,77],[73,79,73,80],[74,75,74,77],[74,79,74,80],[3,0,3,1],[3,2,3,7],[70,75,70,77],[70,79,70,80],[71,75,71,77],[71,79,71,80],[72,75,72,77],[72,79,72,80],[68,1,68,2],[68,8,69,8],[68,75,68,77],[68,79,68,80],[69,1,69,2],[69,75,69,77],[69,79,69,80],[66,1,66,2],[66,8,67,8],[66,15,66,19],[66,75,66,77],[66,79,66,80]]}
[null,null,null,null,null,null,null,null,null,"Direcção Regional de Educação do Algarve",null,null,null,null,null,null,null,null,null,null,null,null,null,null,null,null,null,{"$f":"\"Escola: \"&'[1]Ficha de Inscrição'!$D$4","v":"Escola: EB23 Dr A.C. Contreiras"}]
[null,null,null,null,null,null,null,null,null,{"$f":"\"Ano Lectivo \"&[1]Apoio!$F$10","v":"Ano Lectivo 2016/2017"},null,null,null,null,null,null,null,null,null,null,null,null,null,null,null,null,null,null,null,null,null,null,null,null,null,null,null,null,null,null,null,null,null,null,null,null,null,null,null,null,null,null,null,null,null,null,null,null,null,null,null,null,null,null,null,null,null,null,null,null,null,null,null,{"$f":"SUM(BV4:BV21)","v":0}]
[null,null,null,null,null,null,null,null,null,null,null,null,null,null,null,null,null,null,null,null,null,null,null,null,null,null,null,null,null,null,null,null,null,null,null,null,null,null,null,null,null,null,null,null,null,null,null,null,null,null,null,null,null,null,null,null,null,null,null,null,null,null,null,null,null,null,null,null,null,null,null,null,null,{"$f":"SUM(BV4:BV21)","v":0}]
["PH-Juv",null,{"$f":"LOOKUP(A4,Apoio!N9:N39,Apoio!O9:O39)","v":"Pares Homens - Juvenis"},null,null,null,null,null,null,null,null,null,null,null,null,null,null,null,null,null,null,null,null,null,null,null,null,null,null,null,null,null,null,null,null,null,null,null,null,null,null,null,null,null,null,null,null,null,null,null,null,null,null,null,null,null,null,null,null,null,null,null,null,null,null,null,null,null,null,null,null,null,null,{"$f":"IF(ISBLANK(#REF!),COUNTA(CG13:$CG$28),0)","v":0}]
[null,null,null,null,null,null,null,null,null,null,null,null,null,null,null,null,null,null,null,null,null,null,null,null,null,null,null,null,null,null,null,null,null,null,null,null,null,null,null,null,null,null,null,null,null,null,null,null,null,null,null,null,null,null,null,null,null,null,null,null,null,null,null,null,null,null,null,null,null,null,null,null,null,{"$f":"IF(ISBLANK(CG13),COUNTA(CG14:$CG$28),0)","v":0}]
[null,null,null,null,null,null,null,null,null,null,null,null,null,null,null,null,null,null,null,null,null,null,null,null,null,null,null,null,null,null,null,null,null,null,null,null,null,null,null,"Ordenar p/ DG 3",null,null,null,"Ordenar p/ GM 1",null,null,null,"Ordenar p/ GM 2",null,null,null,"Ordenar p/ GM 3",null,null,null,null,null,null,null,null,null,null,null,null,null,null,null,null,null,"Vencedores","Derrotados",null,null,{"$f":"IF(ISBLANK(#REF!),COUNTA(CG14:$CG$28),0)","v":0}]
[null,1,null,{"$f":"CG12","v":0},null,null,null,{"$f":"IF(ISBLANK(E7),\"\",SUM(IF(E7>E8,1,0)+(IF(F7>F8,1,0)+(IF(G7>G8,1,0)))))","v":""},"P1",{"$f":"IF(H7=H8,IF(D7=\"Bye\",D8,IF(D8=\"Bye\",D7)),(IF(ISBLANK(E7),\"\",IF(H7>H8,D7,D8))))","v":false},null,null,null,"P33",null,null,null,null,null,null,null,null,null,null,null,null,null,null,null,null,null,null,null,null,null,null,null,null,null,null,null,null,null,null,null,null,null,null,null,null,null,null,null,null,null,null,null,null,null,null,null,null,null,null,null,null,null,null,null,{"$f":"IF(#REF!<>\"\",IF(#REF!>#REF!,#REF!,IF(#REF!>#REF!,#REF!,\"Empate\")),\"\")","v":{"$error":"#REF!"}},{"$f":"IF(#REF!<>\"\",IF(#REF!<#REF!,#REF!,IF(#REF!<#REF!,#REF!,\"Empate\")),\"\")","v":{"$error":"#REF!"}},null,null,{"$f":"IF(ISBLANK(CG14),COUNTA(CG15:$CG$28),0)","v":0}]
[null,2,null,0,null,null,null,{"$f":"IF(ISBLANK(E7),\"\",SUM(IF(E8>E7,1,0)+(IF(F8>F7,1,0)+(IF(G8>G7,1,0)))))","v":""},null,{"$f":"IF(J7=FALSE,\"\",J7)","v":""},null,null,null,{"$f":"IF(ISBLANK(K8),\"\",SUM(IF(K8>K10,1,0)+(IF(L8>L10,1,0)+(IF(M8>M10,1,0)))))","v":""},null,{"$f":"IF(N8=N10,IF(J8=\"Bye\",J10,IF(J10=\"Bye\",J8)),(IF(ISBLANK(K8),\"\",IF(N8>N10,J8,J10))))","v":false},null,null,null,"P49"]
[null,3,null,0,null,null,null,{"$f":"IF(ISBLANK(E9),\"\",SUM(IF(E9>E10,1,0)+(IF(F9>F10,1,0)+(IF(G9>G10,1,0)))))","v":""},"P2",{"$f":"IF(H9=H10,IF(D9=\"Bye\",D10,IF(D10=\"Bye\",D9)),(IF(ISBLANK(E9),\"\",IF(H9>H10,D9,D10))))","v":false},null,"(V2)",null,null,null,{"$f":"IF(P8=FALSE,\"\",P8)","v":""},null,null,null,{"$f":"IF(ISBLANK(Q9),\"\",SUM(IF(Q9>Q13,1,0)+(IF(R9>R13,1,0)+(IF(S9>S13,1,0)))))","v":""},null,null,null,null,null,null,null,null,null,null,null,null,null,null,null,null,null,null,null,{"$f":"IF(AND(#REF!=AL9,AM9>#REF!),#REF!,AK9)","v":{"$error":"#REF!"}},{"$f":"VLOOKUP(AN9,I8:T9,9,FALSE)","v":{"$error":"#REF!"}},{"$f":"VLOOKUP(AN9,I8:T9,8,FALSE)","v":{"$error":"#REF!"}},{"$f":"VLOOKUP(AN9,I8:T9,6,FALSE)","v":{"$error":"#REF!"}},{"$f":"IF(AND(AO9=#REF!,AP9=#REF!,#REF!>AQ9),#REF!,AN9)","v":{"$error":"#REF!"}},{"$f":"VLOOKUP(AR9,I8:T9,9,FALSE)","v":{"$error":"#REF!"}},{"$f":"VLOOKUP(AR9,I8:T9,8,FALSE)","v":{"$error":"#REF!"}},{"$f":"VLOOKUP(AR9,I8:T9,6,FALSE)","v":{"$error":"#REF!"}},{"$f":"IF(AND(AS8=AS9,AT8=AT9,#REF!>AU8),AR8,AR9)","v":{"$error":"#REF!"}},{"$f":"VLOOKUP(AV9,I8:T9,9,FALSE)","v":{"$error":"#REF!"}},{"$f":"VLOOKUP(AV9,I8:T9,8,FALSE)","v":{"$error":"#REF!"}},{"$f":"VLOOKUP(AV9,I8:T9,6,FALSE)","v":{"$error":"#REF!"}},{"$f":"IF(AND(#REF!=AW9,#REF!=AX9,AY9>#REF!),#REF!,AV9)","v":{"$error":"#REF!"}},{"$f":"VLOOKUP(AZ9,I8:T9,9,FALSE)","v":{"$error":"#REF!"}},{"$f":"VLOOKUP(AZ9,I8:T9,8,FALSE)","v":{"$error":"#REF!"}},{"$f":"VLOOKUP(AZ9,I8:T9,6,FALSE)","v":{"$error":"#REF!"}},null,null,null,{"$f":"AZ9","v":{"$error":"#REF!"}},{"$f":"VLOOKUP(BG9,I8:T9,2,FALSE)","v":{"$error":"#REF!"}},{"$f":"VLOOKUP(BG9,I8:T9,3,FALSE)","v":{"$error":"#REF!"}},{"$f":"VLOOKUP(BG9,I8:T9,4,FALSE)","v":{"$error":"#REF!"}},{"$f":"VLOOKUP(BG9,I8:T9,5,FALSE)","v":{"$error":"#REF!"}},{"$f":"VLOOKUP(BG9,I8:T9,6,FALSE)","v":{"$error":"#REF!"}},{"$f":"VLOOKUP(BG9,I8:T9,7,FALSE)","v":{"$error":"#REF!"}},{"$f":"VLOOKUP(BG9,I8:T9,8,FALSE)","v":{"$error":"#REF!"}},{"$f":"VLOOKUP(BG9,I8:T9,9,FALSE)","v":{"$error":"#REF!"}},null,null,{"$f":"IF(#REF!<>\"\",IF(#REF!>#REF!,#REF!,IF(#REF!>#REF!,#REF!,\"Empate\")),\"\")","v":{"$error":"#REF!"}},{"$f":"IF(#REF!<>\"\",IF(#REF!<#REF!,#REF!,IF(#REF!<#REF!,#REF!,\"Empate\")),\"\")","v":{"$error":"#REF!"}},null,null,{"$f":"IF(ISBLANK(CG16),COUNTA(CG17:$CG$28),0)","v":0},null,null,null,null,null,null,null,null,null,null,null,null,null,null,null,null,null,null,null,null,null,null,null,null,null,null,null,null,null,null,null,null,null,null,null,"PROCV($EU$12;$AE$9:$AI$13;2;FALSO)"]
[null,4,null,0,null,null,null,{"$f":"IF(ISBLANK(E9),\"\",SUM(IF(E10>E9,1,0)+(IF(F10>F9,1,0)+(IF(G10>G9,1,0)))))","v":""},null,{"$f":"IF(J9=FALSE,\"\",J9)","v":""},null,null,null,{"$f":"IF(ISBLANK(K8),\"\",SUM(IF(K10>K8,1,0)+(IF(L10>L8,1,0)+(IF(M10>M8,1,0)))))","v":""},null,null,null,null,null,null,null,{"$f":"IF(T9=T13,IF(P9=\"Bye\",P13,IF(P13=\"Bye\",P13)),(IF(ISBLANK(Q9),\"\",IF(T9>T13,P9,P13))))","v":false},null,null,null,"P57",null,null,null,null,null,null,null,null,null,null,null,null,null,null,null,null,null,null,null,null,null,null,null,null,null,null,null,null,null,null,null,null,null,null,null,null,null,null,null,null,null,null,null,null,null,null,null,{"$f":"IF(ISBLANK(CG17),COUNTA(CG18:$CG$28),0)","v":0},null,"Classificação"]
[null,5,null,0,null,null,null,{"$f":"IF(ISBLANK(E11),\"\",SUM(IF(E11>E12,1,0)+(IF(F11>F12,1,0)+(IF(G11>G12,1,0)))))","v":""},"P3",{"$f":"IF(H11=H12,IF(D11=\"Bye\",D12,IF(D12=\"Bye\",D11)),(IF(ISBLANK(E11),\"\",IF(H11>H12,D11,D12))))","v":false},null,null,null,"P34",null,"(V18)",null,null,null,null,null,{"$f":"IF(V10=FALSE,\"\",V10)","v":""},null,null,null,{"$f":"IF(ISBLANK(W11),\"\",SUM(IF(W11>W19,1,0)+(IF(X11>X19,1,0)+(IF(Y11>Y19,1,0)))))","v":""},null,null,null,null,null,null,null,null,null,null,null,null,null,null,null,null,null,null,null,null,null,null,null,null,null,null,null,null,null,null,null,null,null,null,null,null,null,null,null,null,null,null,null,{"$f":"IF(#REF!<>\"\",IF(#REF!>#REF!,#REF!,IF(#REF!>#REF!,#REF!,\"Empate\")),\"\")","v":{"$error":"#REF!"}},{"$f":"IF(#REF!<>\"\",IF(#REF!<#REF!,#REF!,IF(#REF!<#REF!,#REF!,\"Empate\")),\"\")","v":{"$error":"#REF!"}},null,null,{"$f":"IF(ISBLANK(CG18),COUNTA(CG19:$CG$28),0)","v":0},null,"NºJ",null,null,"Nome","Pts",null,null,"Ordem","Nº","Nome (1º e último)","Escola","Abv.","Ano Nasc.","Escalão","Sexo","Observações","Insc. Prova",null,null,"VENCIDO (P49)","PM","PS","DIF","VENCIDO (P50)","PM","PM","DIF","VENCIDO (P51)","PM","PS","DIF","VENCIDO (P52)","PM","PM","DIF","VENCIDO (P49)",null,null,null,null,null,"PAULO JORGE NOBRE DOS SANTOS ÁGUAS"]
[null,6,null,0,null,null,null,{"$f":"IF(ISBLANK(E11),\"\",SUM(IF(E12>E11,1,0)+(IF(F12>F11,1,0)+(IF(G12>G11,1,0)))))","v":""},null,{"$f":"IF(J11=FALSE,\"\",J11)","v":""},null,null,null,{"$f":"IF(ISBLANK(K12),\"\",SUM(IF(K12>K14,1,0)+(IF(L12>L14,1,0)+(IF(M12>M14,1,0)))))","v":""},null,{"$f":"IF(N12=N14,IF(J12=\"Bye\",J14,IF(J14=\"Bye\",J12)),(IF(ISBLANK(K12),\"\",IF(N12>N14,J12,J14))))","v":false},null,null,null,null,null,null,null,null,null,null,null,null,null,null,null,null,null,null,null,null,null,null,null,{"$f":"IF(AND(AL12=#REF!,#REF!>AM12),#REF!,AK12)","v":{"$error":"#REF!"}},{"$f":"VLOOKUP(AN12,I12:T13,9,FALSE)","v":{"$error":"#REF!"}},{"$f":"VLOOKUP(AN12,I12:T13,8,FALSE)","v":{"$error":"#REF!"}},{"$f":"VLOOKUP(AN12,I12:T13,6,FALSE)","v":{"$error":"#REF!"}},{"$f":"IF(AND(AO12=#REF!,AP12=#REF!,#REF!>AQ12),#REF!,AN12)","v":{"$error":"#REF!"}},{"$f":"VLOOKUP(AR12,I12:T13,9,FALSE)","v":{"$error":"#REF!"}},{"$f":"VLOOKUP(AR12,I12:T13,8,FALSE)","v":{"$error":"#REF!"}},{"$f":"VLOOKUP(AR12,I12:T13,6,FALSE)","v":{"$error":"#REF!"}},{"$f":"IF(AND(AS12=AS13,AT12=AT13,AU13>AU12),AR13,AR12)","v":{"$error":"#REF!"}},{"$f":"VLOOKUP(AV12,I12:T13,9,FALSE)","v":{"$error":"#REF!"}},{"$f":"VLOOKUP(AV12,I12:T13,8,FALSE)","v":{"$error":"#REF!"}},{"$f":"VLOOKUP(AV12,I12:T13,6,FALSE)","v":{"$error":"#REF!"}},{"$f":"IF(AND(AW12=#REF!,AX12=#REF!,#REF!>AY12),#REF!,AV12)","v":{"$error":"#REF!"}},{"$f":"VLOOKUP(AZ12,I12:T13,9,FALSE)","v":{"$error":"#REF!"}},{"$f":"VLOOKUP(AZ12,I12:T13,8,FALSE)","v":{"$error":"#REF!"}},{"$f":"VLOOKUP(AZ12,I12:T13,6,FALSE)","v":{"$error":"#REF!"}},null,null,null,{"$f":"AZ12","v":{"$error":"#REF!"}},{"$f":"VLOOKUP(BG12,I12:T13,2,FALSE)","v":{"$error":"#REF!"}},{"$f":"VLOOKUP(BG12,I12:T13,3,FALSE)","v":{"$error":"#REF!"}},{"$f":"VLOOKUP(BG12,I12:T13,4,FALSE)","v":{"$error":"#REF!"}},{"$f":"VLOOKUP(BG12,I12:T13,5,FALSE)","v":{"$error":"#REF!"}},{"$f":"VLOOKUP(BG12,I12:T13,6,FALSE)","v":{"$error":"#REF!"}},{"$f":"VLOOKUP(BG12,I12:T13,7,FALSE)","v":{"$error":"#REF!"}},{"$f":"VLOOKUP(BG12,I12:T13,8,FALSE)","v":{"$error":"#REF!"}},{"$f":"VLOOKUP(BG12,I12:T13,9,FALSE)","v":{"$error":"#REF!"}},null,null,{"$f":"IF(#REF!<>\"\",IF(#REF!>#REF!,#REF!,IF(#REF!>#REF!,#REF!,\"Empate\")),\"\")","v":{"$error":"#REF!"}},{"$f":"IF(#REF!<>\"\",IF(#REF!<#REF!,#REF!,IF(#REF!<#REF!,#REF!,\"Empate\")),\"\")","v":{"$error":"#REF!"}},null,null,{"$f":"IF(ISBLANK(CG19),COUNTA(CG20:$CG$28),0)","v":0},null,"1º",null,null,{"$f":"$AH$39","v":""},12,null,null,1,null,null,null,null,null,null,null,null,null,null,null,null,{"$f":"VLOOKUP($CQ$12,#REF!,2,FALSE)","v":{"$error":"#REF!"}},null,null,null,null,null,null,null,null,null,null,null,null,null,"PROCV($FK$12;;2;FALSO)",{"$f":"IF(#REF!=#REF!,IF(#REF!=\"Bye\",#REF!,IF(#REF!=\"Bye\",#REF!)),(IF(ISBLANK(#REF!),\"\",IF(#REF!>#REF!,#REF!,#REF!))))","v":{"$error":"#REF!"}}]
[null,7,null,0,null,null,null,{"$f":"IF(ISBLANK(E13),\"\",SUM(IF(E13>E14,1,0)+(IF(F13>F14,1,0)+(IF(G13>G14,1,0)))))","v":""},"P4",{"$f":"IF(H13=H14,IF(D13=\"Bye\",D14,IF(D14=\"Bye\",D13)),(IF(ISBLANK(E13),\"\",IF(H13>H14,D13,D14))))","v":false},null,"(V1)",null,null,null,{"$f":"IF(P12=FALSE,\"\",P12)","v":""},null,null,null,{"$f":"IF(ISBLANK(Q13),\"\",SUM(IF(Q13>Q9,1,0)+(IF(R13>R9,1,0)+(IF(S13>S9,1,0)))))","v":""},null,null,null,null,null,null,null,null,null,null,null,null,null,null,null,null,null,null,null,{"$f":"IF(AND(#REF!=AL13,AM13>#REF!),#REF!,AK13)","v":{"$error":"#REF!"}},{"$f":"VLOOKUP(AN13,I12:T13,9,FALSE)","v":{"$error":"#REF!"}},{"$f":"VLOOKUP(AN13,I12:T13,8,FALSE)","v":{"$error":"#REF!"}},{"$f":"VLOOKUP(AN13,I12:T13,6,FALSE)","v":{"$error":"#REF!"}},{"$f":"IF(AND(AO13=#REF!,AP13=#REF!,#REF!>AQ13),#REF!,AN13)","v":{"$error":"#REF!"}},{"$f":"VLOOKUP(AR13,I12:T13,9,FALSE)","v":{"$error":"#REF!"}},{"$f":"VLOOKUP(AR13,I12:T13,8,FALSE)","v":{"$error":"#REF!"}},{"$f":"VLOOKUP(AR13,I12:T13,6,FALSE)","v":{"$error":"#REF!"}},{"$f":"IF(AND(AS12=AS13,AT12=AT13,#REF!>AU12),AR12,AR13)","v":{"$error":"#REF!"}},{"$f":"VLOOKUP(AV13,I12:T13,9,FALSE)","v":{"$error":"#REF!"}},{"$f":"VLOOKUP(AV13,I12:T13,8,FALSE)","v":{"$error":"#REF!"}},{"$f":"VLOOKUP(AV13,I12:T13,6,FALSE)","v":{"$error":"#REF!"}},{"$f":"IF(AND(#REF!=AW13,#REF!=AX13,AY13>#REF!),#REF!,AV13)","v":{"$error":"#REF!"}},{"$f":"VLOOKUP(AZ13,I12:T13,9,FALSE)","v":{"$error":"#REF!"}},{"$f":"VLOOKUP(AZ13,I12:T13,8,FALSE)","v":{"$error":"#REF!"}},{"$f":"VLOOKUP(AZ13,I12:T13,6,FALSE)","v":{"$error":"#REF!"}},null,null,null,{"$f":"AZ13","v":{"$error":"#REF!"}},{"$f":"VLOOKUP(BG13,I12:T13,2,FALSE)","v":{"$error":"#REF!"}},{"$f":"VLOOKUP(BG13,I12:T13,3,FALSE)","v":{"$error":"#REF!"}},{"$f":"VLOOKUP(BG13,I12:T13,4,FALSE)","v":{"$error":"#REF!"}},{"$f":"VLOOKUP(BG13,I12:T13,5,FALSE)","v":{"$error":"#REF!"}},{"$f":"VLOOKUP(BG13,I12:T13,6,FALSE)","v":{"$error":"#REF!"}},{"$f":"VLOOKUP(BG13,I12:T13,7,FALSE)","v":{"$error":"#REF!"}},{"$f":"VLOOKUP(BG13,I12:T13,8,FALSE)","v":{"$error":"#REF!"}},{"$f":"VLOOKUP(BG13,I12:T13,9,FALSE)","v":{"$error":"#REF!"}},null,null,{"$f":"IF(#REF!<>\"\",IF(#REF!>#REF!,#REF!,IF(#REF!>#REF!,#REF!,\"Empate\")),\"\")","v":{"$error":"#REF!"}},{"$f":"IF(#REF!<>\"\",IF(#REF!<#REF!,#REF!,IF(#REF!<#REF!,#REF!,\"Empate\")),\"\")","v":{"$error":"#REF!"}},null,null,{"$f":"IF(ISBLANK(CG20),COUNTA(CG21:$CG$28),0)","v":0},null,"2º",null,null,{"$f":"IF($CA$12=$AH$23,$AH$55,$AH$23)","v":""},11,null,null,2]
[null,8,null,0,null,null,null,{"$f":"IF(ISBLANK(E13),\"\",SUM(IF(E14>E13,1,0)+(IF(F14>F13,1,0)+(IF(G14>G13,1,0)))))","v":""},null,{"$f":"IF(J13=FALSE,\"\",J13)","v":""},null,null,null,{"$f":"IF(ISBLANK(K12),\"\",SUM(IF(K14>K12,1,0)+(IF(L14>L12,1,0)+(IF(M14>M12,1,0)))))","v":""},null,null,null,null,null,null,null,null,null,null,null,null,null,{"$f":"IF(Z11=Z19,IF(V11=\"Bye\",V19,IF(V19=\"Bye\",V19)),(IF(ISBLANK(W11),\"\",IF(Z11>Z19,V11,V19))))","v":false},null,null,null,"P61",null,null,null,null,null,null,null,null,null,null,null,null,null,null,null,null,null,null,null,null,null,null,null,null,null,null,null,null,null,null,null,null,null,null,null,null,null,null,null,null,null,{"$f":"IF(ISBLANK(CG21),COUNTA(CG22:$CG$28),0)","v":0},null,"3º",null,null,{"$f":"$AB$39","v":""},10,null,null,3,null,null,null,null,null,null,null,null,null,null,null,null,null,null,null,null,null,null,null,null,null,null,null,null,null,null,null,null,null,null,null,"PM","PS","DIF"]
[null,9,null,0,null,null,null,{"$f":"IF(ISBLANK(E15),\"\",SUM(IF(E15>E16,1,0)+(IF(F15>F16,1,0)+(IF(G15>G16,1,0)))))","v":""},"P5",{"$f":"IF(H15=H16,IF(D15=\"Bye\",D16,IF(D16=\"Bye\",D15)),(IF(ISBLANK(E15),\"\",IF(H15>H16,D15,D16))))","v":false},null,null,null,"P35",null,null,null,null,null,null,null,"(V26)",null,null,null,null,null,{"$f":"IF(AB14=FALSE,\"\",AB14)","v":""},null,null,null,{"$f":"IF(ISBLANK(AC15),\"\",SUM(IF(AC15>AC31,1,0)+(IF(AD15>AD31,1,0)+(IF(AE15>AE31,1,0)))))","v":""},null,null,null,null,null,null,null,null,null,null,null,null,null,null,null,null,null,null,null,null,null,null,null,null,null,null,null,null,null,null,null,null,null,null,null,null,null,{"$f":"IF(#REF!<>\"\",IF(#REF!>#REF!,#REF!,IF(#REF!>#REF!,#REF!,\"Empate\")),\"\")","v":{"$error":"#REF!"}},{"$f":"IF(#REF!<>\"\",IF(#REF!<#REF!,#REF!,IF(#REF!<#REF!,#REF!,\"Empate\")),\"\")","v":{"$error":"#REF!"}},null,null,{"$f":"IF(ISBLANK(CG22),COUNTA(CG23:$CG$28),0)","v":0},null,"4º",null,null,{"$f":"$AB$42","v":""},9,null,null,4,null,null,null,null,null,null,null,null,null,null,null,null,"p49",null,null,null,null,null,null,null,null,null,null,null,null,null,{"$f":"IF(#REF!=#REF!,IF(#REF!=\"Bye\",#REF!,IF(#REF!=\"Bye\",#REF!)),(IF(ISBLANK(#REF!),\"\",IF(#REF!>#REF!,#REF!,#REF!))))","v":{"$error":"#REF!"}},{"$f":"#REF!","v":{"$error":"#REF!"}},{"$f":"#REF!","v":{"$error":"#REF!"}},{"$f":"#REF!","v":{"$error":"#REF!"}},{"$f":"#REF!","v":{"$error":"#REF!"}},{"$f":"DH15+DI15+DJ15","v":{"$error":"#REF!"}},{"$f":"DH16+DI16+DJ16","v":{"$error":"#REF!"}},{"$f":"DK15-DL15","v":{"$error":"#REF!"}}]
[null,10,null,0,null,null,null,{"$f":"IF(ISBLANK(E15),\"\",SUM(IF(E16>E15,1,0)+(IF(F16>F15,1,0)+(IF(G16>G15,1,0)))))","v":""},null,{"$f":"IF(J15=FALSE,\"\",J15)","v":""},null,null,null,{"$f":"IF(ISBLANK(K16),\"\",SUM(IF(K16>K18,1,0)+(IF(L16>L18,1,0)+(IF(M16>M18,1,0)))))","v":""},null,{"$f":"IF(N16=N18,IF(J16=\"Bye\",J18,IF(J18=\"Bye\",J16)),(IF(ISBLANK(K16),\"\",IF(N16>N18,J16,J18))))","v":false},null,null,null,"P50",null,null,null,null,null,null,null,null,null,null,null,null,null,null,null,null,null,null,null,{"$f":"IF(AND(AL16=#REF!,#REF!>AM16),#REF!,AK16)","v":{"$error":"#REF!"}},{"$f":"VLOOKUP(AN16,I16:T17,9,FALSE)","v":{"$error":"#REF!"}},{"$f":"VLOOKUP(AN16,I16:T17,8,FALSE)","v":{"$error":"#REF!"}},{"$f":"VLOOKUP(AN16,I16:T17,6,FALSE)","v":{"$error":"#REF!"}},{"$f":"IF(AND(AO16=#REF!,AP16=#REF!,#REF!>AQ16),#REF!,AN16)","v":{"$error":"#REF!"}},{"$f":"VLOOKUP(AR16,I16:T17,9,FALSE)","v":{"$error":"#REF!"}},{"$f":"VLOOKUP(AR16,I16:T17,8,FALSE)","v":{"$error":"#REF!"}},{"$f":"VLOOKUP(AR16,I16:T17,6,FALSE)","v":{"$error":"#REF!"}},{"$f":"IF(AND(AS16=AS17,AT16=AT17,AU17>AU16),AR17,AR16)","v":{"$error":"#REF!"}},{"$f":"VLOOKUP(AV16,I16:T17,9,FALSE)","v":{"$error":"#REF!"}},{"$f":"VLOOKUP(AV16,I16:T17,8,FALSE)","v":{"$error":"#REF!"}},{"$f":"VLOOKUP(AV16,I16:T17,6,FALSE)","v":{"$error":"#REF!"}},{"$f":"IF(AND(AW16=#REF!,AX16=#REF!,#REF!>AY16),#REF!,AV16)","v":{"$error":"#REF!"}},{"$f":"VLOOKUP(AZ16,I16:T17,9,FALSE)","v":{"$error":"#REF!"}},{"$f":"VLOOKUP(AZ16,I16:T17,8,FALSE)","v":{"$error":"#REF!"}},{"$f":"VLOOKUP(AZ16,I16:T17,6,FALSE)","v":{"$error":"#REF!"}},null,null,null,{"$f":"AZ16","v":{"$error":"#REF!"}},{"$f":"VLOOKUP(BG16,I16:T17,2,FALSE)","v":{"$error":"#REF!"}},{"$f":"VLOOKUP(BG16,I16:T17,3,FALSE)","v":{"$error":"#REF!"}},{"$f":"VLOOKUP(BG16,I16:T17,4,FALSE)","v":{"$error":"#REF!"}},{"$f":"VLOOKUP(BG16,I16:T17,5,FALSE)","v":{"$error":"#REF!"}},{"$f":"VLOOKUP(BG16,I16:T17,6,FALSE)","v":{"$error":"#REF!"}},{"$f":"VLOOKUP(BG16,I16:T17,7,FALSE)","v":{"$error":"#REF!"}},{"$f":"VLOOKUP(BG16,I16:T17,8,FALSE)","v":{"$error":"#REF!"}},{"$f":"VLOOKUP(BG16,I16:T17,9,FALSE)","v":{"$error":"#REF!"}},null,null,{"$f":"IF(#REF!<>\"\",IF(#REF!>#REF!,#REF!,IF(#REF!>#REF!,#REF!,\"Empate\")),\"\")","v":{"$error":"#REF!"}},{"$f":"IF(#REF!<>\"\",IF(#REF!<#REF!,#REF!,IF(#REF!<#REF!,#REF!,\"Empate\")),\"\")","v":{"$error":"#REF!"}},null,null,{"$f":"IF(ISBLANK(CG23),COUNTA(CG24:$CG$28),0)","v":0},null,"5º",null,null,{"$f":"IF($Z$11=$Z$19,\"\",IF($Z$11>$Z$19,$V$19,$V$11))","v":""},8,null,null,5,null,null,null,null,null,null,null,null,null,null,null,null,null,null,null,null,null,null,null,null,null,null,null,null,null,null,null,{"$f":"#REF!","v":{"$error":"#REF!"}},{"$f":"#REF!","v":{"$error":"#REF!"}},{"$f":"#REF!","v":{"$error":"#REF!"}},{"$f":"#REF!","v":{"$error":"#REF!"}},{"$error":"#REF!"},{"$f":"DH15+DI15+DJ15","v":{"$error":"#REF!"}},{"$error":"#REF!"}]
[null,11,null,0,null,null,null,{"$f":"IF(ISBLANK(E17),\"\",SUM(IF(E17>E18,1,0)+(IF(F17>F18,1,0)+(IF(G17>G18,1,0)))))","v":""},"P6",{"$f":"IF(H17=H18,IF(D17=\"Bye\",D18,IF(D18=\"Bye\",D17)),(IF(ISBLANK(E17),\"\",IF(H17>H18,D17,D18))))","v":false},null,"(V4)",null,null,null,{"$f":"IF(P16=FALSE,\"\",P16)","v":""},null,null,null,{"$f":"IF(ISBLANK(Q17),\"\",SUM(IF(Q17>Q21,1,0)+(IF(R17>R21,1,0)+(IF(S17>S21,1,0)))))","v":""},null,null,null,null,null,null,null,null,null,null,null,null,null,null,null,null,null,null,null,{"$f":"IF(AND(#REF!=AL17,AM17>#REF!),#REF!,AK17)","v":{"$error":"#REF!"}},{"$f":"VLOOKUP(AN17,I16:T17,9,FALSE)","v":{"$error":"#REF!"}},{"$f":"VLOOKUP(AN17,I16:T17,8,FALSE)","v":{"$error":"#REF!"}},{"$f":"VLOOKUP(AN17,I16:T17,6,FALSE)","v":{"$error":"#REF!"}},{"$f":"IF(AND(AO17=#REF!,AP17=#REF!,#REF!>AQ17),#REF!,AN17)","v":{"$error":"#REF!"}},{"$f":"VLOOKUP(AR17,I16:T17,9,FALSE)","v":{"$error":"#REF!"}},{"$f":"VLOOKUP(AR17,I16:T17,8,FALSE)","v":{"$error":"#REF!"}},{"$f":"VLOOKUP(AR17,I16:T17,6,FALSE)","v":{"$error":"#REF!"}},{"$f":"IF(AND(AS16=AS17,AT16=AT17,#REF!>AU16),AR16,AR17)","v":{"$error":"#REF!"}},{"$f":"VLOOKUP(AV17,I16:T17,9,FALSE)","v":{"$error":"#REF!"}},{"$f":"VLOOKUP(AV17,I16:T17,8,FALSE)","v":{"$error":"#REF!"}},{"$f":"VLOOKUP(AV17,I16:T17,6,FALSE)","v":{"$error":"#REF!"}},{"$f":"IF(AND(#REF!=AW17,#REF!=AX17,AY17>#REF!),#REF!,AV17)","v":{"$error":"#REF!"}},{"$f":"VLOOKUP(AZ17,I16:T17,9,FALSE)","v":{"$error":"#REF!"}},{"$f":"VLOOKUP(AZ17,I16:T17,8,FALSE)","v":{"$error":"#REF!"}},{"$f":"VLOOKUP(AZ17,I16:T17,6,FALSE)","v":{"$error":"#REF!"}},null,null,null,{"$f":"AZ17","v":{"$error":"#REF!"}},{"$f":"VLOOKUP(BG17,I16:T17,2,FALSE)","v":{"$error":"#REF!"}},{"$f":"VLOOKUP(BG17,I16:T17,3,FALSE)","v":{"$error":"#REF!"}},{"$f":"VLOOKUP(BG17,I16:T17,4,FALSE)","v":{"$error":"#REF!"}},{"$f":"VLOOKUP(BG17,I16:T17,5,FALSE)","v":{"$error":"#REF!"}},{"$f":"VLOOKUP(BG17,I16:T17,6,FALSE)","v":{"$error":"#REF!"}},{"$f":"VLOOKUP(BG17,I16:T17,7,FALSE)","v":{"$error":"#REF!"}},{"$f":"VLOOKUP(BG17,I16:T17,8,FALSE)","v":{"$error":"#REF!"}},{"$f":"VLOOKUP(BG17,I16:T17,9,FALSE)","v":{"$error":"#REF!"}},null,null,{"$f":"IF(#REF!<>\"\",IF(#REF!>#REF!,#REF!,IF(#REF!>#REF!,#REF!,\"Empate\")),\"\")","v":{"$error":"#REF!"}},{"$f":"IF(#REF!<>\"\",IF(#REF!<#REF!,#REF!,IF(#REF!<#REF!,#REF!,\"Empate\")),\"\")","v":{"$error":"#REF!"}},null,null,{"$f":"IF(ISBLANK(#REF!),COUNTA(CG24:$CG$28),0)","v":0},null,"6º",null,null,{"$f":"IF($Z$27=$Z$35,\"\",IF($Z$27>$Z$35,$V$35,$V$27))","v":""},8,null,null,6,null,null,null,null,null,null,null,null,null,null,null,null,"P50",null,null,null,null,null,null,null,null,null,null,null,null,null,"P50",{"$f":"#REF!","v":{"$error":"#REF!"}},{"$f":"#REF!","v":{"$error":"#REF!"}},{"$f":"#REF!","v":{"$error":"#REF!"}},{"$f":"#REF!","v":{"$error":"#REF!"}},{"$error":"#REF!"},{"$f":"DH18+DI18+DJ18","v":{"$error":"#REF!"}},{"$error":"#REF!"}]
[null,12,null,0,null,null,null,{"$f":"IF(ISBLANK(E17),\"\",SUM(IF(E18>E17,1,0)+(IF(F18>F17,1,0)+(IF(G18>G17,1,0)))))","v":""},null,{"$f":"IF(J17=FALSE,\"\",J17)","v":""},null,null,null,{"$f":"IF(ISBLANK(K16),\"\",SUM(IF(K18>K16,1,0)+(IF(L18>L16,1,0)+(IF(M18>M16,1,0)))))","v":""},null,null,null,null,null,null,null,{"$f":"IF(T17=T21,IF(P17=\"Bye\",P21,IF(P21=\"Bye\",P21)),(IF(ISBLANK(Q17),\"\",IF(T17>T21,P17,P21))))","v":false},null,null,null,null,null,null,null,null,null,null,null,null,null,null,null,null,null,null,null,null,null,null,null,null,null,null,null,null,null,null,null,null,null,null,null,null,null,null,null,null,null,null,null,null,null,null,null,null,null,null,null,{"$f":"IF(ISBLANK(CG25),COUNTA(CG26:$CG$28),0)","v":0},null,"7º",null,null,{"$f":"IF($Z$43=$Z$51,\"\",IF($Z$43>$Z$51,$V$51,$V$43))","v":""},8,null,null,7,null,null,null,null,null,null,null,null,null,null,null,null,null,null,null,null,null,null,null,null,null,null,null,null,null,null,null,{"$f":"#REF!","v":{"$error":"#REF!"}},{"$f":"#REF!","v":{"$error":"#REF!"}},{"$f":"#REF!","v":{"$error":"#REF!"}},{"$f":"#REF!","v":{"$error":"#REF!"}},{"$error":"#REF!"},{"$f":"DH17+DI17+DJ17","v":{"$error":"#REF!"}},{"$error":"#REF!"}]
[null,13,null,0,null,null,null,{"$f":"IF(ISBLANK(E19),\"\",SUM(IF(E19>E20,1,0)+(IF(F19>F20,1,0)+(IF(G19>G20,1,0)))))","v":""},"P7",{"$f":"IF(H19=H20,IF(D19=\"Bye\",D20,IF(D20=\"Bye\",D19)),(IF(ISBLANK(E19),\"\",IF(H19>H20,D19,D20))))","v":false},null,null,null,"P36",null,"(V17)",null,null,null,null,null,{"$f":"IF(V18=FALSE,\"\",V18)","v":""},null,null,null,{"$f":"IF(ISBLANK(W19),\"\",SUM(IF(W19>W11,1,0)+(IF(X19>X11,1,0)+(IF(Y19>Y11,1,0)))))","v":""},null,null,null,null,null,null,null,null,null,null,null,null,null,null,null,null,null,null,null,null,null,null,null,null,null,null,null,null,null,null,null,null,null,null,null,null,null,null,null,null,null,null,null,{"$f":"IF(#REF!<>\"\",IF(#REF!>#REF!,#REF!,IF(#REF!>#REF!,#REF!,\"Empate\")),\"\")","v":{"$error":"#REF!"}},{"$f":"IF(#REF!<>\"\",IF(#REF!<#REF!,#REF!,IF(#REF!<#REF!,#REF!,\"Empate\")),\"\")","v":{"$error":"#REF!"}},null,null,{"$f":"IF(ISBLANK(CG26),COUNTA(CG27:$CG$28),0)","v":0},null,"8º",null,null,{"$f":"IF($Z$59=$Z$67,\"\",IF($Z$59>$Z$67,$V$67,$V$59))","v":""},8,null,null,8,null,null,null,null,null,null,null,null,null,null,null,null,"P51",null,null,null,null,null,null,null,null,null,null,null,null,null,"P51",{"$f":"#REF!","v":{"$error":"#REF!"}},{"$f":"#REF!","v":{"$error":"#REF!"}},{"$f":"#REF!","v":{"$error":"#REF!"}},{"$f":"#REF!","v":{"$error":"#REF!"}},{"$error":"#REF!"},{"$f":"DH20+DI20+DJ20","v":{"$error":"#REF!"}},{"$error":"#REF!"}]
[null,14,null,0,null,null,null,{"$f":"IF(ISBLANK(E19),\"\",SUM(IF(E20>E19,1,0)+(IF(F20>F19,1,0)+(IF(G20>G19,1,0)))))","v":""},null,{"$f":"IF(J19=FALSE,\"\",J19)","v":""},null,null,null,{"$f":"IF(ISBLANK(K20),\"\",SUM(IF(K20>K22,1,0)+(IF(L20>L22,1,0)+(IF(M20>M22,1,0)))))","v":""},null,{"$f":"IF(N20=N22,IF(J20=\"Bye\",J22,IF(J22=\"Bye\",J20)),(IF(ISBLANK(K20),\"\",IF(N20>N22,J20,J22))))","v":false},null,null,null,null,null,null,null,null,null,null,null,null,null,null,null,null,null,null,null,null,null,null,null,{"$f":"IF(AND(AL20=#REF!,#REF!>AM20),#REF!,AK20)","v":{"$error":"#REF!"}},{"$f":"VLOOKUP(AN20,I20:T21,9,FALSE)","v":{"$error":"#REF!"}},{"$f":"VLOOKUP(AN20,I20:T21,8,FALSE)","v":{"$error":"#REF!"}},{"$f":"VLOOKUP(AN20,I20:T21,6,FALSE)","v":{"$error":"#REF!"}},{"$f":"IF(AND(AO20=#REF!,AP20=#REF!,#REF!>AQ20),#REF!,AN20)","v":{"$error":"#REF!"}},{"$f":"VLOOKUP(AR20,I20:T21,9,FALSE)","v":{"$error":"#REF!"}},{"$f":"VLOOKUP(AR20,I20:T21,8,FALSE)","v":{"$error":"#REF!"}},{"$f":"VLOOKUP(AR20,I20:T21,6,FALSE)","v":{"$error":"#REF!"}},{"$f":"IF(AND(AS20=AS21,AT20=AT21,AU21>AU20),AR21,AR20)","v":{"$error":"#REF!"}},{"$f":"VLOOKUP(AV20,I20:T21,9,FALSE)","v":{"$error":"#REF!"}},{"$f":"VLOOKUP(AV20,I20:T21,8,FALSE)","v":{"$error":"#REF!"}},{"$f":"VLOOKUP(AV20,I20:T21,6,FALSE)","v":{"$error":"#REF!"}},{"$f":"IF(AND(AW20=#REF!,AX20=#REF!,#REF!>AY20),#REF!,AV20)","v":{"$error":"#REF!"}},{"$f":"VLOOKUP(AZ20,I20:T21,9,FALSE)","v":{"$error":"#REF!"}},{"$f":"VLOOKUP(AZ20,I20:T21,8,FALSE)","v":{"$error":"#REF!"}},{"$f":"VLOOKUP(AZ20,I20:T21,6,FALSE)","v":{"$error":"#REF!"}},null,null,null,{"$f":"AZ20","v":{"$error":"#REF!"}},{"$f":"VLOOKUP(BG20,I20:T21,2,FALSE)","v":{"$error":"#REF!"}},{"$f":"VLOOKUP(BG20,I20:T21,3,FALSE)","v":{"$error":"#REF!"}},{"$f":"VLOOKUP(BG20,I20:T21,4,FALSE)","v":{"$error":"#REF!"}},{"$f":"VLOOKUP(BG20,I20:T21,5,FALSE)","v":{"$error":"#REF!"}},{"$f":"VLOOKUP(BG20,I20:T21,6,FALSE)","v":{"$error":"#REF!"}},{"$f":"VLOOKUP(BG20,I20:T21,7,FALSE)","v":{"$error":"#REF!"}},{"$f":"VLOOKUP(BG20,I20:T21,8,FALSE)","v":{"$error":"#REF!"}},{"$f":"VLOOKUP(BG20,I20:T21,9,FALSE)","v":{"$error":"#REF!"}},null,null,{"$f":"IF(#REF!<>\"\",IF(#REF!>#REF!,#REF!,IF(#REF!>#REF!,#REF!,\"Empate\")),\"\")","v":{"$error":"#REF!"}},{"$f":"IF(#REF!<>\"\",IF(#REF!<#REF!,#REF!,IF(#REF!<#REF!,#REF!,\"Empate\")),\"\")","v":{"$error":"#REF!"}},null,null,{"$f":"IF(ISBLANK(CG27),COUNTA(CG28:$CG$28),0)","v":0},null,"9º",null,null,{"$f":"IF($T$9=$T$13,\"\",IF($T$9>$T$13,$P$13,$P$9))","v":""},6,null,null,9,null,null,null,null,null,null,null,null,null,null,115,null,null,null,null,null,null,null,null,null,null,null,null,null,null,null,null,{"$f":"#REF!","v":{"$error":"#REF!"}},{"$f":"#REF!","v":{"$error":"#REF!"}},{"$f":"#REF!","v":{"$error":"#REF!"}},{"$f":"#REF!","v":{"$error":"#REF!"}},{"$error":"#REF!"},{"$f":"DH19+DI19+DJ19","v":{"$error":"#REF!"}},{"$error":"#REF!"}]
[null,15,null,0,null,null,null,{"$f":"IF(ISBLANK(E21),\"\",SUM(IF(E21>E22,1,0)+(IF(F21>F22,1,0)+(IF(G21>G22,1,0)))))","v":""},"P8",{"$f":"IF(H21=H22,IF(D21=\"Bye\",D22,IF(D22=\"Bye\",D21)),(IF(ISBLANK(E21),\"\",IF(H21>H22,D21,D22))))","v":false},null,"(V3)",null,null,null,{"$f":"IF(P20=FALSE,\"\",P20)","v":""},null,null,null,{"$f":"IF(ISBLANK(Q21),\"\",SUM(IF(Q21>Q17,1,0)+(IF(R21>R17,1,0)+(IF(S21>S17,1,0)))))","v":""},null,null,null,null,null,null,null,null,null,null,null,null,null,null,null,null,null,null,null,{"$f":"IF(AND(#REF!=AL21,AM21>#REF!),#REF!,AK21)","v":{"$error":"#REF!"}},{"$f":"VLOOKUP(AN21,I20:T21,9,FALSE)","v":{"$error":"#REF!"}},{"$f":"VLOOKUP(AN21,I20:T21,8,FALSE)","v":{"$error":"#REF!"}},{"$f":"VLOOKUP(AN21,I20:T21,6,FALSE)","v":{"$error":"#REF!"}},{"$f":"IF(AND(AO21=#REF!,AP21=#REF!,#REF!>AQ21),#REF!,AN21)","v":{"$error":"#REF!"}},{"$f":"VLOOKUP(AR21,I20:T21,9,FALSE)","v":{"$error":"#REF!"}},{"$f":"VLOOKUP(AR21,I20:T21,8,FALSE)","v":{"$error":"#REF!"}},{"$f":"VLOOKUP(AR21,I20:T21,6,FALSE)","v":{"$error":"#REF!"}},{"$f":"IF(AND(AS20=AS21,AT20=AT21,#REF!>AU20),AR20,AR21)","v":{"$error":"#REF!"}},{"$f":"VLOOKUP(AV21,I20:T21,9,FALSE)","v":{"$error":"#REF!"}},{"$f":"VLOOKUP(AV21,I20:T21,8,FALSE)","v":{"$error":"#REF!"}},{"$f":"VLOOKUP(AV21,I20:T21,6,FALSE)","v":{"$error":"#REF!"}},{"$f":"IF(AND(#REF!=AW21,#REF!=AX21,AY21>#REF!),#REF!,AV21)","v":{"$error":"#REF!"}},{"$f":"VLOOKUP(AZ21,I20:T21,9,FALSE)","v":{"$error":"#REF!"}},{"$f":"VLOOKUP(AZ21,I20:T21,8,FALSE)","v":{"$error":"#REF!"}},{"$f":"VLOOKUP(AZ21,I20:T21,6,FALSE)","v":{"$error":"#REF!"}},null,null,null,{"$f":"AZ21","v":{"$error":"#REF!"}},{"$f":"VLOOKUP(BG21,I20:T21,2,FALSE)","v":{"$error":"#REF!"}},{"$f":"VLOOKUP(BG21,I20:T21,3,FALSE)","v":{"$error":"#REF!"}},{"$f":"VLOOKUP(BG21,I20:T21,4,FALSE)","v":{"$error":"#REF!"}},{"$f":"VLOOKUP(BG21,I20:T21,5,FALSE)","v":{"$error":"#REF!"}},{"$f":"VLOOKUP(BG21,I20:T21,6,FALSE)","v":{"$error":"#REF!"}},{"$f":"VLOOKUP(BG21,I20:T21,7,FALSE)","v":{"$error":"#REF!"}},{"$f":"VLOOKUP(BG21,I20:T21,8,FALSE)","v":{"$error":"#REF!"}},{"$f":"VLOOKUP(BG21,I20:T21,9,FALSE)","v":{"$error":"#REF!"}},null,null,{"$f":"IF(#REF!<>\"\",IF(#REF!>#REF!,#REF!,IF(#REF!>#REF!,#REF!,\"Empate\")),\"\")","v":{"$error":"#REF!"}},{"$f":"IF(#REF!<>\"\",IF(#REF!<#REF!,#REF!,IF(#REF!<#REF!,#REF!,\"Empate\")),\"\")","v":{"$error":"#REF!"}},null,null,{"$f":"IF(ISBLANK(CG28),COUNTA(BY$86:$BY87),0)","v":0},null,"10º",null,null,{"$f":"IF($T$17=$T$21,\"\",IF($T$17>$T$21,$P$21,$P$17))","v":""},6,null,null,10,null,null,null,null,null,null,null,null,null,null,116,null,"P52",null,null,null,null,null,null,null,null,null,null,null,null,null,"P52",{"$f":"#REF!","v":{"$error":"#REF!"}},{"$f":"#REF!","v":{"$error":"#REF!"}},{"$f":"#REF!","v":{"$error":"#REF!"}},{"$f":"#REF!","v":{"$error":"#REF!"}},{"$error":"#REF!"},{"$f":"DH22+DI22+DJ22","v":{"$error":"#REF!"}},{"$error":"#REF!"}]
[null,16,null,0,null,null,null,{"$f":"IF(ISBLANK(E21),\"\",SUM(IF(E22>E21,1,0)+(IF(F22>F21,1,0)+(IF(G22>G21,1,0)))))","v":""},null,{"$f":"IF(J21=FALSE,\"\",J21)","v":""},null,null,null,{"$f":"IF(ISBLANK(K20),\"\",SUM(IF(K22>K20,1,0)+(IF(L22>L20,1,0)+(IF(M22>M20,1,0)))))","v":""},null,null,null,null,null,null,null,null,null,null,null,null,null,null,null,null,null,null,null,null,null,null,null,"P63",null,null,null,null,null,null,null,null,null,null,null,null,null,null,null,null,null,null,null,null,null,null,null,null,null,null,null,null,null,null,null,null,null,null,null,null,null,"11º",null,null,{"$f":"IF($T$25=$T$29,\"\",IF($T$25>$T$29,$P$29,$P$25))","v":""},6,null,null,11,null,null,null,null,null,null,null,null,null,null,117,null,null,null,null,null,null,null,null,null,null,null,null,null,null,null,null,{"$f":"#REF!","v":{"$error":"#REF!"}},{"$f":"#REF!","v":{"$error":"#REF!"}},{"$f":"#REF!","v":{"$error":"#REF!"}},{"$f":"#REF!","v":{"$error":"#REF!"}},{"$error":"#REF!"},{"$f":"DH21+DI21+DJ21","v":{"$error":"#REF!"}},{"$error":"#REF!"}]
[null,17,null,0,null,null,null,{"$f":"IF(ISBLANK(E23),\"\",SUM(IF(E23>E24,1,0)+(IF(F23>F24,1,0)+(IF(G23>G24,1,0)))))","v":""},"P9",{"$f":"IF(H23=H24,IF(D23=\"Bye\",D24,IF(D24=\"Bye\",D23)),(IF(ISBLANK(E23),\"\",IF(H23>H24,D23,D24))))","v":false},null,null,null,"P37",null,null,null,null,null,null,null,null,null,null,null,null,null,"(V30)",null,null,null,null,null,{"$f":"IF(AF15=AF31,\"\",IF(AF15>AF31,AB15,AB31))","v":""},null,null,null,{"$f":"IF(ISBLANK(AI23),\"\",SUM(IF(AI23>AI55,1,0)+(IF(AJ23>AJ55,1,0)+(IF(AK23>AK55,1,0)))))","v":""},null,null,null,null,null,null,null,null,null,null,null,null,null,null,null,null,null,null,null,null,null,null,null,null,null,null,null,null,null,null,null,{"$f":"IF(#REF!<>\"\",IF(#REF!>#REF!,#REF!,IF(#REF!>#REF!,#REF!,\"Empate\")),\"\")","v":{"$error":"#REF!"}},{"$f":"IF(#REF!<>\"\",IF(#REF!<#REF!,#REF!,IF(#REF!<#REF!,#REF!,\"Empate\")),\"\")","v":{"$error":"#REF!"}},null,null,null,null,"12º",null,null,{"$f":"IF($T$33=$T$37,\"\",IF($T$33>$T$37,$P$37,$P$33))","v":""},6,null,null,12,null,null,null,null,null,null,null,null,null,null,118]
[null,18,null,0,null,null,null,{"$f":"IF(ISBLANK(E23),\"\",SUM(IF(E24>E23,1,0)+(IF(F24>F23,1,0)+(IF(G24>G23,1,0)))))","v":""},null,{"$f":"IF(J23=FALSE,\"\",J23)","v":""},null,null,null,{"$f":"IF(ISBLANK(K24),\"\",SUM(IF(K24>K26,1,0)+(IF(L24>L26,1,0)+(IF(M24>M26,1,0)))))","v":""},null,{"$f":"IF(N24=N26,IF(J24=\"Bye\",J26,IF(J26=\"Bye\",J24)),(IF(ISBLANK(K24),\"\",IF(N24>N26,J24,J26))))","v":false},null,null,null,"P51",null,null,null,null,null,null,null,null,null,null,null,null,null,"(V31)",null,null,null,null,null,{"$f":"IF(AND(AL24=AL25,AM25>AM24),AK25,AK24)","v":0},{"$f":"VLOOKUP(AN24,I24:T25,9,FALSE)","v":{"$error":"#N/A"}},{"$f":"VLOOKUP(AN24,I24:T25,8,FALSE)","v":{"$error":"#N/A"}},{"$f":"VLOOKUP(AN24,I24:T25,6,FALSE)","v":{"$error":"#N/A"}},{"$f":"IF(AND(#REF!=AO24,#REF!=AP24,AQ24>#REF!),#REF!,AN24)","v":{"$error":"#REF!"}},{"$f":"VLOOKUP(AR24,I24:T25,9,FALSE)","v":{"$error":"#REF!"}},{"$f":"VLOOKUP(AR24,I24:T25,8,FALSE)","v":{"$error":"#REF!"}},{"$f":"VLOOKUP(AR24,I24:T25,6,FALSE)","v":{"$error":"#REF!"}},{"$f":"IF(AND(AS24=#REF!,AT24=#REF!,#REF!>AU24),#REF!,AR24)","v":{"$error":"#REF!"}},{"$f":"VLOOKUP(AV24,I24:T25,9,FALSE)","v":{"$error":"#REF!"}},{"$f":"VLOOKUP(AV24,I24:T25,8,FALSE)","v":{"$error":"#REF!"}},{"$f":"VLOOKUP(AV24,I24:T25,6,FALSE)","v":{"$error":"#REF!"}},{"$f":"IF(AND(AW24=AW25,AX24=AX25,AY25>AY24),AV25,AV24)","v":{"$error":"#REF!"}},{"$f":"VLOOKUP(AZ24,I24:T25,9,FALSE)","v":{"$error":"#REF!"}},{"$f":"VLOOKUP(AZ24,I24:T25,8,FALSE)","v":{"$error":"#REF!"}},{"$f":"VLOOKUP(AZ24,I24:T25,6,FALSE)","v":{"$error":"#REF!"}},null,null,null,{"$f":"AZ24","v":{"$error":"#REF!"}},{"$f":"VLOOKUP(BG24,I24:T25,2,FALSE)","v":{"$error":"#REF!"}},{"$f":"VLOOKUP(BG24,I24:T25,3,FALSE)","v":{"$error":"#REF!"}},{"$f":"VLOOKUP(BG24,I24:T25,4,FALSE)","v":{"$error":"#REF!"}},{"$f":"VLOOKUP(BG24,I24:T25,5,FALSE)","v":{"$error":"#REF!"}},{"$f":"VLOOKUP(BG24,I24:T25,6,FALSE)","v":{"$error":"#REF!"}},{"$f":"VLOOKUP(BG24,I24:T25,7,FALSE)","v":{"$error":"#REF!"}},{"$f":"VLOOKUP(BG24,I24:T25,8,FALSE)","v":{"$error":"#REF!"}},{"$f":"VLOOKUP(BG24,I24:T25,9,FALSE)","v":{"$error":"#REF!"}},null,null,{"$f":"IF(#REF!<>\"\",IF(#REF!>#REF!,#REF!,IF(#REF!>#REF!,#REF!,\"Empate\")),\"\")","v":{"$error":"#REF!"}},{"$f":"IF(#REF!<>\"\",IF(#REF!<#REF!,#REF!,IF(#REF!<#REF!,#REF!,\"Empate\")),\"\")","v":{"$error":"#REF!"}},null,null,null,null,"13º",null,null,{"$f":"IF($T$41=$T$45,\"\",IF($T$41>$T$45,$P$45,$P$41))","v":""},4,null,null,13,null,null,null,null,null,null,null,null,null,null,109]
[null,19,null,0,null,null,null,{"$f":"IF(ISBLANK(E25),\"\",SUM(IF(E25>E26,1,0)+(IF(F25>F26,1,0)+(IF(G25>G26,1,0)))))","v":""},"P10",{"$f":"IF(H25=H26,IF(D25=\"Bye\",D26,IF(D26=\"Bye\",D25)),(IF(ISBLANK(E25),\"\",IF(H25>H26,D25,D26))))","v":false},null,"(V6)",null,null,null,{"$f":"IF(P24=FALSE,\"\",P24)","v":""},null,null,null,{"$f":"IF(ISBLANK(Q25),\"\",SUM(IF(Q25>Q29,1,0)+(IF(R25>R29,1,0)+(IF(S25>S29,1,0)))))","v":""},null,null,null,null,null,null,null,null,null,null,null,null,null,null,null,null,null,null,null,{"$f":"IF(AND(AL24=AL25,AM25>AM24),AK24,AK25)","v":0},{"$f":"VLOOKUP(AN25,I24:T25,9,FALSE)","v":{"$error":"#N/A"}},{"$f":"VLOOKUP(AN25,I24:T25,8,FALSE)","v":{"$error":"#N/A"}},{"$f":"VLOOKUP(AN25,I24:T25,6,FALSE)","v":{"$error":"#N/A"}},{"$f":"IF(AND(AO25=#REF!,AP25=#REF!,#REF!>AQ25),#REF!,AN25)","v":{"$error":"#N/A"}},{"$f":"VLOOKUP(AR25,I24:T25,9,FALSE)","v":{"$error":"#N/A"}},{"$f":"VLOOKUP(AR25,I24:T25,8,FALSE)","v":{"$error":"#N/A"}},{"$f":"VLOOKUP(AR25,I24:T25,6,FALSE)","v":{"$error":"#N/A"}},{"$f":"IF(AND(#REF!=AS25,#REF!=AT25,AU24>#REF!),#REF!,AR25)","v":{"$error":"#REF!"}},{"$f":"VLOOKUP(AV25,I24:T25,9,FALSE)","v":{"$error":"#REF!"}},{"$f":"VLOOKUP(AV25,I24:T25,8,FALSE)","v":{"$error":"#REF!"}},{"$f":"VLOOKUP(AV25,I24:T25,6,FALSE)","v":{"$error":"#REF!"}},{"$f":"IF(AND(AW24=AW25,AX24=AX25,AY25>AY24),AV24,AV25)","v":{"$error":"#REF!"}},{"$f":"VLOOKUP(AZ25,I24:T25,9,FALSE)","v":{"$error":"#REF!"}},{"$f":"VLOOKUP(AZ25,I24:T25,8,FALSE)","v":{"$error":"#REF!"}},{"$f":"VLOOKUP(AZ25,I24:T25,6,FALSE)","v":{"$error":"#REF!"}},null,null,null,{"$f":"AZ25","v":{"$error":"#REF!"}},{"$f":"VLOOKUP(BG25,I24:T25,2,FALSE)","v":{"$error":"#REF!"}},{"$f":"VLOOKUP(BG25,I24:T25,3,FALSE)","v":{"$error":"#REF!"}},{"$f":"VLOOKUP(BG25,I24:T25,4,FALSE)","v":{"$error":"#REF!"}},{"$f":"VLOOKUP(BG25,I24:T25,5,FALSE)","v":{"$error":"#REF!"}},{"$f":"VLOOKUP(BG25,I24:T25,6,FALSE)","v":{"$error":"#REF!"}},{"$f":"VLOOKUP(BG25,I24:T25,7,FALSE)","v":{"$error":"#REF!"}},{"$f":"VLOOKUP(BG25,I24:T25,8,FALSE)","v":{"$error":"#REF!"}},{"$f":"VLOOKUP(BG25,I24:T25,9,FALSE)","v":{"$error":"#REF!"}},null,null,{"$f":"IF(#REF!<>\"\",IF(#REF!>#REF!,#REF!,IF(#REF!>#REF!,#REF!,\"Empate\")),\"\")","v":{"$error":"#REF!"}},{"$f":"IF(#REF!<>\"\",IF(#REF!<#REF!,#REF!,IF(#REF!<#REF!,#REF!,\"Empate\")),\"\")","v":{"$error":"#REF!"}},null,null,null,null,"14º",null,null,{"$f":"IF($T$49=$T$53,\"\",IF($T$49>$T$53,$P$53,$P$49))","v":""},4,null,null,14,null,null,null,null,null,null,null,null,null,null,110]
[null,20,null,0,null,null,null,{"$f":"IF(ISBLANK(E25),\"\",SUM(IF(E26>E25,1,0)+(IF(F26>F25,1,0)+(IF(G26>G25,1,0)))))","v":""},null,{"$f":"IF(J25=FALSE,\"\",J25)","v":""},null,null,null,{"$f":"IF(ISBLANK(K24),\"\",SUM(IF(K26>K24,1,0)+(IF(L26>L24,1,0)+(IF(M26>M24,1,0)))))","v":""},null,null,null,null,null,null,null,{"$f":"IF(T25=T29,IF(P25=\"Bye\",P29,IF(P29=\"Bye\",P29)),(IF(ISBLANK(Q25),\"\",IF(T25>T29,P25,P29))))","v":false},null,null,null,"P58",null,null,null,null,null,null,null,null,null,null,null,null,null,null,null,null,null,null,null,null,null,null,null,null,null,null,null,null,null,null,null,null,null,null,null,null,null,null,null,null,null,null,null,null,null,null,null,null,null,"15º",null,null,{"$f":"IF($T$57=$T$61,\"\",IF($T$57>$T$61,$P$61,$P$57))","v":""},4,null,null,15,null,null,null,null,null,null,null,null,null,null,111]
[null,21,null,0,null,null,null,{"$f":"IF(ISBLANK(E27),\"\",SUM(IF(E27>E28,1,0)+(IF(F27>F28,1,0)+(IF(G27>G28,1,0)))))","v":""},"P11",{"$f":"IF(H27=H28,IF(D27=\"Bye\",D28,IF(D28=\"Bye\",D27)),(IF(ISBLANK(E27),\"\",IF(H27>H28,D27,D28))))","v":false},null,null,null,"P38",null,"(V20)",null,null,null,null,null,{"$f":"IF(V26=FALSE,\"\",V26)","v":""},null,null,null,{"$f":"IF(ISBLANK(W27),\"\",SUM(IF(W27>W35,1,0)+(IF(X27>X35,1,0)+(IF(Y27>Y35,1,0)))))","v":""},null,null,null,null,null,null,null,null,null,null,null,null,null,null,null,null,null,null,null,null,null,null,null,null,null,null,null,null,null,null,null,null,null,null,null,null,null,null,null,null,null,null,null,{"$f":"IF(#REF!<>\"\",IF(#REF!>#REF!,#REF!,IF(#REF!>#REF!,#REF!,\"Empate\")),\"\")","v":{"$error":"#REF!"}},{"$f":"IF(#REF!<>\"\",IF(#REF!<#REF!,#REF!,IF(#REF!<#REF!,#REF!,\"Empate\")),\"\")","v":{"$error":"#REF!"}},null,null,null,null,"16º",null,null,{"$f":"IF($T$65=$T$69,\"\",IF($T$65>$T$69,$P$69,$P$65))","v":""},4,null,null,16,null,null,null,null,null,null,null,null,null,null,112]
[null,22,null,0,null,null,null,{"$f":"IF(ISBLANK(E27),\"\",SUM(IF(E28>E27,1,0)+(IF(F28>F27,1,0)+(IF(G28>G27,1,0)))))","v":""},null,{"$f":"IF(J27=FALSE,\"\",J27)","v":""},null,null,null,{"$f":"IF(ISBLANK(K28),\"\",SUM(IF(K28>K30,1,0)+(IF(L28>L30,1,0)+(IF(M28>M30,1,0)))))","v":""},null,{"$f":"IF(N28=N30,IF(J28=\"Bye\",J30,IF(J30=\"Bye\",J28)),(IF(ISBLANK(K28),\"\",IF(N28>N30,J28,J30))))","v":false},null,null,null,null,null,null,null,null,null,null,null,null,null,null,null,null,null,null,null,null,null,null,null,{"$f":"IF(AND(AL28=#REF!,#REF!>AM28),#REF!,AK28)","v":{"$error":"#REF!"}},{"$f":"VLOOKUP(AN28,I28:T29,9,FALSE)","v":{"$error":"#REF!"}},{"$f":"VLOOKUP(AN28,I28:T29,8,FALSE)","v":{"$error":"#REF!"}},{"$f":"VLOOKUP(AN28,I28:T29,6,FALSE)","v":{"$error":"#REF!"}},{"$f":"IF(AND(AO28=#REF!,AP28=#REF!,#REF!>AQ28),#REF!,AN28)","v":{"$error":"#REF!"}},{"$f":"VLOOKUP(AR28,I28:T29,9,FALSE)","v":{"$error":"#REF!"}},{"$f":"VLOOKUP(AR28,I28:T29,8,FALSE)","v":{"$error":"#REF!"}},{"$f":"VLOOKUP(AR28,I28:T29,6,FALSE)","v":{"$error":"#REF!"}},{"$f":"IF(AND(AS28=AS29,AT28=AT29,AU29>AU28),AR29,AR28)","v":{"$error":"#REF!"}},{"$f":"VLOOKUP(AV28,I28:T29,9,FALSE)","v":{"$error":"#REF!"}},{"$f":"VLOOKUP(AV28,I28:T29,8,FALSE)","v":{"$error":"#REF!"}},{"$f":"VLOOKUP(AV28,I28:T29,6,FALSE)","v":{"$error":"#REF!"}},{"$f":"IF(AND(AW28=#REF!,AX28=#REF!,#REF!>AY28),#REF!,AV28)","v":{"$error":"#REF!"}},{"$f":"VLOOKUP(AZ28,I28:T29,9,FALSE)","v":{"$error":"#REF!"}},{"$f":"VLOOKUP(AZ28,I28:T29,8,FALSE)","v":{"$error":"#REF!"}},{"$f":"VLOOKUP(AZ28,I28:T29,6,FALSE)","v":{"$error":"#REF!"}},null,null,null,{"$f":"AZ28","v":{"$error":"#REF!"}},{"$f":"VLOOKUP(BG28,I28:T29,2,FALSE)","v":{"$error":"#REF!"}},{"$f":"VLOOKUP(BG28,I28:T29,3,FALSE)","v":{"$error":"#REF!"}},{"$f":"VLOOKUP(BG28,I28:T29,4,FALSE)","v":{"$error":"#REF!"}},{"$f":"VLOOKUP(BG28,I28:T29,5,FALSE)","v":{"$error":"#REF!"}},{"$f":"VLOOKUP(BG28,I28:T29,6,FALSE)","v":{"$error":"#REF!"}},{"$f":"VLOOKUP(BG28,I28:T29,7,FALSE)","v":{"$error":"#REF!"}},{"$f":"VLOOKUP(BG28,I28:T29,8,FALSE)","v":{"$error":"#REF!"}},{"$f":"VLOOKUP(BG28,I28:T29,9,FALSE)","v":{"$error":"#REF!"}},null,null,{"$f":"IF(#REF!<>\"\",IF(#REF!>#REF!,#REF!,IF(#REF!>#REF!,#REF!,\"Empate\")),\"\")","v":{"$error":"#REF!"}},{"$f":"IF(#REF!<>\"\",IF(#REF!<#REF!,#REF!,IF(#REF!<#REF!,#REF!,\"Empate\")),\"\")","v":{"$error":"#REF!"}},null,null,null,null,"17º",null,null,{"$f":"IF($N$8=$N$10,\"\",IF($N$8>$N$10,$J$10,$J$8))","v":""},2,null,null,17,null,null,null,null,null,null,null,null,null,null,"P101"]
[null,23,null,0,null,null,null,{"$f":"IF(ISBLANK(E29),\"\",SUM(IF(E29>E30,1,0)+(IF(F29>F30,1,0)+(IF(G29>G30,1,0)))))","v":""},"P12",{"$f":"IF(H29=H30,IF(D29=\"Bye\",D30,IF(D30=\"Bye\",D29)),(IF(ISBLANK(E29),\"\",IF(H29>H30,D29,D30))))","v":false},null,"(V5)",null,null,null,{"$f":"IF(P28=FALSE,\"\",P28)","v":""},null,null,null,{"$f":"IF(ISBLANK(Q29),\"\",SUM(IF(Q29>Q25,1,0)+(IF(R29>R25,1,0)+(IF(S29>S25,1,0)))))","v":""},null,null,null,null,null,null,null,null,null,null,null,null,null,null,null,null,null,null,null,{"$f":"IF(AND(#REF!=AL29,AM29>#REF!),#REF!,AK29)","v":{"$error":"#REF!"}},{"$f":"VLOOKUP(AN29,I28:T29,9,FALSE)","v":{"$error":"#REF!"}},{"$f":"VLOOKUP(AN29,I28:T29,8,FALSE)","v":{"$error":"#REF!"}},{"$f":"VLOOKUP(AN29,I28:T29,6,FALSE)","v":{"$error":"#REF!"}},{"$f":"IF(AND(AO29=#REF!,AP29=#REF!,#REF!>AQ29),#REF!,AN29)","v":{"$error":"#REF!"}},{"$f":"VLOOKUP(AR29,I28:T29,9,FALSE)","v":{"$error":"#REF!"}},{"$f":"VLOOKUP(AR29,I28:T29,8,FALSE)","v":{"$error":"#REF!"}},{"$f":"VLOOKUP(AR29,I28:T29,6,FALSE)","v":{"$error":"#REF!"}},{"$f":"IF(AND(AS28=AS29,AT28=AT29,#REF!>AU28),AR28,AR29)","v":{"$error":"#REF!"}},{"$f":"VLOOKUP(AV29,I28:T29,9,FALSE)","v":{"$error":"#REF!"}},{"$f":"VLOOKUP(AV29,I28:T29,8,FALSE)","v":{"$error":"#REF!"}},{"$f":"VLOOKUP(AV29,I28:T29,6,FALSE)","v":{"$error":"#REF!"}},{"$f":"IF(AND(#REF!=AW29,#REF!=AX29,AY29>#REF!),#REF!,AV29)","v":{"$error":"#REF!"}},{"$f":"VLOOKUP(AZ29,I28:T29,9,FALSE)","v":{"$error":"#REF!"}},{"$f":"VLOOKUP(AZ29,I28:T29,8,FALSE)","v":{"$error":"#REF!"}},{"$f":"VLOOKUP(AZ29,I28:T29,6,FALSE)","v":{"$error":"#REF!"}},null,null,null,{"$f":"AZ29","v":{"$error":"#REF!"}},{"$f":"VLOOKUP(BG29,I28:T29,2,FALSE)","v":{"$error":"#REF!"}},{"$f":"VLOOKUP(BG29,I28:T29,3,FALSE)","v":{"$error":"#REF!"}},{"$f":"VLOOKUP(BG29,I28:T29,4,FALSE)","v":{"$error":"#REF!"}},{"$f":"VLOOKUP(BG29,I28:T29,5,FALSE)","v":{"$error":"#REF!"}},{"$f":"VLOOKUP(BG29,I28:T29,6,FALSE)","v":{"$error":"#REF!"}},{"$f":"VLOOKUP(BG29,I28:T29,7,FALSE)","v":{"$error":"#REF!"}},{"$f":"VLOOKUP(BG29,I28:T29,8,FALSE)","v":{"$error":"#REF!"}},{"$f":"VLOOKUP(BG29,I28:T29,9,FALSE)","v":{"$error":"#REF!"}},null,null,{"$f":"IF(#REF!<>\"\",IF(#REF!>#REF!,#REF!,IF(#REF!>#REF!,#REF!,\"Empate\")),\"\")","v":{"$error":"#REF!"}},{"$f":"IF(#REF!<>\"\",IF(#REF!<#REF!,#REF!,IF(#REF!<#REF!,#REF!,\"Empate\")),\"\")","v":{"$error":"#REF!"}},null,null,null,null,"18º",null,null,{"$f":"IF($N$12=$N$14,\"\",IF($N$12>$N$14,$J$14,$J$12))","v":""},2,null,null,18,null,null,null,null,null,null,null,null,null,null,"P102"]
[null,24,null,0,null,null,null,{"$f":"IF(ISBLANK(E29),\"\",SUM(IF(E30>E29,1,0)+(IF(F30>F29,1,0)+(IF(G30>G29,1,0)))))","v":""},null,{"$f":"IF(J29=FALSE,\"\",J29)","v":""},null,null,null,{"$f":"IF(ISBLANK(K28),\"\",SUM(IF(K30>K28,1,0)+(IF(L30>L28,1,0)+(IF(M30>M28,1,0)))))","v":""},null,null,null,null,null,null,null,null,null,null,null,null,null,{"$f":"IF(Z27=Z35,IF(V27=\"Bye\",V35,IF(V35=\"Bye\",V35)),(IF(ISBLANK(W27),\"\",IF(Z27>Z35,V27,V35))))","v":false},null,null,null,null,null,null,null,null,null,null,null,null,null,null,null,null,null,null,null,null,null,null,null,null,null,null,null,null,null,null,null,null,null,null,null,null,null,null,null,null,null,null,null,null,null,null,null,"19º",null,null,{"$f":"IF($N$16=$N$18,\"\",IF($N$16>$N$18,$J$18,$J$16))","v":""},2,null,null,19,null,null,null,null,null,null,null,null,null,null,"P103"]
[null,25,null,0,null,null,null,{"$f":"IF(ISBLANK(E31),\"\",SUM(IF(E31>E32,1,0)+(IF(F31>F32,1,0)+(IF(G31>G32,1,0)))))","v":""},"P13",{"$f":"IF(H31=H32,IF(D31=\"Bye\",D32,IF(D32=\"Bye\",D31)),(IF(ISBLANK(E31),\"\",IF(H31>H32,D31,D32))))","v":false},null,null,null,"P39",null,null,null,null,null,null,null,"(V25)",null,null,null,null,null,{"$f":"IF(AB30=FALSE,\"\",AB30)","v":""},null,null,null,{"$f":"IF(ISBLANK(AC31),\"\",SUM(IF(AC31>AC15,1,0)+(IF(AD31>AD15,1,0)+(IF(AE31>AE15,1,0)))))","v":""},null,null,null,null,null,null,null,null,null,null,null,null,null,null,null,null,null,null,null,null,null,null,null,null,null,null,null,null,null,null,null,null,null,null,null,null,null,{"$f":"IF(#REF!<>\"\",IF(#REF!>#REF!,#REF!,IF(#REF!>#REF!,#REF!,\"Empate\")),\"\")","v":{"$error":"#REF!"}},{"$f":"IF(#REF!<>\"\",IF(#REF!<#REF!,#REF!,IF(#REF!<#REF!,#REF!,\"Empate\")),\"\")","v":{"$error":"#REF!"}},null,null,null,null,"20º",null,null,{"$f":"IF($N$20=$N$22,\"\",IF($N$20>$N$22,$J$22,$J$20))","v":""},2,null,null,20,null,null,null,null,null,null,null,null,null,null,104]
[null,26,null,0,null,null,null,{"$f":"IF(ISBLANK(E31),\"\",SUM(IF(E32>E31,1,0)+(IF(F32>F31,1,0)+(IF(G32>G31,1,0)))))","v":""},null,{"$f":"IF(J31=FALSE,\"\",J31)","v":""},null,null,null,{"$f":"IF(ISBLANK(K32),\"\",SUM(IF(K32>K34,1,0)+(IF(L32>L34,1,0)+(IF(M32>M34,1,0)))))","v":""},null,{"$f":"IF(N32=N34,IF(J32=\"Bye\",J34,IF(J34=\"Bye\",J32)),(IF(ISBLANK(K32),\"\",IF(N32>N34,J32,J34))))","v":false},null,null,null,"P52",null,null,null,null,null,null,null,null,null,null,null,null,null,null,null,null,null,null,null,{"$f":"IF(AND(AL32=#REF!,#REF!>AM32),#REF!,AK32)","v":{"$error":"#REF!"}},{"$f":"VLOOKUP(AN32,I32:T33,9,FALSE)","v":{"$error":"#REF!"}},{"$f":"VLOOKUP(AN32,I32:T33,8,FALSE)","v":{"$error":"#REF!"}},{"$f":"VLOOKUP(AN32,I32:T33,6,FALSE)","v":{"$error":"#REF!"}},{"$f":"IF(AND(AO32=#REF!,AP32=#REF!,#REF!>AQ32),#REF!,AN32)","v":{"$error":"#REF!"}},{"$f":"VLOOKUP(AR32,I32:T33,9,FALSE)","v":{"$error":"#REF!"}},{"$f":"VLOOKUP(AR32,I32:T33,8,FALSE)","v":{"$error":"#REF!"}},{"$f":"VLOOKUP(AR32,I32:T33,6,FALSE)","v":{"$error":"#REF!"}},{"$f":"IF(AND(AS32=AS33,AT32=AT33,AU33>AU32),AR33,AR32)","v":{"$error":"#REF!"}},{"$f":"VLOOKUP(AV32,I32:T33,9,FALSE)","v":{"$error":"#REF!"}},{"$f":"VLOOKUP(AV32,I32:T33,8,FALSE)","v":{"$error":"#REF!"}},{"$f":"VLOOKUP(AV32,I32:T33,6,FALSE)","v":{"$error":"#REF!"}},{"$f":"IF(AND(AW32=#REF!,AX32=#REF!,#REF!>AY32),#REF!,AV32)","v":{"$error":"#REF!"}},{"$f":"VLOOKUP(AZ32,I32:T33,9,FALSE)","v":{"$error":"#REF!"}},{"$f":"VLOOKUP(AZ32,I32:T33,8,FALSE)","v":{"$error":"#REF!"}},{"$f":"VLOOKUP(AZ32,I32:T33,6,FALSE)","v":{"$error":"#REF!"}},null,null,null,{"$f":"AZ32","v":{"$error":"#REF!"}},{"$f":"VLOOKUP(BG32,I32:T33,2,FALSE)","v":{"$error":"#REF!"}},{"$f":"VLOOKUP(BG32,I32:T33,3,FALSE)","v":{"$error":"#REF!"}},{"$f":"VLOOKUP(BG32,I32:T33,4,FALSE)","v":{"$error":"#REF!"}},{"$f":"VLOOKUP(BG32,I32:T33,5,FALSE)","v":{"$error":"#REF!"}},{"$f":"VLOOKUP(BG32,I32:T33,6,FALSE)","v":{"$error":"#REF!"}},{"$f":"VLOOKUP(BG32,I32:T33,7,FALSE)","v":{"$error":"#REF!"}},{"$f":"VLOOKUP(BG32,I32:T33,8,FALSE)","v":{"$error":"#REF!"}},{"$f":"VLOOKUP(BG32,I32:T33,9,FALSE)","v":{"$error":"#REF!"}},null,null,{"$f":"IF(#REF!<>\"\",IF(#REF!>#REF!,#REF!,IF(#REF!>#REF!,#REF!,\"Empate\")),\"\")","v":{"$error":"#REF!"}},{"$f":"IF(#REF!<>\"\",IF(#REF!<#REF!,#REF!,IF(#REF!<#REF!,#REF!,\"Empate\")),\"\")","v":{"$error":"#REF!"}},null,null,null,null,"21º",null,null,{"$f":"IF($N$24=$N$26,\"\",IF($N$24>$N$26,$J$26,$J$24))","v":""},2,null,null,21,null,null,null,null,null,null,null,null,null,null,105]
[null,27,null,0,null,null,null,{"$f":"IF(ISBLANK(E33),\"\",SUM(IF(E33>E34,1,0)+(IF(F33>F34,1,0)+(IF(G33>G34,1,0)))))","v":""},"P14",{"$f":"IF(H33=H34,IF(D33=\"Bye\",D34,IF(D34=\"Bye\",D33)),(IF(ISBLANK(E33),\"\",IF(H33>H34,D33,D34))))","v":false},null,"(V8)",null,null,null,{"$f":"IF(P32=FALSE,\"\",P32)","v":""},null,null,null,{"$f":"IF(ISBLANK(Q33),\"\",SUM(IF(Q33>Q37,1,0)+(IF(R33>R37,1,0)+(IF(S33>S37,1,0)))))","v":""},null,null,null,null,null,null,null,null,null,null,null,null,null,null,null,null,null,null,null,{"$f":"IF(AND(#REF!=AL33,AM33>#REF!),#REF!,AK33)","v":{"$error":"#REF!"}},{"$f":"VLOOKUP(AN33,I32:T33,9,FALSE)","v":{"$error":"#REF!"}},{"$f":"VLOOKUP(AN33,I32:T33,8,FALSE)","v":{"$error":"#REF!"}},{"$f":"VLOOKUP(AN33,I32:T33,6,FALSE)","v":{"$error":"#REF!"}},{"$f":"IF(AND(AO33=#REF!,AP33=#REF!,#REF!>AQ33),#REF!,AN33)","v":{"$error":"#REF!"}},{"$f":"VLOOKUP(AR33,I32:T33,9,FALSE)","v":{"$error":"#REF!"}},{"$f":"VLOOKUP(AR33,I32:T33,8,FALSE)","v":{"$error":"#REF!"}},{"$f":"VLOOKUP(AR33,I32:T33,6,FALSE)","v":{"$error":"#REF!"}},{"$f":"IF(AND(AS32=AS33,AT32=AT33,#REF!>AU32),AR32,AR33)","v":{"$error":"#REF!"}},{"$f":"VLOOKUP(AV33,I32:T33,9,FALSE)","v":{"$error":"#REF!"}},{"$f":"VLOOKUP(AV33,I32:T33,8,FALSE)","v":{"$error":"#REF!"}},{"$f":"VLOOKUP(AV33,I32:T33,6,FALSE)","v":{"$error":"#REF!"}},{"$f":"IF(AND(#REF!=AW33,#REF!=AX33,AY33>#REF!),#REF!,AV33)","v":{"$error":"#REF!"}},{"$f":"VLOOKUP(AZ33,I32:T33,9,FALSE)","v":{"$error":"#REF!"}},{"$f":"VLOOKUP(AZ33,I32:T33,8,FALSE)","v":{"$error":"#REF!"}},{"$f":"VLOOKUP(AZ33,I32:T33,6,FALSE)","v":{"$error":"#REF!"}},null,null,null,{"$f":"AZ33","v":{"$error":"#REF!"}},{"$f":"VLOOKUP(BG33,I32:T33,2,FALSE)","v":{"$error":"#REF!"}},{"$f":"VLOOKUP(BG33,I32:T33,3,FALSE)","v":{"$error":"#REF!"}},{"$f":"VLOOKUP(BG33,I32:T33,4,FALSE)","v":{"$error":"#REF!"}},{"$f":"VLOOKUP(BG33,I32:T33,5,FALSE)","v":{"$error":"#REF!"}},{"$f":"VLOOKUP(BG33,I32:T33,6,FALSE)","v":{"$error":"#REF!"}},{"$f":"VLOOKUP(BG33,I32:T33,7,FALSE)","v":{"$error":"#REF!"}},{"$f":"VLOOKUP(BG33,I32:T33,8,FALSE)","v":{"$error":"#REF!"}},{"$f":"VLOOKUP(BG33,I32:T33,9,FALSE)","v":{"$error":"#REF!"}},null,null,{"$f":"IF(#REF!<>\"\",IF(#REF!>#REF!,#REF!,IF(#REF!>#REF!,#REF!,\"Empate\")),\"\")","v":{"$error":"#REF!"}},{"$f":"IF(#REF!<>\"\",IF(#REF!<#REF!,#REF!,IF(#REF!<#REF!,#REF!,\"Empate\")),\"\")","v":{"$error":"#REF!"}},null,null,null,null,"22º",null,null,{"$f":"IF($N$28=$N$30,\"\",IF($N$28>$N$30,$J$30,$J$28))","v":""},2,null,null,22,null,null,null,null,null,null,null,null,null,null,106]
[null,28,null,0,null,null,null,{"$f":"IF(ISBLANK(E33),\"\",SUM(IF(E34>E33,1,0)+(IF(F34>F33,1,0)+(IF(G34>G33,1,0)))))","v":""},null,{"$f":"IF(J33=FALSE,\"\",J33)","v":""},null,null,null,{"$f":"IF(ISBLANK(K32),\"\",SUM(IF(K34>K32,1,0)+(IF(L34>L32,1,0)+(IF(M34>M32,1,0)))))","v":""},null,null,null,null,null,null,null,{"$f":"IF(T33=T37,IF(P33=\"Bye\",P37,IF(P37=\"Bye\",P37)),(IF(ISBLANK(Q33),\"\",IF(T33>T37,P33,P37))))","v":false},null,null,null,null,null,null,null,null,null,null,null,null,null,null,null,null,null,null,null,null,null,null,null,null,null,null,null,null,null,null,null,null,null,null,null,null,null,null,null,null,null,null,null,null,null,null,null,null,null,null,null,null,null,"23º",null,null,{"$f":"IF($N$32=$N$34,\"\",IF($N$32>$N$34,$J$34,$J$32))","v":""},2,null,null,23,null,null,null,null,null,null,null,null,null,null,107]
[null,29,null,0,null,null,null,{"$f":"IF(ISBLANK(E35),\"\",SUM(IF(E35>E36,1,0)+(IF(F35>F36,1,0)+(IF(G35>G36,1,0)))))","v":""},"P15",{"$f":"IF(H35=H36,IF(D35=\"Bye\",D36,IF(D36=\"Bye\",D35)),(IF(ISBLANK(E35),\"\",IF(H35>H36,D35,D36))))","v":false},null,null,null,"P40",null,"(V19)",null,null,null,null,null,{"$f":"IF(V34=FALSE,\"\",V34)","v":""},null,null,null,{"$f":"IF(ISBLANK(W35),\"\",SUM(IF(W35>W27,1,0)+(IF(X35>X27,1,0)+(IF(Y35>Y27,1,0)))))","v":""},null,null,null,null,null,null,null,null,null,null,null,null,null,null,null,null,null,null,null,null,null,null,null,null,null,null,null,null,null,null,null,null,null,null,null,null,null,null,null,null,null,null,null,{"$f":"IF(#REF!<>\"\",IF(#REF!>#REF!,#REF!,IF(#REF!>#REF!,#REF!,\"Empate\")),\"\")","v":{"$error":"#REF!"}},{"$f":"IF(#REF!<>\"\",IF(#REF!<#REF!,#REF!,IF(#REF!<#REF!,#REF!,\"Empate\")),\"\")","v":{"$error":"#REF!"}},null,null,null,null,"24º",null,null,{"$f":"IF($N$36=$N$38,\"\",IF($N$36>$N$38,$J$38,$J$36))","v":""},2,null,null,24,null,null,null,null,null,null,null,null,null,null,108]
[null,30,null,0,null,null,null,{"$f":"IF(ISBLANK(E35),\"\",SUM(IF(E36>E35,1,0)+(IF(F36>F35,1,0)+(IF(G36>G35,1,0)))))","v":""},null,{"$f":"IF(J35=FALSE,\"\",J35)","v":""},null,null,null,{"$f":"IF(ISBLANK(K36),\"\",SUM(IF(K36>K38,1,0)+(IF(L36>L38,1,0)+(IF(M36>M38,1,0)))))","v":""},null,{"$f":"IF(N36=N38,IF(J36=\"Bye\",J38,IF(J38=\"Bye\",J36)),(IF(ISBLANK(K36),\"\",IF(N36>N38,J36,J38))))","v":false},null,null,null,null,null,null,null,null,null,null,null,null,null,null,null,null,null,null,null,null,null,null,null,{"$f":"IF(AND(AL36=#REF!,#REF!>AM36),#REF!,AK36)","v":{"$error":"#REF!"}},{"$f":"VLOOKUP(AN36,I36:T37,9,FALSE)","v":{"$error":"#REF!"}},{"$f":"VLOOKUP(AN36,I36:T37,8,FALSE)","v":{"$error":"#REF!"}},{"$f":"VLOOKUP(AN36,I36:T37,6,FALSE)","v":{"$error":"#REF!"}},{"$f":"IF(AND(AO36=#REF!,AP36=#REF!,#REF!>AQ36),#REF!,AN36)","v":{"$error":"#REF!"}},{"$f":"VLOOKUP(AR36,I36:T37,9,FALSE)","v":{"$error":"#REF!"}},{"$f":"VLOOKUP(AR36,I36:T37,8,FALSE)","v":{"$error":"#REF!"}},{"$f":"VLOOKUP(AR36,I36:T37,6,FALSE)","v":{"$error":"#REF!"}},{"$f":"IF(AND(AS36=AS37,AT36=AT37,AU37>AU36),AR37,AR36)","v":{"$error":"#REF!"}},{"$f":"VLOOKUP(AV36,I36:T37,9,FALSE)","v":{"$error":"#REF!"}},{"$f":"VLOOKUP(AV36,I36:T37,8,FALSE)","v":{"$error":"#REF!"}},{"$f":"VLOOKUP(AV36,I36:T37,6,FALSE)","v":{"$error":"#REF!"}},{"$f":"IF(AND(AW36=#REF!,AX36=#REF!,#REF!>AY36),#REF!,AV36)","v":{"$error":"#REF!"}},{"$f":"VLOOKUP(AZ36,I36:T37,9,FALSE)","v":{"$error":"#REF!"}},{"$f":"VLOOKUP(AZ36,I36:T37,8,FALSE)","v":{"$error":"#REF!"}},{"$f":"VLOOKUP(AZ36,I36:T37,6,FALSE)","v":{"$error":"#REF!"}},null,null,null,{"$f":"AZ36","v":{"$error":"#REF!"}},{"$f":"VLOOKUP(BG36,I36:T37,2,FALSE)","v":{"$error":"#REF!"}},{"$f":"VLOOKUP(BG36,I36:T37,3,FALSE)","v":{"$error":"#REF!"}},{"$f":"VLOOKUP(BG36,I36:T37,4,FALSE)","v":{"$error":"#REF!"}},{"$f":"VLOOKUP(BG36,I36:T37,5,FALSE)","v":{"$error":"#REF!"}},{"$f":"VLOOKUP(BG36,I36:T37,6,FALSE)","v":{"$error":"#REF!"}},{"$f":"VLOOKUP(BG36,I36:T37,7,FALSE)","v":{"$error":"#REF!"}},{"$f":"VLOOKUP(BG36,I36:T37,8,FALSE)","v":{"$error":"#REF!"}},{"$f":"VLOOKUP(BG36,I36:T37,9,FALSE)","v":{"$error":"#REF!"}},null,null,{"$f":"IF(#REF!<>\"\",IF(#REF!>#REF!,#REF!,IF(#REF!>#REF!,#REF!,\"Empate\")),\"\")","v":{"$error":"#REF!"}},{"$f":"IF(#REF!<>\"\",IF(#REF!<#REF!,#REF!,IF(#REF!<#REF!,#REF!,\"Empate\")),\"\")","v":{"$error":"#REF!"}},null,null,null,null,"25º",null,null,{"$f":"IF($N$40=$N$42,\"\",IF($N$40>$N$42,$J$42,$J$40))","v":""},1,null,null,25,null,null,null,null,null,null,null,null,null,null,89]
[null,31,null,0,null,null,null,{"$f":"IF(ISBLANK(E37),\"\",SUM(IF(E37>E38,1,0)+(IF(F37>F38,1,0)+(IF(G37>G38,1,0)))))","v":""},"P16",{"$f":"IF(H37=H38,IF(D37=\"Bye\",D38,IF(D38=\"Bye\",D37)),(IF(ISBLANK(E37),\"\",IF(H37>H38,D37,D38))))","v":false},null,"(V7)",null,null,null,{"$f":"IF(P36=FALSE,\"\",P36)","v":""},null,null,null,{"$f":"IF(ISBLANK(Q37),\"\",SUM(IF(Q37>Q33,1,0)+(IF(R37>R33,1,0)+(IF(S37>S33,1,0)))))","v":""},null,{"$f":"IF(AF15=AF31,IF(AB15=\"Bye\",AB31,IF(AB31=\"Bye\",AB15)),(IF(ISBLANK(AC15),\"\",IF(AF15>AF31,AB31,AB15))))","v":false},null,null,null,"P64",null,"(V19)",null,null,null,null,null,null,null,null,null,null,null,{"$f":"IF(AND(#REF!=AL37,AM37>#REF!),#REF!,AK37)","v":{"$error":"#REF!"}},{"$f":"VLOOKUP(AN37,I36:T37,9,FALSE)","v":{"$error":"#REF!"}},{"$f":"VLOOKUP(AN37,I36:T37,8,FALSE)","v":{"$error":"#REF!"}},{"$f":"VLOOKUP(AN37,I36:T37,6,FALSE)","v":{"$error":"#REF!"}},{"$f":"IF(AND(AO37=#REF!,AP37=#REF!,#REF!>AQ37),#REF!,AN37)","v":{"$error":"#REF!"}},{"$f":"VLOOKUP(AR37,I36:T37,9,FALSE)","v":{"$error":"#REF!"}},{"$f":"VLOOKUP(AR37,I36:T37,8,FALSE)","v":{"$error":"#REF!"}},{"$f":"VLOOKUP(AR37,I36:T37,6,FALSE)","v":{"$error":"#REF!"}},{"$f":"IF(AND(AS36=AS37,AT36=AT37,#REF!>AU36),AR36,AR37)","v":{"$error":"#REF!"}},{"$f":"VLOOKUP(AV37,I36:T37,9,FALSE)","v":{"$error":"#REF!"}},{"$f":"VLOOKUP(AV37,I36:T37,8,FALSE)","v":{"$error":"#REF!"}},{"$f":"VLOOKUP(AV37,I36:T37,6,FALSE)","v":{"$error":"#REF!"}},{"$f":"IF(AND(#REF!=AW37,#REF!=AX37,AY37>#REF!),#REF!,AV37)","v":{"$error":"#REF!"}},{"$f":"VLOOKUP(AZ37,I36:T37,9,FALSE)","v":{"$error":"#REF!"}},{"$f":"VLOOKUP(AZ37,I36:T37,8,FALSE)","v":{"$error":"#REF!"}},{"$f":"VLOOKUP(AZ37,I36:T37,6,FALSE)","v":{"$error":"#REF!"}},null,null,null,{"$f":"AZ37","v":{"$error":"#REF!"}},{"$f":"VLOOKUP(BG37,I36:T37,2,FALSE)","v":{"$error":"#REF!"}},{"$f":"VLOOKUP(BG37,I36:T37,3,FALSE)","v":{"$error":"#REF!"}},{"$f":"VLOOKUP(BG37,I36:T37,4,FALSE)","v":{"$error":"#REF!"}},{"$f":"VLOOKUP(BG37,I36:T37,5,FALSE)","v":{"$error":"#REF!"}},{"$f":"VLOOKUP(BG37,I36:T37,6,FALSE)","v":{"$error":"#REF!"}},{"$f":"VLOOKUP(BG37,I36:T37,7,FALSE)","v":{"$error":"#REF!"}},{"$f":"VLOOKUP(BG37,I36:T37,8,FALSE)","v":{"$error":"#REF!"}},{"$f":"VLOOKUP(BG37,I36:T37,9,FALSE)","v":{"$error":"#REF!"}},null,null,{"$f":"IF(#REF!<>\"\",IF(#REF!>#REF!,#REF!,IF(#REF!>#REF!,#REF!,\"Empate\")),\"\")","v":{"$error":"#REF!"}},{"$f":"IF(#REF!<>\"\",IF(#REF!<#REF!,#REF!,IF(#REF!<#REF!,#REF!,\"Empate\")),\"\")","v":{"$error":"#REF!"}},null,null,null,null,"26º",null,null,{"$f":"IF($N$44=$N$46,\"\",IF($N$44>$N$46,$J$46,$J$44))","v":""},1,null,null,26,null,null,null,null,null,null,null,null,null,null,90]
[null,32,null,0,null,null,null,{"$f":"IF(ISBLANK(E37),\"\",SUM(IF(E38>E37,1,0)+(IF(F38>F37,1,0)+(IF(G38>G37,1,0)))))","v":""},null,{"$f":"IF(J37=FALSE,\"\",J37)","v":""},null,null,null,{"$f":"IF(ISBLANK(K36),\"\",SUM(IF(K38>K36,1,0)+(IF(L38>L36,1,0)+(IF(M38>M36,1,0)))))","v":""},null,null,null,null,null,null,null,{"$f":"IF(V37=FALSE,\"\",V37)","v":""},null,null,null,{"$f":"IF(ISBLANK(W38),\"\",SUM(IF(W38>W40,1,0)+(IF(X38>X40,1,0)+(IF(Y38>Y40,1,0)))))","v":""},null,{"$f":"IF(Z38=Z40,IF(V38=\"Bye\",V40,IF(V40=\"Bye\",V38)),(IF(ISBLANK(W38),\"\",IF(Z38>Z40,V38,V40))))","v":false},null,null,null,null,null,"QUADRO FINAL",null,null,null,null,null,null,null,null,null,null,null,null,null,null,null,null,null,null,null,null,null,null,null,null,null,null,null,null,null,null,null,null,null,null,null,null,null,null,null,null,null,"27º",null,null,{"$f":"IF($N$48=$N$50,\"\",IF($N$48>$N$50,$J$50,$J$48))","v":""},1,null,null,27,null,null,null,null,null,null,null,null,null,null,91]
[null,33,null,0,null,null,null,{"$f":"IF(ISBLANK(E39),\"\",SUM(IF(E39>E40,1,0)+(IF(F39>F40,1,0)+(IF(G39>G40,1,0)))))","v":""},"P17",{"$f":"IF(H39=H40,IF(D39=\"Bye\",D40,IF(D40=\"Bye\",D39)),(IF(ISBLANK(E39),\"\",IF(H39>H40,D39,D40))))","v":false},null,null,null,"P41",null,null,null,null,null,null,null,{"$f":"IF(AF47=AF63,IF(AB47=\"Bye\",AB63,IF(AB63=\"Bye\",AB47)),(IF(ISBLANK(AC47),\"\",IF(AF47>AF63,AB63,AB47))))","v":false},null,"(V7)",null,null,null,{"$f":"IF(AB38=FALSE,\"\",AB38)","v":""},null,null,null,null,null,{"$f":"IF($AL$23=$AL$55,\"\",IF($AL$23>$AL$55,$AH$23,$AH$55))","v":""},null,null,null,null,null,null,null,null,null,null,null,null,null,null,null,null,null,null,null,null,null,null,null,null,null,null,null,null,null,null,null,null,null,null,null,null,null,null,null,null,null,"28º",null,null,{"$f":"IF($N$52=$N$54,\"\",IF($N$52>$N$54,$J$54,$J$52))","v":""},1,null,null,28,null,null,null,null,null,null,null,null,null,null,92]
[null,34,null,0,null,null,null,{"$f":"IF(ISBLANK(E39),\"\",SUM(IF(E40>E39,1,0)+(IF(F40>F39,1,0)+(IF(G40>G39,1,0)))))","v":""},null,{"$f":"IF(J39=FALSE,\"\",J39)","v":""},null,null,null,{"$f":"IF(ISBLANK(K40),\"\",SUM(IF(K40>K42,1,0)+(IF(L40>L42,1,0)+(IF(M40>M42,1,0)))))","v":""},null,{"$f":"IF(N40=N42,IF(J40=\"Bye\",J42,IF(J42=\"Bye\",J40)),(IF(ISBLANK(K40),\"\",IF(N40>N42,J40,J42))))","v":false},null,null,null,"P53",null,{"$f":"IF(V39=FALSE,\"\",V39)","v":""},null,null,null,{"$f":"IF(ISBLANK(W38),\"\",SUM(IF(W40>W38,1,0)+(IF(X40>X38,1,0)+(IF(Y40>Y38,1,0)))))","v":""},null,"3ºCLASSICADO",null,null,null,null,null,"CAMPEÃO",null,null,null,null,null,null,null,null,null,null,null,null,null,null,null,null,null,null,null,null,null,null,null,null,null,null,null,null,null,null,null,null,null,null,null,null,null,null,null,null,null,"29º",null,null,{"$f":"IF($N$56=$N$58,\"\",IF($N$56>$N$58,$J$58,$J$56))","v":""},1,null,null,29,null,null,null,null,null,null,null,null,null,null,93]
[null,35,null,0,null,null,null,{"$f":"IF(ISBLANK(E41),\"\",SUM(IF(E41>E42,1,0)+(IF(F41>F42,1,0)+(IF(G41>G42,1,0)))))","v":""},"P18",{"$f":"IF(H41=H42,IF(D41=\"Bye\",D42,IF(D42=\"Bye\",D41)),(IF(ISBLANK(E41),\"\",IF(H41>H42,D41,D42))))","v":false},null,"(V10)",null,null,null,{"$f":"IF(P40=FALSE,\"\",P40)","v":""},null,null,null,{"$f":"IF(ISBLANK(Q41),\"\",SUM(IF(Q41>Q45,1,0)+(IF(R41>R45,1,0)+(IF(S41>S45,1,0)))))","v":""},null,null,null,null,null,null,null,{"$f":"IF(Z38=Z40,IF(V38=\"Bye\",V40,IF(V40=\"Bye\",V38)),(IF(ISBLANK(W38),\"\",IF(Z38>Z40,V40,V38))))","v":false},null,null,null,null,null,null,null,null,null,null,null,null,null,null,null,null,null,null,null,null,null,null,null,null,null,null,null,null,null,null,null,null,null,null,null,null,null,null,null,null,null,null,null,null,null,null,null,"30º",null,null,{"$f":"IF($N$60=$N$62,\"\",IF($N$60>$N$62,$J$62,$J$60))","v":""},1,null,null,30,null,null,null,null,null,null,null,null,null,null,94]
[null,36,null,0,null,null,null,{"$f":"IF(ISBLANK(E41),\"\",SUM(IF(E42>E41,1,0)+(IF(F42>F41,1,0)+(IF(G42>G41,1,0)))))","v":""},null,{"$f":"IF(J41=FALSE,\"\",J41)","v":""},null,null,null,{"$f":"IF(ISBLANK(K40),\"\",SUM(IF(K42>K40,1,0)+(IF(L42>L40,1,0)+(IF(M42>M40,1,0)))))","v":""},null,null,null,null,null,null,null,{"$f":"IF(T41=T45,IF(P41=\"Bye\",P45,IF(P45=\"Bye\",P45)),(IF(ISBLANK(Q41),\"\",IF(T41>T45,P41,P45))))","v":false},null,null,null,"P59",null,{"$f":"IF(AB41=FALSE,\"\",AB41)","v":""},null,null,null,null,null,null,null,null,null,null,null,null,null,null,null,null,null,null,null,null,null,null,null,null,null,null,null,null,null,null,null,null,null,null,null,null,null,null,null,null,null,null,null,null,null,null,null,"31º",null,null,{"$f":"IF($N$64=$N$66,\"\",IF($N$64>$N$66,$J$66,$J$64))","v":""},1,null,null,31,null,null,null,null,null,null,null,null,null,null,95]
[null,37,null,0,null,null,null,{"$f":"IF(ISBLANK(E43),\"\",SUM(IF(E43>E44,1,0)+(IF(F43>F44,1,0)+(IF(G43>G44,1,0)))))","v":""},"P19",{"$f":"IF(H43=H44,IF(D43=\"Bye\",D44,IF(D44=\"Bye\",D43)),(IF(ISBLANK(E43),\"\",IF(H43>H44,D43,D44))))","v":false},null,null,null,"P42",null,"(V22)",null,null,null,null,null,{"$f":"IF(V42=FALSE,\"\",V42)","v":""},null,null,null,{"$f":"IF(ISBLANK(W43),\"\",SUM(IF(W43>W51,1,0)+(IF(X43>X51,1,0)+(IF(Y43>Y51,1,0)))))","v":""},null,"4ºCLASSICADO",null,null,null,null,null,null,null,null,null,null,null,null,null,null,null,null,null,null,null,null,null,null,null,null,null,null,null,null,null,null,null,null,null,null,null,null,null,null,null,null,null,null,null,null,null,null,null,"32º",null,null,{"$f":"IF($N$68=$N$70,\"\",IF($N$68>$N$70,$J$70,$J$68))","v":""},1,null,null,32,null,null,null,null,null,null,null,null,null,null,96]
[null,38,null,0,null,null,null,{"$f":"IF(ISBLANK(E43),\"\",SUM(IF(E44>E43,1,0)+(IF(F44>F43,1,0)+(IF(G44>G43,1,0)))))","v":""},null,{"$f":"IF(J43=FALSE,\"\",J43)","v":""},null,null,null,{"$f":"IF(ISBLANK(K44),\"\",SUM(IF(K44>K46,1,0)+(IF(L44>L46,1,0)+(IF(M44>M46,1,0)))))","v":""},null,{"$f":"IF(N44=N46,IF(J44=\"Bye\",J46,IF(J46=\"Bye\",J44)),(IF(ISBLANK(K44),\"\",IF(N44>N46,J44,J46))))","v":false},null,null,null,null,null,null,null,null,null,null,null,null,null,null,null,null,null,null,null,null,null,null,null,null,null,null,null,null,null,null,null,null,null,null,null,null,null,null,null,null,null,null,null,null,null,null,null,null,null,null,null,null,null,null,null,null,null,null,null,"33º",null,null,{"$f":"IF($H$7=$H$8,\"\",IF($H$7>$H$8,$D$8,$D$7))","v":""},1,null,null,33,null,null,null,null,null,null,null,null,null,null,65]
[null,39,null,0,null,null,null,{"$f":"IF(ISBLANK(E45),\"\",SUM(IF(E45>E46,1,0)+(IF(F45>F46,1,0)+(IF(G45>G46,1,0)))))","v":""},"P20",{"$f":"IF(H45=H46,IF(D45=\"Bye\",D46,IF(D46=\"Bye\",D45)),(IF(ISBLANK(E45),\"\",IF(H45>H46,D45,D46))))","v":false},null,"(V9)",null,null,null,{"$f":"IF(P44=FALSE,\"\",P44)","v":""},null,null,null,{"$f":"IF(ISBLANK(Q45),\"\",SUM(IF(Q45>Q41,1,0)+(IF(R45>R41,1,0)+(IF(S45>S41,1,0)))))","v":""},null,null,null,null,null,null,null,null,null,null,null,null,null,null,null,null,null,null,null,null,null,null,null,null,null,null,null,null,null,null,null,null,null,null,null,null,null,null,null,null,null,null,null,null,null,null,null,null,null,null,null,null,null,null,null,"34º",null,null,{"$f":"IF($H$9=$H$10,\"\",IF($H$9>$H$10,$D$10,$D$9))","v":""},1,null,null,34,null,null,null,null,null,null,null,null,null,null,66]
[null,40,null,0,null,null,null,{"$f":"IF(ISBLANK(E45),\"\",SUM(IF(E46>E45,1,0)+(IF(F46>F45,1,0)+(IF(G46>G45,1,0)))))","v":""},null,{"$f":"IF(J45=FALSE,\"\",J45)","v":""},null,null,null,{"$f":"IF(ISBLANK(K44),\"\",SUM(IF(K46>K44,1,0)+(IF(L46>L44,1,0)+(IF(M46>M44,1,0)))))","v":""},null,null,null,null,null,null,null,null,null,null,null,null,null,{"$f":"IF(Z43=Z51,IF(V43=\"Bye\",V51,IF(V51=\"Bye\",V51)),(IF(ISBLANK(W43),\"\",IF(Z43>Z51,V43,V51))))","v":false},null,null,null,"P62",null,null,null,null,null,null,null,null,null,null,null,null,null,null,null,null,null,null,null,null,null,null,null,null,null,null,null,null,null,null,null,null,null,null,null,null,null,null,null,null,null,null,null,"35º",null,null,{"$f":"IF($H$11=$H$12,\"\",IF($H$11>$H$12,$D$12,$D$11))","v":""},1,null,null,35,null,null,null,null,null,null,null,null,null,null,67]
[null,41,null,0,null,null,null,{"$f":"IF(ISBLANK(E47),\"\",SUM(IF(E47>E48,1,0)+(IF(F47>F48,1,0)+(IF(G47>G48,1,0)))))","v":""},"P21",{"$f":"IF(H47=H48,IF(D47=\"Bye\",D48,IF(D48=\"Bye\",D47)),(IF(ISBLANK(E47),\"\",IF(H47>H48,D47,D48))))","v":false},null,null,null,"P43",null,null,null,null,null,null,null,"(V28)",null,null,null,null,null,{"$f":"IF(AB46=FALSE,\"\",AB46)","v":""},null,null,null,{"$f":"IF(ISBLANK(AC47),\"\",SUM(IF(AC47>AC63,1,0)+(IF(AD47>AD63,1,0)+(IF(AE47>AE63,1,0)))))","v":""},null,null,null,null,null,null,null,null,null,null,null,null,null,null,null,null,null,null,null,null,null,null,null,null,null,null,null,null,null,null,null,null,null,null,null,null,null,null,null,null,null,null,null,"36º",null,null,{"$f":"IF($H$13=$H$14,\"\",IF($H$13>$H$14,$D$14,$D$13))","v":""},1,null,null,36,null,null,null,null,null,null,null,null,null,null,68]
[null,42,null,0,null,null,null,{"$f":"IF(ISBLANK(E47),\"\",SUM(IF(E48>E47,1,0)+(IF(F48>F47,1,0)+(IF(G48>G47,1,0)))))","v":""},null,{"$f":"IF(J47=FALSE,\"\",J47)","v":""},null,null,null,{"$f":"IF(ISBLANK(K48),\"\",SUM(IF(K48>K50,1,0)+(IF(L48>L50,1,0)+(IF(M48>M50,1,0)))))","v":""},null,{"$f":"IF(N48=N50,IF(J48=\"Bye\",J50,IF(J50=\"Bye\",J48)),(IF(ISBLANK(K48),\"\",IF(N48>N50,J48,J50))))","v":false},null,null,null,"P54",null,null,null,null,null,null,null,null,null,null,null,null,null,null,null,null,null,null,null,null,null,null,null,null,null,null,null,null,null,null,null,null,null,null,null,null,null,null,null,null,null,null,null,null,null,null,null,null,null,null,null,null,null,null,null,"37º",null,null,{"$f":"IF($H$15=$H$16,\"\",IF($H$15>$H$16,$D$16,$D$15))","v":""},1,null,null,37,null,null,null,null,null,null,null,null,null,null,69]
[null,43,null,0,null,null,null,{"$f":"IF(ISBLANK(E49),\"\",SUM(IF(E49>E50,1,0)+(IF(F49>F50,1,0)+(IF(G49>G50,1,0)))))","v":""},"P22",{"$f":"IF(H49=H50,IF(D49=\"Bye\",D50,IF(D50=\"Bye\",D49)),(IF(ISBLANK(E49),\"\",IF(H49>H50,D49,D50))))","v":false},null,"(V12)",null,null,null,{"$f":"IF(P48=FALSE,\"\",P48)","v":""},null,null,null,{"$f":"IF(ISBLANK(Q49),\"\",SUM(IF(Q49>Q53,1,0)+(IF(R49>R53,1,0)+(IF(S49>S53,1,0)))))","v":""},null,null,null,null,null,null,null,null,null,null,null,null,null,null,null,null,null,null,null,null,null,null,null,null,null,null,null,null,null,null,null,null,null,null,null,null,null,null,null,null,null,null,null,null,null,null,null,null,null,null,null,null,null,null,null,"38º",null,null,{"$f":"IF($H$17=$H$18,\"\",IF($H$17>$H$18,$D$18,$D$17))","v":""},1,null,null,38,null,null,null,null,null,null,null,null,null,null,70]
[null,44,null,0,null,null,null,{"$f":"IF(ISBLANK(E49),\"\",SUM(IF(E50>E49,1,0)+(IF(F50>F49,1,0)+(IF(G50>G49,1,0)))))","v":""},null,{"$f":"IF(J49=FALSE,\"\",J49)","v":""},null,null,null,{"$f":"IF(ISBLANK(K48),\"\",SUM(IF(K50>K48,1,0)+(IF(L50>L48,1,0)+(IF(M50>M48,1,0)))))","v":""},null,null,null,null,null,null,null,{"$f":"IF(T49=T53,IF(P49=\"Bye\",P53,IF(P53=\"Bye\",P53)),(IF(ISBLANK(Q49),\"\",IF(T49>T53,P49,P53))))","v":false},null,null,null,null,null,null,null,null,null,null,null,null,null,null,null,null,null,null,null,null,null,null,null,null,null,null,null,null,null,null,null,null,null,null,null,null,null,null,null,null,null,null,null,null,null,null,null,null,null,null,null,null,null,"39º",null,null,{"$f":"IF($H$19=$H$20,\"\",IF($H$19>$H$20,$D$20,$D$19))","v":""},1,null,null,39,null,null,null,null,null,null,null,null,null,null,71]
[null,45,null,0,null,null,null,{"$f":"IF(ISBLANK(E51),\"\",SUM(IF(E51>E52,1,0)+(IF(F51>F52,1,0)+(IF(G51>G52,1,0)))))","v":""},"P23",{"$f":"IF(H51=H52,IF(D51=\"Bye\",D52,IF(D52=\"Bye\",D51)),(IF(ISBLANK(E51),\"\",IF(H51>H52,D51,D52))))","v":false},null,null,null,"P44",null,"(V21)",null,null,null,null,null,{"$f":"IF(V50=FALSE,\"\",V50)","v":""},null,null,null,{"$f":"IF(ISBLANK(W51),\"\",SUM(IF(W51>W43,1,0)+(IF(X51>X43,1,0)+(IF(Y51>Y43,1,0)))))","v":""},null,null,null,null,null,null,null,null,null,null,null,null,null,null,null,null,null,null,null,null,null,null,null,null,null,null,null,null,null,null,null,null,null,null,null,null,null,null,null,null,null,null,null,null,null,null,null,null,null,"40º",null,null,{"$f":"IF($H$21=$H$22,\"\",IF($H$21>$H$22,$D$22,$D$21))","v":""},1,null,null,40,null,null,null,null,null,null,null,null,null,null,72]
[null,46,null,0,null,null,null,{"$f":"IF(ISBLANK(E51),\"\",SUM(IF(E52>E51,1,0)+(IF(F52>F51,1,0)+(IF(G52>G51,1,0)))))","v":""},null,{"$f":"IF(J51=FALSE,\"\",J51)","v":""},null,null,null,{"$f":"IF(ISBLANK(K52),\"\",SUM(IF(K52>K54,1,0)+(IF(L52>L54,1,0)+(IF(M52>M54,1,0)))))","v":""},null,{"$f":"IF(N52=N54,IF(J52=\"Bye\",J54,IF(J54=\"Bye\",J52)),(IF(ISBLANK(K52),\"\",IF(N52>N54,J52,J54))))","v":false},null,null,null,null,null,null,null,null,null,null,null,null,null,null,null,null,null,null,null,null,null,null,null,null,null,null,null,null,null,null,null,null,null,null,null,null,null,null,null,null,null,null,null,null,null,null,null,null,null,null,null,null,null,null,null,null,null,null,null,"41º",null,null,{"$f":"IF($H$23=$H$24,\"\",IF($H$23>$H$24,$D$24,$D$23))","v":""},1,null,null,41,null,null,null,null,null,null,null,null,null,null,73]
[null,47,null,0,null,null,null,{"$f":"IF(ISBLANK(E53),\"\",SUM(IF(E53>E54,1,0)+(IF(F53>F54,1,0)+(IF(G53>G54,1,0)))))","v":""},"P24",{"$f":"IF(H53=H54,IF(D53=\"Bye\",D54,IF(D54=\"Bye\",D53)),(IF(ISBLANK(E53),\"\",IF(H53>H54,D53,D54))))","v":false},null,"(V11)",null,null,null,{"$f":"IF(P52=FALSE,\"\",P52)","v":""},null,null,null,{"$f":"IF(ISBLANK(Q53),\"\",SUM(IF(Q53>Q49,1,0)+(IF(R53>R49,1,0)+(IF(S53>S49,1,0)))))","v":""},null,null,null,null,null,null,null,null,null,null,null,null,null,null,null,null,null,null,null,null,null,null,null,null,null,null,null,null,null,null,null,null,null,null,null,null,null,null,null,null,null,null,null,null,null,null,null,null,null,null,null,null,null,null,null,"42º",null,null,{"$f":"IF($H$25=$H$26,\"\",IF($H$25>$H$26,$D$26,$D$25))","v":""},1,null,null,42,null,null,null,null,null,null,null,null,null,null,74]
[null,48,null,0,null,null,null,{"$f":"IF(ISBLANK(E53),\"\",SUM(IF(E54>E53,1,0)+(IF(F54>F53,1,0)+(IF(G54>G53,1,0)))))","v":""},null,{"$f":"IF(J53=FALSE,\"\",J53)","v":""},null,null,null,{"$f":"IF(ISBLANK(K52),\"\",SUM(IF(K54>K52,1,0)+(IF(L54>L52,1,0)+(IF(M54>M52,1,0)))))","v":""},null,null,null,null,null,null,null,null,null,null,null,null,null,null,null,null,null,null,null,null,null,null,null,null,null,null,null,null,null,null,null,null,null,null,null,null,null,null,null,null,null,null,null,null,null,null,null,null,null,null,null,null,null,null,null,null,null,null,null,null,null,"43º",null,null,{"$f":"IF($H$27=$H$28,\"\",IF($H$27>$H$28,$D$28,$D$27))","v":""},1,null,null,43,null,null,null,null,null,null,null,null,null,null,75]
[null,49,null,0,null,null,null,{"$f":"IF(ISBLANK(E55),\"\",SUM(IF(E55>E56,1,0)+(IF(F55>F56,1,0)+(IF(G55>G56,1,0)))))","v":""},"P25",{"$f":"IF(H55=H56,IF(D55=\"Bye\",D56,IF(D56=\"Bye\",D55)),(IF(ISBLANK(E55),\"\",IF(H55>H56,D55,D56))))","v":false},null,null,null,"P45",null,null,null,null,null,null,null,null,null,null,null,null,null,"(V29)",null,null,null,null,null,{"$f":"IF(AF47=AF63,\"\",IF(AF47>AF63,AB47,AB63))","v":""},null,null,null,{"$f":"IF(ISBLANK(AI55),\"\",SUM(IF(AI55>AI23,1,0)+(IF(AJ55>AJ23,1,0)+(IF(AK55>AK23,1,0)))))","v":""},null,null,null,null,null,null,null,null,null,null,null,null,null,null,null,null,null,null,null,null,null,null,null,null,null,null,null,null,null,null,null,null,null,null,null,null,null,"44º",null,null,{"$f":"IF($H$29=$H$30,\"\",IF($H$29>$H$30,$D$30,$D$29))","v":""},1,null,null,44,null,null,null,null,null,null,null,null,null,null,76]
[null,50,null,0,null,null,null,{"$f":"IF(ISBLANK(E55),\"\",SUM(IF(E56>E55,1,0)+(IF(F56>F55,1,0)+(IF(G56>G55,1,0)))))","v":""},null,{"$f":"IF(J55=FALSE,\"\",J55)","v":""},null,null,null,{"$f":"IF(ISBLANK(K56),\"\",SUM(IF(K56>K58,1,0)+(IF(L56>L58,1,0)+(IF(M56>M58,1,0)))))","v":""},null,{"$f":"IF(N56=N58,IF(J56=\"Bye\",J58,IF(J58=\"Bye\",J56)),(IF(ISBLANK(K56),\"\",IF(N56>N58,J56,J58))))","v":false},null,null,null,"P55",null,null,null,null,null,null,null,null,null,null,null,null,null,"(V31)",null,null,null,null,null,null,null,null,null,null,null,null,null,null,null,null,null,null,null,null,null,null,null,null,null,null,null,null,null,null,null,null,null,null,null,null,null,null,null,null,null,"45º",null,null,{"$f":"IF($H$31=$H$32,\"\",IF($H$31>$H$32,$D$32,$D$31))","v":""},1,null,null,45,null,null,null,null,null,null,null,null,null,null,77]
[null,51,null,0,null,null,null,{"$f":"IF(ISBLANK(E57),\"\",SUM(IF(E57>E58,1,0)+(IF(F57>F58,1,0)+(IF(G57>G58,1,0)))))","v":""},"P26",{"$f":"IF(H57=H58,IF(D57=\"Bye\",D58,IF(D58=\"Bye\",D57)),(IF(ISBLANK(E57),\"\",IF(H57>H58,D57,D58))))","v":false},null,"(V14)",null,null,null,{"$f":"IF(P56=FALSE,\"\",P56)","v":""},null,null,null,{"$f":"IF(ISBLANK(Q57),\"\",SUM(IF(Q57>Q61,1,0)+(IF(R57>R61,1,0)+(IF(S57>S61,1,0)))))","v":""},null,null,null,null,null,null,null,null,null,null,null,null,null,null,null,null,null,null,null,null,null,null,null,null,null,null,null,null,null,null,null,null,null,null,null,null,null,null,null,null,null,null,null,null,null,null,null,null,null,null,null,null,null,null,null,"46º",null,null,{"$f":"IF($H$33=$H$34,\"\",IF($H$33>$H$34,$D$34,$D$33))","v":""},1,null,null,46,null,null,null,null,null,null,null,null,null,null,78]
[null,52,null,0,null,null,null,{"$f":"IF(ISBLANK(E57),\"\",SUM(IF(E58>E57,1,0)+(IF(F58>F57,1,0)+(IF(G58>G57,1,0)))))","v":""},null,{"$f":"IF(J57=FALSE,\"\",J57)","v":""},null,null,null,{"$f":"IF(ISBLANK(K56),\"\",SUM(IF(K58>K56,1,0)+(IF(L58>L56,1,0)+(IF(M58>M56,1,0)))))","v":""},null,null,null,null,null,null,null,{"$f":"IF(T57=T61,IF(P57=\"Bye\",P61,IF(P61=\"Bye\",P61)),(IF(ISBLANK(Q57),\"\",IF(T57>T61,P57,P61))))","v":false},null,null,null,"P60",null,null,null,null,null,null,null,null,null,null,null,null,null,null,null,null,null,null,null,null,null,null,null,null,null,null,null,null,null,null,null,null,null,null,null,null,null,null,null,null,null,null,null,null,null,null,null,null,null,"47º",null,null,{"$f":"IF($H$35=$H$36,\"\",IF($H$35>$H$36,$D$36,$D$35))","v":""},1,null,null,47,null,null,null,null,null,null,null,null,null,null,79]
[null,53,null,0,null,null,null,{"$f":"IF(ISBLANK(E59),\"\",SUM(IF(E59>E60,1,0)+(IF(F59>F60,1,0)+(IF(G59>G60,1,0)))))","v":""},"P27",{"$f":"IF(H59=H60,IF(D59=\"Bye\",D60,IF(D60=\"Bye\",D59)),(IF(ISBLANK(E59),\"\",IF(H59>H60,D59,D60))))","v":false},null,null,null,"P46",null,"(V24)",null,null,null,null,null,{"$f":"IF(V58=FALSE,\"\",V58)","v":""},null,null,null,{"$f":"IF(ISBLANK(W59),\"\",SUM(IF(W59>W67,1,0)+(IF(X59>X67,1,0)+(IF(Y59>Y67,1,0)))))","v":""},null,null,null,null,null,null,null,null,null,null,null,null,null,null,null,null,null,null,null,null,null,null,null,null,null,null,null,null,null,null,null,null,null,null,null,null,null,null,null,null,null,null,null,null,null,null,null,null,null,"48º",null,null,{"$f":"IF($H$37=$H$38,\"\",IF($H$37>$H$38,$D$38,$D$37))","v":""},1,null,null,48,null,null,null,null,null,null,null,null,null,null,80]
[null,54,null,0,null,null,null,{"$f":"IF(ISBLANK(E59),\"\",SUM(IF(E60>E59,1,0)+(IF(F60>F59,1,0)+(IF(G60>G59,1,0)))))","v":""},null,{"$f":"IF(J59=FALSE,\"\",J59)","v":""},null,null,null,{"$f":"IF(ISBLANK(K60),\"\",SUM(IF(K60>K62,1,0)+(IF(L60>L62,1,0)+(IF(M60>M62,1,0)))))","v":""},null,{"$f":"IF(N60=N62,IF(J60=\"Bye\",J62,IF(J62=\"Bye\",J60)),(IF(ISBLANK(K60),\"\",IF(N60>N62,J60,J62))))","v":false},null,null,null,null,null,null,null,null,null,null,null,null,null,null,null,null,null,null,null,null,null,null,null,null,null,null,null,null,null,null,null,null,null,null,null,null,null,null,null,null,null,null,null,null,null,null,null,null,null,null,null,null,null,null,null,null,null,null,null,"49º",null,null,{"$f":"IF($H$39=$H$40,\"\",IF($H$39>$H$40,$D$40,$D$39))","v":""},1,null,null,49,null,null,null,null,null,null,null,null,null,null,49]
[null,55,null,0,null,null,null,{"$f":"IF(ISBLANK(E61),\"\",SUM(IF(E61>E62,1,0)+(IF(F61>F62,1,0)+(IF(G61>G62,1,0)))))","v":""},"P28",{"$f":"IF(H61=H62,IF(D61=\"Bye\",D62,IF(D62=\"Bye\",D61)),(IF(ISBLANK(E61),\"\",IF(H61>H62,D61,D62))))","v":false},null,"(V13)",null,null,null,{"$f":"IF(P60=FALSE,\"\",P60)","v":""},null,null,null,{"$f":"IF(ISBLANK(Q61),\"\",SUM(IF(Q61>Q57,1,0)+(IF(R61>R57,1,0)+(IF(S61>S57,1,0)))))","v":""},null,null,null,null,null,null,null,null,null,null,null,null,null,null,null,null,null,null,null,null,null,null,null,null,null,null,null,null,null,null,null,null,null,null,null,null,null,null,null,null,null,null,null,null,null,null,null,null,null,null,null,null,null,null,null,"50º",null,null,{"$f":"IF($H$41=$H$42,\"\",IF($H$41>$H$42,$D$42,$D$41))","v":""},1,null,null,50,null,null,null,null,null,null,null,null,null,null,50]
[null,56,null,0,null,null,null,{"$f":"IF(ISBLANK(E61),\"\",SUM(IF(E62>E61,1,0)+(IF(F62>F61,1,0)+(IF(G62>G61,1,0)))))","v":""},null,{"$f":"IF(J61=FALSE,\"\",J61)","v":""},null,null,null,{"$f":"IF(ISBLANK(K60),\"\",SUM(IF(K62>K60,1,0)+(IF(L62>L60,1,0)+(IF(M62>M60,1,0)))))","v":""},null,null,null,null,null,null,null,null,null,null,null,null,null,{"$f":"IF(Z59=Z67,IF(V59=\"Bye\",V67,IF(V67=\"Bye\",V67)),(IF(ISBLANK(W59),\"\",IF(Z59>Z67,V59,V67))))","v":false},null,null,null,null,null,null,null,null,null,null,null,null,null,null,null,null,null,null,null,null,null,null,null,null,null,null,null,null,null,null,null,null,null,null,null,null,null,null,null,null,null,null,null,null,null,null,null,"51º",null,null,{"$f":"IF($H$43=$H$44,\"\",IF($H$43>$H$44,$D$44,$D$43))","v":""},1,null,null,51,null,null,null,null,null,null,null,null,null,null,51]
[null,57,null,0,null,null,null,{"$f":"IF(ISBLANK(E63),\"\",SUM(IF(E63>E64,1,0)+(IF(F63>F64,1,0)+(IF(G63>G64,1,0)))))","v":""},"P29",{"$f":"IF(H63=H64,IF(D63=\"Bye\",D64,IF(D64=\"Bye\",D63)),(IF(ISBLANK(E63),\"\",IF(H63>H64,D63,D64))))","v":false},null,null,null,"P47",null,null,null,null,null,null,null,"(V27)",null,null,null,null,null,{"$f":"IF(AB62=FALSE,\"\",AB62)","v":""},null,null,null,{"$f":"IF(ISBLANK(AC63),\"\",SUM(IF(AC63>AC47,1,0)+(IF(AD63>AD47,1,0)+(IF(AE63>AE47,1,0)))))","v":""},null,null,null,null,null,null,null,null,null,null,null,null,null,null,null,null,null,null,null,null,null,null,null,null,null,null,null,null,null,null,null,null,null,null,null,null,null,null,null,null,null,null,null,"52º",null,null,{"$f":"IF($H$45=$H$46,\"\",IF($H$45>$H$46,$D$46,$D$45))","v":""},1,null,null,52,null,null,null,null,null,null,null,null,null,null,52]
[null,58,null,0,null,null,null,{"$f":"IF(ISBLANK(E63),\"\",SUM(IF(E64>E63,1,0)+(IF(F64>F63,1,0)+(IF(G64>G63,1,0)))))","v":""},null,{"$f":"IF(J63=FALSE,\"\",J63)","v":""},null,null,null,{"$f":"IF(ISBLANK(K64),\"\",SUM(IF(K64>K66,1,0)+(IF(L64>L66,1,0)+(IF(M64>M66,1,0)))))","v":""},null,{"$f":"IF(N64=N66,IF(J64=\"Bye\",J66,IF(J66=\"Bye\",J64)),(IF(ISBLANK(K64),\"\",IF(N64>N66,J64,J66))))","v":false},null,null,null,"P56",null,null,null,null,null,null,null,null,null,null,null,null,null,null,null,null,null,null,null,null,null,null,null,null,null,null,null,null,null,null,null,null,null,null,null,null,null,null,null,null,null,null,null,null,null,null,null,null,null,null,null,null,null,null,null,"53º",null,null,{"$f":"IF($H$47=$H$48,\"\",IF($H$47>$H$48,$D$48,$D$47))","v":""},1,null,null,53,null,null,null,null,null,null,null,null,null,null,53]
[null,59,null,{"$f":"CG70","v":0},null,null,null,{"$f":"IF(ISBLANK(E65),\"\",SUM(IF(E65>E66,1,0)+(IF(F65>F66,1,0)+(IF(G65>G66,1,0)))))","v":""},"P30",{"$f":"IF(H65=H66,IF(D65=\"Bye\",D66,IF(D66=\"Bye\",D65)),(IF(ISBLANK(E65),\"\",IF(H65>H66,D65,D66))))","v":false},null,"(V16)",null,null,null,{"$f":"IF(P64=FALSE,\"\",P64)","v":""},null,null,null,{"$f":"IF(ISBLANK(Q65),\"\",SUM(IF(Q65>Q69,1,0)+(IF(R65>R69,1,0)+(IF(S65>S69,1,0)))))","v":""},null,null,null,null,null,null,null,null,null,null,null,null,null,null,null,null,null,null,null,null,null,null,null,null,null,null,null,null,null,null,null,null,null,null,null,null,null,null,null,null,null,null,null,null,null,null,null,null,null,null,null,null,null,null,null,"54º",null,null,{"$f":"IF($H$49=$H$50,\"\",IF($H$49>$H$50,$D$50,$D$49))","v":""},1,null,null,54,null,null,null,null,null,null,null,null,null,null,54]
[null,60,null,0,null,null,null,{"$f":"IF(ISBLANK(E65),\"\",SUM(IF(E66>E65,1,0)+(IF(F66>F65,1,0)+(IF(G66>G65,1,0)))))","v":""},null,{"$f":"IF(J65=FALSE,\"\",J65)","v":""},null,null,null,{"$f":"IF(ISBLANK(K64),\"\",SUM(IF(K66>K64,1,0)+(IF(L66>L64,1,0)+(IF(M66>M64,1,0)))))","v":""},null,null,null,null,null,null,null,{"$f":"IF(T65=T69,IF(P65=\"Bye\",P69,IF(P69=\"Bye\",P69)),(IF(ISBLANK(Q65),\"\",IF(T65>T69,P65,P69))))","v":false},null,null,null,null,null,null,null,null,null,null,null,null,null,null,null,null,null,null,null,null,null,null,null,null,null,null,null,null,null,null,null,null,null,null,null,null,null,null,null,null,null,null,null,null,null,null,null,null,null,null,null,null,null,"55º",null,null,{"$f":"IF($H$51=$H$52,\"\",IF($H$51>$H$52,$D$52,$D$51))","v":""},1,null,null,55,null,null,null,null,null,null,null,null,null,null,55]
[null,61,null,0,null,null,null,{"$f":"IF(ISBLANK(E67),\"\",SUM(IF(E67>E68,1,0)+(IF(F67>F68,1,0)+(IF(G67>G68,1,0)))))","v":""},"P31",{"$f":"IF(H67=H68,IF(D67=\"Bye\",D68,IF(D68=\"Bye\",D67)),(IF(ISBLANK(E67),\"\",IF(H67>H68,D67,D68))))","v":false},null,null,null,"P48",null,"(V23)",null,null,null,null,null,{"$f":"IF(V66=FALSE,\"\",V66)","v":""},null,null,null,{"$f":"IF(ISBLANK(W67),\"\",SUM(IF(W67>W59,1,0)+(IF(X67>X59,1,0)+(IF(Y67>Y59,1,0)))))","v":""},null,null,null,null,null,null,null,null,null,null,null,null,null,null,null,null,null,null,null,null,null,null,null,null,null,null,null,null,null,null,null,null,null,null,null,null,null,null,null,null,null,null,null,null,null,null,null,null,null,"56º",null,null,{"$f":"IF($H$53=$H$54,\"\",IF($H$53>$H$54,$D$54,$D$53))","v":""},1,null,null,56,null,null,null,null,null,null,null,null,null,null,56]
[null,62,null,0,null,null,null,{"$f":"IF(ISBLANK(E67),\"\",SUM(IF(E68>E67,1,0)+(IF(F68>F67,1,0)+(IF(G68>G67,1,0)))))","v":""},null,{"$f":"IF(J67=FALSE,\"\",J67)","v":""},null,null,null,{"$f":"IF(ISBLANK(K68),\"\",SUM(IF(K68>K70,1,0)+(IF(L68>L70,1,0)+(IF(M68>M70,1,0)))))","v":""},null,{"$f":"IF(N68=N70,IF(J68=\"Bye\",J70,IF(J70=\"Bye\",J68)),(IF(ISBLANK(K68),\"\",IF(N68>N70,J68,J70))))","v":false},null,null,null,null,null,null,null,null,null,null,null,null,null,null,null,null,null,null,null,null,null,null,null,null,null,null,null,null,null,null,null,null,null,null,null,null,null,null,null,null,null,null,null,null,null,null,null,null,null,null,null,null,null,null,null,null,null,null,null,"57º",null,null,{"$f":"IF($H$55=$H$56,\"\",IF($H$55>$H$56,$D$56,$D$55))","v":""},1,null,null,57,null,null,null,null,null,null,null,null,null,null,57]
[null,63,null,0,null,null,null,{"$f":"IF(ISBLANK(E69),\"\",SUM(IF(E69>E70,1,0)+(IF(F69>F70,1,0)+(IF(G69>G70,1,0)))))","v":""},"P32",{"$f":"IF(H69=H70,IF(D69=\"Bye\",D70,IF(D70=\"Bye\",D69)),(IF(ISBLANK(E69),\"\",IF(H69>H70,D69,D70))))","v":false},null,"(V15)",null,null,null,{"$f":"IF(P68=FALSE,\"\",P68)","v":""},null,null,null,{"$f":"IF(ISBLANK(Q69),\"\",SUM(IF(Q69>Q65,1,0)+(IF(R69>R65,1,0)+(IF(S69>S65,1,0)))))","v":""},null,null,null,null,null,null,null,null,null,null,null,null,null,null,null,null,null,null,null,null,null,null,null,null,null,null,null,null,null,null,null,null,null,null,null,null,null,null,null,null,null,null,null,null,null,null,null,null,null,null,null,null,null,null,null,"58º",null,null,{"$f":"IF($H$57=$H$58,\"\",IF($H$57>$H$58,$D$58,$D$57))","v":""},1,null,null,58,null,null,null,null,null,null,null,null,null,null,58]
[null,64,null,0,null,null,null,{"$f":"IF(ISBLANK(E69),\"\",SUM(IF(E70>E69,1,0)+(IF(F70>F69,1,0)+(IF(G70>G69,1,0)))))","v":""},null,{"$f":"IF(J69=FALSE,\"\",J69)","v":""},null,null,null,{"$f":"IF(ISBLANK(K68),\"\",SUM(IF(K70>K68,1,0)+(IF(L70>L68,1,0)+(IF(M70>M68,1,0)))))","v":""},null,null,null,null,null,null,null,null,null,null,null,null,null,null,null,null,null,null,null,null,null,null,null,null,null,null,null,null,null,null,null,null,null,null,null,null,null,null,null,null,null,null,null,null,null,null,null,null,null,null,null,null,null,null,null,null,null,null,null,null,null,"59º",null,null,{"$f":"IF($H$59=$H$60,\"\",IF($H$59>$H$60,$D$60,$D$59))","v":""},1,null,null,59,null,null,null,null,null,null,null,null,null,null,59]
[null,null,null,null,null,null,null,null,null,null,null,null,null,null,null,null,null,null,null,null,null,null,null,null,null,null,null,null,null,null,null,null,null,null,null,null,null,null,null,null,null,null,null,null,null,null,null,null,null,null,null,null,null,null,null,null,null,null,null,null,null,null,null,null,null,null,null,null,null,null,null,null,null,null,null,"60º",null,null,{"$f":"IF($H$61=$H$62,\"\",IF($H$61>$H$62,$D$62,$D$61))","v":""},1,null,null,60,null,null,null,null,null,null,null,null,null,null,60]
[null,null,null,null,null,null,null,null,null,null,null,null,null,null,null,null,null,null,null,null,null,null,null,null,null,null,null,null,null,null,null,null,null,null,null,null,null,null,null,null,null,null,null,null,null,null,null,null,null,null,null,null,null,null,null,null,null,null,null,null,null,null,null,null,null,null,null,null,null,null,null,null,null,null,null,"61º",null,null,{"$f":"IF($H$63=$H$64,\"\",IF($H$63>$H$64,$D$64,$D$63))","v":""},1,null,null,61,null,null,null,null,null,null,null,null,null,null,61]
[null,null,null,null,null,null,null,null,null,null,null,null,null,null,null,null,null,null,null,null,null,null,null,null,null,null,null,null,null,null,null,null,null,null,null,null,null,null,null,null,null,null,null,null,null,null,null,null,null,null,null,null,null,null,null,null,null,null,null,null,null,null,null,null,null,null,null,null,null,null,null,null,null,null,null,"62º",null,null,{"$f":"IF($H$65=$H$66,\"\",IF($H$65>$H$66,$D$66,$D$65))","v":""},1,null,null,62,null,null,null,null,null,null,null,null,null,null,62]
[null,null,null,null,null,null,null,null,null,null,null,null,null,null,null,null,null,null,null,null,null,null,null,null,null,null,null,null,null,null,null,null,null,null,null,null,null,null,null,null,null,null,null,null,null,null,null,null,null,null,null,null,null,null,null,null,null,null,null,null,null,null,null,null,null,null,null,null,null,null,null,null,null,null,null,"63º",null,null,{"$f":"IF($H$67=$H$68,\"\",IF($H$67>$H$68,$D$68,$D$67))","v":""},1,null,null,63,null,null,null,null,null,null,null,null,null,null,63]
[null,null,null,null,null,null,null,null,null,null,null,null,null,null,null,null,null,null,null,null,null,null,null,null,null,null,null,null,null,null,null,null,null,null,null,null,null,null,null,null,null,null,null,null,null,null,null,null,null,null,null,null,null,null,null,null,null,null,null,null,null,null,null,null,null,null,null,null,null,null,null,null,null,null,null,"64º",null,null,{"$f":"IF($H$69=$H$70,\"\",IF($H$69>$H$70,$D$70,$D$69))","v":""},1,null,null,64,null,null,null,null,null,null,null,null,null,null,64]

{"sheet":"T642derrota","index":4,"n_rows":76,"n_cols":176,"rows_kept":76,"cut":false,"hidden":true,"merged":[[2,69,2,73],[3,18,3,24],[4,12,4,14],[6,60,6,61],[6,67,7,67],[7,60,7,61],[8,60,8,61],[8,67,9,67],[9,60,9,61],[1,11,1,20],[2,11,2,20],[11,27,11,31],[11,60,11,61],[11,134,11,136],[11,138,11,139],[12,60,12,61],[12,67,13,67],[12,134,12,136],[12,138,12,139],[9,134,9,139],[10,33,10,37],[10,40,10,44],[10,60,10,61],[10,67,11,67],[10,74,10,78],[10,134,10,136],[10,138,10,139],[13,20,15,20],[13,27,15,27],[13,60,13,61],[13,134,13,136],[13,138,13,139],[14,24,14,25],[14,31,14,32],[14,60,14,61],[14,67,15,67],[14,80,14,84],[16,138,16,139],[17,60,17,61],[17,134,17,136],[17,138,17,139],[14,92,14,96],[14,134,14,136],[14,138,14,139],[14,168,15,168],[15,60,15,61],[15,134,15,136],[15,138,15,139],[18,33,18,37],[18,40,18,44],[18,60,18,61],[18,67,19,67],[18,74,18,78],[18,134,18,136],[16,60,16,61],[16,67,17,67],[16,134,16,136],[18,138,18,139],[19,60,19,61],[19,92,19,96],[19,134,19,136],[19,138,19,139],[20,60,20,61],[20,67,21,67],[20,134,20,136],[20,138,20,139],[21,7,23,7],[21,14,23,14],[21,60,21,61],[21,134,21,136],[21,138,21,139],[22,11,22,12],[22,18,22,19],[22,60,22,61],[22,67,23,67],[22,86,22,90],[22,134,22,136],[22,138,22,139],[23,60,23,61],[23,134,23,136],[23,138,23,139],[24,60,24,61],[24,67,25,67],[24,134,24,136],[24,138,24,139],[25,60,25,61],[27,27,27,31],[27,60,27,61],[27,134,27,136],[27,138,27,139],[28,60,28,61],[28,67,29,67],[28,134,28,136],[28,138,28,139],[25,86,25,89],[25,134,25,136],[25,138,25,139],[26,33,26,37],[26,40,26,44],[26,60,26,61],[26,67,27,67],[26,74,26,78],[26,134,26,136],[26,138,26,139],[33,15,35,15],[33,16,35,16],[33,60,33,61],[33,134,33,136],[33,138,33,139],[30,134,30,136],[30,138,30,139],[31,60,31,61],[31,92,31,96],[31,134,31,136],[31,138,31,139],[29,20,31,20],[29,27,31,27],[29,60,29,61],[29,134,29,136],[29,138,29,139],[30,24,30,25],[30,31,30,32],[30,60,30,61],[30,67,31,67],[30,80,30,84],[34,33,34,37],[34,40,34,44],[34,60,34,61],[34,67,35,67],[34,74,34,78],[34,134,34,136],[32,60,32,61],[32,67,33,67],[32,92,32,96],[32,134,32,136],[34,138,34,139],[35,60,35,61],[35,134,35,136],[35,138,35,139],[32,138,32,139],[36,60,36,61],[36,67,37,67],[36,134,36,136],[36,138,36,139],[37,60,37,61],[37,92,37,96],[39,138,39,139],[37,134,37,136],[37,138,37,139],[38,8,38,12],[38,14,38,18],[38,20,38,24],[38,60,38,61],[38,67,39,67],[38,92,38,96],[38,134,38,136],[38,138,38,139],[41,12,41,14],[41,15,43,15],[41,16,43,16],[41,60,41,61],[41,134,41,136],[39,8,39,12],[39,14,39,18],[39,20,39,24],[39,60,39,61],[39,134,39,136],[41,138,41,139],[42,33,42,37],[42,40,42,44],[42,60,42,61],[42,67,43,67],[42,74,42,78],[42,134,42,136],[42,138,42,139],[40,60,40,61],[40,67,41,67],[40,92,40,96],[40,134,40,136],[40,138,40,139],[43,12,43,14],[43,27,43,31],[43,60,43,61],[43,134,43,136],[43,138,43,139],[44,60,44,61],[44,67,45,67],[44,134,44,136],[44,138,44,139],[45,20,47,20],[45,27,47,27],[45,60,45,61],[45,134,45,136],[45,138,45,139],[46,24,46,25],[46,31,46,32],[46,60,46,61],[46,67,47,67],[46,80,46,84],[46,134,46,136],[46,138,46,139],[47,60,47,61],[47,134,47,136],[47,138,47,139],[48,60,48,61],[48,67,49,67],[48,134,48,136],[48,138,48,139],[49,60,49,61],[49,134,49,136],[53,7,55,7],[53,14,55,14],[53,60,53,61],[53,134,53,136],[53,138,53,139],[49,138,49,139],[50,33,50,37],[50,40,50,44],[50,60,50,61],[50,67,51,67],[50,74,50,78],[50,134,50,136],[50,138,50,139],[51,60,51,61],[51,134,51,136],[54,11,54,12],[54,18,54,19],[54,60,54,61],[54,67,55,67],[54,86,54,90],[54,134,54,136],[51,138,51,139],[52,60,52,61],[52,67,53,67],[52,134,52,136],[52,138,52,139],[54,138,54,139],[55,60,55,61],[55,134,55,136],[55,138,55,139],[56,60,56,61],[56,67,57,67],[56,134,56,136],[56,138,56,139],[57,60,57,61],[57,134,57,136],[59,27,59,31],[59,60,59,61],[59,134,59,136],[59,138,59,139],[60,60,60,61],[60,67,61,67],[60,134,60,136],[60,138,60,139],[57,138,57,139],[58,33,58,37],[58,40,58,44],[58,60,58,61],[58,67,59,67],[58,74,58,78],[58,134,58,136],[58,138,58,139],[61,20,63,20],[61,27,63,27],[61,60,61,61],[61,134,61,136],[61,138,61,139],[62,24,62,25],[62,31,62,32],[62,60,62,61],[62,67,63,67],[62,80,62,84],[66,40,66,44],[66,60,66,61],[66,67,67,67],[66,74,66,78],[66,134,66,136],[66,138,66,139],[67,60,67,61],[62,134,62,136],[62,138,62,139],[63,60,63,61],[63,134,63,136],[63,138,63,139],[64,60,64,61],[64,67,65,67],[64,134,64,136],[64,138,64,139],[65,60,65,61],[73,134,73,136],[73,138,73,139],[74,134,74,136],[74,138,74,139],[3,0,3,1],[3,2,3,7],[70,134,70,136],[70,138,70,139],[71,134,71,136],[71,138,71,139],[72,134,72,136],[72,138,72,139],[67,134,67,136],[67,138,67,139],[68,60,68,61],[68,67,69,67],[68,134,68,136],[68,138,68,139],[69,60,69,61],[69,134,69,136],[69,138,69,139],[65,134,65,136],[65,138,65,139],[66,33,66,37]]}
[null,null,null,null,null,null,null,null,null,null,null,"Direcção Regional de Educação do Algarve"]
[null,null,null,null,null,null,null,null,null,null,null,{"$f":"\"Ano Lectivo \"&[1]Apoio!$F$10","v":"Ano Lectivo 2016/2017"},null,null,null,null,null,null,null,null,null,null,null,null,null,null,null,null,null,null,null,null,null,null,null,null,null,null,null,null,null,null,null,null,null,null,null,null,null,null,null,null,null,null,null,null,null,null,null,null,null,null,null,null,null,null,null,null,null,null,null,null,null,null,null,null,null,null,null,null,null,null,null,null,null,null,null,null,null,null,null,null,null,null,null,null,null,null,null,null,null,null,null,null,null,null,null,null,null,null,null,null,null,null,null,null,null,null,null,null,null,null,null,null,null,null,null,null,null,null,null,null,{"$f":"SUM(EC4:EC21)","v":0}]
[null,null,null,null,null,null,null,null,null,null,null,null,null,null,null,null,null,null,null,null,null,null,null,null,null,null,null,null,null,null,null,null,null,null,null,null,null,null,null,null,null,null,null,null,null,null,null,null,null,null,null,null,null,null,null,null,null,null,null,null,null,null,null,null,null,null,null,null,null,{"$f":"'[1]Ficha de Inscrição'!$A$5","v":"Torneio Nº 7"},null,null,null,null,null,null,null,null,null,null,null,null,null,null,null,null,null,null,null,null,null,null,null,null,null,null,null,null,null,null,null,null,null,null,null,null,null,null,null,null,null,null,null,null,null,null,null,null,null,null,null,null,null,null,null,null,null,null,null,null,null,null,{"$f":"SUM(EC4:EC21)","v":0}]
["PH-Juv",null,{"$f":"LOOKUP(A4,Apoio!N9:N39,Apoio!O9:O39)","v":"Pares Homens - Juvenis"},null,null,null,null,null,null,null,null,null,null,null,null,null,null,null,{"$f":"\"Escola: \"&'[1]Ficha de Inscrição'!$D$4","v":"Escola: EB23 Dr A.C. Contreiras"},null,null,null,null,null,null,null,null,null,null,null,null,null,null,null,null,null,null,null,null,null,null,null,null,null,null,null,null,null,null,null,null,null,null,null,null,null,null,null,null,null,null,null,null,null,null,null,null,null,null,null,null,null,null,null,null,null,null,null,null,null,null,null,null,null,null,null,null,null,null,null,null,null,null,null,null,null,null,null,null,null,null,null,null,null,null,null,null,null,null,null,null,null,null,null,null,null,null,null,null,null,null,null,null,null,null,null,null,null,null,null,null,null,{"$f":"IF(ISBLANK(#REF!),COUNTA(EN13:$EN$28),0)","v":0}]
[null,null,null,null,null,null,null,null,null,null,null,{"$f":"IF(U11=U19,IF(Y11=\"Bye\",Y19,IF(Y19=\"Bye\",Y11)),(IF(ISBLANK(V11),\"\",IF(U11>U19,Y19,Y11))))","v":false},null,null,null,null,null,null,null,null,null,null,null,null,null,null,null,null,null,null,null,null,null,null,null,null,null,null,null,null,null,null,null,null,null,null,null,null,null,null,null,null,null,null,null,null,null,null,null,null,null,null,null,null,null,null,null,null,null,null,null,null,null,null,null,null,null,null,null,null,null,null,null,null,null,null,null,null,null,null,null,null,null,null,null,null,null,null,null,null,null,null,null,null,null,null,null,null,null,null,null,null,null,null,null,null,null,null,null,null,null,null,null,null,null,null,null,null,null,null,null,null,{"$f":"IF(ISBLANK(EN13),COUNTA(EN14:$EN$28),0)","v":0}]
[null,null,null,null,null,null,null,null,null,null,null,null,null,null,null,null,null,null,null,null,null,null,null,null,null,null,null,null,null,null,null,null,null,null,null,null,null,null,null,null,null,null,null,null,null,null,null,null,null,null,null,null,null,null,null,null,null,null,null,null,null,null,null,null,null,null,null,null,null,null,null,null,null,null,null,null,null,null,null,null,null,null,null,null,null,null,null,null,null,null,null,null,null,null,null,null,null,null,"Ordenar p/ DG 3",null,null,null,"Ordenar p/ GM 1",null,null,null,"Ordenar p/ GM 2",null,null,null,"Ordenar p/ GM 3",null,null,null,null,null,null,null,null,null,null,null,null,null,null,null,null,null,"Vencedores","Derrotados",null,null,{"$f":"IF(ISBLANK(#REF!),COUNTA(EN14:$EN$28),0)","v":0}]
[null,null,null,null,null,null,null,null,null,null,null,null,null,null,null,null,null,null,null,null,null,null,null,null,null,null,null,null,null,null,null,null,null,null,null,null,null,null,null,null,null,null,null,null,null,null,null,null,null,null,{"$f":"IF(BB8=BB10,IF(BF8=\"Bye\",BF10,IF(BF10=\"Bye\",BF8)),(IF(ISBLANK(BC8),\"\",IF(BB8>BB10,BF8,BF10))))","v":false},null,null,null,null,null,null,{"$f":"IF(BO7=BO8,IF(BK7=\"Bye\",BK8,IF(BK8=\"Bye\",BK7)),(IF(ISBLANK(BL7),\"\",IF(BO7>BO8,BK8,BK7))))","v":false},null,null,1,null,{"$f":"EN12","v":0},null,null,null,{"$f":"IF(ISBLANK(BL7),\"\",SUM(IF(BL7>BL8,1,0)+(IF(BM7>BM8,1,0)+(IF(BN7>BN8,1,0)))))","v":""},"P1",{"$f":"IF(BO7=BO8,IF(BK7=\"Bye\",BK8,IF(BK8=\"Bye\",BK7)),(IF(ISBLANK(BL7),\"\",IF(BO7>BO8,BK7,BK8))))","v":false},null,null,null,"P33",null,null,null,null,null,null,null,null,null,null,null,null,null,null,null,null,null,null,null,null,null,null,null,null,null,null,null,null,null,null,null,null,null,null,null,null,null,null,null,null,null,null,null,null,null,null,null,null,null,null,null,null,null,null,null,{"$f":"IF(#REF!<>\"\",IF(#REF!>L7,#REF!,IF(L7>#REF!,F7,\"Empate\")),\"\")","v":{"$error":"#REF!"}},{"$f":"IF(#REF!<>\"\",IF(#REF!<L7,#REF!,IF(L7<#REF!,F7,\"Empate\")),\"\")","v":{"$error":"#REF!"}},null,null,{"$f":"IF(ISBLANK(EN14),COUNTA(EN15:$EN$28),0)","v":0}]
[null,null,null,null,null,null,null,null,null,null,null,null,null,null,null,null,null,null,null,null,null,null,null,null,null,null,null,null,null,null,null,null,null,null,null,null,null,{"$f":"IF(AO9=AO13,IF(AS9=\"Bye\",AS13,IF(AS13=\"Bye\",AS9)),(IF(ISBLANK(AP9),\"\",IF(AO9>AO13,AS9,AS13))))","v":false},null,null,null,null,null,null,{"$f":"IF(AU8=AU10,IF(AY8=\"Bye\",AY10,IF(AY10=\"Bye\",AY8)),(IF(ISBLANK(AV8),\"\",IF(AU8>AU10,AY8,AY10))))","v":false},null,{"$f":"IF(ISBLANK(AV8),\"\",SUM(IF(AV8>AV10,1,0)+(IF(AW8>AW10,1,0)+(IF(AX8>AX10,1,0)))))","v":""},null,null,null,{"$f":"IF(AY7=FALSE,\"\",AY7)","v":""},null,null,{"$f":"IF(ISBLANK(BC8),\"\",SUM(IF(BC8>BC10,1,0)+(IF(BD8>BD10,1,0)+(IF(BE8>BE10,1,0)))))","v":""},null,null,null,{"$f":"IF(BF7=FALSE,\"\",BF7)","v":""},null,null,2,null,0,null,null,null,{"$f":"IF(ISBLANK(BL7),\"\",SUM(IF(BL8>BL7,1,0)+(IF(BM8>BM7,1,0)+(IF(BN8>BN7,1,0)))))","v":""},null,{"$f":"IF(BQ7=FALSE,\"\",BQ7)","v":""},null,null,null,{"$f":"IF(ISBLANK(BR8),\"\",SUM(IF(BR8>BR10,1,0)+(IF(BS8>BS10,1,0)+(IF(BT8>BT10,1,0)))))","v":""},null,{"$f":"IF(BU8=BU10,IF(BQ8=\"Bye\",BQ10,IF(BQ10=\"Bye\",BQ8)),(IF(ISBLANK(BR8),\"\",IF(BU8>BU10,BQ8,BQ10))))","v":false},null,null,null,"P81"]
[null,null,null,null,null,null,null,null,null,null,null,null,null,null,null,null,null,null,null,null,null,null,null,null,null,null,null,null,null,null,null,null,null,{"$f":"IF(ISBLANK(AI9),\"\",SUM(IF(AI9>AI13,1,0)+(IF(AJ9>AJ13,1,0)+(IF(AK9>AK13,1,0)))))","v":""},null,null,null,{"$f":"IF(AL8=FALSE,\"\",AL8)","v":""},null,null,{"$f":"IF(ISBLANK(AP9),\"\",SUM(IF(AP9>AP13,1,0)+(IF(AQ9>AQ13,1,0)+(IF(AR9>AR13,1,0)))))","v":""},null,null,null,{"$f":"IF(AS8=FALSE,\"\",AS8)","v":""},null,null,null,"P65",null,{"$f":"IF(BU12=BU14,IF(BQ12=\"Bye\",BQ14,IF(BQ14=\"Bye\",BQ12)),(IF(ISBLANK(BR12),\"\",IF(BU12>BU14,BQ14,BQ12))))","v":false},null,null,null,null,"P49",null,{"$f":"IF(BO9=BO10,IF(BK9=\"Bye\",BK10,IF(BK10=\"Bye\",BK9)),(IF(ISBLANK(BL9),\"\",IF(BO9>BO10,BK10,BK9))))","v":false},null,null,3,null,0,null,null,null,{"$f":"IF(ISBLANK(BL9),\"\",SUM(IF(BL9>BL10,1,0)+(IF(BM9>BM10,1,0)+(IF(BN9>BN10,1,0)))))","v":""},"P2",{"$f":"IF(BO9=BO10,IF(BK9=\"Bye\",BK10,IF(BK10=\"Bye\",BK9)),(IF(ISBLANK(BL9),\"\",IF(BO9>BO10,BK9,BK10))))","v":false},null,"(V2)",null,null,null,{"$f":"IF(BW8=FALSE,\"\",BW8)","v":""},null,null,null,{"$f":"IF(ISBLANK(BX9),\"\",SUM(IF(BX9>BX13,1,0)+(IF(BY9>BY13,1,0)+(IF(BZ9>BZ13,1,0)))))","v":""},null,null,null,null,null,null,null,null,null,null,null,null,null,null,null,null,null,null,null,{"$f":"IF(AND(#REF!=CS9,CT9>#REF!),#REF!,CR9)","v":{"$error":"#REF!"}},{"$f":"VLOOKUP(CU9,BP8:CA9,9,FALSE)","v":{"$error":"#REF!"}},{"$f":"VLOOKUP(CU9,BP8:CA9,8,FALSE)","v":{"$error":"#REF!"}},{"$f":"VLOOKUP(CU9,BP8:CA9,6,FALSE)","v":{"$error":"#REF!"}},{"$f":"IF(AND(CV9=#REF!,CW9=#REF!,#REF!>CX9),#REF!,CU9)","v":{"$error":"#REF!"}},{"$f":"VLOOKUP(CY9,BP8:CA9,9,FALSE)","v":{"$error":"#REF!"}},{"$f":"VLOOKUP(CY9,BP8:CA9,8,FALSE)","v":{"$error":"#REF!"}},{"$f":"VLOOKUP(CY9,BP8:CA9,6,FALSE)","v":{"$error":"#REF!"}},{"$f":"IF(AND(CZ8=CZ9,DA8=DA9,#REF!>DB8),CY8,CY9)","v":{"$error":"#REF!"}},{"$f":"VLOOKUP(DC9,BP8:CA9,9,FALSE)","v":{"$error":"#REF!"}},{"$f":"VLOOKUP(DC9,BP8:CA9,8,FALSE)","v":{"$error":"#REF!"}},{"$f":"VLOOKUP(DC9,BP8:CA9,6,FALSE)","v":{"$error":"#REF!"}},{"$f":"IF(AND(#REF!=DD9,#REF!=DE9,DF9>#REF!),#REF!,DC9)","v":{"$error":"#REF!"}},{"$f":"VLOOKUP(DG9,BP8:CA9,9,FALSE)","v":{"$error":"#REF!"}},{"$f":"VLOOKUP(DG9,BP8:CA9,8,FALSE)","v":{"$error":"#REF!"}},{"$f":"VLOOKUP(DG9,BP8:CA9,6,FALSE)","v":{"$error":"#REF!"}},null,null,null,{"$f":"DG9","v":{"$error":"#REF!"}},{"$f":"VLOOKUP(DN9,BP8:CA9,2,FALSE)","v":{"$error":"#REF!"}},{"$f":"VLOOKUP(DN9,BP8:CA9,3,FALSE)","v":{"$error":"#REF!"}},{"$f":"VLOOKUP(DN9,BP8:CA9,4,FALSE)","v":{"$error":"#REF!"}},{"$f":"VLOOKUP(DN9,BP8:CA9,5,FALSE)","v":{"$error":"#REF!"}},{"$f":"VLOOKUP(DN9,BP8:CA9,6,FALSE)","v":{"$error":"#REF!"}},{"$f":"VLOOKUP(DN9,BP8:CA9,7,FALSE)","v":{"$error":"#REF!"}},{"$f":"VLOOKUP(DN9,BP8:CA9,8,FALSE)","v":{"$error":"#REF!"}},{"$f":"VLOOKUP(DN9,BP8:CA9,9,FALSE)","v":{"$error":"#REF!"}},null,null,{"$f":"IF(T9<>\"\",IF(T9>#REF!,N9,IF(#REF!>T9,#REF!,\"Empate\")),\"\")","v":""},{"$f":"IF(T9<>\"\",IF(T9<#REF!,N9,IF(#REF!<T9,#REF!,\"Empate\")),\"\")","v":""},null,null,{"$f":"IF(ISBLANK(EN16),COUNTA(EN17:$EN$28),0)","v":0},null,null,null,null,null,null,null,null,null,null,null,null,null,null,null,null,null,null,null,null,null,null,null,null,null,null,null,null,null,null,null,null,null,null,null,"PROCV($EU$12;$AE$9:$AI$13;2;FALSO)"]
[null,null,null,null,null,null,null,null,null,null,null,null,null,null,null,null,null,null,null,null,null,null,null,null,{"$f":"IF(AB11=AB19,IF(AF11=\"Bye\",AF19,IF(AF19=\"Bye\",AF11)),(IF(ISBLANK(AC11),\"\",IF(AB11>AB19,AF11,AF19))))","v":false},null,null,null,null,null,null,{"$f":"IF(AH9=AH13,IF(AL9=\"Bye\",AL13,IF(AL13=\"Bye\",AL9)),(IF(ISBLANK(AI9),\"\",IF(AH9>AH13,AL9,AL13))))","v":false},null,null,null,null,null,null,null,null,null,null,null,null,null,null,{"$f":"IF(ISBLANK(AV8),\"\",SUM(IF(AV10>AV8,1,0)+(IF(AW10>AW8,1,0)+(IF(AX10>AX8,1,0)))))","v":""},null,null,null,{"$f":"IF(AY9=FALSE,\"\",AY9)","v":""},"(V1)",null,{"$f":"IF(ISBLANK(BC8),\"\",SUM(IF(BC10>BC8,1,0)+(IF(BD10>BD8,1,0)+(IF(BE10>BE8,1,0)))))","v":""},null,null,null,{"$f":"IF(BF9=FALSE,\"\",BF9)","v":""},null,null,4,null,0,null,null,null,{"$f":"IF(ISBLANK(BL9),\"\",SUM(IF(BL10>BL9,1,0)+(IF(BM10>BM9,1,0)+(IF(BN10>BN9,1,0)))))","v":""},null,{"$f":"IF(BQ9=FALSE,\"\",BQ9)","v":""},null,null,null,{"$f":"IF(ISBLANK(BR8),\"\",SUM(IF(BR10>BR8,1,0)+(IF(BS10>BS8,1,0)+(IF(BT10>BT8,1,0)))))","v":""},null,null,null,null,null,null,null,{"$f":"IF(CA9=CA13,IF(BW9=\"Bye\",BW13,IF(BW13=\"Bye\",BW13)),(IF(ISBLANK(BX9),\"\",IF(CA9>CA13,BW9,BW13))))","v":false},null,null,null,"P97",null,null,null,null,null,null,null,null,null,null,null,null,null,null,null,null,null,null,null,null,null,null,null,null,null,null,null,null,null,null,null,null,null,null,null,null,null,null,null,null,null,null,null,null,null,null,null,{"$f":"IF(ISBLANK(EN17),COUNTA(EN18:$EN$28),0)","v":0},null,"Classificação"]
[null,null,null,null,null,null,null,null,null,null,null,null,null,null,null,null,null,null,null,null,{"$f":"IF(ISBLANK(V11),\"\",SUM(IF(V11>V19,1,0)+(IF(W11>W19,1,0)+(IF(X11>X19,1,0)))))","v":""},null,null,null,{"$f":"IF(Y10=FALSE,\"\",Y10)","v":""},null,null,{"$f":"IF(ISBLANK(AC11),\"\",SUM(IF(AC11>AC19,1,0)+(IF(AD11>AD19,1,0)+(IF(AE11>AE19,1,0)))))","v":""},null,null,null,{"$f":"IF(AF10=FALSE,\"\",AF10)","v":""},null,"P101",null,null,null,null,null,null,"P89",null,null,null,null,null,null,null,null,null,{"$f":"IF(BB12=BB14,IF(BF12=\"Bye\",BF14,IF(BF14=\"Bye\",BF12)),(IF(ISBLANK(BC12),\"\",IF(BB12>BB14,BF12,BF14))))","v":false},null,null,null,null,null,null,{"$f":"IF(BO11=BO12,IF(BK11=\"Bye\",BK12,IF(BK12=\"Bye\",BK11)),(IF(ISBLANK(BL11),\"\",IF(BO11>BO12,BK12,BK11))))","v":false},null,null,5,null,0,null,null,null,{"$f":"IF(ISBLANK(BL11),\"\",SUM(IF(BL11>BL12,1,0)+(IF(BM11>BM12,1,0)+(IF(BN11>BN12,1,0)))))","v":""},"P3",{"$f":"IF(BO11=BO12,IF(BK11=\"Bye\",BK12,IF(BK12=\"Bye\",BK11)),(IF(ISBLANK(BL11),\"\",IF(BO11>BO12,BK11,BK12))))","v":false},null,null,null,"P34",null,"(V18)",null,null,null,null,null,{"$f":"IF(CC10=FALSE,\"\",CC10)","v":""},null,null,null,{"$f":"IF(ISBLANK(CD11),\"\",SUM(IF(CD11>CD19,1,0)+(IF(CE11>CE19,1,0)+(IF(CF11>CF19,1,0)))))","v":""},null,null,null,null,null,null,null,null,null,null,null,null,null,null,null,null,null,null,null,null,null,null,null,null,null,null,null,null,null,null,null,null,null,null,null,null,null,null,null,null,null,null,null,{"$f":"IF(#REF!<>\"\",IF(#REF!>L11,#REF!,IF(L11>#REF!,F11,\"Empate\")),\"\")","v":{"$error":"#REF!"}},{"$f":"IF(#REF!<>\"\",IF(#REF!<L11,#REF!,IF(L11<#REF!,F11,\"Empate\")),\"\")","v":{"$error":"#REF!"}},null,null,{"$f":"IF(ISBLANK(EN18),COUNTA(EN19:$EN$28),0)","v":0},null,"NºJ",null,null,"Nome","Pts",null,null,"Ordem","Nº","Nome (1º e último)","Escola","Abv.","Ano Nasc.","Escalão","Sexo","Observações","Insc. Prova",null,null,"VENCIDO (P49)","PM","PS","DIF","VENCIDO (P50)","PM","PM","DIF","VENCIDO (P51)","PM","PS","DIF","VENCIDO (P52)","PM","PM","DIF","VENCIDO (P49)",null,null,null,null,null,"PAULO JORGE NOBRE DOS SANTOS ÁGUAS"]
[null,null,null,null,null,null,null,null,null,null,null,null,null,null,null,null,null,null,null,null,null,null,null,null,null,null,null,null,null,null,null,null,null,null,null,null,null,{"$f":"IF(CA17=CA21,IF(BW17=\"Bye\",BW21,IF(BW21=\"Bye\",BW21)),(IF(ISBLANK(BX17),\"\",IF(CA17>CA21,BW21,BW17))))","v":false},null,null,null,null,null,null,{"$f":"IF(AU12=AU14,IF(AY12=\"Bye\",AY14,IF(AY14=\"Bye\",AY12)),(IF(ISBLANK(AV12),\"\",IF(AU12>AU14,AY12,AY14))))","v":false},null,{"$f":"IF(ISBLANK(AV12),\"\",SUM(IF(AV12>AV14,1,0)+(IF(AW12>AW14,1,0)+(IF(AX12>AX14,1,0)))))","v":""},null,null,null,{"$f":"IF(AY11=FALSE,\"\",AY11)","v":""},null,null,{"$f":"IF(ISBLANK(BC12),\"\",SUM(IF(BC12>BC14,1,0)+(IF(BD12>BD14,1,0)+(IF(BE12>BE14,1,0)))))","v":""},null,null,null,{"$f":"IF(BF11=FALSE,\"\",BF11)","v":""},null,null,6,null,0,null,null,null,{"$f":"IF(ISBLANK(BL11),\"\",SUM(IF(BL12>BL11,1,0)+(IF(BM12>BM11,1,0)+(IF(BN12>BN11,1,0)))))","v":""},null,{"$f":"IF(BQ11=FALSE,\"\",BQ11)","v":""},null,null,null,{"$f":"IF(ISBLANK(BR12),\"\",SUM(IF(BR12>BR14,1,0)+(IF(BS12>BS14,1,0)+(IF(BT12>BT14,1,0)))))","v":""},null,{"$f":"IF(BU12=BU14,IF(BQ12=\"Bye\",BQ14,IF(BQ14=\"Bye\",BQ12)),(IF(ISBLANK(BR12),\"\",IF(BU12>BU14,BQ12,BQ14))))","v":false},null,null,null,null,null,null,null,null,null,null,null,null,null,null,null,null,null,null,null,null,null,null,null,{"$f":"IF(AND(CS12=#REF!,#REF!>CT12),#REF!,CR12)","v":{"$error":"#REF!"}},{"$f":"VLOOKUP(CU12,BP12:CA13,9,FALSE)","v":{"$error":"#REF!"}},{"$f":"VLOOKUP(CU12,BP12:CA13,8,FALSE)","v":{"$error":"#REF!"}},{"$f":"VLOOKUP(CU12,BP12:CA13,6,FALSE)","v":{"$error":"#REF!"}},{"$f":"IF(AND(CV12=#REF!,CW12=#REF!,#REF!>CX12),#REF!,CU12)","v":{"$error":"#REF!"}},{"$f":"VLOOKUP(CY12,BP12:CA13,9,FALSE)","v":{"$error":"#REF!"}},{"$f":"VLOOKUP(CY12,BP12:CA13,8,FALSE)","v":{"$error":"#REF!"}},{"$f":"VLOOKUP(CY12,BP12:CA13,6,FALSE)","v":{"$error":"#REF!"}},{"$f":"IF(AND(CZ12=CZ13,DA12=DA13,DB13>DB12),CY13,CY12)","v":{"$error":"#REF!"}},{"$f":"VLOOKUP(DC12,BP12:CA13,9,FALSE)","v":{"$error":"#REF!"}},{"$f":"VLOOKUP(DC12,BP12:CA13,8,FALSE)","v":{"$error":"#REF!"}},{"$f":"VLOOKUP(DC12,BP12:CA13,6,FALSE)","v":{"$error":"#REF!"}},{"$f":"IF(AND(DD12=#REF!,DE12=#REF!,#REF!>DF12),#REF!,DC12)","v":{"$error":"#REF!"}},{"$f":"VLOOKUP(DG12,BP12:CA13,9,FALSE)","v":{"$error":"#REF!"}},{"$f":"VLOOKUP(DG12,BP12:CA13,8,FALSE)","v":{"$error":"#REF!"}},{"$f":"VLOOKUP(DG12,BP12:CA13,6,FALSE)","v":{"$error":"#REF!"}},null,null,null,{"$f":"DG12","v":{"$error":"#REF!"}},{"$f":"VLOOKUP(DN12,BP12:CA13,2,FALSE)","v":{"$error":"#REF!"}},{"$f":"VLOOKUP(DN12,BP12:CA13,3,FALSE)","v":{"$error":"#REF!"}},{"$f":"VLOOKUP(DN12,BP12:CA13,4,FALSE)","v":{"$error":"#REF!"}},{"$f":"VLOOKUP(DN12,BP12:CA13,5,FALSE)","v":{"$error":"#REF!"}},{"$f":"VLOOKUP(DN12,BP12:CA13,6,FALSE)","v":{"$error":"#REF!"}},{"$f":"VLOOKUP(DN12,BP12:CA13,7,FALSE)","v":{"$error":"#REF!"}},{"$f":"VLOOKUP(DN12,BP12:CA13,8,FALSE)","v":{"$error":"#REF!"}},{"$f":"VLOOKUP(DN12,BP12:CA13,9,FALSE)","v":{"$error":"#REF!"}},null,null,{"$f":"IF(L12<>\"\",IF(L12>#REF!,F12,IF(#REF!>L12,#REF!,\"Empate\")),\"\")","v":""},{"$f":"IF(L12<>\"\",IF(L12<#REF!,F12,IF(#REF!<L12,#REF!,\"Empate\")),\"\")","v":""},null,null,{"$f":"IF(ISBLANK(EN19),COUNTA(EN20:$EN$28),0)","v":0},null,"1º",null,null,{"$f":"CO32","v":""},12,null,null,1,null,null,null,null,null,null,null,null,null,null,null,null,{"$f":"VLOOKUP($EX$12,$AH$9:$AL$13,2,FALSE)","v":{"$error":"#N/A"}},null,null,null,null,null,null,null,null,null,null,null,null,null,"PROCV($FK$12;;2;FALSO)",{"$f":"IF(AH13=AH9,IF(AL13=\"Bye\",AL9,IF(AL9=\"Bye\",AL13)),(IF(ISBLANK(AI9),\"\",IF(AH13>AH9,AL9,AL13))))","v":false}]
[null,null,null,null,null,null,null,null,null,null,null,null,null,null,null,null,null,null,null,null,null,null,null,null,null,null,null,null,null,null,null,null,null,{"$f":"IF(ISBLANK(AI9),\"\",SUM(IF(AI13>AI9,1,0)+(IF(AJ13>AJ9,1,0)+(IF(AK13>AK9,1,0)))))","v":""},null,null,null,{"$f":"IF(AL12=FALSE,\"\",AL12)","v":""},"(V17)",null,{"$f":"IF(ISBLANK(AP13),\"\",SUM(IF(AP13>AP9,1,0)+(IF(AQ13>AQ9,1,0)+(IF(AR13>AR9,1,0)))))","v":""},null,null,null,{"$f":"IF(AS12=FALSE,\"\",AS12)","v":""},null,null,null,"P66",null,{"$f":"IF(BU8=BU10,IF(BQ8=\"Bye\",BQ10,IF(BQ10=\"Bye\",BQ8)),(IF(ISBLANK(BR8),\"\",IF(BU8>BU10,BQ10,BQ8))))","v":false},null,null,null,null,"P50",null,{"$f":"IF(BO13=BO14,IF(BK13=\"Bye\",BK14,IF(BK14=\"Bye\",BK13)),(IF(ISBLANK(BL13),\"\",IF(BO13>BO14,BK14,BK13))))","v":false},null,null,7,null,0,null,null,null,{"$f":"IF(ISBLANK(BL13),\"\",SUM(IF(BL13>BL14,1,0)+(IF(BM13>BM14,1,0)+(IF(BN13>BN14,1,0)))))","v":""},"P4",{"$f":"IF(BO13=BO14,IF(BK13=\"Bye\",BK14,IF(BK14=\"Bye\",BK13)),(IF(ISBLANK(BL13),\"\",IF(BO13>BO14,BK13,BK14))))","v":false},null,"(V1)",null,null,null,{"$f":"IF(BW12=FALSE,\"\",BW12)","v":""},null,null,null,{"$f":"IF(ISBLANK(BX13),\"\",SUM(IF(BX13>BX9,1,0)+(IF(BY13>BY9,1,0)+(IF(BZ13>BZ9,1,0)))))","v":""},null,null,null,null,null,null,null,null,null,null,null,null,null,null,null,null,null,null,null,{"$f":"IF(AND(#REF!=CS13,CT13>#REF!),#REF!,CR13)","v":{"$error":"#REF!"}},{"$f":"VLOOKUP(CU13,BP12:CA13,9,FALSE)","v":{"$error":"#REF!"}},{"$f":"VLOOKUP(CU13,BP12:CA13,8,FALSE)","v":{"$error":"#REF!"}},{"$f":"VLOOKUP(CU13,BP12:CA13,6,FALSE)","v":{"$error":"#REF!"}},{"$f":"IF(AND(CV13=#REF!,CW13=#REF!,#REF!>CX13),#REF!,CU13)","v":{"$error":"#REF!"}},{"$f":"VLOOKUP(CY13,BP12:CA13,9,FALSE)","v":{"$error":"#REF!"}},{"$f":"VLOOKUP(CY13,BP12:CA13,8,FALSE)","v":{"$error":"#REF!"}},{"$f":"VLOOKUP(CY13,BP12:CA13,6,FALSE)","v":{"$error":"#REF!"}},{"$f":"IF(AND(CZ12=CZ13,DA12=DA13,#REF!>DB12),CY12,CY13)","v":{"$error":"#REF!"}},{"$f":"VLOOKUP(DC13,BP12:CA13,9,FALSE)","v":{"$error":"#REF!"}},{"$f":"VLOOKUP(DC13,BP12:CA13,8,FALSE)","v":{"$error":"#REF!"}},{"$f":"VLOOKUP(DC13,BP12:CA13,6,FALSE)","v":{"$error":"#REF!"}},{"$f":"IF(AND(#REF!=DD13,#REF!=DE13,DF13>#REF!),#REF!,DC13)","v":{"$error":"#REF!"}},{"$f":"VLOOKUP(DG13,BP12:CA13,9,FALSE)","v":{"$error":"#REF!"}},{"$f":"VLOOKUP(DG13,BP12:CA13,8,FALSE)","v":{"$error":"#REF!"}},{"$f":"VLOOKUP(DG13,BP12:CA13,6,FALSE)","v":{"$error":"#REF!"}},null,null,null,{"$f":"DG13","v":{"$error":"#REF!"}},{"$f":"VLOOKUP(DN13,BP12:CA13,2,FALSE)","v":{"$error":"#REF!"}},{"$f":"VLOOKUP(DN13,BP12:CA13,3,FALSE)","v":{"$error":"#REF!"}},{"$f":"VLOOKUP(DN13,BP12:CA13,4,FALSE)","v":{"$error":"#REF!"}},{"$f":"VLOOKUP(DN13,BP12:CA13,5,FALSE)","v":{"$error":"#REF!"}},{"$f":"VLOOKUP(DN13,BP12:CA13,6,FALSE)","v":{"$error":"#REF!"}},{"$f":"VLOOKUP(DN13,BP12:CA13,7,FALSE)","v":{"$error":"#REF!"}},{"$f":"VLOOKUP(DN13,BP12:CA13,8,FALSE)","v":{"$error":"#REF!"}},{"$f":"VLOOKUP(DN13,BP12:CA13,9,FALSE)","v":{"$error":"#REF!"}},null,null,{"$f":"IF(T13<>\"\",IF(T13>#REF!,N13,IF(#REF!>T13,#REF!,\"Empate\")),\"\")","v":""},{"$f":"IF(T13<>\"\",IF(T13<#REF!,N13,IF(#REF!<T13,#REF!,\"Empate\")),\"\")","v":""},null,null,{"$f":"IF(ISBLANK(EN20),COUNTA(EN21:$EN$28),0)","v":0},null,"2º",null,null,{"$f":"IF(EH12=CO37,CO40,CO37)","v":""},11,null,null,2]
[null,null,null,null,null,null,null,null,null,null,null,{"$f":"IF(O15=O31,IF(S15=\"Bye\",S31,IF(S31=\"Bye\",S15)),(IF(ISBLANK(P15),\"\",IF(O15>O31,S15,S31))))","v":false},null,null,null,null,null,null,{"$f":"IF(U11=U19,IF(Y11=\"Bye\",Y19,IF(Y19=\"Bye\",Y11)),(IF(ISBLANK(V11),\"\",IF(U11>U19,Y11,Y19))))","v":false},null,"Vencedor",null,null,null,null,null,null,"Vencedor",null,null,null,null,null,null,null,null,null,null,null,null,null,null,null,null,null,null,{"$f":"IF(ISBLANK(AV12),\"\",SUM(IF(AV14>AV12,1,0)+(IF(AW14>AW12,1,0)+(IF(AX14>AX12,1,0)))))","v":""},null,null,null,{"$f":"IF(AY13=FALSE,\"\",AY13)","v":""},"(V2)",null,{"$f":"IF(ISBLANK(BC12),\"\",SUM(IF(BC14>BC12,1,0)+(IF(BD14>BD12,1,0)+(IF(BE14>BE12,1,0)))))","v":""},null,null,null,{"$f":"IF(BF13=FALSE,\"\",BF13)","v":""},null,null,8,null,0,null,null,null,{"$f":"IF(ISBLANK(BL13),\"\",SUM(IF(BL14>BL13,1,0)+(IF(BM14>BM13,1,0)+(IF(BN14>BN13,1,0)))))","v":""},null,{"$f":"IF(BQ13=FALSE,\"\",BQ13)","v":""},null,null,null,{"$f":"IF(ISBLANK(BR12),\"\",SUM(IF(BR14>BR12,1,0)+(IF(BS14>BS12,1,0)+(IF(BT14>BT12,1,0)))))","v":""},null,null,null,null,null,null,null,null,null,null,null,null,null,{"$f":"IF(CG11=CG19,IF(CC11=\"Bye\",CC19,IF(CC19=\"Bye\",CC19)),(IF(ISBLANK(CD11),\"\",IF(CG11>CG19,CC11,CC19))))","v":false},null,null,null,"P113",null,null,null,null,null,null,null,null,null,null,null,null,null,null,null,null,null,null,null,null,null,null,null,null,null,null,null,null,null,null,null,null,null,null,null,null,null,null,null,null,null,{"$f":"IF(ISBLANK(EN21),COUNTA(EN22:$EN$28),0)","v":0},null,"3º",null,null,{"$f":"O39","v":""},10,null,null,3,null,null,null,null,null,null,null,null,null,null,null,null,null,null,null,null,null,null,null,null,null,null,null,null,null,null,null,null,null,null,null,"PM","PS","DIF"]
[null,null,null,null,null,null,null,{"$f":"IF(ISBLANK(I15),\"\",SUM(IF(I15>I31,1,0)+(IF(J15>J31,1,0)+(IF(K15>K31,1,0)))))","v":""},null,null,null,{"$f":"IF(L14=FALSE,\"\",L14)","v":""},null,null,{"$f":"IF(ISBLANK(P15),\"\",SUM(IF(P15>P31,1,0)+(IF(Q15>Q31,1,0)+(IF(R15>R31,1,0)))))","v":""},null,null,null,{"$f":"IF(S14=FALSE,\"\",S14)","v":""},null,null,null,null,null,"P115",null,null,null,null,null,null,"P109",null,null,null,null,null,null,null,null,null,null,null,null,null,null,null,null,null,null,{"$f":"IF(BB16=BB18,IF(BF16=\"Bye\",BF18,IF(BF18=\"Bye\",BF16)),(IF(ISBLANK(BC16),\"\",IF(BB16>BB18,BF16,BF18))))","v":false},null,null,null,null,null,null,{"$f":"IF(BO15=BO16,IF(BK15=\"Bye\",BK16,IF(BK16=\"Bye\",BK15)),(IF(ISBLANK(BL15),\"\",IF(BO15>BO16,BK16,BK15))))","v":false},null,null,9,null,0,null,null,null,{"$f":"IF(ISBLANK(BL15),\"\",SUM(IF(BL15>BL16,1,0)+(IF(BM15>BM16,1,0)+(IF(BN15>BN16,1,0)))))","v":""},"P5",{"$f":"IF(BO15=BO16,IF(BK15=\"Bye\",BK16,IF(BK16=\"Bye\",BK15)),(IF(ISBLANK(BL15),\"\",IF(BO15>BO16,BK15,BK16))))","v":false},null,null,null,"P35",null,null,null,null,null,null,null,"(V26)",null,null,null,null,null,{"$f":"IF(CI14=FALSE,\"\",CI14)","v":""},null,null,null,{"$f":"IF(ISBLANK(CJ15),\"\",SUM(IF(CJ15>CJ31,1,0)+(IF(CK15>CK31,1,0)+(IF(CL15>CL31,1,0)))))","v":""},null,"FINALÍSSIMA",null,null,null,null,null,null,null,null,null,null,null,null,null,null,null,null,null,null,null,null,null,null,null,null,null,null,null,null,null,null,null,null,null,null,null,{"$f":"IF(#REF!<>\"\",IF(#REF!>L15,#REF!,IF(L15>#REF!,F15,\"Empate\")),\"\")","v":{"$error":"#REF!"}},{"$f":"IF(#REF!<>\"\",IF(#REF!<L15,#REF!,IF(L15<#REF!,F15,\"Empate\")),\"\")","v":{"$error":"#REF!"}},null,null,{"$f":"IF(ISBLANK(EN22),COUNTA(EN23:$EN$28),0)","v":0},null,"4º",null,null,{"$f":"U39","v":""},9,null,null,4,null,null,null,null,null,null,null,null,null,null,null,null,"p49",null,null,null,null,null,null,null,null,null,null,null,null,null,{"$f":"IF(AH13=AH9,IF(AL13=\"Bye\",AL9,IF(AL9=\"Bye\",AL13)),(IF(ISBLANK(AI9),\"\",IF(AH13>AH9,AL9,AL13))))","v":false},{"$f":"$AL$9","v":""},{"$f":"$AK$9","v":0},{"$f":"$AJ$9","v":0},{"$f":"$AI$9","v":0},{"$f":"FO15+FP15+FQ15","v":0},{"$f":"FO16+FP16+FQ16","v":0},{"$f":"FR15-FS15","v":0}]
[null,null,null,null,null,null,null,null,null,null,null,null,null,null,null,null,null,null,null,null,null,null,null,null,null,null,null,null,null,null,null,null,null,null,null,null,null,{"$f":"IF(AO17=AO21,IF(AS17=\"Bye\",AS21,IF(AS21=\"Bye\",AS17)),(IF(ISBLANK(AP17),\"\",IF(AO17>AO21,AS17,AS21))))","v":false},null,null,null,null,null,null,{"$f":"IF(AU16=AU18,IF(AY16=\"Bye\",AY18,IF(AY18=\"Bye\",AY16)),(IF(ISBLANK(AV16),\"\",IF(AU16>AU18,AY16,AY18))))","v":false},null,{"$f":"IF(ISBLANK(AV16),\"\",SUM(IF(AV16>AV18,1,0)+(IF(AW16>AW18,1,0)+(IF(AX16>AX18,1,0)))))","v":""},null,null,null,{"$f":"IF(AY15=FALSE,\"\",AY15)","v":""},null,null,{"$f":"IF(ISBLANK(BC16),\"\",SUM(IF(BC16>BC18,1,0)+(IF(BD16>BD18,1,0)+(IF(BE16>BE18,1,0)))))","v":""},null,null,null,{"$f":"IF(BF15=FALSE,\"\",BF15)","v":""},null,null,10,null,0,null,null,null,{"$f":"IF(ISBLANK(BL15),\"\",SUM(IF(BL16>BL15,1,0)+(IF(BM16>BM15,1,0)+(IF(BN16>BN15,1,0)))))","v":""},null,{"$f":"IF(BQ15=FALSE,\"\",BQ15)","v":""},null,null,null,{"$f":"IF(ISBLANK(BR16),\"\",SUM(IF(BR16>BR18,1,0)+(IF(BS16>BS18,1,0)+(IF(BT16>BT18,1,0)))))","v":""},null,{"$f":"IF(BU16=BU18,IF(BQ16=\"Bye\",BQ18,IF(BQ18=\"Bye\",BQ16)),(IF(ISBLANK(BR16),\"\",IF(BU16>BU18,BQ16,BQ18))))","v":false},null,null,null,"P82",null,null,null,null,null,null,null,null,null,null,null,null,null,null,null,null,null,"P128",null,{"$f":"IF(AND(CS16=#REF!,#REF!>CT16),#REF!,CR16)","v":{"$error":"#REF!"}},{"$f":"VLOOKUP(CU16,BP16:CA17,9,FALSE)","v":{"$error":"#REF!"}},{"$f":"VLOOKUP(CU16,BP16:CA17,8,FALSE)","v":{"$error":"#REF!"}},{"$f":"VLOOKUP(CU16,BP16:CA17,6,FALSE)","v":{"$error":"#REF!"}},{"$f":"IF(AND(CV16=#REF!,CW16=#REF!,#REF!>CX16),#REF!,CU16)","v":{"$error":"#REF!"}},{"$f":"VLOOKUP(CY16,BP16:CA17,9,FALSE)","v":{"$error":"#REF!"}},{"$f":"VLOOKUP(CY16,BP16:CA17,8,FALSE)","v":{"$error":"#REF!"}},{"$f":"VLOOKUP(CY16,BP16:CA17,6,FALSE)","v":{"$error":"#REF!"}},{"$f":"IF(AND(CZ16=CZ17,DA16=DA17,DB17>DB16),CY17,CY16)","v":{"$error":"#REF!"}},{"$f":"VLOOKUP(DC16,BP16:CA17,9,FALSE)","v":{"$error":"#REF!"}},{"$f":"VLOOKUP(DC16,BP16:CA17,8,FALSE)","v":{"$error":"#REF!"}},{"$f":"VLOOKUP(DC16,BP16:CA17,6,FALSE)","v":{"$error":"#REF!"}},{"$f":"IF(AND(DD16=#REF!,DE16=#REF!,#REF!>DF16),#REF!,DC16)","v":{"$error":"#REF!"}},{"$f":"VLOOKUP(DG16,BP16:CA17,9,FALSE)","v":{"$error":"#REF!"}},{"$f":"VLOOKUP(DG16,BP16:CA17,8,FALSE)","v":{"$error":"#REF!"}},{"$f":"VLOOKUP(DG16,BP16:CA17,6,FALSE)","v":{"$error":"#REF!"}},null,null,null,{"$f":"DG16","v":{"$error":"#REF!"}},{"$f":"VLOOKUP(DN16,BP16:CA17,2,FALSE)","v":{"$error":"#REF!"}},{"$f":"VLOOKUP(DN16,BP16:CA17,3,FALSE)","v":{"$error":"#REF!"}},{"$f":"VLOOKUP(DN16,BP16:CA17,4,FALSE)","v":{"$error":"#REF!"}},{"$f":"VLOOKUP(DN16,BP16:CA17,5,FALSE)","v":{"$error":"#REF!"}},{"$f":"VLOOKUP(DN16,BP16:CA17,6,FALSE)","v":{"$error":"#REF!"}},{"$f":"VLOOKUP(DN16,BP16:CA17,7,FALSE)","v":{"$error":"#REF!"}},{"$f":"VLOOKUP(DN16,BP16:CA17,8,FALSE)","v":{"$error":"#REF!"}},{"$f":"VLOOKUP(DN16,BP16:CA17,9,FALSE)","v":{"$error":"#REF!"}},null,null,{"$f":"IF(L16<>\"\",IF(L16>#REF!,F16,IF(#REF!>L16,#REF!,\"Empate\")),\"\")","v":""},{"$f":"IF(L16<>\"\",IF(L16<#REF!,F16,IF(#REF!<L16,#REF!,\"Empate\")),\"\")","v":""},null,null,{"$f":"IF(ISBLANK(EN23),COUNTA(EN24:$EN$28),0)","v":0},null,"5º",null,null,{"$f":"F43","v":""},8,null,null,5,null,null,null,null,null,null,null,null,null,null,null,null,null,null,null,null,null,null,null,null,null,null,null,null,null,null,null,{"$f":"$AL$13","v":""},{"$f":"$AK$13","v":0},{"$f":"$AJ$13","v":0},{"$f":"$AI$13","v":0},0,{"$f":"FO15+FP15+FQ15","v":0},0]
[null,null,null,null,null,null,null,null,null,null,null,null,null,null,null,null,null,null,null,null,null,null,null,null,null,null,null,null,null,null,null,null,null,{"$f":"IF(ISBLANK(AI17),\"\",SUM(IF(AI17>AI21,1,0)+(IF(AJ17>AJ21,1,0)+(IF(AK17>AK21,1,0)))))","v":""},null,null,null,{"$f":"IF(AL16=FALSE,\"\",AL16)","v":""},null,null,{"$f":"IF(ISBLANK(AP17),\"\",SUM(IF(AP17>AP21,1,0)+(IF(AQ17>AQ21,1,0)+(IF(AR17>AR21,1,0)))))","v":""},null,null,null,{"$f":"IF(AS16=FALSE,\"\",AS16)","v":""},null,null,null,"P67",null,{"$f":"IF(BU20=BU22,IF(BQ20=\"Bye\",BQ22,IF(BQ22=\"Bye\",BQ20)),(IF(ISBLANK(BR20),\"\",IF(BU20>BU22,BQ22,BQ20))))","v":false},null,null,null,null,"P51",null,{"$f":"IF(BO17=BO18,IF(BK17=\"Bye\",BK18,IF(BK18=\"Bye\",BK17)),(IF(ISBLANK(BL17),\"\",IF(BO17>BO18,BK18,BK17))))","v":false},null,null,11,null,0,null,null,null,{"$f":"IF(ISBLANK(BL17),\"\",SUM(IF(BL17>BL18,1,0)+(IF(BM17>BM18,1,0)+(IF(BN17>BN18,1,0)))))","v":""},"P6",{"$f":"IF(BO17=BO18,IF(BK17=\"Bye\",BK18,IF(BK18=\"Bye\",BK17)),(IF(ISBLANK(BL17),\"\",IF(BO17>BO18,BK17,BK18))))","v":false},null,"(V4)",null,null,null,{"$f":"IF(BW16=FALSE,\"\",BW16)","v":""},null,null,null,{"$f":"IF(ISBLANK(BX17),\"\",SUM(IF(BX17>BX21,1,0)+(IF(BY17>BY21,1,0)+(IF(BZ17>BZ21,1,0)))))","v":""},null,null,null,null,null,null,null,null,null,null,null,null,null,{"$f":"IF(CS37=CS40,\"\",IF(CS37>CS40,\"\",CO37))","v":""},null,null,null,{"$f":"IF(ISBLANK(CP17),\"\",SUM(IF(CP17>CP19,1,0)+(IF(CQ17>CQ19,1,0)+(IF(CR17>CR19,1,0)))))","v":""},null,{"$f":"IF(AND(#REF!=CS17,CT17>#REF!),#REF!,CR17)","v":{"$error":"#REF!"}},{"$f":"VLOOKUP(CU17,BP16:CA17,9,FALSE)","v":{"$error":"#REF!"}},{"$f":"VLOOKUP(CU17,BP16:CA17,8,FALSE)","v":{"$error":"#REF!"}},{"$f":"VLOOKUP(CU17,BP16:CA17,6,FALSE)","v":{"$error":"#REF!"}},{"$f":"IF(AND(CV17=#REF!,CW17=#REF!,#REF!>CX17),#REF!,CU17)","v":{"$error":"#REF!"}},{"$f":"VLOOKUP(CY17,BP16:CA17,9,FALSE)","v":{"$error":"#REF!"}},{"$f":"VLOOKUP(CY17,BP16:CA17,8,FALSE)","v":{"$error":"#REF!"}},{"$f":"VLOOKUP(CY17,BP16:CA17,6,FALSE)","v":{"$error":"#REF!"}},{"$f":"IF(AND(CZ16=CZ17,DA16=DA17,#REF!>DB16),CY16,CY17)","v":{"$error":"#REF!"}},{"$f":"VLOOKUP(DC17,BP16:CA17,9,FALSE)","v":{"$error":"#REF!"}},{"$f":"VLOOKUP(DC17,BP16:CA17,8,FALSE)","v":{"$error":"#REF!"}},{"$f":"VLOOKUP(DC17,BP16:CA17,6,FALSE)","v":{"$error":"#REF!"}},{"$f":"IF(AND(#REF!=DD17,#REF!=DE17,DF17>#REF!),#REF!,DC17)","v":{"$error":"#REF!"}},{"$f":"VLOOKUP(DG17,BP16:CA17,9,FALSE)","v":{"$error":"#REF!"}},{"$f":"VLOOKUP(DG17,BP16:CA17,8,FALSE)","v":{"$error":"#REF!"}},{"$f":"VLOOKUP(DG17,BP16:CA17,6,FALSE)","v":{"$error":"#REF!"}},null,null,null,{"$f":"DG17","v":{"$error":"#REF!"}},{"$f":"VLOOKUP(DN17,BP16:CA17,2,FALSE)","v":{"$error":"#REF!"}},{"$f":"VLOOKUP(DN17,BP16:CA17,3,FALSE)","v":{"$error":"#REF!"}},{"$f":"VLOOKUP(DN17,BP16:CA17,4,FALSE)","v":{"$error":"#REF!"}},{"$f":"VLOOKUP(DN17,BP16:CA17,5,FALSE)","v":{"$error":"#REF!"}},{"$f":"VLOOKUP(DN17,BP16:CA17,6,FALSE)","v":{"$error":"#REF!"}},{"$f":"VLOOKUP(DN17,BP16:CA17,7,FALSE)","v":{"$error":"#REF!"}},{"$f":"VLOOKUP(DN17,BP16:CA17,8,FALSE)","v":{"$error":"#REF!"}},{"$f":"VLOOKUP(DN17,BP16:CA17,9,FALSE)","v":{"$error":"#REF!"}},null,null,{"$f":"IF(T17<>\"\",IF(T17>#REF!,N17,IF(#REF!>T17,#REF!,\"Empate\")),\"\")","v":""},{"$f":"IF(T17<>\"\",IF(T17<#REF!,N17,IF(#REF!<T17,#REF!,\"Empate\")),\"\")","v":""},null,null,{"$f":"IF(ISBLANK(#REF!),COUNTA(EN24:$EN$28),0)","v":0},null,"6º",null,null,{"$f":"S43","v":""},8,null,null,6,null,null,null,null,null,null,null,null,null,null,null,null,"P50",null,null,null,null,null,null,null,null,null,null,null,null,null,"P50",{"$f":"$AL$17","v":""},{"$f":"$AK$17","v":0},{"$f":"$AJ$17","v":0},{"$f":"$AI$17","v":0},0,{"$f":"FO18+FP18+FQ18","v":0},0]
[null,null,null,null,null,null,null,null,null,null,null,null,null,null,null,null,null,null,null,null,null,null,null,null,{"$f":"IF(CG27=CG35,IF(CC27=\"Bye\",CC35,IF(CC35=\"Bye\",CC35)),(IF(ISBLANK(CD27),\"\",IF(CG27>CG35,CC35,CC27))))","v":false},null,null,null,null,null,null,{"$f":"IF(AH17=AH21,IF(AL17=\"Bye\",AL21,IF(AL21=\"Bye\",AL17)),(IF(ISBLANK(AI17),\"\",IF(AH17>AH21,AL17,AL21))))","v":false},null,null,null,null,null,null,null,null,null,null,null,null,null,null,{"$f":"IF(ISBLANK(AV16),\"\",SUM(IF(AV18>AV16,1,0)+(IF(AW18>AW16,1,0)+(IF(AX18>AX16,1,0)))))","v":""},null,null,null,{"$f":"IF(AY17=FALSE,\"\",AY17)","v":""},"(V3)",null,{"$f":"IF(ISBLANK(BC16),\"\",SUM(IF(BC18>BC16,1,0)+(IF(BD18>BD16,1,0)+(IF(BE18>BE16,1,0)))))","v":""},null,null,null,{"$f":"IF(BF17=FALSE,\"\",BF17)","v":""},null,null,12,null,0,null,null,null,{"$f":"IF(ISBLANK(BL17),\"\",SUM(IF(BL18>BL17,1,0)+(IF(BM18>BM17,1,0)+(IF(BN18>BN17,1,0)))))","v":""},null,{"$f":"IF(BQ17=FALSE,\"\",BQ17)","v":""},null,null,null,{"$f":"IF(ISBLANK(BR16),\"\",SUM(IF(BR18>BR16,1,0)+(IF(BS18>BS16,1,0)+(IF(BT18>BT16,1,0)))))","v":""},null,null,null,null,null,null,null,{"$f":"IF(CA17=CA21,IF(BW17=\"Bye\",BW21,IF(BW21=\"Bye\",BW21)),(IF(ISBLANK(BX17),\"\",IF(CA17>CA21,BW17,BW21))))","v":false},null,null,null,null,null,null,null,null,null,null,null,null,null,null,null,null,null,null,null,null,null,null,null,null,null,null,null,null,null,null,null,null,null,null,null,null,null,null,null,null,null,null,null,null,null,null,null,null,null,null,null,{"$f":"IF(ISBLANK(EN25),COUNTA(EN26:$EN$28),0)","v":0},null,"7º",null,null,{"$f":"F35","v":""},8,null,null,7,null,null,null,null,null,null,null,null,null,null,null,null,null,null,null,null,null,null,null,null,null,null,null,null,null,null,null,{"$f":"$AL$21","v":""},{"$f":"$AK$21","v":0},{"$f":"$AJ$21","v":0},{"$f":"$AI$21","v":0},0,{"$f":"FO17+FP17+FQ17","v":0},0]
[null,null,null,null,null,null,null,null,null,null,null,null,null,null,null,null,null,null,null,null,{"$f":"IF(ISBLANK(V19),\"\",SUM(IF(V19>V11,1,0)+(IF(W19>W11,1,0)+(IF(X19>X11,1,0)))))","v":""},null,null,null,{"$f":"IF(Y18=FALSE,\"\",Y18)","v":""},"(V25)",null,{"$f":"IF(ISBLANK(AC19),\"\",SUM(IF(AC19>AC11,1,0)+(IF(AD19>AD11,1,0)+(IF(AE19>AE11,1,0)))))","v":""},null,null,null,{"$f":"IF(AF18=FALSE,\"\",AF18)","v":""},null,"P102",null,null,null,null,null,null,"P90",null,null,null,null,null,null,null,null,null,{"$f":"IF(BB20=BB22,IF(BF20=\"Bye\",BF22,IF(BF22=\"Bye\",BF20)),(IF(ISBLANK(BC20),\"\",IF(BB20>BB22,BF20,BF22))))","v":false},null,null,null,null,null,null,{"$f":"IF(BO19=BO20,IF(BK19=\"Bye\",BK20,IF(BK20=\"Bye\",BK19)),(IF(ISBLANK(BL19),\"\",IF(BO19>BO20,BK20,BK19))))","v":false},null,null,13,null,0,null,null,null,{"$f":"IF(ISBLANK(BL19),\"\",SUM(IF(BL19>BL20,1,0)+(IF(BM19>BM20,1,0)+(IF(BN19>BN20,1,0)))))","v":""},"P7",{"$f":"IF(BO19=BO20,IF(BK19=\"Bye\",BK20,IF(BK20=\"Bye\",BK19)),(IF(ISBLANK(BL19),\"\",IF(BO19>BO20,BK19,BK20))))","v":false},null,null,null,"P36",null,"(V17)",null,null,null,null,null,{"$f":"IF(CC18=FALSE,\"\",CC18)","v":""},null,null,null,{"$f":"IF(ISBLANK(CD19),\"\",SUM(IF(CD19>CD11,1,0)+(IF(CE19>CE11,1,0)+(IF(CF19>CF11,1,0)))))","v":""},null,null,null,null,null,null,null,{"$f":"IF($CS$37=$CS$40,\"\",IF($CS$37>$CS$40,\"\",$CO$40))","v":""},null,null,null,{"$f":"IF(ISBLANK(CP19),\"\",SUM(IF(CP19>CP17,1,0)+(IF(CQ19>CQ17,1,0)+(IF(CR19>CR17,1,0)))))","v":""},null,null,null,null,null,null,null,null,null,null,null,null,null,null,null,null,null,null,null,null,null,null,null,null,null,null,null,null,null,null,null,{"$f":"IF(#REF!<>\"\",IF(#REF!>L19,#REF!,IF(L19>#REF!,F19,\"Empate\")),\"\")","v":{"$error":"#REF!"}},{"$f":"IF(#REF!<>\"\",IF(#REF!<L19,#REF!,IF(L19<#REF!,F19,\"Empate\")),\"\")","v":{"$error":"#REF!"}},null,null,{"$f":"IF(ISBLANK(EN26),COUNTA(EN27:$EN$28),0)","v":0},null,"8º",null,null,{"$f":"S35","v":""},8,null,null,8,null,null,null,null,null,null,null,null,null,null,null,null,"P51",null,null,null,null,null,null,null,null,null,null,null,null,null,"P51",{"$f":"$AL$25","v":""},{"$f":"$AI$25","v":0},{"$f":"$AJ$25","v":0},{"$f":"$AK$25","v":0},0,{"$f":"FO20+FP20+FQ20","v":0},0]
[null,null,null,null,null,null,null,null,null,null,null,null,null,null,null,null,null,null,null,null,null,null,null,null,null,null,null,null,null,null,null,null,null,null,null,null,null,{"$f":"IF(CA9=CA13,IF(BW9=\"Bye\",BW13,IF(BW13=\"Bye\",BW13)),(IF(ISBLANK(BX9),\"\",IF(CA9>CA13,BW13,BW9))))","v":false},null,null,null,null,null,null,{"$f":"IF(AU20=AU22,IF(AY20=\"Bye\",AY22,IF(AY22=\"Bye\",AY20)),(IF(ISBLANK(AV20),\"\",IF(AU20>AU22,AY20,AY22))))","v":false},null,{"$f":"IF(ISBLANK(AV20),\"\",SUM(IF(AV20>AV22,1,0)+(IF(AW20>AW22,1,0)+(IF(AX20>AX22,1,0)))))","v":""},null,null,null,{"$f":"IF(AY19=FALSE,\"\",AY19)","v":""},null,null,{"$f":"IF(ISBLANK(BC20),\"\",SUM(IF(BC20>BC22,1,0)+(IF(BD20>BD22,1,0)+(IF(BE20>BE22,1,0)))))","v":""},null,null,null,{"$f":"IF(BF19=FALSE,\"\",BF19)","v":""},null,null,14,null,0,null,null,null,{"$f":"IF(ISBLANK(BL19),\"\",SUM(IF(BL20>BL19,1,0)+(IF(BM20>BM19,1,0)+(IF(BN20>BN19,1,0)))))","v":""},null,{"$f":"IF(BQ19=FALSE,\"\",BQ19)","v":""},null,null,null,{"$f":"IF(ISBLANK(BR20),\"\",SUM(IF(BR20>BR22,1,0)+(IF(BS20>BS22,1,0)+(IF(BT20>BT22,1,0)))))","v":""},null,{"$f":"IF(BU20=BU22,IF(BQ20=\"Bye\",BQ22,IF(BQ22=\"Bye\",BQ20)),(IF(ISBLANK(BR20),\"\",IF(BU20>BU22,BQ20,BQ22))))","v":false},null,null,null,null,null,null,null,null,null,null,null,null,null,null,null,null,null,null,null,null,null,null,null,{"$f":"IF(AND(CS20=#REF!,#REF!>CT20),#REF!,CR20)","v":{"$error":"#REF!"}},{"$f":"VLOOKUP(CU20,BP20:CA21,9,FALSE)","v":{"$error":"#REF!"}},{"$f":"VLOOKUP(CU20,BP20:CA21,8,FALSE)","v":{"$error":"#REF!"}},{"$f":"VLOOKUP(CU20,BP20:CA21,6,FALSE)","v":{"$error":"#REF!"}},{"$f":"IF(AND(CV20=#REF!,CW20=#REF!,#REF!>CX20),#REF!,CU20)","v":{"$error":"#REF!"}},{"$f":"VLOOKUP(CY20,BP20:CA21,9,FALSE)","v":{"$error":"#REF!"}},{"$f":"VLOOKUP(CY20,BP20:CA21,8,FALSE)","v":{"$error":"#REF!"}},{"$f":"VLOOKUP(CY20,BP20:CA21,6,FALSE)","v":{"$error":"#REF!"}},{"$f":"IF(AND(CZ20=CZ21,DA20=DA21,DB21>DB20),CY21,CY20)","v":{"$error":"#REF!"}},{"$f":"VLOOKUP(DC20,BP20:CA21,9,FALSE)","v":{"$error":"#REF!"}},{"$f":"VLOOKUP(DC20,BP20:CA21,8,FALSE)","v":{"$error":"#REF!"}},{"$f":"VLOOKUP(DC20,BP20:CA21,6,FALSE)","v":{"$error":"#REF!"}},{"$f":"IF(AND(DD20=#REF!,DE20=#REF!,#REF!>DF20),#REF!,DC20)","v":{"$error":"#REF!"}},{"$f":"VLOOKUP(DG20,BP20:CA21,9,FALSE)","v":{"$error":"#REF!"}},{"$f":"VLOOKUP(DG20,BP20:CA21,8,FALSE)","v":{"$error":"#REF!"}},{"$f":"VLOOKUP(DG20,BP20:CA21,6,FALSE)","v":{"$error":"#REF!"}},null,null,null,{"$f":"DG20","v":{"$error":"#REF!"}},{"$f":"VLOOKUP(DN20,BP20:CA21,2,FALSE)","v":{"$error":"#REF!"}},{"$f":"VLOOKUP(DN20,BP20:CA21,3,FALSE)","v":{"$error":"#REF!"}},{"$f":"VLOOKUP(DN20,BP20:CA21,4,FALSE)","v":{"$error":"#REF!"}},{"$f":"VLOOKUP(DN20,BP20:CA21,5,FALSE)","v":{"$error":"#REF!"}},{"$f":"VLOOKUP(DN20,BP20:CA21,6,FALSE)","v":{"$error":"#REF!"}},{"$f":"VLOOKUP(DN20,BP20:CA21,7,FALSE)","v":{"$error":"#REF!"}},{"$f":"VLOOKUP(DN20,BP20:CA21,8,FALSE)","v":{"$error":"#REF!"}},{"$f":"VLOOKUP(DN20,BP20:CA21,9,FALSE)","v":{"$error":"#REF!"}},null,null,{"$f":"IF(L20<>\"\",IF(L20>#REF!,F20,IF(#REF!>L20,#REF!,\"Empate\")),\"\")","v":""},{"$f":"IF(L20<>\"\",IF(L20<#REF!,F20,IF(#REF!<L20,#REF!,\"Empate\")),\"\")","v":""},null,null,{"$f":"IF(ISBLANK(EN27),COUNTA(EN28:$EN$28),0)","v":0},null,"9º",null,null,{"$f":"IF(U11=U19,\"\",IF(U11>U19,Y19,Y11))","v":""},6,null,null,9,null,null,null,null,null,null,null,null,null,null,115,null,null,null,null,null,null,null,null,null,null,null,null,null,null,null,null,{"$f":"$AL$29","v":""},{"$f":"$AI$29","v":0},{"$f":"$AJ$29","v":0},{"$f":"$AK$29","v":0},0,{"$f":"FO19+FP19+FQ19","v":0},0]
[null,null,null,null,null,null,null,null,null,null,null,null,null,null,null,null,null,null,null,null,null,null,null,null,null,null,null,null,null,null,null,null,null,{"$f":"IF(ISBLANK(AI17),\"\",SUM(IF(AI21>AI17,1,0)+(IF(AJ21>AJ17,1,0)+(IF(AK21>AK17,1,0)))))","v":""},null,null,null,{"$f":"IF(AL20=FALSE,\"\",AL20)","v":""},"(V18)",null,{"$f":"IF(ISBLANK(AP21),\"\",SUM(IF(AP21>AP17,1,0)+(IF(AQ21>AQ17,1,0)+(IF(AR21>AR17,1,0)))))","v":""},null,null,null,{"$f":"IF(AS20=FALSE,\"\",AS20)","v":""},null,null,null,"P68",null,{"$f":"IF(BU16=BU18,IF(BQ16=\"Bye\",BQ18,IF(BQ18=\"Bye\",BQ16)),(IF(ISBLANK(BR16),\"\",IF(BU16>BU18,BQ18,BQ16))))","v":false},null,null,null,null,"P52",null,{"$f":"IF(BO21=BO22,IF(BK21=\"Bye\",BK22,IF(BK22=\"Bye\",BK21)),(IF(ISBLANK(BL21),\"\",IF(BO21>BO22,BK22,BK21))))","v":false},null,null,15,null,0,null,null,null,{"$f":"IF(ISBLANK(BL21),\"\",SUM(IF(BL21>BL22,1,0)+(IF(BM21>BM22,1,0)+(IF(BN21>BN22,1,0)))))","v":""},"P8",{"$f":"IF(BO21=BO22,IF(BK21=\"Bye\",BK22,IF(BK22=\"Bye\",BK21)),(IF(ISBLANK(BL21),\"\",IF(BO21>BO22,BK21,BK22))))","v":false},null,"(V3)",null,null,null,{"$f":"IF(BW20=FALSE,\"\",BW20)","v":""},null,null,null,{"$f":"IF(ISBLANK(BX21),\"\",SUM(IF(BX21>BX17,1,0)+(IF(BY21>BY17,1,0)+(IF(BZ21>BZ17,1,0)))))","v":""},null,null,null,null,null,null,null,null,null,null,null,null,null,null,null,null,null,null,null,{"$f":"IF(AND(#REF!=CS21,CT21>#REF!),#REF!,CR21)","v":{"$error":"#REF!"}},{"$f":"VLOOKUP(CU21,BP20:CA21,9,FALSE)","v":{"$error":"#REF!"}},{"$f":"VLOOKUP(CU21,BP20:CA21,8,FALSE)","v":{"$error":"#REF!"}},{"$f":"VLOOKUP(CU21,BP20:CA21,6,FALSE)","v":{"$error":"#REF!"}},{"$f":"IF(AND(CV21=#REF!,CW21=#REF!,#REF!>CX21),#REF!,CU21)","v":{"$error":"#REF!"}},{"$f":"VLOOKUP(CY21,BP20:CA21,9,FALSE)","v":{"$error":"#REF!"}},{"$f":"VLOOKUP(CY21,BP20:CA21,8,FALSE)","v":{"$error":"#REF!"}},{"$f":"VLOOKUP(CY21,BP20:CA21,6,FALSE)","v":{"$error":"#REF!"}},{"$f":"IF(AND(CZ20=CZ21,DA20=DA21,#REF!>DB20),CY20,CY21)","v":{"$error":"#REF!"}},{"$f":"VLOOKUP(DC21,BP20:CA21,9,FALSE)","v":{"$error":"#REF!"}},{"$f":"VLOOKUP(DC21,BP20:CA21,8,FALSE)","v":{"$error":"#REF!"}},{"$f":"VLOOKUP(DC21,BP20:CA21,6,FALSE)","v":{"$error":"#REF!"}},{"$f":"IF(AND(#REF!=DD21,#REF!=DE21,DF21>#REF!),#REF!,DC21)","v":{"$error":"#REF!"}},{"$f":"VLOOKUP(DG21,BP20:CA21,9,FALSE)","v":{"$error":"#REF!"}},{"$f":"VLOOKUP(DG21,BP20:CA21,8,FALSE)","v":{"$error":"#REF!"}},{"$f":"VLOOKUP(DG21,BP20:CA21,6,FALSE)","v":{"$error":"#REF!"}},null,null,null,{"$f":"DG21","v":{"$error":"#REF!"}},{"$f":"VLOOKUP(DN21,BP20:CA21,2,FALSE)","v":{"$error":"#REF!"}},{"$f":"VLOOKUP(DN21,BP20:CA21,3,FALSE)","v":{"$error":"#REF!"}},{"$f":"VLOOKUP(DN21,BP20:CA21,4,FALSE)","v":{"$error":"#REF!"}},{"$f":"VLOOKUP(DN21,BP20:CA21,5,FALSE)","v":{"$error":"#REF!"}},{"$f":"VLOOKUP(DN21,BP20:CA21,6,FALSE)","v":{"$error":"#REF!"}},{"$f":"VLOOKUP(DN21,BP20:CA21,7,FALSE)","v":{"$error":"#REF!"}},{"$f":"VLOOKUP(DN21,BP20:CA21,8,FALSE)","v":{"$error":"#REF!"}},{"$f":"VLOOKUP(DN21,BP20:CA21,9,FALSE)","v":{"$error":"#REF!"}},null,null,{"$f":"IF(T21<>\"\",IF(T21>#REF!,N21,IF(#REF!>T21,#REF!,\"Empate\")),\"\")","v":""},{"$f":"IF(T21<>\"\",IF(T21<#REF!,N21,IF(#REF!<T21,#REF!,\"Empate\")),\"\")","v":""},null,null,{"$f":"IF(ISBLANK(EN28),COUNTA(EF$86:$EF87),0)","v":0},null,"10º",null,null,{"$f":"IF(U27=U35,\"\",IF(U27>U35,Y35,Y27))","v":""},6,null,null,10,null,null,null,null,null,null,null,null,null,null,116,null,"P52",null,null,null,null,null,null,null,null,null,null,null,null,null,"P52",{"$f":"$AL$33","v":""},{"$f":"$AI$33","v":0},{"$f":"$AJ$33","v":0},{"$f":"$AK$33","v":0},0,{"$f":"FO22+FP22+FQ22","v":0},0]
[null,"P126",null,null,null,{"$f":"IF(H15=H31,IF(L15=\"Bye\",L31,IF(L39=\"Bye\",L15)),(IF(ISBLANK(I15),\"\",IF(H15>H31,L15,L31))))","v":false},null,"Vencedor",null,null,null,null,null,null,"Vencedor",null,null,null,null,null,null,null,null,null,null,null,null,null,null,null,null,null,null,null,null,null,null,null,null,null,null,null,null,null,null,null,{"$f":"IF(ISBLANK(AV20),\"\",SUM(IF(AV22>AV20,1,0)+(IF(AW22>AW20,1,0)+(IF(AX22>AX20,1,0)))))","v":""},null,null,null,{"$f":"IF(AY21=FALSE,\"\",AY21)","v":""},"(V4)",null,{"$f":"IF(ISBLANK(BC20),\"\",SUM(IF(BC22>BC20,1,0)+(IF(BD22>BD20,1,0)+(IF(BE22>BE20,1,0)))))","v":""},null,null,null,{"$f":"IF(BF21=FALSE,\"\",BF21)","v":""},null,null,16,null,0,null,null,null,{"$f":"IF(ISBLANK(BL21),\"\",SUM(IF(BL22>BL21,1,0)+(IF(BM22>BM21,1,0)+(IF(BN22>BN21,1,0)))))","v":""},null,{"$f":"IF(BQ21=FALSE,\"\",BQ21)","v":""},null,null,null,{"$f":"IF(ISBLANK(BR20),\"\",SUM(IF(BR22>BR20,1,0)+(IF(BS22>BS20,1,0)+(IF(BT22>BT20,1,0)))))","v":""},null,null,null,null,null,null,null,null,null,null,null,null,null,null,null,null,null,null,null,null,null,null,null,"P123",null,null,null,null,null,null,null,null,null,null,null,null,null,null,null,null,null,null,null,null,null,null,null,null,null,null,null,null,null,null,null,null,null,null,null,null,null,"11º",null,null,{"$f":"IF(U43=U51,\"\",IF(U43>U51,Y51,Y43))","v":""},6,null,null,11,null,null,null,null,null,null,null,null,null,null,117,null,null,null,null,null,null,null,null,null,null,null,null,null,null,null,null,{"$f":"$AL$37","v":""},{"$f":"$AI$37","v":0},{"$f":"$AJ$37","v":0},{"$f":"$AK$37","v":0},0,{"$f":"FO21+FP21+FQ21","v":0},0]
[null,{"$f":"IF(ISBLANK(C23),\"\",SUM(IF(C23>C55,1,0)+(IF(D23>D55,1,0)+(IF(E23>E55,1,0)))))","v":""},null,null,null,{"$f":"IF(F22=FALSE,\"\",F22)","v":""},null,null,null,null,null,"P124",null,null,null,null,null,null,"P119",null,null,null,null,null,null,null,null,null,null,null,null,null,null,null,null,null,null,null,null,null,null,null,null,null,null,null,null,null,null,null,{"$f":"IF(BB24=BB26,IF(BF24=\"Bye\",BF26,IF(BF26=\"Bye\",BF24)),(IF(ISBLANK(BC24),\"\",IF(BB24>BB26,BF24,BF26))))","v":false},null,null,null,null,null,null,{"$f":"IF(BO23=BO24,IF(BK23=\"Bye\",BK24,IF(BK24=\"Bye\",BK23)),(IF(ISBLANK(BL23),\"\",IF(BO23>BO24,BK24,BK23))))","v":false},null,null,17,null,0,null,null,null,{"$f":"IF(ISBLANK(BL23),\"\",SUM(IF(BL23>BL24,1,0)+(IF(BM23>BM24,1,0)+(IF(BN23>BN24,1,0)))))","v":""},"P9",{"$f":"IF(BO23=BO24,IF(BK23=\"Bye\",BK24,IF(BK24=\"Bye\",BK23)),(IF(ISBLANK(BL23),\"\",IF(BO23>BO24,BK23,BK24))))","v":false},null,null,null,"P37",null,null,null,null,null,null,null,null,null,null,null,null,null,"(V30)",null,null,null,null,null,{"$f":"IF(CM15=CM31,\"\",IF(CM15>CM31,CI15,CI31))","v":""},null,null,null,{"$f":"IF(ISBLANK(CP23),\"\",SUM(IF(CP23>CP55,1,0)+(IF(CQ23>CQ55,1,0)+(IF(CR23>CR55,1,0)))))","v":""},null,null,null,null,null,null,null,null,null,null,null,null,null,null,null,null,null,null,null,null,null,null,null,null,null,null,null,null,null,null,null,{"$f":"IF(#REF!<>\"\",IF(#REF!>L23,#REF!,IF(L23>#REF!,F23,\"Empate\")),\"\")","v":{"$error":"#REF!"}},{"$f":"IF(#REF!<>\"\",IF(#REF!<L23,#REF!,IF(L23<#REF!,F23,\"Empate\")),\"\")","v":{"$error":"#REF!"}},null,null,null,null,"12º",null,null,{"$f":"IF(U59=U67,\"\",IF(U59>U67,Y67,Y59))","v":""},6,null,null,12,null,null,null,null,null,null,null,null,null,null,118]
[null,null,null,null,null,"Vencedor - Jogo V29- V31",null,null,null,null,null,null,null,null,null,null,null,null,null,null,null,null,null,null,null,null,null,null,null,null,null,null,null,null,null,null,null,{"$f":"IF(AO25=AO29,IF(AS25=\"Bye\",AS29,IF(AS29=\"Bye\",AS25)),(IF(ISBLANK(AP25),\"\",IF(AO25>AO29,AS25,AS29))))","v":false},null,null,null,null,null,null,{"$f":"IF(AU24=AU26,IF(AY24=\"Bye\",AY26,IF(AY26=\"Bye\",AY24)),(IF(ISBLANK(AV24),\"\",IF(AU24>AU26,AY24,AY26))))","v":false},null,{"$f":"IF(ISBLANK(AV24),\"\",SUM(IF(AV24>AV26,1,0)+(IF(AW24>AW26,1,0)+(IF(AX24>AX26,1,0)))))","v":""},null,null,null,{"$f":"IF(AY23=FALSE,\"\",AY23)","v":""},null,null,{"$f":"IF(ISBLANK(BC24),\"\",SUM(IF(BC24>BC26,1,0)+(IF(BD24>BD26,1,0)+(IF(BE24>BE26,1,0)))))","v":""},null,null,null,{"$f":"IF(BF23=FALSE,\"\",BF23)","v":""},null,null,18,null,0,null,null,null,{"$f":"IF(ISBLANK(BL23),\"\",SUM(IF(BL24>BL23,1,0)+(IF(BM24>BM23,1,0)+(IF(BN24>BN23,1,0)))))","v":""},null,{"$f":"IF(BQ23=FALSE,\"\",BQ23)","v":""},null,null,null,{"$f":"IF(ISBLANK(BR24),\"\",SUM(IF(BR24>BR26,1,0)+(IF(BS24>BS26,1,0)+(IF(BT24>BT26,1,0)))))","v":""},null,{"$f":"IF(BU24=BU26,IF(BQ24=\"Bye\",BQ26,IF(BQ26=\"Bye\",BQ24)),(IF(ISBLANK(BR24),\"\",IF(BU24>BU26,BQ24,BQ26))))","v":false},null,null,null,"P83",null,null,null,null,null,null,null,null,null,null,null,null,null,"(V31)",null,null,null,null,null,{"$f":"IF(AND(CS24=CS25,CT25>CT24),CR25,CR24)","v":0},{"$f":"VLOOKUP(CU24,BP24:CA25,9,FALSE)","v":{"$error":"#N/A"}},{"$f":"VLOOKUP(CU24,BP24:CA25,8,FALSE)","v":{"$error":"#N/A"}},{"$f":"VLOOKUP(CU24,BP24:CA25,6,FALSE)","v":{"$error":"#N/A"}},{"$f":"IF(AND(#REF!=CV24,#REF!=CW24,CX24>#REF!),#REF!,CU24)","v":{"$error":"#REF!"}},{"$f":"VLOOKUP(CY24,BP24:CA25,9,FALSE)","v":{"$error":"#REF!"}},{"$f":"VLOOKUP(CY24,BP24:CA25,8,FALSE)","v":{"$error":"#REF!"}},{"$f":"VLOOKUP(CY24,BP24:CA25,6,FALSE)","v":{"$error":"#REF!"}},{"$f":"IF(AND(CZ24=#REF!,DA24=#REF!,#REF!>DB24),#REF!,CY24)","v":{"$error":"#REF!"}},{"$f":"VLOOKUP(DC24,BP24:CA25,9,FALSE)","v":{"$error":"#REF!"}},{"$f":"VLOOKUP(DC24,BP24:CA25,8,FALSE)","v":{"$error":"#REF!"}},{"$f":"VLOOKUP(DC24,BP24:CA25,6,FALSE)","v":{"$error":"#REF!"}},{"$f":"IF(AND(DD24=DD25,DE24=DE25,DF25>DF24),DC25,DC24)","v":{"$error":"#REF!"}},{"$f":"VLOOKUP(DG24,BP24:CA25,9,FALSE)","v":{"$error":"#REF!"}},{"$f":"VLOOKUP(DG24,BP24:CA25,8,FALSE)","v":{"$error":"#REF!"}},{"$f":"VLOOKUP(DG24,BP24:CA25,6,FALSE)","v":{"$error":"#REF!"}},null,null,null,{"$f":"DG24","v":{"$error":"#REF!"}},{"$f":"VLOOKUP(DN24,BP24:CA25,2,FALSE)","v":{"$error":"#REF!"}},{"$f":"VLOOKUP(DN24,BP24:CA25,3,FALSE)","v":{"$error":"#REF!"}},{"$f":"VLOOKUP(DN24,BP24:CA25,4,FALSE)","v":{"$error":"#REF!"}},{"$f":"VLOOKUP(DN24,BP24:CA25,5,FALSE)","v":{"$error":"#REF!"}},{"$f":"VLOOKUP(DN24,BP24:CA25,6,FALSE)","v":{"$error":"#REF!"}},{"$f":"VLOOKUP(DN24,BP24:CA25,7,FALSE)","v":{"$error":"#REF!"}},{"$f":"VLOOKUP(DN24,BP24:CA25,8,FALSE)","v":{"$error":"#REF!"}},{"$f":"VLOOKUP(DN24,BP24:CA25,9,FALSE)","v":{"$error":"#REF!"}},null,null,{"$f":"IF(#REF!<>\"\",IF(#REF!>T24,#REF!,IF(T24>#REF!,N24,\"Empate\")),\"\")","v":{"$error":"#REF!"}},{"$f":"IF(#REF!<>\"\",IF(#REF!<T24,#REF!,IF(T24<#REF!,N24,\"Empate\")),\"\")","v":{"$error":"#REF!"}},null,null,null,null,"13º",null,null,{"$f":"IF(AB11=AB19,\"\",IF(AB11>AB19,AF19,AF11))","v":""},4,null,null,13,null,null,null,null,null,null,null,null,null,null,109]
[null,null,null,null,null,null,null,null,null,null,null,null,null,null,null,null,null,null,null,null,null,null,null,null,null,null,null,null,null,null,null,null,null,{"$f":"IF(ISBLANK(AI25),\"\",SUM(IF(AI25>AI29,1,0)+(IF(AJ25>AJ29,1,0)+(IF(AK25>AK29,1,0)))))","v":""},null,null,null,{"$f":"IF(AL24=FALSE,\"\",AL24)","v":""},null,null,{"$f":"IF(ISBLANK(AP25),\"\",SUM(IF(AP25>AP29,1,0)+(IF(AQ25>AQ29,1,0)+(IF(AR25>AR29,1,0)))))","v":""},null,null,null,{"$f":"IF(AS24=FALSE,\"\",AS24)","v":""},null,null,null,"P69",null,{"$f":"IF(BU28=BU30,IF(BQ28=\"Bye\",BQ30,IF(BQ30=\"Bye\",BQ28)),(IF(ISBLANK(BR28),\"\",IF(BU28>BU30,BQ30,BQ28))))","v":false},null,null,null,null,"P53",null,{"$f":"IF(BO25=BO26,IF(BK25=\"Bye\",BK26,IF(BK26=\"Bye\",BK25)),(IF(ISBLANK(BL25),\"\",IF(BO25>BO26,BK26,BK25))))","v":false},null,null,19,null,0,null,null,null,{"$f":"IF(ISBLANK(BL25),\"\",SUM(IF(BL25>BL26,1,0)+(IF(BM25>BM26,1,0)+(IF(BN25>BN26,1,0)))))","v":""},"P10",{"$f":"IF(BO25=BO26,IF(BK25=\"Bye\",BK26,IF(BK26=\"Bye\",BK25)),(IF(ISBLANK(BL25),\"\",IF(BO25>BO26,BK25,BK26))))","v":false},null,"(V6)",null,null,null,{"$f":"IF(BW24=FALSE,\"\",BW24)","v":""},null,null,null,{"$f":"IF(ISBLANK(BX25),\"\",SUM(IF(BX25>BX29,1,0)+(IF(BY25>BY29,1,0)+(IF(BZ25>BZ29,1,0)))))","v":""},null,null,null,null,null,null,null,null,null,null,null,null,null,null,null,null,null,null,null,{"$f":"IF(AND(CS24=CS25,CT25>CT24),CR24,CR25)","v":0},{"$f":"VLOOKUP(CU25,BP24:CA25,9,FALSE)","v":{"$error":"#N/A"}},{"$f":"VLOOKUP(CU25,BP24:CA25,8,FALSE)","v":{"$error":"#N/A"}},{"$f":"VLOOKUP(CU25,BP24:CA25,6,FALSE)","v":{"$error":"#N/A"}},{"$f":"IF(AND(CV25=#REF!,CW25=#REF!,#REF!>CX25),#REF!,CU25)","v":{"$error":"#N/A"}},{"$f":"VLOOKUP(CY25,BP24:CA25,9,FALSE)","v":{"$error":"#N/A"}},{"$f":"VLOOKUP(CY25,BP24:CA25,8,FALSE)","v":{"$error":"#N/A"}},{"$f":"VLOOKUP(CY25,BP24:CA25,6,FALSE)","v":{"$error":"#N/A"}},{"$f":"IF(AND(#REF!=CZ25,#REF!=DA25,DB24>#REF!),#REF!,CY25)","v":{"$error":"#REF!"}},{"$f":"VLOOKUP(DC25,BP24:CA25,9,FALSE)","v":{"$error":"#REF!"}},{"$f":"VLOOKUP(DC25,BP24:CA25,8,FALSE)","v":{"$error":"#REF!"}},{"$f":"VLOOKUP(DC25,BP24:CA25,6,FALSE)","v":{"$error":"#REF!"}},{"$f":"IF(AND(DD24=DD25,DE24=DE25,DF25>DF24),DC24,DC25)","v":{"$error":"#REF!"}},{"$f":"VLOOKUP(DG25,BP24:CA25,9,FALSE)","v":{"$error":"#REF!"}},{"$f":"VLOOKUP(DG25,BP24:CA25,8,FALSE)","v":{"$error":"#REF!"}},{"$f":"VLOOKUP(DG25,BP24:CA25,6,FALSE)","v":{"$error":"#REF!"}},null,null,null,{"$f":"DG25","v":{"$error":"#REF!"}},{"$f":"VLOOKUP(DN25,BP24:CA25,2,FALSE)","v":{"$error":"#REF!"}},{"$f":"VLOOKUP(DN25,BP24:CA25,3,FALSE)","v":{"$error":"#REF!"}},{"$f":"VLOOKUP(DN25,BP24:CA25,4,FALSE)","v":{"$error":"#REF!"}},{"$f":"VLOOKUP(DN25,BP24:CA25,5,FALSE)","v":{"$error":"#REF!"}},{"$f":"VLOOKUP(DN25,BP24:CA25,6,FALSE)","v":{"$error":"#REF!"}},{"$f":"VLOOKUP(DN25,BP24:CA25,7,FALSE)","v":{"$error":"#REF!"}},{"$f":"VLOOKUP(DN25,BP24:CA25,8,FALSE)","v":{"$error":"#REF!"}},{"$f":"VLOOKUP(DN25,BP24:CA25,9,FALSE)","v":{"$error":"#REF!"}},null,null,{"$f":"IF(T25<>\"\",IF(T25>#REF!,N25,IF(#REF!>T25,#REF!,\"Empate\")),\"\")","v":""},{"$f":"IF(T25<>\"\",IF(T25<#REF!,N25,IF(#REF!<T25,#REF!,\"Empate\")),\"\")","v":""},null,null,null,null,"14º",null,null,{"$f":"IF(AB27=AB35,\"\",IF(AB27>AB35,AF35,AF27))","v":""},4,null,null,14,null,null,null,null,null,null,null,null,null,null,110]
[null,null,null,null,null,null,null,null,null,null,null,null,null,null,null,null,null,null,null,null,null,null,null,null,{"$f":"IF(AB27=AB35,IF(AF27=\"Bye\",AF35,IF(AF35=\"Bye\",AF27)),(IF(ISBLANK(AC27),\"\",IF(AB27>AB35,AF27,AF35))))","v":false},null,null,null,null,null,null,{"$f":"IF(AH25=AH29,IF(AL25=\"Bye\",AL29,IF(AL29=\"Bye\",AL25)),(IF(ISBLANK(AI25),\"\",IF(AH25>AH29,AL25,AL29))))","v":false},null,null,null,null,null,null,null,null,null,null,null,null,null,null,{"$f":"IF(ISBLANK(AV24),\"\",SUM(IF(AV26>AV24,1,0)+(IF(AW26>AW24,1,0)+(IF(AX26>AX24,1,0)))))","v":""},null,null,null,{"$f":"IF(AY25=FALSE,\"\",AY25)","v":""},"(V5)",null,{"$f":"IF(ISBLANK(BC24),\"\",SUM(IF(BC26>BC24,1,0)+(IF(BD26>BD24,1,0)+(IF(BE26>BE24,1,0)))))","v":""},null,null,null,{"$f":"IF(BF25=FALSE,\"\",BF25)","v":""},null,null,20,null,0,null,null,null,{"$f":"IF(ISBLANK(BL25),\"\",SUM(IF(BL26>BL25,1,0)+(IF(BM26>BM25,1,0)+(IF(BN26>BN25,1,0)))))","v":""},null,{"$f":"IF(BQ25=FALSE,\"\",BQ25)","v":""},null,null,null,{"$f":"IF(ISBLANK(BR24),\"\",SUM(IF(BR26>BR24,1,0)+(IF(BS26>BS24,1,0)+(IF(BT26>BT24,1,0)))))","v":""},null,null,null,null,null,null,null,{"$f":"IF(CA25=CA29,IF(BW25=\"Bye\",BW29,IF(BW29=\"Bye\",BW29)),(IF(ISBLANK(BX25),\"\",IF(CA25>CA29,BW25,BW29))))","v":false},null,null,null,"P98",null,null,null,null,null,null,null,null,null,null,null,null,null,null,null,null,null,null,null,null,null,null,null,null,null,null,null,null,null,null,null,null,null,null,null,null,null,null,null,null,null,null,null,null,null,null,null,null,null,"15º",null,null,{"$f":"IF(AB43=AB51,\"\",IF(AB43>AB51,AF51,AF43))","v":""},4,null,null,15,null,null,null,null,null,null,null,null,null,null,111]
[null,null,null,null,null,null,null,null,null,null,null,null,null,null,null,null,null,null,null,null,{"$f":"IF(ISBLANK(V27),\"\",SUM(IF(V27>V35,1,0)+(IF(W27>W35,1,0)+(IF(X27>X35,1,0)))))","v":""},null,null,null,{"$f":"IF(Y26=FALSE,\"\",Y26)","v":""},null,null,{"$f":"IF(ISBLANK(AC27),\"\",SUM(IF(AC27>AC35,1,0)+(IF(AD27>AD35,1,0)+(IF(AE27>AE35,1,0)))))","v":""},null,null,null,{"$f":"IF(AF26=FALSE,\"\",AF26)","v":""},null,"P103",null,null,null,null,null,null,"P91",null,null,null,null,null,null,null,null,null,{"$f":"IF(BB28=BB30,IF(BF28=\"Bye\",BF30,IF(BF30=\"Bye\",BF28)),(IF(ISBLANK(BC28),\"\",IF(BB28>BB30,BF28,BF30))))","v":false},null,null,null,null,null,null,{"$f":"IF(BO27=BO28,IF(BK27=\"Bye\",BK28,IF(BK28=\"Bye\",BK27)),(IF(ISBLANK(BL27),\"\",IF(BO27>BO28,BK28,BK27))))","v":false},null,null,21,null,0,null,null,null,{"$f":"IF(ISBLANK(BL27),\"\",SUM(IF(BL27>BL28,1,0)+(IF(BM27>BM28,1,0)+(IF(BN27>BN28,1,0)))))","v":""},"P11",{"$f":"IF(BO27=BO28,IF(BK27=\"Bye\",BK28,IF(BK28=\"Bye\",BK27)),(IF(ISBLANK(BL27),\"\",IF(BO27>BO28,BK27,BK28))))","v":false},null,null,null,"P38",null,"(V20)",null,null,null,null,null,{"$f":"IF(CC26=FALSE,\"\",CC26)","v":""},null,null,null,{"$f":"IF(ISBLANK(CD27),\"\",SUM(IF(CD27>CD35,1,0)+(IF(CE27>CE35,1,0)+(IF(CF27>CF35,1,0)))))","v":""},null,null,null,null,null,null,null,null,null,null,null,null,null,null,null,null,null,null,null,null,null,null,null,null,null,null,null,null,null,null,null,null,null,null,null,null,null,null,null,null,null,null,null,{"$f":"IF(#REF!<>\"\",IF(#REF!>L27,#REF!,IF(L27>#REF!,F27,\"Empate\")),\"\")","v":{"$error":"#REF!"}},{"$f":"IF(#REF!<>\"\",IF(#REF!<L27,#REF!,IF(L27<#REF!,F27,\"Empate\")),\"\")","v":{"$error":"#REF!"}},null,null,null,null,"16º",null,null,{"$f":"IF(AB59=AB67,\"\",IF(AB59>AB67,AF67,AF59))","v":""},4,null,null,16,null,null,null,null,null,null,null,null,null,null,112]
[null,null,null,null,null,null,null,null,null,null,null,null,null,null,null,null,null,null,null,null,null,null,null,null,null,null,null,null,null,null,null,null,null,null,null,null,null,{"$f":"IF(CA33=CA37,IF(BW33=\"Bye\",BW37,IF(BW37=\"Bye\",BW37)),(IF(ISBLANK(BX33),\"\",IF(CA33>CA37,BW37,BW33))))","v":false},null,null,null,null,null,null,{"$f":"IF(AU28=AU30,IF(AY28=\"Bye\",AY30,IF(AY30=\"Bye\",AY28)),(IF(ISBLANK(AV28),\"\",IF(AU28>AU30,AY28,AY30))))","v":false},null,{"$f":"IF(ISBLANK(AV28),\"\",SUM(IF(AV28>AV30,1,0)+(IF(AW28>AW30,1,0)+(IF(AX28>AX30,1,0)))))","v":""},null,null,null,{"$f":"IF(AY27=FALSE,\"\",AY27)","v":""},null,null,{"$f":"IF(ISBLANK(BC28),\"\",SUM(IF(BC28>BC30,1,0)+(IF(BD28>BD30,1,0)+(IF(BE28>BE30,1,0)))))","v":""},null,null,null,{"$f":"IF(BF27=FALSE,\"\",BF27)","v":""},null,null,22,null,0,null,null,null,{"$f":"IF(ISBLANK(BL27),\"\",SUM(IF(BL28>BL27,1,0)+(IF(BM28>BM27,1,0)+(IF(BN28>BN27,1,0)))))","v":""},null,{"$f":"IF(BQ27=FALSE,\"\",BQ27)","v":""},null,null,null,{"$f":"IF(ISBLANK(BR28),\"\",SUM(IF(BR28>BR30,1,0)+(IF(BS28>BS30,1,0)+(IF(BT28>BT30,1,0)))))","v":""},null,{"$f":"IF(BU28=BU30,IF(BQ28=\"Bye\",BQ30,IF(BQ30=\"Bye\",BQ28)),(IF(ISBLANK(BR28),\"\",IF(BU28>BU30,BQ28,BQ30))))","v":false},null,null,null,null,null,null,null,null,null,null,null,null,null,null,null,null,null,null,null,null,null,null,null,{"$f":"IF(AND(CS28=#REF!,#REF!>CT28),#REF!,CR28)","v":{"$error":"#REF!"}},{"$f":"VLOOKUP(CU28,BP28:CA29,9,FALSE)","v":{"$error":"#REF!"}},{"$f":"VLOOKUP(CU28,BP28:CA29,8,FALSE)","v":{"$error":"#REF!"}},{"$f":"VLOOKUP(CU28,BP28:CA29,6,FALSE)","v":{"$error":"#REF!"}},{"$f":"IF(AND(CV28=#REF!,CW28=#REF!,#REF!>CX28),#REF!,CU28)","v":{"$error":"#REF!"}},{"$f":"VLOOKUP(CY28,BP28:CA29,9,FALSE)","v":{"$error":"#REF!"}},{"$f":"VLOOKUP(CY28,BP28:CA29,8,FALSE)","v":{"$error":"#REF!"}},{"$f":"VLOOKUP(CY28,BP28:CA29,6,FALSE)","v":{"$error":"#REF!"}},{"$f":"IF(AND(CZ28=CZ29,DA28=DA29,DB29>DB28),CY29,CY28)","v":{"$error":"#REF!"}},{"$f":"VLOOKUP(DC28,BP28:CA29,9,FALSE)","v":{"$error":"#REF!"}},{"$f":"VLOOKUP(DC28,BP28:CA29,8,FALSE)","v":{"$error":"#REF!"}},{"$f":"VLOOKUP(DC28,BP28:CA29,6,FALSE)","v":{"$error":"#REF!"}},{"$f":"IF(AND(DD28=#REF!,DE28=#REF!,#REF!>DF28),#REF!,DC28)","v":{"$error":"#REF!"}},{"$f":"VLOOKUP(DG28,BP28:CA29,9,FALSE)","v":{"$error":"#REF!"}},{"$f":"VLOOKUP(DG28,BP28:CA29,8,FALSE)","v":{"$error":"#REF!"}},{"$f":"VLOOKUP(DG28,BP28:CA29,6,FALSE)","v":{"$error":"#REF!"}},null,null,null,{"$f":"DG28","v":{"$error":"#REF!"}},{"$f":"VLOOKUP(DN28,BP28:CA29,2,FALSE)","v":{"$error":"#REF!"}},{"$f":"VLOOKUP(DN28,BP28:CA29,3,FALSE)","v":{"$error":"#REF!"}},{"$f":"VLOOKUP(DN28,BP28:CA29,4,FALSE)","v":{"$error":"#REF!"}},{"$f":"VLOOKUP(DN28,BP28:CA29,5,FALSE)","v":{"$error":"#REF!"}},{"$f":"VLOOKUP(DN28,BP28:CA29,6,FALSE)","v":{"$error":"#REF!"}},{"$f":"VLOOKUP(DN28,BP28:CA29,7,FALSE)","v":{"$error":"#REF!"}},{"$f":"VLOOKUP(DN28,BP28:CA29,8,FALSE)","v":{"$error":"#REF!"}},{"$f":"VLOOKUP(DN28,BP28:CA29,9,FALSE)","v":{"$error":"#REF!"}},null,null,{"$f":"IF(L28<>\"\",IF(L28>#REF!,F28,IF(#REF!>L28,#REF!,\"Empate\")),\"\")","v":""},{"$f":"IF(L28<>\"\",IF(L28<#REF!,F28,IF(#REF!<L28,#REF!,\"Empate\")),\"\")","v":""},null,null,null,null,"17º",null,null,{"$f":"IF(AH9=AH13,\"\",IF(AH9>AH13,AL13,AL9))","v":""},2,null,null,17,null,null,null,null,null,null,null,null,null,null,"P101"]
[null,null,null,null,null,null,null,null,null,null,null,null,null,null,null,null,null,null,null,null,null,null,null,null,null,null,null,null,null,null,null,null,null,{"$f":"IF(ISBLANK(AI25),\"\",SUM(IF(AI29>AI25,1,0)+(IF(AJ29>AJ25,1,0)+(IF(AK29>AK25,1,0)))))","v":""},null,null,null,{"$f":"IF(AL28=FALSE,\"\",AL28)","v":""},"(V19)",null,{"$f":"IF(ISBLANK(AP29),\"\",SUM(IF(AP29>AP25,1,0)+(IF(AQ29>AQ25,1,0)+(IF(AR29>AR25,1,0)))))","v":""},null,null,null,{"$f":"IF(AS28=FALSE,\"\",AS28)","v":""},null,null,null,"P70",null,{"$f":"IF(BU24=BU26,IF(BQ24=\"Bye\",BQ26,IF(BQ26=\"Bye\",BQ24)),(IF(ISBLANK(BR24),\"\",IF(BU24>BU26,BQ26,BQ24))))","v":false},null,null,null,null,"P54",null,{"$f":"IF(BO29=BO30,IF(BK29=\"Bye\",BK30,IF(BK30=\"Bye\",BK29)),(IF(ISBLANK(BL29),\"\",IF(BO29>BO30,BK30,BK29))))","v":false},null,null,23,null,0,null,null,null,{"$f":"IF(ISBLANK(BL29),\"\",SUM(IF(BL29>BL30,1,0)+(IF(BM29>BM30,1,0)+(IF(BN29>BN30,1,0)))))","v":""},"P12",{"$f":"IF(BO29=BO30,IF(BK29=\"Bye\",BK30,IF(BK30=\"Bye\",BK29)),(IF(ISBLANK(BL29),\"\",IF(BO29>BO30,BK29,BK30))))","v":false},null,"(V5)",null,null,null,{"$f":"IF(BW28=FALSE,\"\",BW28)","v":""},null,null,null,{"$f":"IF(ISBLANK(BX29),\"\",SUM(IF(BX29>BX25,1,0)+(IF(BY29>BY25,1,0)+(IF(BZ29>BZ25,1,0)))))","v":""},null,null,null,null,null,null,null,null,null,null,null,null,null,null,null,null,null,null,null,{"$f":"IF(AND(#REF!=CS29,CT29>#REF!),#REF!,CR29)","v":{"$error":"#REF!"}},{"$f":"VLOOKUP(CU29,BP28:CA29,9,FALSE)","v":{"$error":"#REF!"}},{"$f":"VLOOKUP(CU29,BP28:CA29,8,FALSE)","v":{"$error":"#REF!"}},{"$f":"VLOOKUP(CU29,BP28:CA29,6,FALSE)","v":{"$error":"#REF!"}},{"$f":"IF(AND(CV29=#REF!,CW29=#REF!,#REF!>CX29),#REF!,CU29)","v":{"$error":"#REF!"}},{"$f":"VLOOKUP(CY29,BP28:CA29,9,FALSE)","v":{"$error":"#REF!"}},{"$f":"VLOOKUP(CY29,BP28:CA29,8,FALSE)","v":{"$error":"#REF!"}},{"$f":"VLOOKUP(CY29,BP28:CA29,6,FALSE)","v":{"$error":"#REF!"}},{"$f":"IF(AND(CZ28=CZ29,DA28=DA29,#REF!>DB28),CY28,CY29)","v":{"$error":"#REF!"}},{"$f":"VLOOKUP(DC29,BP28:CA29,9,FALSE)","v":{"$error":"#REF!"}},{"$f":"VLOOKUP(DC29,BP28:CA29,8,FALSE)","v":{"$error":"#REF!"}},{"$f":"VLOOKUP(DC29,BP28:CA29,6,FALSE)","v":{"$error":"#REF!"}},{"$f":"IF(AND(#REF!=DD29,#REF!=DE29,DF29>#REF!),#REF!,DC29)","v":{"$error":"#REF!"}},{"$f":"VLOOKUP(DG29,BP28:CA29,9,FALSE)","v":{"$error":"#REF!"}},{"$f":"VLOOKUP(DG29,BP28:CA29,8,FALSE)","v":{"$error":"#REF!"}},{"$f":"VLOOKUP(DG29,BP28:CA29,6,FALSE)","v":{"$error":"#REF!"}},null,null,null,{"$f":"DG29","v":{"$error":"#REF!"}},{"$f":"VLOOKUP(DN29,BP28:CA29,2,FALSE)","v":{"$error":"#REF!"}},{"$f":"VLOOKUP(DN29,BP28:CA29,3,FALSE)","v":{"$error":"#REF!"}},{"$f":"VLOOKUP(DN29,BP28:CA29,4,FALSE)","v":{"$error":"#REF!"}},{"$f":"VLOOKUP(DN29,BP28:CA29,5,FALSE)","v":{"$error":"#REF!"}},{"$f":"VLOOKUP(DN29,BP28:CA29,6,FALSE)","v":{"$error":"#REF!"}},{"$f":"VLOOKUP(DN29,BP28:CA29,7,FALSE)","v":{"$error":"#REF!"}},{"$f":"VLOOKUP(DN29,BP28:CA29,8,FALSE)","v":{"$error":"#REF!"}},{"$f":"VLOOKUP(DN29,BP28:CA29,9,FALSE)","v":{"$error":"#REF!"}},null,null,{"$f":"IF(T29<>\"\",IF(T29>#REF!,N29,IF(#REF!>T29,#REF!,\"Empate\")),\"\")","v":""},{"$f":"IF(T29<>\"\",IF(T29<#REF!,N29,IF(#REF!<T29,#REF!,\"Empate\")),\"\")","v":""},null,null,null,null,"18º",null,null,{"$f":"IF(AH17=AH21,\"\",IF(AH17>AH21,AL21,AL17))","v":""},2,null,null,18,null,null,null,null,null,null,null,null,null,null,"P102"]
[null,null,null,null,null,null,null,null,null,null,null,{"$f":"IF(CM47=CM63,IF(CI47=\"Bye\",CI63,IF(CI63=\"Bye\",CI63)),(IF(ISBLANK(CJ47),\"\",IF(CM47>CM63,CI63,CI47))))","v":false},null,null,null,null,null,null,{"$f":"IF(U27=U35,IF(Y27=\"Bye\",Y35,IF(Y35=\"Bye\",Y27)),(IF(ISBLANK(V27),\"\",IF(U27>U35,Y27,Y35))))","v":false},null,"Vencedor",null,null,null,null,null,null,"Vencedor",null,null,null,null,null,null,null,null,null,null,null,null,null,null,null,null,null,null,{"$f":"IF(ISBLANK(AV28),\"\",SUM(IF(AV30>AV28,1,0)+(IF(AW30>AW28,1,0)+(IF(AX30>AX28,1,0)))))","v":""},null,null,null,{"$f":"IF(AY29=FALSE,\"\",AY29)","v":""},"(V6)",null,{"$f":"IF(ISBLANK(BC28),\"\",SUM(IF(BC30>BC28,1,0)+(IF(BD30>BD28,1,0)+(IF(BE30>BE28,1,0)))))","v":""},null,null,null,{"$f":"IF(BF29=FALSE,\"\",BF29)","v":""},null,null,24,null,0,null,null,null,{"$f":"IF(ISBLANK(BL29),\"\",SUM(IF(BL30>BL29,1,0)+(IF(BM30>BM29,1,0)+(IF(BN30>BN29,1,0)))))","v":""},null,{"$f":"IF(BQ29=FALSE,\"\",BQ29)","v":""},null,null,null,{"$f":"IF(ISBLANK(BR28),\"\",SUM(IF(BR30>BR28,1,0)+(IF(BS30>BS28,1,0)+(IF(BT30>BT28,1,0)))))","v":""},null,null,null,null,null,null,null,null,null,null,null,null,null,{"$f":"IF(CG27=CG35,IF(CC27=\"Bye\",CC35,IF(CC35=\"Bye\",CC35)),(IF(ISBLANK(CD27),\"\",IF(CG27>CG35,CC27,CC35))))","v":false},null,null,null,null,null,null,null,null,null,null,null,null,null,null,null,null,null,null,null,null,null,null,null,null,null,null,null,null,null,null,null,null,null,null,null,null,null,null,null,null,null,null,null,null,null,null,null,"19º",null,null,{"$f":"IF(AH25=AH29,\"\",IF(AH25>AH29,AL29,AL25))","v":""},2,null,null,19,null,null,null,null,null,null,null,null,null,null,"P103"]
[null,null,null,null,null,null,null,{"$f":"IF(ISBLANK(I31),\"\",SUM(IF(I31>I15,1,0)+(IF(J31>J15,1,0)+(IF(K31>K15,1,0)))))","v":""},null,null,null,{"$f":"IF(L30=FALSE,\"\",L30)","v":""},"(V29)",null,{"$f":"IF(ISBLANK(P31),\"\",SUM(IF(P31>P15,1,0)+(IF(Q31>Q15,1,0)+(IF(R31>R15,1,0)))))","v":""},null,null,null,{"$f":"IF(S30=FALSE,\"\",S30)","v":""},null,null,null,null,null,"P116",null,null,null,null,null,null,"P110",null,null,null,null,null,null,null,null,null,null,null,null,null,null,null,null,null,null,{"$f":"IF(BB32=BB34,IF(BF32=\"Bye\",BF34,IF(BF34=\"Bye\",BF32)),(IF(ISBLANK(BC32),\"\",IF(BB32>BB34,BF32,BF34))))","v":false},null,null,null,null,null,null,{"$f":"IF(BO31=BO32,IF(BK31=\"Bye\",BK32,IF(BK32=\"Bye\",BK31)),(IF(ISBLANK(BL31),\"\",IF(BO31>BO32,BK32,BK31))))","v":false},null,null,25,null,0,null,null,null,{"$f":"IF(ISBLANK(BL31),\"\",SUM(IF(BL31>BL32,1,0)+(IF(BM31>BM32,1,0)+(IF(BN31>BN32,1,0)))))","v":""},"P13",{"$f":"IF(BO31=BO32,IF(BK31=\"Bye\",BK32,IF(BK32=\"Bye\",BK31)),(IF(ISBLANK(BL31),\"\",IF(BO31>BO32,BK31,BK32))))","v":false},null,null,null,"P39",null,null,null,null,null,null,null,"(V25)",null,null,null,null,null,{"$f":"IF(CI30=FALSE,\"\",CI30)","v":""},null,null,null,{"$f":"IF(ISBLANK(CJ31),\"\",SUM(IF(CJ31>CJ15,1,0)+(IF(CK31>CK15,1,0)+(IF(CL31>CL15,1,0)))))","v":""},null,null,null,null,null,null,null,null,null,null,null,null,null,null,null,null,null,null,null,null,null,null,null,null,null,null,null,null,null,null,null,null,null,null,null,null,null,{"$f":"IF(#REF!<>\"\",IF(#REF!>L31,#REF!,IF(L31>#REF!,F31,\"Empate\")),\"\")","v":{"$error":"#REF!"}},{"$f":"IF(#REF!<>\"\",IF(#REF!<L31,#REF!,IF(L31<#REF!,F31,\"Empate\")),\"\")","v":{"$error":"#REF!"}},null,null,null,null,"20º",null,null,{"$f":"IF(AH33=AH37,\"\",IF(AH33>AH37,AL37,AL33))","v":""},2,null,null,20,null,null,null,null,null,null,null,null,null,null,104]
[null,null,null,null,null,null,null,null,null,null,null,{"$f":"IF(H11=H27,IF(L11=\"Bye\",L27,IF(L27=\"Bye\",L11)),(IF(ISBLANK(I11),\"\",IF(H11>H27,L27,L11))))","v":false},null,null,null,null,null,null,null,null,null,null,null,null,null,null,null,null,null,null,null,null,null,null,null,null,null,{"$f":"IF(AO33=AO37,IF(AS33=\"Bye\",AS37,IF(AS37=\"Bye\",AS33)),(IF(ISBLANK(AP33),\"\",IF(AO33>AO37,AS33,AS37))))","v":false},null,null,null,null,null,null,{"$f":"IF(AU32=AU34,IF(AY32=\"Bye\",AY34,IF(AY34=\"Bye\",AY32)),(IF(ISBLANK(AV32),\"\",IF(AU32>AU34,AY32,AY34))))","v":false},null,{"$f":"IF(ISBLANK(AV32),\"\",SUM(IF(AV32>AV34,1,0)+(IF(AW32>AW34,1,0)+(IF(AX32>AX34,1,0)))))","v":""},null,null,null,{"$f":"IF(AY31=FALSE,\"\",AY31)","v":""},null,null,{"$f":"IF(ISBLANK(BC32),\"\",SUM(IF(BC32>BC34,1,0)+(IF(BD32>BD34,1,0)+(IF(BE32>BE34,1,0)))))","v":""},null,null,null,{"$f":"IF(BF31=FALSE,\"\",BF31)","v":""},null,null,26,null,0,null,null,null,{"$f":"IF(ISBLANK(BL31),\"\",SUM(IF(BL32>BL31,1,0)+(IF(BM32>BM31,1,0)+(IF(BN32>BN31,1,0)))))","v":""},null,{"$f":"IF(BQ31=FALSE,\"\",BQ31)","v":""},null,null,null,{"$f":"IF(ISBLANK(BR32),\"\",SUM(IF(BR32>BR34,1,0)+(IF(BS32>BS34,1,0)+(IF(BT32>BT34,1,0)))))","v":""},null,{"$f":"IF(BU32=BU34,IF(BQ32=\"Bye\",BQ34,IF(BQ34=\"Bye\",BQ32)),(IF(ISBLANK(BR32),\"\",IF(BU32>BU34,BQ32,BQ34))))","v":false},null,null,null,"P84",null,null,null,null,null,null,null,null,null,null,null,null,null,{"$f":"IF(CS37=CS40,\"\",IF(CS37>CS40,CO37,IF(CS17=CS19,\"\",IF(CS17<CS19,CO19,CO17))))","v":""},null,null,null,null,null,{"$f":"IF(AND(CS32=#REF!,#REF!>CT32),#REF!,CR32)","v":{"$error":"#REF!"}},{"$f":"VLOOKUP(CU32,BP32:CA33,9,FALSE)","v":{"$error":"#REF!"}},{"$f":"VLOOKUP(CU32,BP32:CA33,8,FALSE)","v":{"$error":"#REF!"}},{"$f":"VLOOKUP(CU32,BP32:CA33,6,FALSE)","v":{"$error":"#REF!"}},{"$f":"IF(AND(CV32=#REF!,CW32=#REF!,#REF!>CX32),#REF!,CU32)","v":{"$error":"#REF!"}},{"$f":"VLOOKUP(CY32,BP32:CA33,9,FALSE)","v":{"$error":"#REF!"}},{"$f":"VLOOKUP(CY32,BP32:CA33,8,FALSE)","v":{"$error":"#REF!"}},{"$f":"VLOOKUP(CY32,BP32:CA33,6,FALSE)","v":{"$error":"#REF!"}},{"$f":"IF(AND(CZ32=CZ33,DA32=DA33,DB33>DB32),CY33,CY32)","v":{"$error":"#REF!"}},{"$f":"VLOOKUP(DC32,BP32:CA33,9,FALSE)","v":{"$error":"#REF!"}},{"$f":"VLOOKUP(DC32,BP32:CA33,8,FALSE)","v":{"$error":"#REF!"}},{"$f":"VLOOKUP(DC32,BP32:CA33,6,FALSE)","v":{"$error":"#REF!"}},{"$f":"IF(AND(DD32=#REF!,DE32=#REF!,#REF!>DF32),#REF!,DC32)","v":{"$error":"#REF!"}},{"$f":"VLOOKUP(DG32,BP32:CA33,9,FALSE)","v":{"$error":"#REF!"}},{"$f":"VLOOKUP(DG32,BP32:CA33,8,FALSE)","v":{"$error":"#REF!"}},{"$f":"VLOOKUP(DG32,BP32:CA33,6,FALSE)","v":{"$error":"#REF!"}},null,null,null,{"$f":"DG32","v":{"$error":"#REF!"}},{"$f":"VLOOKUP(DN32,BP32:CA33,2,FALSE)","v":{"$error":"#REF!"}},{"$f":"VLOOKUP(DN32,BP32:CA33,3,FALSE)","v":{"$error":"#REF!"}},{"$f":"VLOOKUP(DN32,BP32:CA33,4,FALSE)","v":{"$error":"#REF!"}},{"$f":"VLOOKUP(DN32,BP32:CA33,5,FALSE)","v":{"$error":"#REF!"}},{"$f":"VLOOKUP(DN32,BP32:CA33,6,FALSE)","v":{"$error":"#REF!"}},{"$f":"VLOOKUP(DN32,BP32:CA33,7,FALSE)","v":{"$error":"#REF!"}},{"$f":"VLOOKUP(DN32,BP32:CA33,8,FALSE)","v":{"$error":"#REF!"}},{"$f":"VLOOKUP(DN32,BP32:CA33,9,FALSE)","v":{"$error":"#REF!"}},null,null,{"$f":"IF(L32<>\"\",IF(L32>#REF!,F32,IF(#REF!>L32,#REF!,\"Empate\")),\"\")","v":{"$error":"#REF!"}},{"$f":"IF(L32<>\"\",IF(L32<#REF!,F32,IF(#REF!<L32,#REF!,\"Empate\")),\"\")","v":{"$error":"#REF!"}},null,null,null,null,"21º",null,null,{"$f":"IF(AH41=AH45,\"\",IF(AH41>AH45,AL45,AL41))","v":""},2,null,null,21,null,null,null,null,null,null,null,null,null,null,105]
[null,null,null,null,null,null,null,null,null,null,null,{"$f":"IF(O15=O31,IF(S15=\"Bye\",S31,IF(S31=\"Bye\",S15)),(IF(ISBLANK(P15),\"\",IF(O15>O31,S31,S15))))","v":false},null,null,null,null,null,null,null,null,null,null,null,null,null,null,null,null,null,null,null,null,null,{"$f":"IF(ISBLANK(AI33),\"\",SUM(IF(AI33>AI37,1,0)+(IF(AJ33>AJ37,1,0)+(IF(AK33>AK37,1,0)))))","v":""},null,null,null,{"$f":"IF(AL32=FALSE,\"\",AL32)","v":""},null,null,{"$f":"IF(ISBLANK(AP33),\"\",SUM(IF(AP33>AP37,1,0)+(IF(AQ33>AQ37,1,0)+(IF(AR33>AR37,1,0)))))","v":""},null,null,null,{"$f":"IF(AS32=FALSE,\"\",AS32)","v":""},null,null,null,"P71",null,{"$f":"IF(BU36=BU38,IF(BQ36=\"Bye\",BQ38,IF(BQ38=\"Bye\",BQ36)),(IF(ISBLANK(BR36),\"\",IF(BU36>BU38,BQ38,BQ36))))","v":false},null,null,null,null,"P55",null,{"$f":"IF(BO33=BO34,IF(BK33=\"Bye\",BK34,IF(BK34=\"Bye\",BK33)),(IF(ISBLANK(BL33),\"\",IF(BO33>BO34,BK34,BK33))))","v":false},null,null,27,null,0,null,null,null,{"$f":"IF(ISBLANK(BL33),\"\",SUM(IF(BL33>BL34,1,0)+(IF(BM33>BM34,1,0)+(IF(BN33>BN34,1,0)))))","v":""},"P14",{"$f":"IF(BO33=BO34,IF(BK33=\"Bye\",BK34,IF(BK34=\"Bye\",BK33)),(IF(ISBLANK(BL33),\"\",IF(BO33>BO34,BK33,BK34))))","v":false},null,"(V8)",null,null,null,{"$f":"IF(BW32=FALSE,\"\",BW32)","v":""},null,null,null,{"$f":"IF(ISBLANK(BX33),\"\",SUM(IF(BX33>BX37,1,0)+(IF(BY33>BY37,1,0)+(IF(BZ33>BZ37,1,0)))))","v":""},null,null,null,null,null,null,null,null,null,null,null,null,null,"CAMPEÃO",null,null,null,null,null,{"$f":"IF(AND(#REF!=CS33,CT33>#REF!),#REF!,CR33)","v":{"$error":"#REF!"}},{"$f":"VLOOKUP(CU33,BP32:CA33,9,FALSE)","v":{"$error":"#REF!"}},{"$f":"VLOOKUP(CU33,BP32:CA33,8,FALSE)","v":{"$error":"#REF!"}},{"$f":"VLOOKUP(CU33,BP32:CA33,6,FALSE)","v":{"$error":"#REF!"}},{"$f":"IF(AND(CV33=#REF!,CW33=#REF!,#REF!>CX33),#REF!,CU33)","v":{"$error":"#REF!"}},{"$f":"VLOOKUP(CY33,BP32:CA33,9,FALSE)","v":{"$error":"#REF!"}},{"$f":"VLOOKUP(CY33,BP32:CA33,8,FALSE)","v":{"$error":"#REF!"}},{"$f":"VLOOKUP(CY33,BP32:CA33,6,FALSE)","v":{"$error":"#REF!"}},{"$f":"IF(AND(CZ32=CZ33,DA32=DA33,#REF!>DB32),CY32,CY33)","v":{"$error":"#REF!"}},{"$f":"VLOOKUP(DC33,BP32:CA33,9,FALSE)","v":{"$error":"#REF!"}},{"$f":"VLOOKUP(DC33,BP32:CA33,8,FALSE)","v":{"$error":"#REF!"}},{"$f":"VLOOKUP(DC33,BP32:CA33,6,FALSE)","v":{"$error":"#REF!"}},{"$f":"IF(AND(#REF!=DD33,#REF!=DE33,DF33>#REF!),#REF!,DC33)","v":{"$error":"#REF!"}},{"$f":"VLOOKUP(DG33,BP32:CA33,9,FALSE)","v":{"$error":"#REF!"}},{"$f":"VLOOKUP(DG33,BP32:CA33,8,FALSE)","v":{"$error":"#REF!"}},{"$f":"VLOOKUP(DG33,BP32:CA33,6,FALSE)","v":{"$error":"#REF!"}},null,null,null,{"$f":"DG33","v":{"$error":"#REF!"}},{"$f":"VLOOKUP(DN33,BP32:CA33,2,FALSE)","v":{"$error":"#REF!"}},{"$f":"VLOOKUP(DN33,BP32:CA33,3,FALSE)","v":{"$error":"#REF!"}},{"$f":"VLOOKUP(DN33,BP32:CA33,4,FALSE)","v":{"$error":"#REF!"}},{"$f":"VLOOKUP(DN33,BP32:CA33,5,FALSE)","v":{"$error":"#REF!"}},{"$f":"VLOOKUP(DN33,BP32:CA33,6,FALSE)","v":{"$error":"#REF!"}},{"$f":"VLOOKUP(DN33,BP32:CA33,7,FALSE)","v":{"$error":"#REF!"}},{"$f":"VLOOKUP(DN33,BP32:CA33,8,FALSE)","v":{"$error":"#REF!"}},{"$f":"VLOOKUP(DN33,BP32:CA33,9,FALSE)","v":{"$error":"#REF!"}},null,null,{"$f":"IF(T33<>\"\",IF(T33>#REF!,N33,IF(#REF!>T33,#REF!,\"Empate\")),\"\")","v":""},{"$f":"IF(T33<>\"\",IF(T33<#REF!,N33,IF(#REF!<T33,#REF!,\"Empate\")),\"\")","v":""},null,null,null,null,"22º",null,null,{"$f":"IF(AH49=AH53,\"\",IF(AH49>AH53,AL53,AL49))","v":""},2,null,null,22,null,null,null,null,null,null,null,null,null,null,106]
[null,null,null,null,null,{"$f":"IF(H34=H36,IF(L34=\"Bye\",L36,IF(L36=\"Bye\",L34)),(IF(ISBLANK(I34),\"\",IF(H34>H36,L34,L36))))","v":false},null,{"$f":"IF(ISBLANK(I34),\"\",SUM(IF(I34>I36,1,0)+(IF(J34>J36,1,0)+(IF(K34>K36,1,0)))))","v":""},null,null,null,{"$f":"IF(L33=FALSE,\"\",L33)","v":""},null,null,null,"Apuramento","7.º e 8.º Class.",null,{"$f":"IF(H34=H36,IF(L34=\"Bye\",L36,IF(L36=\"Bye\",L34)),(IF(ISBLANK(I34),\"\",IF(H34>H36,L36,L34))))","v":false},null,null,null,null,null,{"$f":"IF(CG11=CG19,IF(CC11=\"Bye\",CC19,IF(CC19=\"Bye\",CC19)),(IF(ISBLANK(CD11),\"\",IF(CG11>CG19,CC19,CC11))))","v":false},null,null,null,null,null,null,{"$f":"IF(AH33=AH37,IF(AL33=\"Bye\",AL37,IF(AL37=\"Bye\",AL33)),(IF(ISBLANK(AI33),\"\",IF(AH33>AH37,AL33,AL37))))","v":false},null,null,null,null,null,null,null,null,null,null,null,null,null,null,{"$f":"IF(ISBLANK(AV32),\"\",SUM(IF(AV34>AV32,1,0)+(IF(AW34>AW32,1,0)+(IF(AX34>AX32,1,0)))))","v":""},null,null,null,{"$f":"IF(AY33=FALSE,\"\",AY33)","v":""},"(V7)",null,{"$f":"IF(ISBLANK(BC32),\"\",SUM(IF(BC34>BC32,1,0)+(IF(BD34>BD32,1,0)+(IF(BE34>BE32,1,0)))))","v":""},null,null,null,{"$f":"IF(BF33=FALSE,\"\",BF33)","v":""},null,null,28,null,0,null,null,null,{"$f":"IF(ISBLANK(BL33),\"\",SUM(IF(BL34>BL33,1,0)+(IF(BM34>BM33,1,0)+(IF(BN34>BN33,1,0)))))","v":""},null,{"$f":"IF(BQ33=FALSE,\"\",BQ33)","v":""},null,null,null,{"$f":"IF(ISBLANK(BR32),\"\",SUM(IF(BR34>BR32,1,0)+(IF(BS34>BS32,1,0)+(IF(BT34>BT32,1,0)))))","v":""},null,null,null,null,null,null,null,{"$f":"IF(CA33=CA37,IF(BW33=\"Bye\",BW37,IF(BW37=\"Bye\",BW37)),(IF(ISBLANK(BX33),\"\",IF(CA33>CA37,BW33,BW37))))","v":false},null,null,null,null,null,null,null,null,null,null,null,null,null,null,null,null,null,null,null,null,null,null,null,null,null,null,null,null,null,null,null,null,null,null,null,null,null,null,null,null,null,null,null,null,null,null,null,null,null,null,null,null,null,"23º",null,null,{"$f":"IF(AH57=AH61,\"\",IF(AH57>AH61,AL61,AL57))","v":""},2,null,null,23,null,null,null,null,null,null,null,null,null,null,107]
[null,null,null,null,null,{"$f":"IF(F34=FALSE,\"\",F34)","v":""},null,null,null,"P130",null,{"$f":"IF(O47=O63,IF(S47=\"Bye\",S63,IF(S63=\"Bye\",S47)),(IF(ISBLANK(P47),\"\",IF(O47>O63,S63,S47))))","v":false},null,null,null,null,null,null,{"$f":"IF(S34=FALSE,\"\",S34)","v":""},null,{"$f":"IF(ISBLANK(V35),\"\",SUM(IF(V35>V27,1,0)+(IF(W35>W27,1,0)+(IF(X35>X27,1,0)))))","v":""},null,null,null,{"$f":"IF(Y34=FALSE,\"\",Y34)","v":""},"(V26)",null,{"$f":"IF(ISBLANK(AC35),\"\",SUM(IF(AC35>AC27,1,0)+(IF(AD35>AD27,1,0)+(IF(AE35>AE27,1,0)))))","v":""},null,null,null,{"$f":"IF(AF34=FALSE,\"\",AF34)","v":""},null,"P104",null,null,null,null,null,null,"P92",null,null,null,null,null,null,null,null,null,{"$f":"IF(BB36=BB38,IF(BF36=\"Bye\",BF38,IF(BF38=\"Bye\",BF36)),(IF(ISBLANK(BC36),\"\",IF(BB36>BB38,BF36,BF38))))","v":false},null,null,null,null,null,null,{"$f":"IF(BO35=BO36,IF(BK35=\"Bye\",BK36,IF(BK36=\"Bye\",BK35)),(IF(ISBLANK(BL35),\"\",IF(BO35>BO36,BK36,BK35))))","v":false},null,null,29,null,0,null,null,null,{"$f":"IF(ISBLANK(BL35),\"\",SUM(IF(BL35>BL36,1,0)+(IF(BM35>BM36,1,0)+(IF(BN35>BN36,1,0)))))","v":""},"P15",{"$f":"IF(BO35=BO36,IF(BK35=\"Bye\",BK36,IF(BK36=\"Bye\",BK35)),(IF(ISBLANK(BL35),\"\",IF(BO35>BO36,BK35,BK36))))","v":false},null,null,null,"P40",null,"(V19)",null,null,null,null,null,{"$f":"IF(CC34=FALSE,\"\",CC34)","v":""},null,null,null,{"$f":"IF(ISBLANK(CD35),\"\",SUM(IF(CD35>CD27,1,0)+(IF(CE35>CE27,1,0)+(IF(CF35>CF27,1,0)))))","v":""},null,null,null,null,null,null,null,null,null,null,null,null,null,null,null,null,null,null,null,null,null,null,null,null,null,null,null,null,null,null,null,null,null,null,null,null,null,null,null,null,null,null,null,{"$f":"IF(#REF!<>\"\",IF(#REF!>L35,#REF!,IF(L35>#REF!,F35,\"Empate\")),\"\")","v":{"$error":"#REF!"}},{"$f":"IF(#REF!<>\"\",IF(#REF!<L35,#REF!,IF(L35<#REF!,F35,\"Empate\")),\"\")","v":{"$error":"#REF!"}},null,null,null,null,"24º",null,null,{"$f":"IF(AH65=AH69,\"\",IF(AH65>AH69,AL69,AL65))","v":""},2,null,null,24,null,null,null,null,null,null,null,null,null,null,108]
[null,null,null,null,null,"7º Classificado",null,{"$f":"IF(ISBLANK(I36),\"\",SUM(IF(I36>I34,1,0)+(IF(J36>J34,1,0)+(IF(K36>K34,1,0)))))","v":""},null,null,null,{"$f":"IF(L35=FALSE,\"\",L35)","v":""},null,null,null,null,null,null,"8º Classificado",null,null,null,null,null,null,null,null,null,null,null,null,null,null,null,null,null,null,{"$f":"IF(CA25=CA29,IF(BW25=\"Bye\",BW29,IF(BW29=\"Bye\",BW29)),(IF(ISBLANK(BX25),\"\",IF(CA25>CA29,BW29,BW25))))","v":false},null,null,null,null,null,null,{"$f":"IF(AU36=AU38,IF(AY36=\"Bye\",AY38,IF(AY38=\"Bye\",AY36)),(IF(ISBLANK(AV36),\"\",IF(AU36>AU38,AY36,AY38))))","v":false},null,{"$f":"IF(ISBLANK(AV36),\"\",SUM(IF(AV36>AV38,1,0)+(IF(AW36>AW38,1,0)+(IF(AX36>AX38,1,0)))))","v":""},null,null,null,{"$f":"IF(AY35=FALSE,\"\",AY35)","v":""},null,null,{"$f":"IF(ISBLANK(BC36),\"\",SUM(IF(BC36>BC38,1,0)+(IF(BD36>BD38,1,0)+(IF(BE36>BE38,1,0)))))","v":""},null,null,null,{"$f":"IF(BF35=FALSE,\"\",BF35)","v":""},null,null,30,null,0,null,null,null,{"$f":"IF(ISBLANK(BL35),\"\",SUM(IF(BL36>BL35,1,0)+(IF(BM36>BM35,1,0)+(IF(BN36>BN35,1,0)))))","v":""},null,{"$f":"IF(BQ35=FALSE,\"\",BQ35)","v":""},null,null,null,{"$f":"IF(ISBLANK(BR36),\"\",SUM(IF(BR36>BR38,1,0)+(IF(BS36>BS38,1,0)+(IF(BT36>BT38,1,0)))))","v":""},null,{"$f":"IF(BU36=BU38,IF(BQ36=\"Bye\",BQ38,IF(BQ38=\"Bye\",BQ36)),(IF(ISBLANK(BR36),\"\",IF(BU36>BU38,BQ36,BQ38))))","v":false},null,null,null,null,null,null,null,null,null,null,null,null,null,null,null,null,"P127","QUADRO FINAL",null,null,null,null,null,{"$f":"IF(AND(CS36=#REF!,#REF!>CT36),#REF!,CR36)","v":{"$error":"#REF!"}},{"$f":"VLOOKUP(CU36,BP36:CA37,9,FALSE)","v":{"$error":"#REF!"}},{"$f":"VLOOKUP(CU36,BP36:CA37,8,FALSE)","v":{"$error":"#REF!"}},{"$f":"VLOOKUP(CU36,BP36:CA37,6,FALSE)","v":{"$error":"#REF!"}},{"$f":"IF(AND(CV36=#REF!,CW36=#REF!,#REF!>CX36),#REF!,CU36)","v":{"$error":"#REF!"}},{"$f":"VLOOKUP(CY36,BP36:CA37,9,FALSE)","v":{"$error":"#REF!"}},{"$f":"VLOOKUP(CY36,BP36:CA37,8,FALSE)","v":{"$error":"#REF!"}},{"$f":"VLOOKUP(CY36,BP36:CA37,6,FALSE)","v":{"$error":"#REF!"}},{"$f":"IF(AND(CZ36=CZ37,DA36=DA37,DB37>DB36),CY37,CY36)","v":{"$error":"#REF!"}},{"$f":"VLOOKUP(DC36,BP36:CA37,9,FALSE)","v":{"$error":"#REF!"}},{"$f":"VLOOKUP(DC36,BP36:CA37,8,FALSE)","v":{"$error":"#REF!"}},{"$f":"VLOOKUP(DC36,BP36:CA37,6,FALSE)","v":{"$error":"#REF!"}},{"$f":"IF(AND(DD36=#REF!,DE36=#REF!,#REF!>DF36),#REF!,DC36)","v":{"$error":"#REF!"}},{"$f":"VLOOKUP(DG36,BP36:CA37,9,FALSE)","v":{"$error":"#REF!"}},{"$f":"VLOOKUP(DG36,BP36:CA37,8,FALSE)","v":{"$error":"#REF!"}},{"$f":"VLOOKUP(DG36,BP36:CA37,6,FALSE)","v":{"$error":"#REF!"}},null,null,null,{"$f":"DG36","v":{"$error":"#REF!"}},{"$f":"VLOOKUP(DN36,BP36:CA37,2,FALSE)","v":{"$error":"#REF!"}},{"$f":"VLOOKUP(DN36,BP36:CA37,3,FALSE)","v":{"$error":"#REF!"}},{"$f":"VLOOKUP(DN36,BP36:CA37,4,FALSE)","v":{"$error":"#REF!"}},{"$f":"VLOOKUP(DN36,BP36:CA37,5,FALSE)","v":{"$error":"#REF!"}},{"$f":"VLOOKUP(DN36,BP36:CA37,6,FALSE)","v":{"$error":"#REF!"}},{"$f":"VLOOKUP(DN36,BP36:CA37,7,FALSE)","v":{"$error":"#REF!"}},{"$f":"VLOOKUP(DN36,BP36:CA37,8,FALSE)","v":{"$error":"#REF!"}},{"$f":"VLOOKUP(DN36,BP36:CA37,9,FALSE)","v":{"$error":"#REF!"}},null,null,{"$f":"IF(L36<>\"\",IF(L36>#REF!,F36,IF(#REF!>L36,#REF!,\"Empate\")),\"\")","v":""},{"$f":"IF(L36<>\"\",IF(L36<#REF!,F36,IF(#REF!<L36,#REF!,\"Empate\")),\"\")","v":""},null,null,null,null,"25º",null,null,{"$f":"IF(AO9=AO13,\"\",IF(AO9>AO13,AS13,AS9))","v":""},1,null,null,25,null,null,null,null,null,null,null,null,null,null,89]
[null,null,null,null,null,{"$f":"IF(B23=B55,IF(F23=\"Bye\",F55,IF(F55=\"Bye\",F23)),(IF(ISBLANK(C23),\"\",IF(B23>B55,F23,F55))))","v":false},null,null,null,null,null,null,null,null,null,null,null,null,null,null,null,null,null,null,null,null,null,null,null,null,null,null,null,{"$f":"IF(ISBLANK(AI33),\"\",SUM(IF(AI37>AI33,1,0)+(IF(AJ37>AJ33,1,0)+(IF(AK37>AK33,1,0)))))","v":""},null,null,null,{"$f":"IF(AL36=FALSE,\"\",AL36)","v":""},"(V20)",null,{"$f":"IF(ISBLANK(AP37),\"\",SUM(IF(AP37>AP33,1,0)+(IF(AQ37>AQ33,1,0)+(IF(AR37>AR33,1,0)))))","v":""},null,null,null,{"$f":"IF(AS36=FALSE,\"\",AS36)","v":""},null,null,null,"P72",null,{"$f":"IF(BU32=BU34,IF(BQ32=\"Bye\",BQ34,IF(BQ34=\"Bye\",BQ32)),(IF(ISBLANK(BR32),\"\",IF(BU32>BU34,BQ34,BQ32))))","v":false},null,null,null,null,"P56",null,{"$f":"IF(BO37=BO38,IF(BK37=\"Bye\",BK38,IF(BK38=\"Bye\",BK37)),(IF(ISBLANK(BL37),\"\",IF(BO37>BO38,BK38,BK37))))","v":false},null,null,31,null,0,null,null,null,{"$f":"IF(ISBLANK(BL37),\"\",SUM(IF(BL37>BL38,1,0)+(IF(BM37>BM38,1,0)+(IF(BN37>BN38,1,0)))))","v":""},"P16",{"$f":"IF(BO37=BO38,IF(BK37=\"Bye\",BK38,IF(BK38=\"Bye\",BK37)),(IF(ISBLANK(BL37),\"\",IF(BO37>BO38,BK37,BK38))))","v":false},null,"(V7)",null,null,null,{"$f":"IF(BW36=FALSE,\"\",BW36)","v":""},null,null,null,{"$f":"IF(ISBLANK(BX37),\"\",SUM(IF(BX37>BX33,1,0)+(IF(BY37>BY33,1,0)+(IF(BZ37>BZ33,1,0)))))","v":""},null,null,null,null,null,null,null,null,null,null,null,null,null,{"$f":"IF(CS23=CS55,\"\",IF(CS23>CS55,CO23,CO55))","v":""},null,null,null,{"$f":"IF(ISBLANK(CP37),\"\",SUM(IF(CP37>CP40,1,0)+(IF(CQ37>CQ40,1,0)+(IF(CR37>CR40,1,0)))))","v":""},null,{"$f":"IF(AND(#REF!=CS37,CT37>#REF!),#REF!,CR37)","v":{"$error":"#REF!"}},{"$f":"VLOOKUP(CU37,BP36:CA37,9,FALSE)","v":{"$error":"#REF!"}},{"$f":"VLOOKUP(CU37,BP36:CA37,8,FALSE)","v":{"$error":"#REF!"}},{"$f":"VLOOKUP(CU37,BP36:CA37,6,FALSE)","v":{"$error":"#REF!"}},{"$f":"IF(AND(CV37=#REF!,CW37=#REF!,#REF!>CX37),#REF!,CU37)","v":{"$error":"#REF!"}},{"$f":"VLOOKUP(CY37,BP36:CA37,9,FALSE)","v":{"$error":"#REF!"}},{"$f":"VLOOKUP(CY37,BP36:CA37,8,FALSE)","v":{"$error":"#REF!"}},{"$f":"VLOOKUP(CY37,BP36:CA37,6,FALSE)","v":{"$error":"#REF!"}},{"$f":"IF(AND(CZ36=CZ37,DA36=DA37,#REF!>DB36),CY36,CY37)","v":{"$error":"#REF!"}},{"$f":"VLOOKUP(DC37,BP36:CA37,9,FALSE)","v":{"$error":"#REF!"}},{"$f":"VLOOKUP(DC37,BP36:CA37,8,FALSE)","v":{"$error":"#REF!"}},{"$f":"VLOOKUP(DC37,BP36:CA37,6,FALSE)","v":{"$error":"#REF!"}},{"$f":"IF(AND(#REF!=DD37,#REF!=DE37,DF37>#REF!),#REF!,DC37)","v":{"$error":"#REF!"}},{"$f":"VLOOKUP(DG37,BP36:CA37,9,FALSE)","v":{"$error":"#REF!"}},{"$f":"VLOOKUP(DG37,BP36:CA37,8,FALSE)","v":{"$error":"#REF!"}},{"$f":"VLOOKUP(DG37,BP36:CA37,6,FALSE)","v":{"$error":"#REF!"}},null,null,null,{"$f":"DG37","v":{"$error":"#REF!"}},{"$f":"VLOOKUP(DN37,BP36:CA37,2,FALSE)","v":{"$error":"#REF!"}},{"$f":"VLOOKUP(DN37,BP36:CA37,3,FALSE)","v":{"$error":"#REF!"}},{"$f":"VLOOKUP(DN37,BP36:CA37,4,FALSE)","v":{"$error":"#REF!"}},{"$f":"VLOOKUP(DN37,BP36:CA37,5,FALSE)","v":{"$error":"#REF!"}},{"$f":"VLOOKUP(DN37,BP36:CA37,6,FALSE)","v":{"$error":"#REF!"}},{"$f":"VLOOKUP(DN37,BP36:CA37,7,FALSE)","v":{"$error":"#REF!"}},{"$f":"VLOOKUP(DN37,BP36:CA37,8,FALSE)","v":{"$error":"#REF!"}},{"$f":"VLOOKUP(DN37,BP36:CA37,9,FALSE)","v":{"$error":"#REF!"}},null,null,{"$f":"IF(T37<>\"\",IF(T37>#REF!,N37,IF(#REF!>T37,#REF!,\"Empate\")),\"\")","v":""},{"$f":"IF(T37<>\"\",IF(T37<#REF!,N37,IF(#REF!<T37,#REF!,\"Empate\")),\"\")","v":""},null,null,null,null,"26º",null,null,{"$f":"IF(AO17=AO21,\"\",IF(AO17>AO21,AS21,AS17))","v":""},1,null,null,26,null,null,null,null,null,null,null,null,null,null,90]
[null,{"$f":"IF(ISBLANK(C38),\"\",SUM(IF(C38>C40,1,0)+(IF(D38>D40,1,0)+(IF(E38>E40,1,0)))))","v":""},null,null,null,{"$f":"IF(F37=FALSE,\"\",F37)","v":""},null,null,null,null,null,{"$f":"IF($B$38=$B$40,IF($F$38=\"Bye\",$F$40,IF($F$40=\"Bye\",$F$38)),(IF(ISBLANK($C$38),\"\",IF($B$38>$B$40,$F$38,$F$40))))","v":false},null,null,null,null,null,null,{"$f":"IF(B38=B40,IF(F38=\"Bye\",F40,IF(F40=\"Bye\",F38)),(IF(ISBLANK(C38),\"\",IF(B38>B40,F40,F38))))","v":false},null,null,null,null,null,{"$f":"IF(B23=B55,IF(F23=\"Bye\",F55,IF(F55=\"Bye\",F23)),(IF(ISBLANK(C23),\"\",IF(B23>B55,F55,F23))))","v":false},null,null,null,null,null,null,null,null,null,null,null,null,null,null,null,null,null,null,null,null,null,{"$f":"IF(ISBLANK(AV36),\"\",SUM(IF(AV38>AV36,1,0)+(IF(AW38>AW36,1,0)+(IF(AX38>AX36,1,0)))))","v":""},null,null,null,{"$f":"IF(AY37=FALSE,\"\",AY37)","v":""},"(V8)",null,{"$f":"IF(ISBLANK(BC36),\"\",SUM(IF(BC38>BC36,1,0)+(IF(BD38>BD36,1,0)+(IF(BE38>BE36,1,0)))))","v":""},null,null,null,{"$f":"IF(BF37=FALSE,\"\",BF37)","v":""},null,null,32,null,0,null,null,null,{"$f":"IF(ISBLANK(BL37),\"\",SUM(IF(BL38>BL37,1,0)+(IF(BM38>BM37,1,0)+(IF(BN38>BN37,1,0)))))","v":""},null,{"$f":"IF(BQ37=FALSE,\"\",BQ37)","v":""},null,null,null,{"$f":"IF(ISBLANK(BR36),\"\",SUM(IF(BR38>BR36,1,0)+(IF(BS38>BS36,1,0)+(IF(BT38>BT36,1,0)))))","v":""},null,null,null,null,null,null,null,null,null,null,null,null,null,null,null,null,null,null,null,"Resultado/Vencedor Jogo V31 do quadro principal",null,null,null,null,null,null,null,null,null,null,null,null,null,null,null,null,null,null,null,null,null,null,null,null,null,null,null,null,null,null,null,null,null,null,null,null,null,null,null,null,null,"27º",null,null,{"$f":"IF(AO25=AO29,\"\",IF(AO25>AO29,AS29,AS25))","v":""},1,null,null,27,null,null,null,null,null,null,null,null,null,null,91]
[null,null,null,null,null,{"$f":"IF(CS23=CS55,IF(CO23=\"Bye\",CO55,IF(CO55=\"Bye\",CO55)),(IF(ISBLANK(CP23),\"\",IF(CS23>CP55,CO55,CO23))))","v":false},null,null,{"$f":"IF(L38=FALSE,\"\",L38)","v":""},null,null,null,null,null,{"$f":"IF(S38=FALSE,\"\",S38)","v":""},null,null,null,null,null,{"$f":"IF(Y38=FALSE,\"\",Y38)","v":""},null,null,null,null,null,null,null,null,null,null,null,null,null,null,null,null,null,null,null,null,null,null,null,null,null,null,null,null,null,{"$f":"IF(BB40=BB42,IF(BF40=\"Bye\",BF42,IF(BF42=\"Bye\",BF40)),(IF(ISBLANK(BC40),\"\",IF(BB40>BB42,BF40,BF42))))","v":false},null,null,null,null,null,null,{"$f":"IF(BO39=BO40,IF(BK39=\"Bye\",BK40,IF(BK40=\"Bye\",BK39)),(IF(ISBLANK(BL39),\"\",IF(BO39>BO40,BK40,BK39))))","v":false},null,null,33,null,0,null,null,null,{"$f":"IF(ISBLANK(BL39),\"\",SUM(IF(BL39>BL40,1,0)+(IF(BM39>BM40,1,0)+(IF(BN39>BN40,1,0)))))","v":""},"P17",{"$f":"IF(BO39=BO40,IF(BK39=\"Bye\",BK40,IF(BK40=\"Bye\",BK39)),(IF(ISBLANK(BL39),\"\",IF(BO39>BO40,BK39,BK40))))","v":false},null,null,null,"P41",null,null,null,null,null,null,null,null,null,null,null,null,null,null,null,null,null,null,null,{"$f":"IF(B38=B40,IF(F38=\"Bye\",F40,IF(F40=\"Bye\",F38)),(IF(ISBLANK(C38),\"\",IF(B38>B40,F38,F40))))","v":false},null,null,null,null,null,null,null,null,null,null,null,null,null,null,null,null,null,null,null,null,null,null,null,null,null,null,null,null,null,null,null,null,null,null,null,null,null,null,null,null,null,"28º",null,null,{"$f":"IF(AO33=AO37,\"\",IF(AO33>AO37,AS37,AS33))","v":""},1,null,null,28,null,null,null,null,null,null,null,null,null,null,92]
[null,{"$f":"IF(ISBLANK(C40),\"\",SUM(IF(C40>C38,1,0)+(IF(D40>D38,1,0)+(IF(E40>E38,1,0)))))","v":""},null,null,null,{"$f":"IF(F39=FALSE,\"\",F39)","v":""},"(V31)",null,"Apurado para a Final",null,null,null,null,null,"3ºClassificado",null,null,null,null,null,"4ºClassificado",null,null,null,null,null,null,null,null,null,null,null,null,null,null,null,null,{"$f":"IF(AO41=AO45,IF(AS41=\"Bye\",AS45,IF(AS45=\"Bye\",AS41)),(IF(ISBLANK(AP41),\"\",IF(AO41>AO45,AS41,AS45))))","v":false},null,null,null,null,null,null,{"$f":"IF(AU40=AU42,IF(AY40=\"Bye\",AY42,IF(AY42=\"Bye\",AY40)),(IF(ISBLANK(AV40),\"\",IF(AU40>AU42,AY40,AY42))))","v":false},null,{"$f":"IF(ISBLANK(AV40),\"\",SUM(IF(AV40>AV42,1,0)+(IF(AW40>AW42,1,0)+(IF(AX40>AX42,1,0)))))","v":""},null,null,null,{"$f":"IF(AY39=FALSE,\"\",AY39)","v":""},null,null,{"$f":"IF(ISBLANK(BC40),\"\",SUM(IF(BC40>BC42,1,0)+(IF(BD40>BD42,1,0)+(IF(BE40>BE42,1,0)))))","v":""},null,null,null,{"$f":"IF(BF39=FALSE,\"\",BF39)","v":""},null,null,34,null,0,null,null,null,{"$f":"IF(ISBLANK(BL39),\"\",SUM(IF(BL40>BL39,1,0)+(IF(BM40>BM39,1,0)+(IF(BN40>BN39,1,0)))))","v":""},null,{"$f":"IF(BQ39=FALSE,\"\",BQ39)","v":""},null,null,null,{"$f":"IF(ISBLANK(BR40),\"\",SUM(IF(BR40>BR42,1,0)+(IF(BS40>BS42,1,0)+(IF(BT40>BT42,1,0)))))","v":""},null,{"$f":"IF(BU40=BU42,IF(BQ40=\"Bye\",BQ42,IF(BQ42=\"Bye\",BQ40)),(IF(ISBLANK(BR40),\"\",IF(BU40>BU42,BQ40,BQ42))))","v":false},null,null,null,"P85",null,null,null,null,null,null,null,null,null,null,null,null,null,{"$f":"IF(CO39=FALSE,\"\",CO39)","v":""},null,null,null,{"$f":"IF(ISBLANK(CP40),\"\",SUM(IF(CP40>CP37,1,0)+(IF(CQ40>CQ37,1,0)+(IF(CR40>CR37,1,0)))))","v":""},null,null,null,null,null,null,null,null,null,null,null,null,null,null,null,null,null,null,null,null,null,null,null,null,null,null,null,null,null,null,null,null,null,null,null,null,null,"29º",null,null,{"$f":"IF(AO41=AO45,\"\",IF(AO41>AO45,AS45,AS41))","v":""},1,null,null,29,null,null,null,null,null,null,null,null,null,null,93]
[null,null,null,null,null,null,null,null,null,null,null,{"$f":"IF(H15=H31,IF(L15=\"Bye\",L31,IF(L31=\"Bye\",L15)),(IF(ISBLANK(I15),\"\",IF(H15>H31,L31,L15))))","v":false},null,null,null,null,null,null,null,null,null,null,null,null,null,null,null,null,null,null,null,null,null,{"$f":"IF(ISBLANK(AI41),\"\",SUM(IF(AI41>AI45,1,0)+(IF(AJ41>AJ45,1,0)+(IF(AK41>AK45,1,0)))))","v":""},null,null,null,{"$f":"IF(AL40=FALSE,\"\",AL40)","v":""},null,null,{"$f":"IF(ISBLANK(AP41),\"\",SUM(IF(AP41>AP45,1,0)+(IF(AQ41>AQ45,1,0)+(IF(AR41>AR45,1,0)))))","v":""},null,null,null,{"$f":"IF(AS40=FALSE,\"\",AS40)","v":""},null,null,null,"P73",null,{"$f":"IF(BU44=BU46,IF(BQ44=\"Bye\",BQ46,IF(BQ46=\"Bye\",BQ44)),(IF(ISBLANK(BR44),\"\",IF(BU44>BU46,BQ46,BQ44))))","v":false},null,null,null,null,"P57",null,{"$f":"IF(BO41=BO42,IF(BK41=\"Bye\",BK42,IF(BK42=\"Bye\",BK41)),(IF(ISBLANK(BL41),\"\",IF(BO41>BO42,BK42,BK41))))","v":false},null,null,35,null,0,null,null,null,{"$f":"IF(ISBLANK(BL41),\"\",SUM(IF(BL41>BL42,1,0)+(IF(BM41>BM42,1,0)+(IF(BN41>BN42,1,0)))))","v":""},"P18",{"$f":"IF(BO41=BO42,IF(BK41=\"Bye\",BK42,IF(BK42=\"Bye\",BK41)),(IF(ISBLANK(BL41),\"\",IF(BO41>BO42,BK41,BK42))))","v":false},null,"(V10)",null,null,null,{"$f":"IF(BW40=FALSE,\"\",BW40)","v":""},null,null,null,{"$f":"IF(ISBLANK(BX41),\"\",SUM(IF(BX41>BX45,1,0)+(IF(BY41>BY45,1,0)+(IF(BZ41>BZ45,1,0)))))","v":""},null,null,null,null,null,null,null,null,null,null,null,null,null,"Vencedor Jogo V31 quadro dos vencidos",null,null,null,null,null,null,null,null,null,null,null,null,null,null,null,null,null,null,null,null,null,null,null,null,null,null,null,null,null,null,null,null,null,null,null,null,null,null,null,null,null,"30º",null,null,{"$f":"IF(AO49=AO53,\"\",IF(AO49>AO53,AS53,AS49))","v":""},1,null,null,30,null,null,null,null,null,null,null,null,null,null,94]
[null,null,null,null,null,{"$f":"IF(H42=H44,IF(L42=\"Bye\",L44,IF(L44=\"Bye\",L42)),(IF(ISBLANK(I42),\"\",IF(H42>H44,L42,L44))))","v":false},null,{"$f":"IF(ISBLANK(I42),\"\",SUM(IF(I42>I44,1,0)+(IF(J42>J44,1,0)+(IF(K42>K44,1,0)))))","v":""},null,null,null,{"$f":"IF(L41=FALSE,\"\",L41)","v":""},"(V 29)",null,null,"Apuramento","5.º e 6.º Class.",null,{"$f":"IF(H42=H44,IF(L42=\"Bye\",L44,IF(L44=\"Bye\",L42)),(IF(ISBLANK(I42),\"\",IF(H42>H44,L44,L42))))","v":false},null,null,null,null,null,{"$f":"IF(AB43=AB51,IF(AF43=\"Bye\",AF51,IF(AF51=\"Bye\",AF43)),(IF(ISBLANK(AC43),\"\",IF(AB43>AB51,AF43,AF51))))","v":false},null,null,null,null,null,null,{"$f":"IF(AH41=AH45,IF(AL41=\"Bye\",AL45,IF(AL45=\"Bye\",AL41)),(IF(ISBLANK(AI41),\"\",IF(AH41>AH45,AL41,AL45))))","v":false},null,null,null,null,null,null,null,null,null,null,null,null,null,null,{"$f":"IF(ISBLANK(AV40),\"\",SUM(IF(AV42>AV40,1,0)+(IF(AW42>AW40,1,0)+(IF(AX42>AX40,1,0)))))","v":""},null,null,null,{"$f":"IF(AY41=FALSE,\"\",AY41)","v":""},"(V9)",null,{"$f":"IF(ISBLANK(BC40),\"\",SUM(IF(BC42>BC40,1,0)+(IF(BD42>BD40,1,0)+(IF(BE42>BE40,1,0)))))","v":""},null,null,null,{"$f":"IF(BF41=FALSE,\"\",BF41)","v":""},null,null,36,null,0,null,null,null,{"$f":"IF(ISBLANK(BL41),\"\",SUM(IF(BL42>BL41,1,0)+(IF(BM42>BM41,1,0)+(IF(BN42>BN41,1,0)))))","v":""},null,{"$f":"IF(BQ41=FALSE,\"\",BQ41)","v":""},null,null,null,{"$f":"IF(ISBLANK(BR40),\"\",SUM(IF(BR42>BR40,1,0)+(IF(BS42>BS40,1,0)+(IF(BT42>BT40,1,0)))))","v":""},null,null,null,null,null,null,null,{"$f":"IF(CA41=CA45,IF(BW41=\"Bye\",BW45,IF(BW45=\"Bye\",BW45)),(IF(ISBLANK(BX41),\"\",IF(CA41>CA45,BW41,BW45))))","v":false},null,null,null,"P99",null,null,null,null,null,null,null,null,null,null,null,null,null,null,null,null,null,null,null,null,null,null,null,null,null,null,null,null,null,null,null,null,null,null,null,null,null,null,null,null,null,null,null,null,null,null,null,null,null,"31º",null,null,{"$f":"IF(AO57=AO61,\"\",IF(AO57>AO61,AS61,AS57))","v":""},1,null,null,31,null,null,null,null,null,null,null,null,null,null,95]
[null,null,null,null,null,{"$f":"IF(F42=FALSE,\"\",F42)","v":""},null,null,null,"P129",null,{"$f":"IF(H47=H63,IF(L47=\"Bye\",L63,IF(L63=\"Bye\",L47)),(IF(ISBLANK(I47),\"\",IF(H47>H63,L63,L47))))","v":false},null,null,null,null,null,null,{"$f":"IF(S42=FALSE,\"\",S42)","v":""},null,{"$f":"IF(ISBLANK(V43),\"\",SUM(IF(V43>V51,1,0)+(IF(W43>W51,1,0)+(IF(X43>X51,1,0)))))","v":""},null,null,null,{"$f":"IF(Y42=FALSE,\"\",Y42)","v":""},null,null,{"$f":"IF(ISBLANK(AC43),\"\",SUM(IF(AC43>AC51,1,0)+(IF(AD43>AD51,1,0)+(IF(AE43>AE51,1,0)))))","v":""},null,null,null,{"$f":"IF(AF42=FALSE,\"\",AF42)","v":""},null,"P105",null,null,null,null,null,null,"P93",null,null,null,null,null,null,null,null,null,{"$f":"IF(BB44=BB46,IF(BF44=\"Bye\",BF46,IF(BF46=\"Bye\",BF44)),(IF(ISBLANK(BC44),\"\",IF(BB44>BB46,BF44,BF46))))","v":false},null,null,null,null,null,null,{"$f":"IF(BO43=BO44,IF(BK43=\"Bye\",BK44,IF(BK44=\"Bye\",BK43)),(IF(ISBLANK(BL43),\"\",IF(BO43>BO44,BK44,BK43))))","v":false},null,null,37,null,0,null,null,null,{"$f":"IF(ISBLANK(BL43),\"\",SUM(IF(BL43>BL44,1,0)+(IF(BM43>BM44,1,0)+(IF(BN43>BN44,1,0)))))","v":""},"P19",{"$f":"IF(BO43=BO44,IF(BK43=\"Bye\",BK44,IF(BK44=\"Bye\",BK43)),(IF(ISBLANK(BL43),\"\",IF(BO43>BO44,BK43,BK44))))","v":false},null,null,null,"P42",null,"(V22)",null,null,null,null,null,{"$f":"IF(CC42=FALSE,\"\",CC42)","v":""},null,null,null,{"$f":"IF(ISBLANK(CD43),\"\",SUM(IF(CD43>CD51,1,0)+(IF(CE43>CE51,1,0)+(IF(CF43>CF51,1,0)))))","v":""},null,null,null,null,null,null,null,null,null,null,null,null,null,null,null,null,null,null,null,null,null,null,null,null,null,null,null,null,null,null,null,null,null,null,null,null,null,null,null,null,null,null,null,null,null,null,null,null,null,"32º",null,null,{"$f":"IF(AO65=AO69,\"\",IF(AO65>AO69,AS69,AS65))","v":""},1,null,null,32,null,null,null,null,null,null,null,null,null,null,96]
[null,null,null,null,null,"5ºClassificado",null,{"$f":"IF(ISBLANK(I44),\"\",SUM(IF(I44>I42,1,0)+(IF(J44>J42,1,0)+(IF(K44>K42,1,0)))))","v":""},null,null,null,{"$f":"IF(L43=FALSE,\"\",L43)","v":""},"(V 30)",null,null,null,null,null,"6ºClassificado",null,null,null,null,null,null,null,null,null,null,null,null,null,null,null,null,null,null,{"$f":"IF(CA49=CA53,IF(BW49=\"Bye\",BW53,IF(BW53=\"Bye\",BW53)),(IF(ISBLANK(BX49),\"\",IF(CA49>CA53,BW53,BW49))))","v":false},null,null,null,null,null,null,{"$f":"IF(AU44=AU46,IF(AY44=\"Bye\",AY46,IF(AY46=\"Bye\",AY44)),(IF(ISBLANK(AV44),\"\",IF(AU44>AU46,AY44,AY46))))","v":false},null,{"$f":"IF(ISBLANK(AV44),\"\",SUM(IF(AV44>AV46,1,0)+(IF(AW44>AW46,1,0)+(IF(AX44>AX46,1,0)))))","v":""},null,null,null,{"$f":"IF(AY43=FALSE,\"\",AY43)","v":""},null,null,{"$f":"IF(ISBLANK(BC44),\"\",SUM(IF(BC44>BC46,1,0)+(IF(BD44>BD46,1,0)+(IF(BE44>BE46,1,0)))))","v":""},null,null,null,{"$f":"IF(BF43=FALSE,\"\",BF43)","v":""},null,null,38,null,0,null,null,null,{"$f":"IF(ISBLANK(BL43),\"\",SUM(IF(BL44>BL43,1,0)+(IF(BM44>BM43,1,0)+(IF(BN44>BN43,1,0)))))","v":""},null,{"$f":"IF(BQ43=FALSE,\"\",BQ43)","v":""},null,null,null,{"$f":"IF(ISBLANK(BR44),\"\",SUM(IF(BR44>BR46,1,0)+(IF(BS44>BS46,1,0)+(IF(BT44>BT46,1,0)))))","v":""},null,{"$f":"IF(BU44=BU46,IF(BQ44=\"Bye\",BQ46,IF(BQ46=\"Bye\",BQ44)),(IF(ISBLANK(BR44),\"\",IF(BU44>BU46,BQ44,BQ46))))","v":false},null,null,null,null,null,null,null,null,null,null,null,null,null,null,null,null,null,null,null,null,null,null,null,null,null,null,null,null,null,null,null,null,null,null,null,null,null,null,null,null,null,null,null,null,null,null,null,null,null,null,null,null,null,null,null,null,null,null,null,"33º",null,null,{"$f":"IF(AU8=AU10,\"\",IF(AU8>AU10,AY10,AY8))","v":""},1,null,null,33,null,null,null,null,null,null,null,null,null,null,65]
[null,null,null,null,null,null,null,null,null,null,null,null,null,null,null,null,null,null,null,null,null,null,null,null,null,null,null,null,null,null,null,null,null,{"$f":"IF(ISBLANK(AI41),\"\",SUM(IF(AI45>AI41,1,0)+(IF(AJ45>AJ41,1,0)+(IF(AK45>AK41,1,0)))))","v":""},null,null,null,{"$f":"IF(AL44=FALSE,\"\",AL44)","v":""},"(V21)",null,{"$f":"IF(ISBLANK(AP45),\"\",SUM(IF(AP45>AP41,1,0)+(IF(AQ45>AQ41,1,0)+(IF(AR45>AR41,1,0)))))","v":""},null,null,null,{"$f":"IF(AS44=FALSE,\"\",AS44)","v":""},null,null,null,"P74",null,{"$f":"IF(BU40=BU42,IF(BQ40=\"Bye\",BQ42,IF(BQ42=\"Bye\",BQ40)),(IF(ISBLANK(BR40),\"\",IF(BU40>BU42,BQ42,BQ40))))","v":false},null,null,null,null,"P58",null,{"$f":"IF(BO45=BO46,IF(BK45=\"Bye\",BK46,IF(BK46=\"Bye\",BK45)),(IF(ISBLANK(BL45),\"\",IF(BO45>BO46,BK46,BK45))))","v":false},null,null,39,null,0,null,null,null,{"$f":"IF(ISBLANK(BL45),\"\",SUM(IF(BL45>BL46,1,0)+(IF(BM45>BM46,1,0)+(IF(BN45>BN46,1,0)))))","v":""},"P20",{"$f":"IF(BO45=BO46,IF(BK45=\"Bye\",BK46,IF(BK46=\"Bye\",BK45)),(IF(ISBLANK(BL45),\"\",IF(BO45>BO46,BK45,BK46))))","v":false},null,"(V9)",null,null,null,{"$f":"IF(BW44=FALSE,\"\",BW44)","v":""},null,null,null,{"$f":"IF(ISBLANK(BX45),\"\",SUM(IF(BX45>BX41,1,0)+(IF(BY45>BY41,1,0)+(IF(BZ45>BZ41,1,0)))))","v":""},null,null,null,null,null,null,null,null,null,null,null,null,null,null,null,null,null,null,null,null,null,null,null,null,null,null,null,null,null,null,null,null,null,null,null,null,null,null,null,null,null,null,null,null,null,null,null,null,null,null,null,null,null,null,null,"34º",null,null,{"$f":"IF(AU12=AU14,\"\",IF(AU12>AU14,AY14,AY12))","v":""},1,null,null,34,null,null,null,null,null,null,null,null,null,null,66]
[null,null,null,null,null,null,null,null,null,null,null,{"$f":"IF(O47=O63,IF(S47=\"Bye\",S63,IF(S63=\"Bye\",S47)),(IF(ISBLANK(P47),\"\",IF(O47>O63,S47,S63))))","v":false},null,null,null,null,null,null,{"$f":"IF(U43=U51,IF(Y43=\"Bye\",Y51,IF(Y51=\"Bye\",Y43)),(IF(ISBLANK(V43),\"\",IF(U43>U51,Y43,Y51))))","v":false},null,"Vencedor",null,null,null,null,null,null,"Vencedor",null,null,null,null,null,null,null,null,null,null,null,null,null,null,null,null,null,null,{"$f":"IF(ISBLANK(AV44),\"\",SUM(IF(AV46>AV44,1,0)+(IF(AW46>AW44,1,0)+(IF(AX46>AX44,1,0)))))","v":""},null,null,null,{"$f":"IF(AY45=FALSE,\"\",AY45)","v":""},"(V10)",null,{"$f":"IF(ISBLANK(BC44),\"\",SUM(IF(BC46>BC44,1,0)+(IF(BD46>BD44,1,0)+(IF(BE46>BE44,1,0)))))","v":""},null,null,null,{"$f":"IF(BF45=FALSE,\"\",BF45)","v":""},null,null,40,null,0,null,null,null,{"$f":"IF(ISBLANK(BL45),\"\",SUM(IF(BL46>BL45,1,0)+(IF(BM46>BM45,1,0)+(IF(BN46>BN45,1,0)))))","v":""},null,{"$f":"IF(BQ45=FALSE,\"\",BQ45)","v":""},null,null,null,{"$f":"IF(ISBLANK(BR44),\"\",SUM(IF(BR46>BR44,1,0)+(IF(BS46>BS44,1,0)+(IF(BT46>BT44,1,0)))))","v":""},null,null,null,null,null,null,null,null,null,null,null,null,null,{"$f":"IF(CG43=CG51,IF(CC43=\"Bye\",CC51,IF(CC51=\"Bye\",CC51)),(IF(ISBLANK(CD43),\"\",IF(CG43>CG51,CC43,CC51))))","v":false},null,null,null,"P114",null,null,null,null,null,null,null,null,null,null,null,null,null,null,null,null,null,null,null,null,null,null,null,null,null,null,null,null,null,null,null,null,null,null,null,null,null,null,null,null,null,null,null,"35º",null,null,{"$f":"IF(AU16=AU18,\"\",IF(AU16>AU18,AY18,AY16))","v":""},1,null,null,35,null,null,null,null,null,null,null,null,null,null,67]
[null,null,null,null,null,null,null,{"$f":"IF(ISBLANK(I47),\"\",SUM(IF(I47>I63,1,0)+(IF(J47>J63,1,0)+(IF(K47>K63,1,0)))))","v":""},null,null,null,{"$f":"IF(L46=FALSE,\"\",L46)","v":""},null,null,{"$f":"IF(ISBLANK(P47),\"\",SUM(IF(P47>P63,1,0)+(IF(Q47>Q63,1,0)+(IF(R47>R63,1,0)))))","v":""},null,null,null,{"$f":"IF(S46=FALSE,\"\",S46)","v":""},null,null,null,null,null,"P117",null,null,null,null,null,null,"P111",null,null,null,null,null,null,null,null,null,null,null,null,null,null,null,null,null,null,{"$f":"IF(BB48=BB50,IF(BF48=\"Bye\",BF50,IF(BF50=\"Bye\",BF48)),(IF(ISBLANK(BC48),\"\",IF(BB48>BB50,BF48,BF50))))","v":false},null,null,null,null,null,null,{"$f":"IF(BO47=BO48,IF(BK47=\"Bye\",BK48,IF(BK48=\"Bye\",BK47)),(IF(ISBLANK(BL47),\"\",IF(BO47>BO48,BK48,BK47))))","v":false},null,null,41,null,0,null,null,null,{"$f":"IF(ISBLANK(BL47),\"\",SUM(IF(BL47>BL48,1,0)+(IF(BM47>BM48,1,0)+(IF(BN47>BN48,1,0)))))","v":""},"P21",{"$f":"IF(BO47=BO48,IF(BK47=\"Bye\",BK48,IF(BK48=\"Bye\",BK47)),(IF(ISBLANK(BL47),\"\",IF(BO47>BO48,BK47,BK48))))","v":false},null,null,null,"P43",null,null,null,null,null,null,null,"(V28)",null,null,null,null,null,{"$f":"IF(CI46=FALSE,\"\",CI46)","v":""},null,null,null,{"$f":"IF(ISBLANK(CJ47),\"\",SUM(IF(CJ47>CJ63,1,0)+(IF(CK47>CK63,1,0)+(IF(CL47>CL63,1,0)))))","v":""},null,null,null,null,null,null,null,null,null,null,null,null,null,null,null,null,null,null,null,null,null,null,null,null,null,null,null,null,null,null,null,null,null,null,null,null,null,null,null,null,null,null,null,"36º",null,null,{"$f":"IF(AU20=AU22,\"\",IF(AU20>AU22,AY22,AY20))","v":""},1,null,null,36,null,null,null,null,null,null,null,null,null,null,68]
[null,null,null,null,null,null,null,null,null,null,null,null,null,null,null,null,null,null,null,null,null,null,null,null,null,null,null,null,null,null,null,null,null,null,null,null,null,{"$f":"IF(AO49=AO53,IF(AS49=\"Bye\",AS53,IF(AS53=\"Bye\",AS49)),(IF(ISBLANK(AP49),\"\",IF(AO49>AO53,AS49,AS53))))","v":false},null,null,null,null,null,null,{"$f":"IF(AU48=AU50,IF(AY48=\"Bye\",AY50,IF(AY50=\"Bye\",AY48)),(IF(ISBLANK(AV48),\"\",IF(AU48>AU50,AY48,AY50))))","v":false},null,{"$f":"IF(ISBLANK(AV48),\"\",SUM(IF(AV48>AV50,1,0)+(IF(AW48>AW50,1,0)+(IF(AX48>AX50,1,0)))))","v":""},null,null,null,{"$f":"IF(AY47=FALSE,\"\",AY47)","v":""},null,null,{"$f":"IF(ISBLANK(BC48),\"\",SUM(IF(BC48>BC50,1,0)+(IF(BD48>BD50,1,0)+(IF(BE48>BE50,1,0)))))","v":""},null,null,null,{"$f":"IF(BF47=FALSE,\"\",BF47)","v":""},null,null,42,null,0,null,null,null,{"$f":"IF(ISBLANK(BL47),\"\",SUM(IF(BL48>BL47,1,0)+(IF(BM48>BM47,1,0)+(IF(BN48>BN47,1,0)))))","v":""},null,{"$f":"IF(BQ47=FALSE,\"\",BQ47)","v":""},null,null,null,{"$f":"IF(ISBLANK(BR48),\"\",SUM(IF(BR48>BR50,1,0)+(IF(BS48>BS50,1,0)+(IF(BT48>BT50,1,0)))))","v":""},null,{"$f":"IF(BU48=BU50,IF(BQ48=\"Bye\",BQ50,IF(BQ50=\"Bye\",BQ48)),(IF(ISBLANK(BR48),\"\",IF(BU48>BU50,BQ48,BQ50))))","v":false},null,null,null,"P86",null,null,null,null,null,null,null,null,null,null,null,null,null,null,null,null,null,null,null,null,null,null,null,null,null,null,null,null,null,null,null,null,null,null,null,null,null,null,null,null,null,null,null,null,null,null,null,null,null,null,null,null,null,null,null,"37º",null,null,{"$f":"IF(AU24=AU26,\"\",IF(AU24>AU26,AY26,AY24))","v":""},1,null,null,37,null,null,null,null,null,null,null,null,null,null,69]
[null,null,null,null,null,null,null,null,null,null,null,null,null,null,null,null,null,null,null,null,null,null,null,null,null,null,null,null,null,null,null,null,null,{"$f":"IF(ISBLANK(AI49),\"\",SUM(IF(AI49>AI53,1,0)+(IF(AJ49>AJ53,1,0)+(IF(AK49>AK53,1,0)))))","v":""},null,null,null,{"$f":"IF(AL48=FALSE,\"\",AL48)","v":""},null,null,{"$f":"IF(ISBLANK(AP49),\"\",SUM(IF(AP49>AP53,1,0)+(IF(AQ49>AQ53,1,0)+(IF(AR49>AR53,1,0)))))","v":""},null,null,null,{"$f":"IF(AS48=FALSE,\"\",AS48)","v":""},null,null,null,"P75",null,{"$f":"IF(BU52=BU54,IF(BQ52=\"Bye\",BQ54,IF(BQ54=\"Bye\",BQ52)),(IF(ISBLANK(BR52),\"\",IF(BU52>BU54,BQ54,BQ52))))","v":false},null,null,null,null,"P59",null,{"$f":"IF(BO49=BO50,IF(BK49=\"Bye\",BK50,IF(BK50=\"Bye\",BK49)),(IF(ISBLANK(BL49),\"\",IF(BO49>BO50,BK50,BK49))))","v":false},null,null,43,null,0,null,null,null,{"$f":"IF(ISBLANK(BL49),\"\",SUM(IF(BL49>BL50,1,0)+(IF(BM49>BM50,1,0)+(IF(BN49>BN50,1,0)))))","v":""},"P22",{"$f":"IF(BO49=BO50,IF(BK49=\"Bye\",BK50,IF(BK50=\"Bye\",BK49)),(IF(ISBLANK(BL49),\"\",IF(BO49>BO50,BK49,BK50))))","v":false},null,"(V12)",null,null,null,{"$f":"IF(BW48=FALSE,\"\",BW48)","v":""},null,null,null,{"$f":"IF(ISBLANK(BX49),\"\",SUM(IF(BX49>BX53,1,0)+(IF(BY49>BY53,1,0)+(IF(BZ49>BZ53,1,0)))))","v":""},null,null,null,null,null,null,null,null,null,null,null,null,null,null,null,null,null,null,null,null,null,null,null,null,null,null,null,null,null,null,null,null,null,null,null,null,null,null,null,null,null,null,null,null,null,null,null,null,null,null,null,null,null,null,null,"38º",null,null,{"$f":"IF(AU28=AU39,\"\",IF(AU28>AU30,AY30,AY28))","v":""},1,null,null,38,null,null,null,null,null,null,null,null,null,null,70]
[null,null,null,null,null,null,null,null,null,null,null,null,null,null,null,null,null,null,null,null,null,null,null,null,{"$f":"IF(CG59=CG67,IF(CC59=\"Bye\",CC67,IF(CC67=\"Bye\",CC67)),(IF(ISBLANK(CD59),\"\",IF(CG59>CG67,CC67,CC59))))","v":false},null,null,null,null,null,null,{"$f":"IF(AH49=AH53,IF(AL49=\"Bye\",AL53,IF(AL53=\"Bye\",AL49)),(IF(ISBLANK(AI49),\"\",IF(AH49>AH53,AL49,AL53))))","v":false},null,null,null,null,null,null,null,null,null,null,null,null,null,null,{"$f":"IF(ISBLANK(AV48),\"\",SUM(IF(AV50>AV48,1,0)+(IF(AW50>AW48,1,0)+(IF(AX50>AX48,1,0)))))","v":""},null,null,null,{"$f":"IF(AY49=FALSE,\"\",AY49)","v":""},"(V11)",null,{"$f":"IF(ISBLANK(BC48),\"\",SUM(IF(BC50>BC48,1,0)+(IF(BD50>BD48,1,0)+(IF(BE50>BE48,1,0)))))","v":""},null,null,null,{"$f":"IF(BF49=FALSE,\"\",BF49)","v":""},null,null,44,null,0,null,null,null,{"$f":"IF(ISBLANK(BL49),\"\",SUM(IF(BL50>BL49,1,0)+(IF(BM50>BM49,1,0)+(IF(BN50>BN49,1,0)))))","v":""},null,{"$f":"IF(BQ49=FALSE,\"\",BQ49)","v":""},null,null,null,{"$f":"IF(ISBLANK(BR48),\"\",SUM(IF(BR50>BR48,1,0)+(IF(BS50>BS48,1,0)+(IF(BT50>BT48,1,0)))))","v":""},null,null,null,null,null,null,null,{"$f":"IF(CA49=CA53,IF(BW49=\"Bye\",BW53,IF(BW53=\"Bye\",BW53)),(IF(ISBLANK(BX49),\"\",IF(CA49>CA53,BW49,BW53))))","v":false},null,null,null,null,null,null,null,null,null,null,null,null,null,null,null,null,null,null,null,null,null,null,null,null,null,null,null,null,null,null,null,null,null,null,null,null,null,null,null,null,null,null,null,null,null,null,null,null,null,null,null,null,null,"39º",null,null,{"$f":"IF(AU32=AU34,\"\",IF(AU32>AU34,AY34,AY32))","v":""},1,null,null,39,null,null,null,null,null,null,null,null,null,null,71]
[null,null,null,null,null,null,null,null,null,null,null,null,null,null,null,null,null,null,null,null,{"$f":"IF(ISBLANK(V51),\"\",SUM(IF(V51>V43,1,0)+(IF(W51>W43,1,0)+(IF(X51>X43,1,0)))))","v":""},null,null,null,{"$f":"IF(Y50=FALSE,\"\",Y50)","v":""},"(V27)",null,{"$f":"IF(ISBLANK(AC51),\"\",SUM(IF(AC51>AC43,1,0)+(IF(AD51>AD43,1,0)+(IF(AE51>AE43,1,0)))))","v":""},null,null,null,{"$f":"IF(AF50=FALSE,\"\",AF50)","v":""},null,"P106",null,null,null,null,null,null,"P94",null,null,null,null,null,null,null,null,null,{"$f":"IF(BB52=BB54,IF(BF52=\"Bye\",BF54,IF(BF54=\"Bye\",BF52)),(IF(ISBLANK(BC52),\"\",IF(BB52>BB54,BF52,BF54))))","v":false},null,null,null,null,null,null,{"$f":"IF(BO51=BO52,IF(BK51=\"Bye\",BK52,IF(BK52=\"Bye\",BK51)),(IF(ISBLANK(BL51),\"\",IF(BO51>BO52,BK52,BK51))))","v":false},null,null,45,null,0,null,null,null,{"$f":"IF(ISBLANK(BL51),\"\",SUM(IF(BL51>BL52,1,0)+(IF(BM51>BM52,1,0)+(IF(BN51>BN52,1,0)))))","v":""},"P23",{"$f":"IF(BO51=BO52,IF(BK51=\"Bye\",BK52,IF(BK52=\"Bye\",BK51)),(IF(ISBLANK(BL51),\"\",IF(BO51>BO52,BK51,BK52))))","v":false},null,null,null,"P44",null,"(V21)",null,null,null,null,null,{"$f":"IF(CC50=FALSE,\"\",CC50)","v":""},null,null,null,{"$f":"IF(ISBLANK(CD51),\"\",SUM(IF(CD51>CD43,1,0)+(IF(CE51>CE43,1,0)+(IF(CF51>CF43,1,0)))))","v":""},null,null,null,null,null,null,null,null,null,null,null,null,null,null,null,null,null,null,null,null,null,null,null,null,null,null,null,null,null,null,null,null,null,null,null,null,null,null,null,null,null,null,null,null,null,null,null,null,null,"40º",null,null,{"$f":"IF(AU36=AU38,\"\",IF(AU36>AU38,AY38,AY36))","v":""},1,null,null,40,null,null,null,null,null,null,null,null,null,null,72]
[null,null,null,null,null,null,null,null,null,null,null,null,null,null,null,null,null,null,null,null,null,null,null,null,null,null,null,null,null,null,null,null,null,null,null,null,null,{"$f":"IF(CA41=CA45,IF(BW41=\"Bye\",BW45,IF(BW45=\"Bye\",BW45)),(IF(ISBLANK(BX41),\"\",IF(CA41>CA45,BW45,BW41))))","v":false},null,null,null,null,null,null,{"$f":"IF(AU52=AU54,IF(AY52=\"Bye\",AY54,IF(AY54=\"Bye\",AY52)),(IF(ISBLANK(AV52),\"\",IF(AU52>AU54,AY52,AY54))))","v":false},null,{"$f":"IF(ISBLANK(AV52),\"\",SUM(IF(AV52>AV54,1,0)+(IF(AW52>AW54,1,0)+(IF(AX52>AX54,1,0)))))","v":""},null,null,null,{"$f":"IF(AY51=FALSE,\"\",AY51)","v":""},null,null,{"$f":"IF(ISBLANK(BC52),\"\",SUM(IF(BC52>BC54,1,0)+(IF(BD52>BD54,1,0)+(IF(BE52>BE54,1,0)))))","v":""},null,null,null,{"$f":"IF(BF51=FALSE,\"\",BF51)","v":""},null,null,46,null,0,null,null,null,{"$f":"IF(ISBLANK(BL51),\"\",SUM(IF(BL52>BL51,1,0)+(IF(BM52>BM51,1,0)+(IF(BN52>BN51,1,0)))))","v":""},null,{"$f":"IF(BQ51=FALSE,\"\",BQ51)","v":""},null,null,null,{"$f":"IF(ISBLANK(BR52),\"\",SUM(IF(BR52>BR54,1,0)+(IF(BS52>BS54,1,0)+(IF(BT52>BT54,1,0)))))","v":""},null,{"$f":"IF(BU52=BU54,IF(BQ52=\"Bye\",BQ54,IF(BQ54=\"Bye\",BQ52)),(IF(ISBLANK(BR52),\"\",IF(BU52>BU54,BQ52,BQ54))))","v":false},null,null,null,null,null,null,null,null,null,null,null,null,null,null,null,null,null,null,null,null,null,null,null,null,null,null,null,null,null,null,null,null,null,null,null,null,null,null,null,null,null,null,null,null,null,null,null,null,null,null,null,null,null,null,null,null,null,null,null,"41º",null,null,{"$f":"IF(AU40=AU42,\"\",IF(AU40>AU42,AY42,AY40))","v":""},1,null,null,41,null,null,null,null,null,null,null,null,null,null,73]
[null,null,null,null,null,null,null,null,null,null,null,null,null,null,null,null,null,null,null,null,null,null,null,null,null,null,null,null,null,null,null,null,null,{"$f":"IF(ISBLANK(AI49),\"\",SUM(IF(AI53>AI49,1,0)+(IF(AJ53>AJ49,1,0)+(IF(AK53>AK49,1,0)))))","v":""},null,null,null,{"$f":"IF(AL52=FALSE,\"\",AL52)","v":""},"(V22)",null,{"$f":"IF(ISBLANK(AP53),\"\",SUM(IF(AP53>AP49,1,0)+(IF(AQ53>AQ49,1,0)+(IF(AR53>AR49,1,0)))))","v":""},null,null,null,{"$f":"IF(AS52=FALSE,\"\",AS52)","v":""},null,null,null,"P76",null,{"$f":"IF(BU48=BU50,IF(BQ48=\"Bye\",BQ50,IF(BQ50=\"Bye\",BQ48)),(IF(ISBLANK(BR48),\"\",IF(BU48>BU50,BQ50,BQ48))))","v":false},null,null,null,null,"P60",null,{"$f":"IF(BO53=BO54,IF(BK53=\"Bye\",BK54,IF(BK54=\"Bye\",BK53)),(IF(ISBLANK(BL53),\"\",IF(BO53>BO54,BK54,BK53))))","v":false},null,null,47,null,0,null,null,null,{"$f":"IF(ISBLANK(BL53),\"\",SUM(IF(BL53>BL54,1,0)+(IF(BM53>BM54,1,0)+(IF(BN53>BN54,1,0)))))","v":""},"P24",{"$f":"IF(BO53=BO54,IF(BK53=\"Bye\",BK54,IF(BK54=\"Bye\",BK53)),(IF(ISBLANK(BL53),\"\",IF(BO53>BO54,BK53,BK54))))","v":false},null,"(V11)",null,null,null,{"$f":"IF(BW52=FALSE,\"\",BW52)","v":""},null,null,null,{"$f":"IF(ISBLANK(BX53),\"\",SUM(IF(BX53>BX49,1,0)+(IF(BY53>BY49,1,0)+(IF(BZ53>BZ49,1,0)))))","v":""},null,null,null,null,null,null,null,null,null,null,null,null,null,null,null,null,null,null,null,null,null,null,null,null,null,null,null,null,null,null,null,null,null,null,null,null,null,null,null,null,null,null,null,null,null,null,null,null,null,null,null,null,null,null,null,"42º",null,null,{"$f":"IF(AU44=AU46,\"\",IF(AU44>AU46,AY46,AY44))","v":""},1,null,null,42,null,null,null,null,null,null,null,null,null,null,74]
[null,null,null,null,null,{"$f":"IF(H47=H63,IF(L47=\"Bye\",L63,IF(L71=\"Bye\",L47)),(IF(ISBLANK(I47),\"\",IF(H47>H63,L47,L63))))","v":false},null,"Vencedor",null,null,null,null,null,null,"Vencedor",null,null,null,null,null,null,null,null,null,null,null,null,null,null,null,null,null,null,null,null,null,null,null,null,null,null,null,null,null,null,null,{"$f":"IF(ISBLANK(AV52),\"\",SUM(IF(AV54>AV52,1,0)+(IF(AW54>AW52,1,0)+(IF(AX54>AX52,1,0)))))","v":""},null,null,null,{"$f":"IF(AY53=FALSE,\"\",AY53)","v":""},"(V12)",null,{"$f":"IF(ISBLANK(BC52),\"\",SUM(IF(BC54>BC52,1,0)+(IF(BD54>BD52,1,0)+(IF(BE54>BE52,1,0)))))","v":""},null,null,null,{"$f":"IF(BF53=FALSE,\"\",BF53)","v":""},null,null,48,null,0,null,null,null,{"$f":"IF(ISBLANK(BL53),\"\",SUM(IF(BL54>BL53,1,0)+(IF(BM54>BM53,1,0)+(IF(BN54>BN53,1,0)))))","v":""},null,{"$f":"IF(BQ53=FALSE,\"\",BQ53)","v":""},null,null,null,{"$f":"IF(ISBLANK(BR52),\"\",SUM(IF(BR54>BR52,1,0)+(IF(BS54>BS52,1,0)+(IF(BT54>BT52,1,0)))))","v":""},null,null,null,null,null,null,null,null,null,null,null,null,null,null,null,null,null,null,null,null,null,null,null,null,null,null,null,null,null,null,null,null,null,null,null,null,null,null,null,null,null,null,null,null,null,null,null,null,null,null,null,null,null,null,null,null,null,null,null,null,null,"43º",null,null,{"$f":"IF(AU48=AU50,\"\",IF(AU48>AU50,AY50,AY48))","v":""},1,null,null,43,null,null,null,null,null,null,null,null,null,null,75]
[null,{"$f":"IF(ISBLANK(C55),\"\",SUM(IF(C55>C23,1,0)+(IF(D55>D23,1,0)+(IF(E55>E23,1,0)))))","v":""},null,null,null,{"$f":"IF(F54=FALSE,\"\",F54)","v":""},null,null,null,null,null,"P125",null,null,null,null,null,null,"P120",null,null,null,null,null,null,null,null,null,null,null,null,null,null,null,null,null,null,null,null,null,null,null,null,null,null,null,null,null,null,null,{"$f":"IF(BB56=BB58,IF(BF56=\"Bye\",BF58,IF(BF58=\"Bye\",BF56)),(IF(ISBLANK(BC56),\"\",IF(BB56>BB58,BF56,BF58))))","v":false},null,null,null,null,null,null,{"$f":"IF(BO55=BO56,IF(BK55=\"Bye\",BK56,IF(BK56=\"Bye\",BK55)),(IF(ISBLANK(BL55),\"\",IF(BO55>BO56,BK56,BK55))))","v":false},null,null,49,null,0,null,null,null,{"$f":"IF(ISBLANK(BL55),\"\",SUM(IF(BL55>BL56,1,0)+(IF(BM55>BM56,1,0)+(IF(BN55>BN56,1,0)))))","v":""},"P25",{"$f":"IF(BO55=BO56,IF(BK55=\"Bye\",BK56,IF(BK56=\"Bye\",BK55)),(IF(ISBLANK(BL55),\"\",IF(BO55>BO56,BK55,BK56))))","v":false},null,null,null,"P45",null,null,null,null,null,null,null,null,null,null,null,null,null,"(V29)",null,null,null,null,null,{"$f":"IF(CM47=CM63,\"\",IF(CM47>CM63,CI47,CI63))","v":""},null,null,null,{"$f":"IF(ISBLANK(CP55),\"\",SUM(IF(CP55>CP23,1,0)+(IF(CQ55>CQ23,1,0)+(IF(CR55>CR23,1,0)))))","v":""},null,null,null,null,null,null,null,null,null,null,null,null,null,null,null,null,null,null,null,null,null,null,null,null,null,null,null,null,null,null,null,null,null,null,null,null,null,"44º",null,null,{"$f":"IF(AU52=AU54,\"\",IF(AU52>AU54,AY54,AY52))","v":""},1,null,null,44,null,null,null,null,null,null,null,null,null,null,76]
[null,null,null,null,null,"Vencedor do jogo V30 -V31",null,null,null,null,null,null,null,null,null,null,null,null,null,null,null,null,null,null,null,null,null,null,null,null,null,null,null,null,null,null,null,{"$f":"IF(AO57=AO61,IF(AS57=\"Bye\",AS61,IF(AS61=\"Bye\",AS57)),(IF(ISBLANK(AP57),\"\",IF(AO57>AO61,AS57,AS61))))","v":false},null,null,null,null,null,null,{"$f":"IF(AU56=AU58,IF(AY56=\"Bye\",AY58,IF(AY58=\"Bye\",AY56)),(IF(ISBLANK(AV56),\"\",IF(AU56>AU58,AY56,AY58))))","v":false},null,{"$f":"IF(ISBLANK(AV56),\"\",SUM(IF(AV56>AV58,1,0)+(IF(AW56>AW58,1,0)+(IF(AX56>AX58,1,0)))))","v":""},null,null,null,{"$f":"IF(AY55=FALSE,\"\",AY55)","v":""},null,null,{"$f":"IF(ISBLANK(BC56),\"\",SUM(IF(BC56>BC58,1,0)+(IF(BD56>BD58,1,0)+(IF(BE56>BE58,1,0)))))","v":""},null,null,null,{"$f":"IF(BF55=FALSE,\"\",BF55)","v":""},null,null,50,null,0,null,null,null,{"$f":"IF(ISBLANK(BL55),\"\",SUM(IF(BL56>BL55,1,0)+(IF(BM56>BM55,1,0)+(IF(BN56>BN55,1,0)))))","v":""},null,{"$f":"IF(BQ55=FALSE,\"\",BQ55)","v":""},null,null,null,{"$f":"IF(ISBLANK(BR56),\"\",SUM(IF(BR56>BR58,1,0)+(IF(BS56>BS58,1,0)+(IF(BT56>BT58,1,0)))))","v":""},null,{"$f":"IF(BU56=BU58,IF(BQ56=\"Bye\",BQ58,IF(BQ58=\"Bye\",BQ56)),(IF(ISBLANK(BR56),\"\",IF(BU56>BU58,BQ56,BQ58))))","v":false},null,null,null,"P87",null,null,null,null,null,null,null,null,null,null,null,null,null,"(V31)",null,null,null,null,null,null,null,null,null,null,null,null,null,null,null,null,null,null,null,null,null,null,null,null,null,null,null,null,null,null,null,null,null,null,null,null,null,null,null,null,null,"45º",null,null,{"$f":"IF(AU56=AU58,\"\",IF(AU56>AU58,AY58,AY56))","v":""},1,null,null,45,null,null,null,null,null,null,null,null,null,null,77]
[null,null,null,null,null,null,null,null,null,null,null,null,null,null,null,null,null,null,null,null,null,null,null,null,null,null,null,null,null,null,null,null,null,{"$f":"IF(ISBLANK(AI57),\"\",SUM(IF(AI57>AI61,1,0)+(IF(AJ57>AJ61,1,0)+(IF(AK57>AK61,1,0)))))","v":""},null,null,null,{"$f":"IF(AL56=FALSE,\"\",AL56)","v":""},null,null,{"$f":"IF(ISBLANK(AP57),\"\",SUM(IF(AP57>AP61,1,0)+(IF(AQ57>AQ61,1,0)+(IF(AR57>AR61,1,0)))))","v":""},null,null,null,{"$f":"IF(AS56=FALSE,\"\",AS56)","v":""},null,null,null,"P77",null,{"$f":"IF(BU60=BU62,IF(BQ60=\"Bye\",BQ64,IF(BQ64=\"Bye\",BQ60)),(IF(ISBLANK(BR60),\"\",IF(BU60>BU64,BQ64,BQ60))))","v":false},null,null,null,null,"P61",null,{"$f":"IF(BO57=BO58,IF(BK57=\"Bye\",BK58,IF(BK58=\"Bye\",BK57)),(IF(ISBLANK(BL57),\"\",IF(BO57>BO58,BK58,BK57))))","v":false},null,null,51,null,0,null,null,null,{"$f":"IF(ISBLANK(BL57),\"\",SUM(IF(BL57>BL58,1,0)+(IF(BM57>BM58,1,0)+(IF(BN57>BN58,1,0)))))","v":""},"P26",{"$f":"IF(BO57=BO58,IF(BK57=\"Bye\",BK58,IF(BK58=\"Bye\",BK57)),(IF(ISBLANK(BL57),\"\",IF(BO57>BO58,BK57,BK58))))","v":false},null,"(V14)",null,null,null,{"$f":"IF(BW56=FALSE,\"\",BW56)","v":""},null,null,null,{"$f":"IF(ISBLANK(BX57),\"\",SUM(IF(BX57>BX61,1,0)+(IF(BY57>BY61,1,0)+(IF(BZ57>BZ61,1,0)))))","v":""},null,null,null,null,null,null,null,null,null,null,null,null,null,null,null,null,null,null,null,null,null,null,null,null,null,null,null,null,null,null,null,null,null,null,null,null,null,null,null,null,null,null,null,null,null,null,null,null,null,null,null,null,null,null,null,"46º",null,null,{"$f":"IF(AU60=AU62,\"\",IF(AU60>AU62,AY62,AY60))","v":""},1,null,null,46,null,null,null,null,null,null,null,null,null,null,78]
[null,null,null,null,null,null,null,null,null,null,null,null,null,null,null,null,null,null,null,null,null,null,null,null,{"$f":"IF(AB59=AB67,IF(AF59=\"Bye\",AF67,IF(AF67=\"Bye\",AF59)),(IF(ISBLANK(AC59),\"\",IF(AB59>AB67,AF59,AF67))))","v":false},null,null,null,null,null,null,{"$f":"IF(AH57=AH61,IF(AL57=\"Bye\",AL61,IF(AL61=\"Bye\",AL57)),(IF(ISBLANK(AI57),\"\",IF(AH57>AH61,AL57,AL61))))","v":false},null,null,null,null,null,null,null,null,null,null,null,null,null,null,{"$f":"IF(ISBLANK(AV56),\"\",SUM(IF(AV58>AV56,1,0)+(IF(AW58>AW56,1,0)+(IF(AX58>AX56,1,0)))))","v":""},null,null,null,{"$f":"IF(AY57=FALSE,\"\",AY57)","v":""},"(V13)",null,{"$f":"IF(ISBLANK(BC56),\"\",SUM(IF(BC58>BC56,1,0)+(IF(BD58>BD56,1,0)+(IF(BE58>BE56,1,0)))))","v":""},null,null,null,{"$f":"IF(BF57=FALSE,\"\",BF57)","v":""},null,null,52,null,0,null,null,null,{"$f":"IF(ISBLANK(BL57),\"\",SUM(IF(BL58>BL57,1,0)+(IF(BM58>BM57,1,0)+(IF(BN58>BN57,1,0)))))","v":""},null,{"$f":"IF(BQ57=FALSE,\"\",BQ57)","v":""},null,null,null,{"$f":"IF(ISBLANK(BR56),\"\",SUM(IF(BR58>BR56,1,0)+(IF(BS58>BS56,1,0)+(IF(BT58>BT56,1,0)))))","v":""},null,null,null,null,null,null,null,{"$f":"IF(CA57=CA61,IF(BW57=\"Bye\",BW61,IF(BW61=\"Bye\",BW61)),(IF(ISBLANK(BX57),\"\",IF(CA57>CA61,BW57,BW61))))","v":false},null,null,null,"P100",null,null,null,null,null,null,null,null,null,null,null,null,null,null,null,null,null,null,null,null,null,null,null,null,null,null,null,null,null,null,null,null,null,null,null,null,null,null,null,null,null,null,null,null,null,null,null,null,null,"47º",null,null,{"$f":"IF(AU64=AU66,\"\",IF(AU64>AU66,AY66,AY64))","v":""},1,null,null,47,null,null,null,null,null,null,null,null,null,null,79]
[null,null,null,null,null,null,null,null,null,null,null,null,null,null,null,null,null,null,null,null,{"$f":"IF(ISBLANK(V59),\"\",SUM(IF(V59>V67,1,0)+(IF(W59>W67,1,0)+(IF(X59>X67,1,0)))))","v":""},null,null,null,{"$f":"IF(Y58=FALSE,\"\",Y58)","v":""},null,null,{"$f":"IF(ISBLANK(AC59),\"\",SUM(IF(AC59>AC67,1,0)+(IF(AD59>AD67,1,0)+(IF(AE59>AE67,1,0)))))","v":""},null,null,null,{"$f":"IF(AF58=FALSE,\"\",AF58)","v":""},null,"P107",null,null,null,null,null,null,"P95",null,null,null,null,null,null,null,null,null,{"$f":"IF(BB60=BB62,IF(BF60=\"Bye\",BF62,IF(BF62=\"Bye\",BF60)),(IF(ISBLANK(BC60),\"\",IF(BB60>BB62,BF60,BF62))))","v":false},null,null,null,null,null,null,{"$f":"IF(BO59=BO60,IF(BK59=\"Bye\",BK60,IF(BK60=\"Bye\",BK59)),(IF(ISBLANK(BL59),\"\",IF(BO59>BO60,BK60,BK59))))","v":false},null,null,53,null,0,null,null,null,{"$f":"IF(ISBLANK(BL59),\"\",SUM(IF(BL59>BL60,1,0)+(IF(BM59>BM60,1,0)+(IF(BN59>BN60,1,0)))))","v":""},"P27",{"$f":"IF(BO59=BO60,IF(BK59=\"Bye\",BK60,IF(BK60=\"Bye\",BK59)),(IF(ISBLANK(BL59),\"\",IF(BO59>BO60,BK59,BK60))))","v":false},null,null,null,"P46",null,"(V24)",null,null,null,null,null,{"$f":"IF(CC58=FALSE,\"\",CC58)","v":""},null,null,null,{"$f":"IF(ISBLANK(CD59),\"\",SUM(IF(CD59>CD67,1,0)+(IF(CE59>CE67,1,0)+(IF(CF59>CF67,1,0)))))","v":""},null,null,null,null,null,null,null,null,null,null,null,null,null,null,null,null,null,null,null,null,null,null,null,null,null,null,null,null,null,null,null,null,null,null,null,null,null,null,null,null,null,null,null,null,null,null,null,null,null,"48º",null,null,{"$f":"IF(AU68=AU70,\"\",IF(AU68>AU70,AY70,AY68))","v":""},1,null,null,48,null,null,null,null,null,null,null,null,null,null,80]
[null,null,null,null,null,null,null,null,null,null,null,null,null,null,null,null,null,null,null,null,null,null,null,null,null,null,null,null,null,null,null,null,null,null,null,null,null,{"$f":"IF(CA65=CA69,IF(BW65=\"Bye\",BW69,IF(BW69=\"Bye\",BW69)),(IF(ISBLANK(BX65),\"\",IF(CA65>CA69,BW69,BW65))))","v":false},null,null,null,null,null,null,{"$f":"IF(AU60=AU62,IF(AY60=\"Bye\",AY62,IF(AY62=\"Bye\",AY60)),(IF(ISBLANK(AV60),\"\",IF(AU60>AU62,AY60,AY62))))","v":false},null,{"$f":"IF(ISBLANK(AV60),\"\",SUM(IF(AV60>AV62,1,0)+(IF(AW60>AW62,1,0)+(IF(AX60>AX62,1,0)))))","v":""},null,null,null,{"$f":"IF(AY59=FALSE,\"\",AY59)","v":""},null,null,{"$f":"IF(ISBLANK(BC60),\"\",SUM(IF(BC60>BC62,1,0)+(IF(BD60>BD62,1,0)+(IF(BE60>BE62,1,0)))))","v":""},null,null,null,{"$f":"IF(BF59=FALSE,\"\",BF59)","v":""},null,null,54,null,0,null,null,null,{"$f":"IF(ISBLANK(BL59),\"\",SUM(IF(BL60>BL59,1,0)+(IF(BM60>BM59,1,0)+(IF(BN60>BN59,1,0)))))","v":""},null,{"$f":"IF(BQ59=FALSE,\"\",BQ59)","v":""},null,null,null,{"$f":"IF(ISBLANK(BR60),\"\",SUM(IF(BR60>BR62,1,0)+(IF(BS60>BS62,1,0)+(IF(BT60>BT62,1,0)))))","v":""},null,{"$f":"IF(BU60=BU62,IF(BQ60=\"Bye\",BQ62,IF(BQ62=\"Bye\",BQ60)),(IF(ISBLANK(BR60),\"\",IF(BU60>BU62,BQ60,BQ62))))","v":false},null,null,null,null,null,null,null,null,null,null,null,null,null,null,null,null,null,null,null,null,null,null,null,null,null,null,null,null,null,null,null,null,null,null,null,null,null,null,null,null,null,null,null,null,null,null,null,null,null,null,null,null,null,null,null,null,null,null,null,"49º",null,null,{"$f":"IF(BB8=BB10,\"\",IF(BB8>BB10,BF10,BF8))","v":""},1,null,null,49,null,null,null,null,null,null,null,null,null,null,49]
[null,null,null,null,null,null,null,null,null,null,null,null,null,null,null,null,null,null,null,null,null,null,null,null,null,null,null,null,null,null,null,null,null,{"$f":"IF(ISBLANK(AI57),\"\",SUM(IF(AI61>AI57,1,0)+(IF(AJ61>AJ57,1,0)+(IF(AK61>AK57,1,0)))))","v":""},null,null,null,{"$f":"IF(AL60=FALSE,\"\",AL60)","v":""},"(V23)",null,{"$f":"IF(ISBLANK(AP61),\"\",SUM(IF(AP61>AP57,1,0)+(IF(AQ61>AQ57,1,0)+(IF(AR61>AR57,1,0)))))","v":""},null,null,null,{"$f":"IF(AS60=FALSE,\"\",AS60)","v":""},null,null,null,"P78",null,{"$f":"IF(BU56=BU58,IF(BQ56=\"Bye\",BQ58,IF(BQ58=\"Bye\",BQ56)),(IF(ISBLANK(BR56),\"\",IF(BU56>BU58,BQ58,BQ56))))","v":false},null,null,null,null,"P62",null,{"$f":"IF(BO61=BO62,IF(BK61=\"Bye\",BK62,IF(BK62=\"Bye\",BK61)),(IF(ISBLANK(BL61),\"\",IF(BO61>BO62,BK62,BK61))))","v":false},null,null,55,null,0,null,null,null,{"$f":"IF(ISBLANK(BL61),\"\",SUM(IF(BL61>BL62,1,0)+(IF(BM61>BM62,1,0)+(IF(BN61>BN62,1,0)))))","v":""},"P28",{"$f":"IF(BO61=BO62,IF(BK61=\"Bye\",BK62,IF(BK62=\"Bye\",BK61)),(IF(ISBLANK(BL61),\"\",IF(BO61>BO62,BK61,BK62))))","v":false},null,"(V13)",null,null,null,{"$f":"IF(BW60=FALSE,\"\",BW60)","v":""},null,null,null,{"$f":"IF(ISBLANK(BX61),\"\",SUM(IF(BX61>BX57,1,0)+(IF(BY61>BY57,1,0)+(IF(BZ61>BZ57,1,0)))))","v":""},null,null,null,null,null,null,null,null,null,null,null,null,null,null,null,null,null,null,null,null,null,null,null,null,null,null,null,null,null,null,null,null,null,null,null,null,null,null,null,null,null,null,null,null,null,null,null,null,null,null,null,null,null,null,null,"50º",null,null,{"$f":"IF(BB12=BB14,\"\",IF(BB12>BB14,BF14,BF12))","v":""},1,null,null,50,null,null,null,null,null,null,null,null,null,null,50]
[null,null,null,null,null,null,null,null,null,null,null,{"$f":"IF(CM15=CM31,IF(CI15=\"Bye\",CI31,IF(CI31=\"Bye\",CI31)),(IF(ISBLANK(CJ15),\"\",IF(CM15>CM31,CI31,CI15))))","v":false},null,null,null,null,null,null,{"$f":"IF(U59=U67,IF(Y59=\"Bye\",Y67,IF(Y67=\"Bye\",Y59)),(IF(ISBLANK(V59),\"\",IF(U59>U67,Y59,Y67))))","v":false},null,"Vencedor",null,null,null,null,null,null,"Vencedor",null,null,null,null,null,null,null,null,null,null,null,null,null,null,null,null,null,null,{"$f":"IF(ISBLANK(AV60),\"\",SUM(IF(AV62>AV60,1,0)+(IF(AW62>AW60,1,0)+(IF(AX62>AX60,1,0)))))","v":""},null,null,null,{"$f":"IF(AY61=FALSE,\"\",AY61)","v":""},"(V14)",null,{"$f":"IF(ISBLANK(BC60),\"\",SUM(IF(BC62>BC60,1,0)+(IF(BD62>BD60,1,0)+(IF(BE62>BE60,1,0)))))","v":""},null,null,null,{"$f":"IF(BF61=FALSE,\"\",BF61)","v":""},null,null,56,null,0,null,null,null,{"$f":"IF(ISBLANK(BL61),\"\",SUM(IF(BL62>BL61,1,0)+(IF(BM62>BM61,1,0)+(IF(BN62>BN61,1,0)))))","v":""},null,{"$f":"IF(BQ61=FALSE,\"\",BQ61)","v":""},null,null,null,{"$f":"IF(ISBLANK(BR60),\"\",SUM(IF(BR62>BR60,1,0)+(IF(BS62>BS60,1,0)+(IF(BT62>BT60,1,0)))))","v":""},null,null,null,null,null,null,null,null,null,null,null,null,null,{"$f":"IF(CG59=CG67,IF(CC59=\"Bye\",CC67,IF(CC67=\"Bye\",CC67)),(IF(ISBLANK(CD59),\"\",IF(CG59>CG67,CC59,CC67))))","v":false},null,null,null,null,null,null,null,null,null,null,null,null,null,null,null,null,null,null,null,null,null,null,null,null,null,null,null,null,null,null,null,null,null,null,null,null,null,null,null,null,null,null,null,null,null,null,null,"51º",null,null,{"$f":"IF(BB16=BB18,\"\",IF(BB16>BB18,BF18,BF16))","v":""},1,null,null,51,null,null,null,null,null,null,null,null,null,null,51]
[null,null,null,null,null,null,null,{"$f":"IF(ISBLANK(I63),\"\",SUM(IF(I63>I47,1,0)+(IF(J63>J47,1,0)+(IF(K63>K47,1,0)))))","v":""},null,null,null,{"$f":"IF(L62=FALSE,\"\",L62)","v":""},"(V30)",null,{"$f":"IF(ISBLANK(P63),\"\",SUM(IF(P63>P47,1,0)+(IF(Q63>Q47,1,0)+(IF(R63>R47,1,0)))))","v":""},null,null,null,{"$f":"IF(S62=FALSE,\"\",S62)","v":""},null,null,null,null,null,"P118",null,null,null,null,null,null,"P112",null,null,null,null,null,null,null,null,null,null,null,null,null,null,null,null,null,null,{"$f":"IF(BB64=BB66,IF(BF64=\"Bye\",BF66,IF(BF66=\"Bye\",BF64)),(IF(ISBLANK(BC64),\"\",IF(BB64>BB66,BF64,BF66))))","v":false},null,null,null,null,null,null,{"$f":"IF(BO63=BO64,IF(BK63=\"Bye\",BK64,IF(BK64=\"Bye\",BK63)),(IF(ISBLANK(BL63),\"\",IF(BO63>BO64,BK64,BK63))))","v":false},null,null,57,null,0,null,null,null,{"$f":"IF(ISBLANK(BL63),\"\",SUM(IF(BL63>BL64,1,0)+(IF(BM63>BM64,1,0)+(IF(BN63>BN64,1,0)))))","v":""},"P29",{"$f":"IF(BO63=BO64,IF(BK63=\"Bye\",BK64,IF(BK64=\"Bye\",BK63)),(IF(ISBLANK(BL63),\"\",IF(BO63>BO64,BK63,BK64))))","v":false},null,null,null,"P47",null,null,null,null,null,null,null,"(V27)",null,null,null,null,null,{"$f":"IF(CI62=FALSE,\"\",CI62)","v":""},null,null,null,{"$f":"IF(ISBLANK(CJ63),\"\",SUM(IF(CJ63>CJ47,1,0)+(IF(CK63>CK47,1,0)+(IF(CL63>CL47,1,0)))))","v":""},null,null,null,null,null,null,null,null,null,null,null,null,null,null,null,null,null,null,null,null,null,null,null,null,null,null,null,null,null,null,null,null,null,null,null,null,null,null,null,null,null,null,null,"52º",null,null,{"$f":"IF(BB20=BB22,\"\",IF(BB20>BB22,BF22,BF20))","v":""},1,null,null,52,null,null,null,null,null,null,null,null,null,null,52]
[null,null,null,null,null,null,null,null,null,null,null,null,null,null,null,null,null,null,null,null,null,null,null,null,null,null,null,null,null,null,null,null,null,null,null,null,null,{"$f":"IF(AO65=AO69,IF(AS65=\"Bye\",AS69,IF(AS69=\"Bye\",AS65)),(IF(ISBLANK(AP65),\"\",IF(AO65>AO69,AS65,AS69))))","v":false},null,null,null,null,null,null,{"$f":"IF(AU64=AU66,IF(AY64=\"Bye\",AY66,IF(AY66=\"Bye\",AY64)),(IF(ISBLANK(AV64),\"\",IF(AU64>AU66,AY64,AY66))))","v":false},null,{"$f":"IF(ISBLANK(AV64),\"\",SUM(IF(AV64>AV66,1,0)+(IF(AW64>AW66,1,0)+(IF(AX64>AX66,1,0)))))","v":""},null,null,null,{"$f":"IF(AY63=FALSE,\"\",AY63)","v":""},null,null,{"$f":"IF(ISBLANK(BC64),\"\",SUM(IF(BC64>BC66,1,0)+(IF(BD64>BD66,1,0)+(IF(BE64>BE66,1,0)))))","v":""},null,null,null,{"$f":"IF(BF63=FALSE,\"\",BF63)","v":""},null,null,58,null,0,null,null,null,{"$f":"IF(ISBLANK(BL63),\"\",SUM(IF(BL64>BL63,1,0)+(IF(BM64>BM63,1,0)+(IF(BN64>BN63,1,0)))))","v":""},null,{"$f":"IF(BQ63=FALSE,\"\",BQ63)","v":""},null,null,null,{"$f":"IF(ISBLANK(BR64),\"\",SUM(IF(BR64>BR66,1,0)+(IF(BS64>BS66,1,0)+(IF(BT64>BT66,1,0)))))","v":""},null,{"$f":"IF(BU64=BU66,IF(BQ64=\"Bye\",BQ66,IF(BQ66=\"Bye\",BQ64)),(IF(ISBLANK(BR64),\"\",IF(BU64>BU66,BQ64,BQ66))))","v":false},null,null,null,"P88",null,null,null,null,null,null,null,null,null,null,null,null,null,null,null,null,null,null,null,null,null,null,null,null,null,null,null,null,null,null,null,null,null,null,null,null,null,null,null,null,null,null,null,null,null,null,null,null,null,null,null,null,null,null,null,"53º",null,null,{"$f":"IF(BB24=BB26,\"\",IF(BB24>BB26,BF26,BF24))","v":""},1,null,null,53,null,null,null,null,null,null,null,null,null,null,53]
[null,null,null,null,null,null,null,null,null,null,null,null,null,null,null,null,null,null,null,null,null,null,null,null,null,null,null,null,null,null,null,null,null,{"$f":"IF(ISBLANK(AI65),\"\",SUM(IF(AI65>AI69,1,0)+(IF(AJ65>AJ69,1,0)+(IF(AK65>AK69,1,0)))))","v":""},null,null,null,{"$f":"IF(AL64=FALSE,\"\",AL64)","v":""},null,null,{"$f":"IF(ISBLANK(AP65),\"\",SUM(IF(AP65>AP69,1,0)+(IF(AQ65>AQ69,1,0)+(IF(AR65>AR69,1,0)))))","v":""},null,null,null,{"$f":"IF(AS64=FALSE,\"\",AS64)","v":""},null,null,null,"P79",null,{"$f":"IF(BU68=BU70,IF(BQ68=\"Bye\",BQ70,IF(BQ70=\"Bye\",BQ68)),(IF(ISBLANK(BR68),\"\",IF(BU68>BU70,BQ70,BQ68))))","v":false},null,null,null,null,"P63",null,{"$f":"IF(BO65=BO66,IF(BK65=\"Bye\",BK66,IF(BK66=\"Bye\",BK65)),(IF(ISBLANK(BL65),\"\",IF(BO65>BO66,BK66,BK65))))","v":false},null,null,59,null,{"$f":"EN70","v":0},null,null,null,{"$f":"IF(ISBLANK(BL65),\"\",SUM(IF(BL65>BL66,1,0)+(IF(BM65>BM66,1,0)+(IF(BN65>BN66,1,0)))))","v":""},"P30",{"$f":"IF(BO65=BO66,IF(BK65=\"Bye\",BK66,IF(BK66=\"Bye\",BK65)),(IF(ISBLANK(BL65),\"\",IF(BO65>BO66,BK65,BK66))))","v":false},null,"(V16)",null,null,null,{"$f":"IF(BW64=FALSE,\"\",BW64)","v":""},null,null,null,{"$f":"IF(ISBLANK(BX65),\"\",SUM(IF(BX65>BX69,1,0)+(IF(BY65>BY69,1,0)+(IF(BZ65>BZ69,1,0)))))","v":""},null,null,null,null,null,null,null,null,null,null,null,null,null,null,null,null,null,null,null,null,null,null,null,null,null,null,null,null,null,null,null,null,null,null,null,null,null,null,null,null,null,null,null,null,null,null,null,null,null,null,null,null,null,null,null,"54º",null,null,{"$f":"IF(BB28=BB30,\"\",IF(BB28>BB30,BF30,BF28))","v":""},1,null,null,54,null,null,null,null,null,null,null,null,null,null,54]
[null,null,null,null,null,null,null,null,null,null,null,null,null,null,null,null,null,null,null,null,null,null,null,null,{"$f":"IF(CG43=CG51,IF(CC43=\"Bye\",CC51,IF(CC51=\"Bye\",CC51)),(IF(ISBLANK(CD43),\"\",IF(CG43>CG51,CC51,CC43))))","v":false},null,null,null,null,null,null,{"$f":"IF(AH65=AH69,IF(AL65=\"Bye\",AL69,IF(AL69=\"Bye\",AL65)),(IF(ISBLANK(AI65),\"\",IF(AH65>AH69,AL65,AL69))))","v":false},null,null,null,null,null,null,null,null,null,null,null,null,null,null,{"$f":"IF(ISBLANK(AV64),\"\",SUM(IF(AV66>AV64,1,0)+(IF(AW66>AW64,1,0)+(IF(AX66>AX64,1,0)))))","v":""},null,null,null,{"$f":"IF(AY65=FALSE,\"\",AY65)","v":""},"(V15)",null,{"$f":"IF(ISBLANK(BC64),\"\",SUM(IF(BC66>BC64,1,0)+(IF(BD66>BD64,1,0)+(IF(BE66>BE64,1,0)))))","v":""},null,null,null,{"$f":"IF(BF65=FALSE,\"\",BF65)","v":""},null,null,60,null,0,null,null,null,{"$f":"IF(ISBLANK(BL65),\"\",SUM(IF(BL66>BL65,1,0)+(IF(BM66>BM65,1,0)+(IF(BN66>BN65,1,0)))))","v":""},null,{"$f":"IF(BQ65=FALSE,\"\",BQ65)","v":""},null,null,null,{"$f":"IF(ISBLANK(BR64),\"\",SUM(IF(BR66>BR64,1,0)+(IF(BS66>BS64,1,0)+(IF(BT66>BT64,1,0)))))","v":""},null,null,null,null,null,null,null,{"$f":"IF(CA65=CA69,IF(BW65=\"Bye\",BW69,IF(BW69=\"Bye\",BW69)),(IF(ISBLANK(BX65),\"\",IF(CA65>CA69,BW65,BW69))))","v":false},null,null,null,null,null,null,null,null,null,null,null,null,null,null,null,null,null,null,null,null,null,null,null,null,null,null,null,null,null,null,null,null,null,null,null,null,null,null,null,null,null,null,null,null,null,null,null,null,null,null,null,null,null,"55º",null,null,{"$f":"IF(BB32=BB34,\"\",IF(BB32>BB34,BF34,BF32))","v":""},1,null,null,55,null,null,null,null,null,null,null,null,null,null,55]
[null,null,null,null,null,null,null,null,null,null,null,null,null,null,null,null,null,null,null,null,{"$f":"IF(ISBLANK(V67),\"\",SUM(IF(V67>V59,1,0)+(IF(W67>W59,1,0)+(IF(X67>X59,1,0)))))","v":""},null,null,null,{"$f":"IF(Y66=FALSE,\"\",Y66)","v":""},"(V28)",null,{"$f":"IF(ISBLANK(AC67),\"\",SUM(IF(AC67>AC59,1,0)+(IF(AD67>AD59,1,0)+(IF(AE67>AE59,1,0)))))","v":""},null,null,null,{"$f":"IF(AF66=FALSE,\"\",AF66)","v":""},null,"P108",null,null,null,null,null,null,"P96",null,null,null,null,null,null,null,null,null,{"$f":"IF(BB68=BB70,IF(BF68=\"Bye\",BF70,IF(BF70=\"Bye\",BF68)),(IF(ISBLANK(BC68),\"\",IF(BB68>BB70,BF68,BF70))))","v":false},null,null,null,null,null,null,{"$f":"IF(BO67=BO68,IF(BK67=\"Bye\",BK68,IF(BK68=\"Bye\",BK67)),(IF(ISBLANK(BL67),\"\",IF(BO67>BO68,BK68,BK67))))","v":false},null,null,61,null,0,null,null,null,{"$f":"IF(ISBLANK(BL67),\"\",SUM(IF(BL67>BL68,1,0)+(IF(BM67>BM68,1,0)+(IF(BN67>BN68,1,0)))))","v":""},"P31",{"$f":"IF(BO67=BO68,IF(BK67=\"Bye\",BK68,IF(BK68=\"Bye\",BK67)),(IF(ISBLANK(BL67),\"\",IF(BO67>BO68,BK67,BK68))))","v":false},null,null,null,"P48",null,"(V23)",null,null,null,null,null,{"$f":"IF(CC66=FALSE,\"\",CC66)","v":""},null,null,null,{"$f":"IF(ISBLANK(CD67),\"\",SUM(IF(CD67>CD59,1,0)+(IF(CE67>CE59,1,0)+(IF(CF67>CF59,1,0)))))","v":""},null,null,null,null,null,null,null,null,null,null,null,null,null,null,null,null,null,null,null,null,null,null,null,null,null,null,null,null,null,null,null,null,null,null,null,null,null,null,null,null,null,null,null,null,null,null,null,null,null,"56º",null,null,{"$f":"IF(BB36=BB38,\"\",IF(BB36>BB38,BF38,BF36))","v":""},1,null,null,56,null,null,null,null,null,null,null,null,null,null,56]
[null,null,null,null,null,null,null,null,null,null,null,null,null,null,null,null,null,null,null,null,null,null,null,null,null,null,null,null,null,null,null,null,null,null,null,null,null,{"$f":"IF(CA57=CA61,IF(BW57=\"Bye\",BW61,IF(BW61=\"Bye\",BW61)),(IF(ISBLANK(BX57),\"\",IF(CA57>CA61,BW61,BW57))))","v":false},null,null,null,null,null,null,{"$f":"IF(AU68=AU70,IF(AY68=\"Bye\",AY70,IF(AY70=\"Bye\",AY68)),(IF(ISBLANK(AV68),\"\",IF(AU68>AU70,AY68,AY70))))","v":false},null,{"$f":"IF(ISBLANK(AV68),\"\",SUM(IF(AV68>AV70,1,0)+(IF(AW68>AW70,1,0)+(IF(AX68>AX70,1,0)))))","v":""},null,null,null,{"$f":"IF(AY67=FALSE,\"\",AY67)","v":""},null,null,{"$f":"IF(ISBLANK(BC68),\"\",SUM(IF(BC68>BC70,1,0)+(IF(BD68>BD70,1,0)+(IF(BE68>BE70,1,0)))))","v":""},null,null,null,{"$f":"IF(BF67=FALSE,\"\",BF67)","v":""},null,null,62,null,0,null,null,null,{"$f":"IF(ISBLANK(BL67),\"\",SUM(IF(BL68>BL67,1,0)+(IF(BM68>BM67,1,0)+(IF(BN68>BN67,1,0)))))","v":""},null,{"$f":"IF(BQ67=FALSE,\"\",BQ67)","v":""},null,null,null,{"$f":"IF(ISBLANK(BR68),\"\",SUM(IF(BR68>BR70,1,0)+(IF(BS68>BS70,1,0)+(IF(BT68>BT70,1,0)))))","v":""},null,{"$f":"IF(BU68=BU70,IF(BQ68=\"Bye\",BQ70,IF(BQ70=\"Bye\",BQ68)),(IF(ISBLANK(BR68),\"\",IF(BU68>BU70,BQ68,BQ70))))","v":false},null,null,null,null,null,null,null,null,null,null,null,null,null,null,null,null,null,null,null,null,null,null,null,null,null,null,null,null,null,null,null,null,null,null,null,null,null,null,null,null,null,null,null,null,null,null,null,null,null,null,null,null,null,null,null,null,null,null,null,"57º",null,null,{"$f":"IF(BB40=BB42,\"\",IF(BB40>BB42,BF42,BF40))","v":""},1,null,null,57,null,null,null,null,null,null,null,null,null,null,57]
[null,null,null,null,null,null,null,null,null,null,null,null,null,null,null,null,null,null,null,null,null,null,null,null,null,null,null,null,null,null,null,null,null,{"$f":"IF(ISBLANK(AI65),\"\",SUM(IF(AI69>AI65,1,0)+(IF(AJ69>AJ65,1,0)+(IF(AK69>AK65,1,0)))))","v":""},null,null,null,{"$f":"IF(AL68=FALSE,\"\",AL68)","v":""},"(V24)",null,{"$f":"IF(ISBLANK(AP69),\"\",SUM(IF(AP69>AP65,1,0)+(IF(AQ69>AQ65,1,0)+(IF(AR69>AR65,1,0)))))","v":""},null,null,null,{"$f":"IF(AS68=FALSE,\"\",AS68)","v":""},null,null,null,"P80",null,{"$f":"IF(BU64=BU66,IF(BQ64=\"Bye\",BQ66,IF(BQ66=\"Bye\",BQ64)),(IF(ISBLANK(BR64),\"\",IF(BU64>BU66,BQ66,BQ64))))","v":false},null,null,null,null,"P64",null,{"$f":"IF(BO69=BO70,IF(BK69=\"Bye\",BK70,IF(BK70=\"Bye\",BK69)),(IF(ISBLANK(BL69),\"\",IF(BO69>BO70,BK70,BK69))))","v":false},null,null,63,null,0,null,null,null,{"$f":"IF(ISBLANK(BL69),\"\",SUM(IF(BL69>BL70,1,0)+(IF(BM69>BM70,1,0)+(IF(BN69>BN70,1,0)))))","v":""},"P32",{"$f":"IF(BO69=BO70,IF(BK69=\"Bye\",BK70,IF(BK70=\"Bye\",BK69)),(IF(ISBLANK(BL69),\"\",IF(BO69>BO70,BK69,BK70))))","v":false},null,"(V15)",null,null,null,{"$f":"IF(BW68=FALSE,\"\",BW68)","v":""},null,null,null,{"$f":"IF(ISBLANK(BX69),\"\",SUM(IF(BX69>BX65,1,0)+(IF(BY69>BY65,1,0)+(IF(BZ69>BZ65,1,0)))))","v":""},null,null,null,null,null,null,null,null,null,null,null,null,null,null,null,null,null,null,null,null,null,null,null,null,null,null,null,null,null,null,null,null,null,null,null,null,null,null,null,null,null,null,null,null,null,null,null,null,null,null,null,null,null,null,null,"58º",null,null,{"$f":"IF(BB44=BB46,\"\",IF(BB44>BB46,BF46,BF44))","v":""},1,null,null,58,null,null,null,null,null,null,null,null,null,null,58]
[null,null,null,null,null,null,null,null,null,null,null,null,null,null,null,null,null,null,null,null,null,null,null,null,null,null,null,null,null,null,null,null,null,null,null,null,null,null,null,null,null,null,null,null,null,null,{"$f":"IF(ISBLANK(AV68),\"\",SUM(IF(AV70>AV68,1,0)+(IF(AW70>AW68,1,0)+(IF(AX70>AX68,1,0)))))","v":""},null,null,null,{"$f":"IF(AY69=FALSE,\"\",AY69)","v":""},"(V16)",null,{"$f":"IF(ISBLANK(BC68),\"\",SUM(IF(BC70>BC68,1,0)+(IF(BD70>BD68,1,0)+(IF(BE70>BE68,1,0)))))","v":""},null,null,null,{"$f":"IF(BF69=FALSE,\"\",BF69)","v":""},null,null,64,null,0,null,null,null,{"$f":"IF(ISBLANK(BL69),\"\",SUM(IF(BL70>BL69,1,0)+(IF(BM70>BM69,1,0)+(IF(BN70>BN69,1,0)))))","v":""},null,{"$f":"IF(BQ69=FALSE,\"\",BQ69)","v":""},null,null,null,{"$f":"IF(ISBLANK(BR68),\"\",SUM(IF(BR70>BR68,1,0)+(IF(BS70>BS68,1,0)+(IF(BT70>BT68,1,0)))))","v":""},null,null,null,null,null,null,null,null,null,null,null,null,null,null,null,null,null,null,null,null,null,null,null,null,null,null,null,null,null,null,null,null,null,null,null,null,null,null,null,null,null,null,null,null,null,null,null,null,null,null,null,null,null,null,null,null,null,null,null,null,null,"59º",null,null,{"$f":"IF(BB48=BB50,\"\",IF(BB48>BB50,BF50,BF48))","v":""},1,null,null,59,null,null,null,null,null,null,null,null,null,null,59]
[null,null,null,null,null,null,null,null,null,null,null,null,null,null,null,null,null,null,null,null,null,null,null,null,null,null,null,null,null,null,null,null,null,null,null,null,null,null,null,null,null,null,null,null,null,null,null,null,null,null,null,null,null,null,null,null,null,null,null,null,null,null,null,null,null,null,null,null,null,null,null,null,null,null,null,null,null,null,null,null,null,null,null,null,null,null,null,null,null,null,null,null,null,null,null,null,null,null,null,null,null,null,null,null,null,null,null,null,null,null,null,null,null,null,null,null,null,null,null,null,null,null,null,null,null,null,null,null,null,null,null,null,null,null,"60º",null,null,{"$f":"IF(BB52=BB54,\"\",IF(BB52>BB54,BF54,BF52))","v":""},1,null,null,60,null,null,null,null,null,null,null,null,null,null,60]
[null,null,null,null,null,null,null,null,null,null,null,null,null,null,null,null,null,null,null,null,null,null,null,null,null,null,null,null,null,null,null,null,null,null,null,null,null,null,null,null,null,null,null,null,null,null,null,null,null,null,null,null,null,null,null,null,null,null,null,null,null,null,null,null,null,null,null,null,null,null,null,null,null,null,null,null,null,null,null,null,null,null,null,null,null,null,null,null,null,null,null,null,null,null,null,null,null,null,null,null,null,null,null,null,null,null,null,null,null,null,null,null,null,null,null,null,null,null,null,null,null,null,null,null,null,null,null,null,null,null,null,null,null,null,"61º",null,null,{"$f":"IF(BB56=BB58,\"\",IF(BB56>BB58,BF58,BF56))","v":""},1,null,null,61,null,null,null,null,null,null,null,null,null,null,61]
[null,null,null,null,null,null,null,null,null,null,null,null,null,null,null,null,null,null,null,null,null,null,null,null,null,null,null,null,null,null,null,null,null,null,null,null,null,null,null,null,null,null,null,null,null,null,null,null,null,null,null,null,null,null,null,null,null,null,null,null,null,null,null,null,null,null,null,null,null,null,null,null,null,null,null,null,null,null,null,null,null,null,null,null,null,null,null,null,null,null,null,null,null,null,null,null,null,null,null,null,null,null,null,null,null,null,null,null,null,null,null,null,null,null,null,null,null,null,null,null,null,null,null,null,null,null,null,null,null,null,null,null,null,null,"62º",null,null,{"$f":"IF(BB60=BB62,\"\",IF(BB60>BB62,BF62,BF60))","v":""},1,null,null,62,null,null,null,null,null,null,null,null,null,null,62]
[null,null,null,null,null,null,null,null,null,null,null,null,null,null,null,null,null,null,null,null,null,null,null,null,null,null,null,null,null,null,null,null,null,null,null,null,null,null,null,null,null,null,null,null,null,null,null,null,null,null,null,null,null,null,null,null,null,null,null,null,null,null,null,null,null,null,null,null,null,null,null,null,null,null,null,null,null,null,null,null,null,null,null,null,null,null,null,null,null,null,null,null,null,null,null,null,null,null,null,null,null,null,null,null,null,null,null,null,null,null,null,null,null,null,null,null,null,null,null,null,null,null,null,null,null,null,null,null,null,null,null,null,null,null,"63º",null,null,{"$f":"IF(BB64=BB66,\"\",IF(BB64>BB66,BF66,BF64))","v":""},1,null,null,63,null,null,null,null,null,null,null,null,null,null,63]
[null,null,null,null,null,null,null,null,null,null,null,null,null,null,null,null,null,null,null,null,null,null,null,null,null,null,null,null,null,null,null,null,null,null,null,null,null,null,null,null,null,null,null,null,null,null,null,null,null,null,null,null,null,null,null,null,null,null,null,null,null,null,null,null,null,null,null,null,null,null,null,null,null,null,null,null,null,null,null,null,null,null,null,null,null,null,null,null,null,null,null,null,null,null,null,null,null,null,null,null,null,null,null,null,null,null,null,null,null,null,null,null,null,null,null,null,null,null,null,null,null,null,null,null,null,null,null,null,null,null,null,null,null,null,"64º",null,null,{"$f":"IF(BB68=BB70,\"\",IF(BB68>BB70,BF70,BF68))","v":""},1,null,null,64,null,null,null,null,null,null,null,null,null,null,64]
[null,null,null,null,null,null,null,null,null,null,null,null,null,null,null,null,null,null,null,null,null,null,null,null,null,null,null,null,null,null,null,null,null,null,null,null,null,null,null,null,null,null,null,null,null,null,null,null,null,null,null,null,null,null,null,null,null,null,null,null,null,null,null,null,null,null,null,null,null,null,null,null,null,null,null,null,null,null,null,null,null,null,null,null,null,null,null,null,null,null,null,null,null,null,null,null,null,null,null,null,null,null,null,null,null,null,null,null,null,null,null,null,null,null,null,null,null,null,null,null,null,null,null,null,null,null,null,null,null,null,null,null,null,null,null,null,null,null,null,null,null,null,null,null,null,null,null,null,null,null,null,null,65]

{"sheet":"quadro82derrota","index":5,"n_rows":71,"n_cols":22,"rows_kept":71,"cut":false,"hidden":true,"merged":[[69,3,69,9],[69,10,69,12],[70,3,70,9],[70,10,70,12],[66,3,66,9],[66,10,66,12],[67,3,67,9],[67,10,67,12],[68,3,68,9],[68,10,68,12],[65,3,65,9],[65,10,65,12],[53,3,53,9],[53,10,53,12],[53,14,53,15],[62,3,62,9],[63,3,63,9],[63,10,63,12],[64,3,64,9],[64,10,64,12],[53,16,53,22],[54,3,54,9],[54,10,54,12],[54,14,54,15],[54,16,54,22],[51,3,51,9],[51,10,51,12],[51,14,51,15],[51,16,51,22],[52,3,52,9],[52,10,52,12],[52,14,52,15],[49,3,49,9],[49,10,49,12],[49,14,49,15],[49,16,49,22],[50,3,50,9],[50,10,50,12],[50,14,50,15],[50,16,50,22],[47,3,47,9],[47,10,47,12],[47,14,47,15],[47,16,47,22],[48,3,48,9],[48,10,48,12],[48,14,48,15],[48,16,48,22],[2,3,2,12],[5,18,5,22],[5,11,5,16],[28,16,28,22],[29,16,29,22],[46,3,46,9],[46,14,46,15],[46,16,46,22],[5,0,5,1],[5,2,5,7],[31,1,41,1],[45,4,45,9],[45,14,45,22]]}
[]
[null,null,null,"Direcção Regional de Educação do Algarve"]
[null,null,null,{"$f":"\"Ano Lectivo \"&Apoio!F11","v":"Ano Lectivo "}]
[]
[]
["PS-InfA",null,{"$f":"LOOKUP(A6,Apoio!N11:N41,Apoio!O11:O41)","v":"Pares Senhoras - Infantis A"},null,null,null,null,null,null,{"$f":"'Ficha de Inscrição'!$A$5","v":"Torneio Nº 4"},null,{"$f":"\"Escola: \"&'Ficha de Inscrição'!$D$4","v":"Escola: ACav.Silva"},null,null,null,null,null,null,{"$f":"'Ficha de Inscrição'!$J$4","v":"2018-01-17"}]
[]
[]
[]
[null,1,{"$f":"IF(C48=\"\",\"\",IF(C48=\"Bye\",\"Bye\",CONCATENATE(C48,\" \",\"(\",K48,\")\")))","v":"0 (ttt)"},null,null,null,{"$f":"IF(ISBLANK(D10),\"\",SUM(IF(D10>D11,1,0)+(IF(E10>E11,1,0)+(IF(F10>F11,1,0)))))","v":""},null,null,{"$f":"IF(G10=G11,IF(C10=\"Bye\",C11,IF(C11=\"Bye\",C10)),(IF(ISBLANK(D10),\"\",IF(G10>G11,C10,C11))))","v":false}]
[null,2,{"$f":"IF(C49=\"\",\"\",IF(C49=\"Bye\",\"Bye\",CONCATENATE(C49,\" \",\"(\",K49,\")\")))","v":"0 ()"},null,null,null,{"$f":"IF(ISBLANK(D10),\"\",SUM(IF(D11>D10,1,0)+(IF(E11>E10,1,0)+(IF(F11>F10,1,0)))))","v":""},"(a)",null,{"$f":"IF(J10=FALSE,\"\",J10)","v":""},null,null,null,{"$f":"IF(ISBLANK(K11),\"\",SUM(IF(K11>K13,1,0)+(IF(L11>L13,1,0)+(IF(M11>M13,1,0)))))","v":""},24]
[null,null,null,null,null,null,null,null,null,{"$f":"IF(G13=G14,IF(C13=\"Bye\",C14,IF(C14=\"Bye\",C13)),(IF(ISBLANK(D13),\"\",IF(G13>G14,C13,C14))))","v":false}]
[null,3,{"$f":"IF(C50=\"\",\"\",IF(C50=\"Bye\",\"Bye\",CONCATENATE(C50,\" \",\"(\",K50,\")\")))","v":"0 (Par)"},null,null,null,{"$f":"IF(ISBLANK(D13),\"\",SUM(IF(D13>D14,1,0)+(IF(E13>E14,1,0)+(IF(F13>F14,1,0)))))","v":""},"(b)",null,{"$f":"IF(J12=FALSE,\"\",J12)","v":""},null,null,null,{"$f":"IF(ISBLANK(K11),\"\",SUM(IF(K13>K11,1,0)+(IF(L13>L11,1,0)+(IF(M13>M11,1,0)))))","v":""},"(e)"]
[null,4,{"$f":"IF(C51=\"\",\"\",IF(C51=\"Bye\",\"Bye\",CONCATENATE(C51,\" \",\"(\",K51,\")\")))","v":"0 (JC-Est)"},null,null,null,{"$f":"IF(ISBLANK(D13),\"\",SUM(IF(D14>D13,1,0)+(IF(E14>E13,1,0)+(IF(F14>F13,1,0)))))","v":""},5,null,null,null,null,null,null,null,null,{"$f":"IF(N11=N13,\"\",IF(N11>N13,J11,J13))","v":""},null,null,null,{"$f":"IF(ISBLANK(R14),\"\",SUM(IF(R14>R16,1,0)+(IF(S14>S16,1,0)+(IF(T14>T16,1,0)))))","v":""},68]
[]
[null,5,{"$f":"IF(C52=\"\",\"\",IF(C52=\"Bye\",\"Bye\",CONCATENATE(C52,\" \",\"(\",K52,\")\")))","v":"0 (Par)"},null,null,null,{"$f":"IF(ISBLANK(D16),\"\",SUM(IF(D16>D17,1,0)+(IF(E16>E17,1,0)+(IF(F16>F17,1,0)))))","v":""},{"$f":"H14+1","v":6},null,{"$f":"IF(G16=G17,IF(C16=\"Bye\",C17,IF(C17=\"Bye\",C16)),(IF(ISBLANK(D16),\"\",IF(G16>G17,C16,C17))))","v":false},null,null,null,null,null,null,{"$f":"IF(N17=N19,\"\",IF(N17>N19,J17,J19))","v":""},null,null,null,{"$f":"IF(ISBLANK(R14),\"\",SUM(IF(R16>R14,1,0)+(IF(S16>S14,1,0)+(IF(T16>T14,1,0)))))","v":""},"(g)"]
[null,6,{"$f":"IF(C53=\"\",\"\",IF(C53=\"Bye\",\"Bye\",CONCATENATE(C53,\" \",\"(\",K53,\")\")))","v":"0 (JC-Est)"},null,null,null,{"$f":"IF(ISBLANK(D16),\"\",SUM(IF(D17>D16,1,0)+(IF(E17>E16,1,0)+(IF(F17>F16,1,0)))))","v":""},"(c)",null,{"$f":"IF(J16=FALSE,\"\",J16)","v":""},null,null,null,{"$f":"IF(ISBLANK(K17),\"\",SUM(IF(K17>K19,1,0)+(IF(L17>L19,1,0)+(IF(M17>M19,1,0)))))","v":""},"(f)"]
[null,null,null,null,null,null,null,null,null,{"$f":"IF(G19=G20,IF(C19=\"Bye\",C20,IF(C20=\"Bye\",C19)),(IF(ISBLANK(D19),\"\",IF(G19>G20,C19,C20))))","v":false}]
[null,7,{"$f":"IF(C54=\"\",\"\",IF(C54=\"Bye\",\"Bye\",CONCATENATE(C54,\" \",\"(\",K54,\")\")))","v":"0 (JC-Est)"},null,null,null,{"$f":"IF(ISBLANK(D19),\"\",SUM(IF(D19>D20,1,0)+(IF(E19>E20,1,0)+(IF(F19>F20,1,0)))))","v":""},"(d)",null,{"$f":"IF(J18=FALSE,\"\",J18)","v":""},null,null,null,{"$f":"IF(ISBLANK(K17),\"\",SUM(IF(K19>K17,1,0)+(IF(L19>L17,1,0)+(IF(M19>M17,1,0)))))","v":""},25]
[null,8,{"$f":"IF(C55=\"\",\"\",IF(C55=\"Bye\",\"Bye\",CONCATENATE(C55,\" \",\"(\",K55,\")\")))","v":"0 (JC-Est)"},null,null,null,{"$f":"IF(ISBLANK(D19),\"\",SUM(IF(D20>D19,1,0)+(IF(E20>E19,1,0)+(IF(F20>F19,1,0)))))","v":""},{"$f":"H16+1","v":7}]
[]
[null,null,null,null,null,null,null,null,null,null,null,null,null,null,null,null,"Final"]
[null,null,null,null,null,null,null,null,null,null,null,null,null,null,null,null,{"$f":"IF(U14=U16,\"\",IF(U14>U16,Q14,Q16))","v":""},null,null,null,{"$f":"IF(ISBLANK(R23),\"\",SUM(IF(R23>R24,1,0)+(IF(S23>S24,1,0)+(IF(T23>T24,1,0)))))","v":""},104]
[null,null,null,null,null,null,null,null,null,"3º Classificado",{"$f":"IF(U20=#REF!,\"\",IF(U20<#REF!,Q20,#REF!))","v":{"$error":"#REF!"}},null,null,null,null,null,{"$f":"IF(N25=N26,\"\",IF(N25>N26,J25,J26))","v":""},null,null,null,{"$f":"IF(ISBLANK(R23),\"\",SUM(IF(R24>R23,1,0)+(IF(S24>S23,1,0)+(IF(T24>T23,1,0)))))","v":""}]
[null,null,null,null,null,null,null,null,null,{"$f":"IF(U14=U16,\"Derrotado em (g)\",IF(U14>U16,Q16,Q14))","v":"Derrotado em (g)"},null,null,null,{"$f":"IF(ISBLANK(K25),\"\",SUM(IF(K25>K26,1,0)+(IF(L25>L26,1,0)+(IF(M25>M26,1,0)))))","v":""}]
[null,null,null,null,null,null,null,null,null,{"$f":"IF(U36=U37,\"\",IF(U36>U37,Q36,Q37))","v":""},null,null,null,{"$f":"IF(ISBLANK(K25),\"\",SUM(IF(K26>K25,1,0)+(IF(L26>L25,1,0)+(IF(M26>M25,1,0)))))","v":""},82,null,"Finalissima"]
[null,null,null,null,null,null,null,null,null,null,null,null,null,null,null,null,{"$f":"IF(U23=U24,\"\",IF(U23>U24,\"\",Q23))","v":""},null,null,null,{"$f":"IF(ISBLANK(R27),\"\",SUM(IF(R27>R28,1,0)+(IF(S27>S28,1,0)+(IF(T27>T28,1,0)))))","v":""}]
[null,null,null,null,null,null,null,null,null,null,null,null,null,null,null,null,{"$f":"IF(U23=U24,\"\",IF(U23>U24,\"\",Q24))","v":""},null,null,null,{"$f":"IF(ISBLANK(R27),\"\",SUM(IF(R28>R27,1,0)+(IF(S28>S27,1,0)+(IF(T28>T27,1,0)))))","v":""},121]
[null,null,null,null,null,null,null,null,null,null,null,null,null,null,null,null,"Campeão"]
[null,null,null,null,null,null,null,null,null,null,null,null,null,null,null,null,{"$f":"IF(U23=U24,\"\",IF(U23>U24,Q23,IF(U27=U28,\"\",IF(U27<U28,Q28,Q27))))","v":""}]
[]
[null,"Quadro dos Vencidos",{"$f":"IF(H33=FALSE,\"Derrotado em (a)\",H33)","v":"Derrotado em (a)"},null,null,null,{"$f":"IF(ISBLANK(D32),\"\",SUM(IF(D32>D33,1,0)+(IF(E32>E33,1,0)+(IF(F32>F33,1,0)))))","v":""},null,null,{"$f":"IF(G32=G33,IF(C32=\"Bye\",C33,IF(C33=\"Bye\",C32)),(IF(ISBLANK(D32),\"\",IF(G32>G33,C32,C33))))","v":false}]
[null,null,{"$f":"IF(C34=FALSE,\"Derrotado em (b)\",C34)","v":"Derrotado em (b)"},null,null,null,{"$f":"IF(ISBLANK(D32),\"\",SUM(IF(D33>D32,1,0)+(IF(E33>E32,1,0)+(IF(F33>F32,1,0)))))","v":""},{"$f":"IF(G10=G11,IF(C10=\"Bye\",C10,IF(C11=\"Bye\",C11)),(IF(ISBLANK(D10),\"\",IF(G10>G11,C11,C10))))","v":false},null,{"$f":"IF(J32=FALSE,\"\",J32)","v":""},null,null,null,{"$f":"IF(ISBLANK(K33),\"\",SUM(IF(K33>K34,1,0)+(IF(L33>L34,1,0)+(IF(M33>M34,1,0)))))","v":""},52]
[null,null,{"$f":"IF(G13=G14,IF(C13=\"Bye\",C13,IF(C14=\"Bye\",C14)),(IF(ISBLANK(D13),\"\",IF(G13>G14,C14,C13))))","v":false},null,null,null,null,null,null,{"$f":"IF(J35=\"\",\"Derrotado em (f)\",J35)","v":"Derrotado em (f)"},null,null,null,{"$f":"IF(ISBLANK(K33),\"\",SUM(IF(K34>K33,1,0)+(IF(L34>L33,1,0)+(IF(M34>M33,1,0)))))","v":""}]
[null,null,null,null,null,null,null,null,null,{"$f":"IF(N17=N19,\"\",IF(N17<N19,J17,J19))","v":""},null,null,null,null,null,null,"4º Classificado"]
[null,null,null,null,null,null,null,null,null,null,null,null,null,null,null,null,{"$f":"IF(N33=N34,\"\",IF(N33>N34,J33,J34))","v":""},null,null,null,{"$f":"IF(ISBLANK(R36),\"\",SUM(IF(R36>R37,1,0)+(IF(S36>S37,1,0)+(IF(T36>T37,1,0)))))","v":""},65]
[null,null,null,null,null,null,null,null,null,null,null,null,null,null,null,null,{"$f":"IF(N39=N40,\"\",IF(N39>N40,J39,J40))","v":""},null,null,null,{"$f":"IF(ISBLANK(R36),\"\",SUM(IF(R37>R36,1,0)+(IF(S37>S36,1,0)+(IF(T37>T36,1,0)))))","v":""}]
[null,null,null,null,null,null,null,null,null,{"$f":"IF(N11=N13,\"\",IF(N11<N13,J11,J13))","v":""}]
[null,null,{"$f":"IF(G16=G17,IF(C16=\"Bye\",C16,IF(C17=\"Bye\",C17)),(IF(ISBLANK(D16),\"\",IF(G16>G17,C17,C16))))","v":false},null,null,null,null,null,null,{"$f":"IF(J38=\"\",\"Derrotado em (e)\",J38)","v":"Derrotado em (e)"},null,null,null,{"$f":"IF(ISBLANK(K39),\"\",SUM(IF(K39>K40,1,0)+(IF(L39>L40,1,0)+(IF(M39>M40,1,0)))))","v":""}]
[null,null,{"$f":"IF(C39=FALSE,\"Derrotado em (c)\",C39)","v":"Derrotado em (c)"},null,null,null,{"$f":"IF(ISBLANK(D40),\"\",SUM(IF(D40>D41,1,0)+(IF(E40>E41,1,0)+(IF(F40>F41,1,0)))))","v":""},{"$f":"IF(G19=G20,IF(C19=\"Bye\",C19,IF(C20=\"Bye\",C20)),(IF(ISBLANK(D19),\"\",IF(G19>G20,C20,C19))))","v":false},null,{"$f":"IF(J41=FALSE,\"\",J41)","v":""},null,null,null,{"$f":"IF(ISBLANK(K39),\"\",SUM(IF(K40>K39,1,0)+(IF(L40>L39,1,0)+(IF(M40>M39,1,0)))))","v":""},53]
[null,null,{"$f":"IF(H40=FALSE,\"Derrotado em (d)\",H40)","v":"Derrotado em (d)"},null,null,null,{"$f":"IF(ISBLANK(D40),\"\",SUM(IF(D41>D40,1,0)+(IF(E41>E40,1,0)+(IF(F41>F40,1,0)))))","v":""},41,null,{"$f":"IF(G40=G41,IF(C40=\"Bye\",C41,IF(C41=\"Bye\",C40)),(IF(ISBLANK(D40),\"\",IF(G40>G41,C40,C41))))","v":false}]
[]
[]
[]
[]
[null,"Lista de Participantes",null,null,{"$f":"B6","v":0},null,null,null,null,null,null,null,null,null,"Classificação"]
[null,"Nº","Nome (1º e último)","Escola",null,null,null,null,null,null,"Abv.*",null,null,null,"Cl."]
[7,1,{"$f":"IF(ISERROR(VLOOKUP(CELL(\"contents\",$A48),$B$64:$C$79,2,FALSE)),\"\",VLOOKUP(CELL(\"contents\",$A48),$B$64:$C$79,2,FALSE))","v":0},{"$f":"IF(ISERROR(VLOOKUP(CELL(\"contents\",$A48),$B$64:$D$79,3,FALSE)),\"\",VLOOKUP(CELL(\"contents\",$A48),$B$64:$D$79,3,FALSE))","v":"Escola E.B. 2,3 de Algoz"},null,null,null,null,null,null,"ttt",null,null,null,"1º",null,{"$f":"Q30","v":""}]
[8,2,0,"Escola E.B. 2,3 de Algoz",null,null,null,null,null,null,null,null,null,null,"2º",null,{"$f":"IF(Q48=Q23,Q24,Q23)","v":""}]
[2,3,0,"Escola E.B. 2,3 de Algoz",null,null,null,null,null,null,"Par",null,null,null,"3º",null,{"$f":"IF(N25=N26,\"\",IF(N25>N26,J26,J25))","v":""}]
[6,4,0,"Escola E.B. 2,3 de Algoz",null,null,null,null,null,null,"JC-Est",null,null,null,"4º",null,{"$f":"IF(U36=U37,\"\",IF(U36>U37,Q37,Q36))","v":""}]
[3,5,0,"Escola E.B. 2,3 de Algoz",null,null,null,null,null,null,"Par",null,null,null,"5º",null,{"$f":"IF(N39=N40,\"\",IF(N39<N40,J39,J40))","v":""}]
[1,6,0,"Escola E.B. 2,3 de Algoz",null,null,null,null,null,null,"JC-Est",null,null,null,"6º"]
[5,7,0,"Escola E.B. 2,3 de Algoz",null,null,null,null,null,null,"JC-Est",null,null,null,"7ºs"]
[4,8,0,"Escola E.B. 2,3 de Algoz",null,null,null,null,null,null,"JC-Est",null,null,null,"8ºs"]
[]
[null,null,"Bye : coloca-se bye quando não existe atleta."]
[]
[]
[]
[]
[]
[null,"Nº","Nome (1º e último)","Escola",null,null,null,null,null,null,"Abv.*"]
[null,1,null,"Escola E.B. 2,3 de Algoz",null,null,null,null,null,null,"Alg"]
[null,2,null,"Escola E.B. 2,3 de Algoz",null,null,null,null,null,null,"Alg"]
[null,3,null,"Escola E.B. 2,3 de Algoz",null,null,null,null,null,null,"Alg"]
[null,4,null,"Escola E.B. 2,3 de Algoz",null,null,null,null,null,null,"Alg"]
[null,5,null,"Escola E.B. 2,3 de Algoz",null,null,null,null,null,null,"Alg"]
[null,6,null,"Escola E.B. 2,3 de Algoz",null,null,null,null,null,null,"Alg"]
[null,7,null,"Escola E.B. 2,3 de Algoz",null,null,null,null,null,null,"Alg"]
[null,8,null,"Escola E.B. 2,3 de Algoz",null,null,null,null,null,null,"Alg"]

{"sheet":"quadro162derrota","index":6,"n_rows":104,"n_cols":22,"rows_kept":104,"cut":false,"hidden":true,"merged":[[39,16,39,22],[40,16,40,22],[42,1,61,1],[65,4,65,9],[65,14,65,22],[66,3,66,9],[66,14,66,15],[66,16,66,22],[5,18,5,22],[69,3,69,9],[69,10,69,12],[69,14,69,15],[69,16,69,22],[70,3,70,9],[70,10,70,12],[70,14,70,15],[70,16,70,22],[67,3,67,9],[67,10,67,12],[67,14,67,15],[67,16,67,22],[68,3,68,9],[68,10,68,12],[68,14,68,15],[68,16,68,22],[73,3,73,9],[73,10,73,12],[73,14,73,15],[73,16,73,22],[74,3,74,9],[74,10,74,12],[74,14,74,15],[74,16,74,22],[71,3,71,9],[71,10,71,12],[71,14,71,15],[71,16,71,22],[72,3,72,9],[72,10,72,12],[72,14,72,15],[72,16,72,22],[77,3,77,9],[77,10,77,12],[77,14,77,15],[77,16,77,22],[78,3,78,9],[78,10,78,12],[78,14,78,15],[78,16,78,22],[75,3,75,9],[75,10,75,12],[75,14,75,15],[75,16,75,22],[76,3,76,9],[76,10,76,12],[76,14,76,15],[76,16,76,22],[81,3,81,9],[81,10,81,12],[81,14,81,15],[81,16,81,22],[82,3,82,9],[82,10,82,12],[82,14,82,15],[82,16,82,22],[79,3,79,9],[79,10,79,12],[79,14,79,15],[79,16,79,22],[80,3,80,9],[80,10,80,12],[80,14,80,15],[80,16,80,22],[91,3,91,9],[91,10,91,12],[92,3,92,9],[92,10,92,12],[93,3,93,9],[93,10,93,12],[87,3,87,9],[88,3,88,9],[88,10,88,12],[89,3,89,9],[89,10,89,12],[90,3,90,9],[90,10,90,12],[103,3,103,9],[103,10,103,12],[2,3,2,12],[5,0,5,1],[5,2,5,7],[5,11,5,16],[100,3,100,9],[100,10,100,12],[101,3,101,9],[101,10,101,12],[102,3,102,9],[102,10,102,12],[97,3,97,9],[97,10,97,12],[98,3,98,9],[98,10,98,12],[99,3,99,9],[99,10,99,12],[94,3,94,9],[94,10,94,12],[95,3,95,9],[95,10,95,12],[96,3,96,9],[96,10,96,12]]}
[]
[null,null,null,"Direcção Regional de Educação do Algarve"]
[null,null,null,{"$f":"\"Ano Lectivo \"&Apoio!F11","v":"Ano Lectivo "}]
[]
[]
["PH-Juv",null,{"$f":"LOOKUP(A6,Apoio!N11:N41,Apoio!O11:O41)","v":"Pares Homens - Juvenis"},null,null,null,null,null,null,{"$f":"'Ficha de Inscrição'!$A$5","v":"Torneio Nº 4"},null,{"$f":"\"Escola: \"&'Ficha de Inscrição'!$D$4","v":"Escola: ACav.Silva"},null,null,null,null,null,null,{"$f":"'Ficha de Inscrição'!$J$4","v":"2018-01-17"}]
[]
[]
[]
[null,1,{"$f":"IF(C68=\"\",\"\",IF(C68=\"Bye\",\"Bye\",CONCATENATE(C68,\" \",\"(\",K68,\")\")))","v":"Bye"},null,null,null,{"$f":"IF(ISBLANK(D10),\"\",SUM(IF(D10>D11,1,0)+(IF(E10>E11,1,0)+(IF(F10>F11,1,0)))))","v":""},null,null,{"$f":"IF(G10=G11,IF(C10=\"Bye\",C11,IF(C11=\"Bye\",C10)),(IF(ISBLANK(D10),\"\",IF(G10>G11,C10,C11))))","v":"Ana Ferreira ()"}]
[null,2,{"$f":"IF(C69=\"\",\"\",IF(C69=\"Bye\",\"Bye\",CONCATENATE(C69,\" \",\"(\",K69,\")\")))","v":"Ana Ferreira ()"},null,null,null,{"$f":"IF(ISBLANK(D10),\"\",SUM(IF(D11>D10,1,0)+(IF(E11>E10,1,0)+(IF(F11>F10,1,0)))))","v":""},"(a)",null,{"$f":"IF(J10=FALSE,\"\",J10)","v":"Ana Ferreira ()"},null,null,null,{"$f":"IF(ISBLANK(K11),\"\",SUM(IF(K11>K13,1,0)+(IF(L11>L13,1,0)+(IF(M11>M13,1,0)))))","v":""},111]
[null,null,null,null,null,null,null,null,null,{"$f":"IF(G13=G14,IF(C13=\"Bye\",C14,IF(C14=\"Bye\",C13)),(IF(ISBLANK(D13),\"\",IF(G13>G14,C13,C14))))","v":false}]
[null,3,{"$f":"IF(C70=\"\",\"\",IF(C70=\"Bye\",\"Bye\",CONCATENATE(C70,\" \",\"(\",K70,\")\")))","v":"Dulce ()"},null,null,null,{"$f":"IF(ISBLANK(D13),\"\",SUM(IF(D13>D14,1,0)+(IF(E13>E14,1,0)+(IF(F13>F14,1,0)))))","v":""},"(b)",null,{"$f":"IF(J12=FALSE,\"\",J12)","v":""},null,null,null,{"$f":"IF(ISBLANK(K11),\"\",SUM(IF(K13>K11,1,0)+(IF(L13>L11,1,0)+(IF(M13>M11,1,0)))))","v":""},"(i)"]
[null,4,{"$f":"IF(C71=\"\",\"\",IF(C71=\"Bye\",\"Bye\",CONCATENATE(C71,\" \",\"(\",K71,\")\")))","v":"Patrícia Pedro ()"},null,null,null,{"$f":"IF(ISBLANK(D13),\"\",SUM(IF(D14>D13,1,0)+(IF(E14>E13,1,0)+(IF(F14>F13,1,0)))))","v":""},17,null,null,null,null,null,null,null,null,{"$f":"IF(N11=N13,\"\",IF(N11>N13,J11,J13))","v":""},null,null,null,{"$f":"IF(ISBLANK(R14),\"\",SUM(IF(R14>R16,1,0)+(IF(S14>S16,1,0)+(IF(T14>T16,1,0)))))","v":""},245]
[]
[null,5,{"$f":"IF(C72=\"\",\"\",IF(C72=\"Bye\",\"Bye\",CONCATENATE(C72,\" \",\"(\",K72,\")\")))","v":"Débora Mendonça ()"},null,null,null,{"$f":"IF(ISBLANK(D16),\"\",SUM(IF(D16>D17,1,0)+(IF(E16>E17,1,0)+(IF(F16>F17,1,0)))))","v":""},null,null,{"$f":"IF(G16=G17,IF(C16=\"Bye\",C17,IF(C17=\"Bye\",C16)),(IF(ISBLANK(D16),\"\",IF(G16>G17,C16,C17))))","v":"Débora Mendonça ()"},null,null,null,null,null,null,{"$f":"IF(N17=N19,\"\",IF(N17>N19,J17,J19))","v":""},null,null,null,{"$f":"IF(ISBLANK(R14),\"\",SUM(IF(R16>R14,1,0)+(IF(S16>S14,1,0)+(IF(T16>T14,1,0)))))","v":""},"(n)"]
[null,6,{"$f":"IF(C73=\"\",\"\",IF(C73=\"Bye\",\"Bye\",CONCATENATE(C73,\" \",\"(\",K73,\")\")))","v":"Bye"},null,null,null,{"$f":"IF(ISBLANK(D16),\"\",SUM(IF(D17>D16,1,0)+(IF(E17>E16,1,0)+(IF(F17>F16,1,0)))))","v":""},"(c)",null,{"$f":"IF(J16=FALSE,\"\",J16)","v":"Débora Mendonça ()"},null,null,null,{"$f":"IF(ISBLANK(K17),\"\",SUM(IF(K17>K19,1,0)+(IF(L17>L19,1,0)+(IF(M17>M19,1,0)))))","v":""},"(j)"]
[null,null,null,null,null,null,null,null,null,{"$f":"IF(G19=G20,IF(C19=\"Bye\",C20,IF(C20=\"Bye\",C19)),(IF(ISBLANK(D19),\"\",IF(G19>G20,C19,C20))))","v":"Raquel Cebola ()"}]
[null,7,{"$f":"IF(C74=\"\",\"\",IF(C74=\"Bye\",\"Bye\",CONCATENATE(C74,\" \",\"(\",K74,\")\")))","v":"Bye"},null,null,null,{"$f":"IF(ISBLANK(D19),\"\",SUM(IF(D19>D20,1,0)+(IF(E19>E20,1,0)+(IF(F19>F20,1,0)))))","v":""},"(d)",null,{"$f":"IF(J18=FALSE,\"\",J18)","v":"Raquel Cebola ()"},null,null,null,{"$f":"IF(ISBLANK(K17),\"\",SUM(IF(K19>K17,1,0)+(IF(L19>L17,1,0)+(IF(M19>M17,1,0)))))","v":""},{"$f":"O11+1","v":112}]
[null,8,{"$f":"IF(C75=\"\",\"\",IF(C75=\"Bye\",\"Bye\",CONCATENATE(C75,\" \",\"(\",K75,\")\")))","v":"Raquel Cebola ()"},null,null,null,{"$f":"IF(ISBLANK(D19),\"\",SUM(IF(D20>D19,1,0)+(IF(E20>E19,1,0)+(IF(F20>F19,1,0)))))","v":""},null,null,null,null,null,null,null,null,null,{"$f":"IF(U14=U16,\"\",IF(U14>U16,Q14,Q16))","v":""},null,null,null,{"$f":"IF(ISBLANK(R20),\"\",SUM(IF(R20>R22,1,0)+(IF(S20>S22,1,0)+(IF(T20>T22,1,0)))))","v":""}]
[]
[null,9,{"$f":"IF(C76=\"\",\"\",IF(C76=\"Bye\",\"Bye\",CONCATENATE(C76,\" \",\"(\",K76,\")\")))","v":"Carina ()"},null,null,null,{"$f":"IF(ISBLANK(D22),\"\",SUM(IF(D22>D23,1,0)+(IF(E22>E23,1,0)+(IF(F22>F23,1,0)))))","v":""},null,null,{"$f":"IF(G22=G23,IF(C22=\"Bye\",C23,IF(C23=\"Bye\",C22)),(IF(ISBLANK(D22),\"\",IF(G22>G23,C22,C23))))","v":"Carina ()"},null,null,null,null,null,null,{"$f":"IF(U26=U28,\"\",IF(U26>U28,Q26,Q28))","v":""},null,null,null,{"$f":"IF(ISBLANK(R20),\"\",SUM(IF(R22>R20,1,0)+(IF(S22>S20,1,0)+(IF(T22>T20,1,0)))))","v":""},"(p)"]
[null,10,{"$f":"IF(C77=\"\",\"\",IF(C77=\"Bye\",\"Bye\",CONCATENATE(C77,\" \",\"(\",K77,\")\")))","v":"Bye"},null,null,null,{"$f":"IF(ISBLANK(D22),\"\",SUM(IF(D23>D22,1,0)+(IF(E23>E22,1,0)+(IF(F23>F22,1,0)))))","v":""},"(e)",null,{"$f":"IF(J22=FALSE,\"\",J22)","v":"Carina ()"},null,null,null,{"$f":"IF(ISBLANK(K23),\"\",SUM(IF(K23>K25,1,0)+(IF(L23>L25,1,0)+(IF(M23>M25,1,0)))))","v":""},{"$f":"O19+1","v":113}]
[null,null,null,null,null,null,null,null,null,{"$f":"IF(G25=G26,IF(C25=\"Bye\",C26,IF(C26=\"Bye\",C25)),(IF(ISBLANK(D25),\"\",IF(G25>G26,C25,C26))))","v":"Letycia ()"}]
[null,11,{"$f":"IF(C78=\"\",\"\",IF(C78=\"Bye\",\"Bye\",CONCATENATE(C78,\" \",\"(\",K78,\")\")))","v":"Letycia ()"},null,null,null,{"$f":"IF(ISBLANK(D25),\"\",SUM(IF(D25>D26,1,0)+(IF(E25>E26,1,0)+(IF(F25>F26,1,0)))))","v":""},"f)",null,{"$f":"IF(J24=FALSE,\"\",J24)","v":"Letycia ()"},null,null,null,{"$f":"IF(ISBLANK(K23),\"\",SUM(IF(K25>K23,1,0)+(IF(L25>L23,1,0)+(IF(M25>M23,1,0)))))","v":""},"(l)"]
[null,12,{"$f":"IF(C79=\"\",\"\",IF(C79=\"Bye\",\"Bye\",CONCATENATE(C79,\" \",\"(\",K79,\")\")))","v":"Bye"},null,null,null,{"$f":"IF(ISBLANK(D25),\"\",SUM(IF(D26>D25,1,0)+(IF(E26>E25,1,0)+(IF(F26>F25,1,0)))))","v":""},null,null,null,null,null,null,null,null,null,{"$f":"IF(N23=N25,\"\",IF(N23>N25,J23,J25))","v":""},null,null,null,{"$f":"IF(ISBLANK(R26),\"\",SUM(IF(R26>R28,1,0)+(IF(S26>S28,1,0)+(IF(T26>T28,1,0)))))","v":""},"(o)"]
[null,null,null,null,null,null,null,null,null,null,null,null,null,null,null,null,null,null,null,null,"\\"]
[null,13,{"$f":"IF(C80=\"\",\"\",IF(C80=\"Bye\",\"Bye\",CONCATENATE(C80,\" \",\"(\",K80,\")\")))","v":"Daniela ()"},null,null,null,{"$f":"IF(ISBLANK(D28),\"\",SUM(IF(D28>D29,1,0)+(IF(E28>E29,1,0)+(IF(F28>F29,1,0)))))","v":""},null,null,{"$f":"IF(G28=G29,IF(C28=\"Bye\",C29,IF(C29=\"Bye\",C28)),(IF(ISBLANK(D28),\"\",IF(G28>G29,C28,C29))))","v":"Daniela ()"},null,null,null,null,null,null,{"$f":"IF(N29=N31,\"\",IF(N29>N31,J29,J31))","v":""},null,null,null,{"$f":"IF(ISBLANK(R26),\"\",SUM(IF(R28>R26,1,0)+(IF(S28>S26,1,0)+(IF(T28>T26,1,0)))))","v":""},{"$f":"V14+1","v":246}]
[null,14,{"$f":"IF(C81=\"\",\"\",IF(C81=\"Bye\",\"Bye\",CONCATENATE(C81,\" \",\"(\",K81,\")\")))","v":"Bye"},null,null,null,{"$f":"IF(ISBLANK(D28),\"\",SUM(IF(D29>D28,1,0)+(IF(E29>E28,1,0)+(IF(F29>F28,1,0)))))","v":""},"(g)",null,{"$f":"IF(J28=FALSE,\"\",J28)","v":"Daniela ()"},null,null,null,{"$f":"IF(ISBLANK(K29),\"\",SUM(IF(K29>K31,1,0)+(IF(L29>L31,1,0)+(IF(M29>M31,1,0)))))","v":""},"(m)"]
[null,null,null,null,null,null,null,null,null,{"$f":"IF(G31=G32,IF(C31=\"Bye\",C32,IF(C32=\"Bye\",C31)),(IF(ISBLANK(D31),\"\",IF(G31>G32,C31,C32))))","v":false}]
[null,15,{"$f":"IF(C82=\"\",\"\",IF(C82=\"Bye\",\"Bye\",CONCATENATE(C82,\" \",\"(\",K82,\")\")))","v":"Adriana ()"},null,null,null,{"$f":"IF(ISBLANK(D31),\"\",SUM(IF(D31>D32,1,0)+(IF(E31>E32,1,0)+(IF(F31>F32,1,0)))))","v":""},"(h)",null,{"$f":"IF(J30=FALSE,\"\",J30)","v":""},null,null,null,{"$f":"IF(ISBLANK(K29),\"\",SUM(IF(K31>K29,1,0)+(IF(L31>L29,1,0)+(IF(M31>M29,1,0)))))","v":""},{"$f":"O23+1","v":114}]
[null,16,{"$f":"IF(C83=\"\",\"\",IF(C83=\"Bye\",\"Bye\",CONCATENATE(C83,\" \",\"(\",K83,\")\")))","v":"Emily Pedroso ()"},null,null,null,{"$f":"IF(ISBLANK(D31),\"\",SUM(IF(D32>D31,1,0)+(IF(E32>E31,1,0)+(IF(F32>F31,1,0)))))","v":""},18]
[null,null,null,null,null,null,null,null,null,null,null,null,null,null,null,null,"Final"]
[null,null,null,null,null,null,null,null,null,null,null,null,null,null,null,null,{"$f":"IF(U20=U22,\"\",IF(U20>U22,Q20,Q22))","v":""},null,null,null,{"$f":"IF(ISBLANK(R34),\"\",SUM(IF(R34>R35,1,0)+(IF(S34>S35,1,0)+(IF(T34>T35,1,0)))))","v":""},286]
[null,null,"Jogo 7º e 8º Classificado",{"$f":"IF(U45=U46,IF(Q45=\"Bye\",Q45,IF(Q46=\"Bye\",Q46)),(IF(ISBLANK(R45),\"\",IF(U45>U46,Q46,Q45))))","v":false},{"$f":"IF(U59=U60,IF(Q59=\"Bye\",Q59,IF(Q60=\"Bye\",Q60)),(IF(ISBLANK(R59),\"\",IF(U59>U60,Q60,Q59))))","v":false},null,null,null,null,"3º Classificado",{"$f":"IF(U20=U22,\"\",IF(U20<U22,Q20,Q22))","v":""},null,null,null,null,null,{"$f":"IF(N36=N37,\"\",IF(N36>N37,J36,J37))","v":""},null,null,null,{"$f":"IF(ISBLANK(R34),\"\",SUM(IF(R35>R34,1,0)+(IF(S35>S34,1,0)+(IF(T35>T34,1,0)))))","v":""}]
[null,null,{"$f":"IF(D35=FALSE,\"Derrotado em (q)\",D35)","v":"Derrotado em (q)"},null,null,null,{"$f":"IF(ISBLANK(D36),\"\",SUM(IF(D36>D37,1,0)+(IF(E36>E37,1,0)+(IF(F36>F37,1,0)))))","v":""},279,null,{"$f":"IF(K35=\"\",\"Derrotado em (p)\",K35)","v":"Derrotado em (p)"},null,null,null,{"$f":"IF(ISBLANK(K36),\"\",SUM(IF(K36>K37,1,0)+(IF(L36>L37,1,0)+(IF(M36>M37,1,0)))))","v":""},284]
[null,null,{"$f":"IF(E35=FALSE,\"Derrotado em (r)\",E35)","v":"Derrotado em (r)"},null,null,null,{"$f":"IF(ISBLANK(D36),\"\",SUM(IF(D37>D36,1,0)+(IF(E37>E36,1,0)+(IF(F37>F36,1,0)))))","v":""},{"$f":"IF(U45=U46,IF(Q45=\"Bye\",Q45,IF(Q46=\"Bye\",Q46)),(IF(ISBLANK(R45),\"\",IF(U45>U46,Q46,Q45))))","v":false},null,{"$f":"IF(J38=FALSE,\"\",J38)","v":""},null,null,null,{"$f":"IF(ISBLANK(K36),\"\",SUM(IF(K37>K36,1,0)+(IF(L37>L36,1,0)+(IF(M37>M36,1,0)))))","v":""},284,null,"Finalissima"]
[null,null,"Jogo 5º e 6º Classificado",{"$f":"IF(U48=U49,IF(Q48=\"Bye\",Q48,IF(Q49=\"Bye\",Q49)),(IF(ISBLANK(R48),\"\",IF(U48>U49,Q49,Q48))))","v":false},{"$f":"IF(U56=U57,IF(Q56=\"Bye\",Q56,IF(Q57=\"Bye\",Q57)),(IF(ISBLANK(R56),\"\",IF(U56>U57,Q57,Q56))))","v":false},null,null,null,null,{"$f":"IF(U52=U53,\"\",IF(U52>U53,Q52,Q53))","v":""},null,null,null,null,null,null,{"$f":"IF(U34=U35,\"\",IF(U34>U35,\"\",Q34))","v":""},null,null,null,{"$f":"IF(ISBLANK(R38),\"\",SUM(IF(R38>R39,1,0)+(IF(S38>S39,1,0)+(IF(T38>T39,1,0)))))","v":""}]
[null,null,{"$f":"IF(D38=FALSE,\"Derrotado em (s)\",D38)","v":"Derrotado em (s)"},null,null,null,{"$f":"IF(ISBLANK(D39),\"\",SUM(IF(D39>D40,1,0)+(IF(E39>E40,1,0)+(IF(F39>F40,1,0)))))","v":""},280,null,null,null,null,null,null,null,null,{"$f":"IF(U34=U35,\"\",IF(U34>U35,\"\",Q35))","v":""},null,null,null,{"$f":"IF(ISBLANK(R38),\"\",SUM(IF(R39>R38,1,0)+(IF(S39>S38,1,0)+(IF(T39>T38,1,0)))))","v":""}]
[null,null,{"$f":"IF(E38=FALSE,\"Derrotado em (t)\",E38)","v":"Derrotado em (t)"},null,null,null,{"$f":"IF(ISBLANK(D39),\"\",SUM(IF(D40>D39,1,0)+(IF(E40>E39,1,0)+(IF(F40>F39,1,0)))))","v":""},null,null,null,null,null,null,null,null,null,"Campeão"]
[null,null,null,null,null,null,null,null,null,null,null,null,null,null,null,null,{"$f":"IF(U34=U35,\"\",IF(U34>U35,Q34,IF(U38=U39,\"\",IF(U38<U39,Q39,Q38))))","v":""}]
[]
[null,"Quadro dos Vencidos",{"$f":"IF(H44=FALSE,\"Derrotado em (a)\",H44)","v":"Bye"},null,null,null,{"$f":"IF(ISBLANK(D43),\"\",SUM(IF(D43>D44,1,0)+(IF(E43>E44,1,0)+(IF(F43>F44,1,0)))))","v":""},null,null,{"$f":"IF(G43=G44,IF(C43=\"Bye\",C44,IF(C44=\"Bye\",C43)),(IF(ISBLANK(D43),\"\",IF(G43>G44,C43,C44))))","v":"Derrotado em (b)"}]
[null,null,{"$f":"IF(C45=FALSE,\"Derrotado em (b)\",C45)","v":"Derrotado em (b)"},null,null,null,{"$f":"IF(ISBLANK(D43),\"\",SUM(IF(D44>D43,1,0)+(IF(E44>E43,1,0)+(IF(F44>F43,1,0)))))","v":""},{"$f":"IF(G10=G11,IF(C10=\"Bye\",C10,IF(C11=\"Bye\",C11)),(IF(ISBLANK(D10),\"\",IF(G10>G11,C11,C10))))","v":"Bye"},null,{"$f":"IF(J43=FALSE,\"\",J43)","v":"Derrotado em (b)"},null,null,null,{"$f":"IF(ISBLANK(K44),\"\",SUM(IF(K44>K45,1,0)+(IF(L44>L45,1,0)+(IF(M44>M45,1,0)))))","v":""},150,null,{"$f":"IF(N44=N45,\"\",IF(N44>N45,J44,J45))","v":""}]
[null,null,{"$f":"IF(G13=G14,IF(C13=\"Bye\",C13,IF(C14=\"Bye\",C14)),(IF(ISBLANK(D13),\"\",IF(G13>G14,C14,C13))))","v":false},null,null,null,null,null,null,{"$f":"IF(J46=\"\",\"Derrotado em (m)\",J46)","v":"Derrotado em (m)"},null,null,null,{"$f":"IF(ISBLANK(K44),\"\",SUM(IF(K45>K44,1,0)+(IF(L45>L44,1,0)+(IF(M45>M44,1,0)))))","v":""},null,null,{"$f":"IF(Q44=FALSE,\"\",Q44)","v":""},null,null,null,{"$f":"IF(ISBLANK(R45),\"\",SUM(IF(R45>R46,1,0)+(IF(S45>S46,1,0)+(IF(T45>T46,1,0)))))","v":""},198]
[null,null,null,null,null,null,null,null,null,{"$f":"IF(N29=N31,\"\",IF(N29<N31,J29,J31))","v":""},null,null,null,null,null,null,{"$f":"IF(Q47=FALSE,\"\",Q47)","v":""},null,null,null,{"$f":"IF(ISBLANK(R45),\"\",SUM(IF(R46>R45,1,0)+(IF(S46>S45,1,0)+(IF(T46>T45,1,0)))))","v":""},"(q)"]
[null,null,null,null,null,null,null,null,null,null,null,null,null,null,null,null,{"$f":"IF(N49=N50,\"\",IF(N49>N50,J49,J50))","v":""},{"$f":"IF(U45=U46,\"\",IF(U45>U46,Q45,Q46))","v":""}]
[null,null,null,null,null,null,null,null,null,null,null,null,null,null,null,null,{"$f":"IF(R47=FALSE,\"\",R47)","v":""},null,null,null,{"$f":"IF(ISBLANK(R48),\"\",SUM(IF(R48>R49,1,0)+(IF(S48>S49,1,0)+(IF(T48>T49,1,0)))))","v":""},"(s)"]
[null,null,{"$f":"IF(G16=G17,IF(C16=\"Bye\",C16,IF(C17=\"Bye\",C17)),(IF(ISBLANK(D16),\"\",IF(G16>G17,C17,C16))))","v":"Bye"},null,null,null,null,null,null,{"$f":"IF(O49=\"\",\"Derrotado em (l)\",O49)","v":"Derrotado em (l)"},null,null,null,{"$f":"IF(ISBLANK(K49),\"\",SUM(IF(K49>K50,1,0)+(IF(L49>L50,1,0)+(IF(M49>M50,1,0)))))","v":""},{"$f":"IF(N23=N25,\"\",IF(N23<N25,J23,J25))","v":""},null,{"$f":"IF(Q50=\"\",\"Derrotado em (n)\",Q50)","v":"Derrotado em (n)"},null,null,null,{"$f":"IF(ISBLANK(R48),\"\",SUM(IF(R49>R48,1,0)+(IF(S49>S48,1,0)+(IF(T49>T48,1,0)))))","v":""},268]
[null,null,{"$f":"IF(C49=FALSE,\"Derrotado em (c)\",C49)","v":"Bye"},null,null,null,{"$f":"IF(ISBLANK(D50),\"\",SUM(IF(D50>D51,1,0)+(IF(E50>E51,1,0)+(IF(F50>F51,1,0)))))","v":""},{"$f":"IF(G19=G20,IF(C19=\"Bye\",C19,IF(C20=\"Bye\",C20)),(IF(ISBLANK(D19),\"\",IF(G19>G20,C20,C19))))","v":"Bye"},null,{"$f":"IF(J51=FALSE,\"\",J51)","v":"Bye"},null,null,null,{"$f":"IF(ISBLANK(K49),\"\",SUM(IF(K50>K49,1,0)+(IF(L50>L49,1,0)+(IF(M50>M49,1,0)))))","v":""},{"$f":"O44+1","v":151},null,{"$f":"IF(U14=U16,\"\",IF(U14<U16,Q14,Q16))","v":""}]
[null,null,{"$f":"IF(H50=FALSE,\"Derrotado em (d)\",H50)","v":"Bye"},null,null,null,{"$f":"IF(ISBLANK(D50),\"\",SUM(IF(D51>D50,1,0)+(IF(E51>E50,1,0)+(IF(F51>F50,1,0)))))","v":""},null,null,{"$f":"IF(G50=G51,IF(C50=\"Bye\",C51,IF(C51=\"Bye\",C50)),(IF(ISBLANK(D50),\"\",IF(G50>G51,C50,C51))))","v":"Bye"},null,null,null,null,null,null,"4º Classificado"]
[null,null,null,null,null,null,null,null,null,null,null,null,null,null,null,null,{"$f":"IF(V52=FALSE,\"\",V52)","v":""},null,null,null,{"$f":"IF(ISBLANK(R52),\"\",SUM(IF(R52>R53,1,0)+(IF(S52>S53,1,0)+(IF(T52>T53,1,0)))))","v":""},{"$f":"IF(U48=U49,\"\",IF(U48>U49,Q48,Q49))","v":""}]
[null,null,null,null,null,null,null,null,null,null,null,null,null,null,null,null,{"$f":"IF(Q54=FALSE,\"\",Q54)","v":""},null,null,null,{"$f":"IF(ISBLANK(R52),\"\",SUM(IF(R53>R52,1,0)+(IF(S53>S52,1,0)+(IF(T53>T52,1,0)))))","v":""},278]
[null,null,{"$f":"IF(H55=FALSE,\"Derrotado em (e)\",H55)","v":"Bye"},null,null,null,{"$f":"IF(ISBLANK(D54),\"\",SUM(IF(D54>D55,1,0)+(IF(E54>E55,1,0)+(IF(F54>F55,1,0)))))","v":""},null,null,null,null,null,null,null,null,null,{"$f":"IF(U56=U57,\"\",IF(U56>U57,Q56,Q57))","v":""}]
[null,null,{"$f":"IF(C56=FALSE,\"Derrotado em (f)\",C56)","v":"Bye"},null,null,null,{"$f":"IF(ISBLANK(D54),\"\",SUM(IF(D55>D54,1,0)+(IF(E55>E54,1,0)+(IF(F55>F54,1,0)))))","v":""},{"$f":"IF(G22=G23,IF(C22=\"Bye\",C22,IF(C23=\"Bye\",C23)),(IF(ISBLANK(D22),\"\",IF(G22>G23,C23,C22))))","v":"Bye"},null,{"$f":"IF(O56=FALSE,\"\",O56)","v":"Bye"},null,null,null,{"$f":"IF(ISBLANK(K55),\"\",SUM(IF(K55>K56,1,0)+(IF(L55>L56,1,0)+(IF(M55>M56,1,0)))))","v":""},{"$f":"O50+1","v":152},null,{"$f":"IF(U26=U28,\"\",IF(U26<U28,Q26,Q28))","v":""},{"$f":"IF(U59=U60,\"\",IF(U59>U60,Q59,Q60))","v":""}]
[null,null,{"$f":"IF(G25=G26,IF(C25=\"Bye\",C25,IF(C26=\"Bye\",C26)),(IF(ISBLANK(D25),\"\",IF(G25>G26,C26,C25))))","v":"Bye"},null,null,null,null,null,null,{"$f":"IF(J57=\"\",\"Derrotado em (j)\",J57)","v":"Derrotado em (j)"},null,null,null,{"$f":"IF(ISBLANK(K55),\"\",SUM(IF(K56>K55,1,0)+(IF(L56>L55,1,0)+(IF(M56>M55,1,0)))))","v":""},{"$f":"IF(G54=G55,IF(C54=\"Bye\",C55,IF(C55=\"Bye\",C54)),(IF(ISBLANK(D54),\"\",IF(G54>G55,C54,C55))))","v":"Bye"},null,{"$f":"IF(Q55=\"\",\"Derrotado em (o)\",Q55)","v":"Derrotado em (o)"},null,null,null,{"$f":"IF(ISBLANK(R56),\"\",SUM(IF(R56>R57,1,0)+(IF(S56>S57,1,0)+(IF(T56>T57,1,0)))))","v":""},269]
[null,null,null,null,null,null,null,null,null,{"$f":"IF(N17=N19,\"\",IF(N17<N19,J17,J19))","v":""},null,null,null,null,"(j)",null,{"$f":"IF(R55=FALSE,\"\",R55)","v":""},null,null,null,{"$f":"IF(ISBLANK(R56),\"\",SUM(IF(R57>R56,1,0)+(IF(S57>S56,1,0)+(IF(T57>T56,1,0)))))","v":""},"(t)"]
[null,null,null,null,null,null,null,null,null,null,null,null,null,null,null,null,{"$f":"IF(N55=N56,\"\",IF(N55>N56,J55,J56))","v":""}]
[null,null,null,null,null,null,null,null,null,null,null,null,null,null,null,null,{"$f":"IF(Q58=FALSE,\"\",Q58)","v":""},null,null,null,{"$f":"IF(ISBLANK(R59),\"\",SUM(IF(R59>R60,1,0)+(IF(S59>S60,1,0)+(IF(T59>T60,1,0)))))","v":""},"(r)"]
[null,null,null,null,null,null,null,null,null,{"$f":"IF(O60=\"\",\"Derrotado em (i)\",O60)","v":"Derrotado em (i)"},null,null,null,{"$f":"IF(ISBLANK(K60),\"\",SUM(IF(K60>K61,1,0)+(IF(L60>L61,1,0)+(IF(M60>M61,1,0)))))","v":""},{"$f":"IF(N11=N13,\"\",IF(N11<N13,J11,J13))","v":""},null,{"$f":"IF(Q61=FALSE,\"\",Q61)","v":""},null,null,null,{"$f":"IF(ISBLANK(R59),\"\",SUM(IF(R60>R59,1,0)+(IF(S60>S59,1,0)+(IF(T60>T59,1,0)))))","v":""},199]
[null,null,{"$f":"IF(H61=FALSE,\"Derrotado em (g)\",H61)","v":"Bye"},null,null,null,{"$f":"IF(ISBLANK(D61),\"\",SUM(IF(D61>D62,1,0)+(IF(E61>E62,1,0)+(IF(F61>F62,1,0)))))","v":""},{"$f":"IF(G28=G29,IF(C28=\"Bye\",C28,IF(C29=\"Bye\",C29)),(IF(ISBLANK(D28),\"\",IF(G28>G29,C29,C28))))","v":"Bye"},null,{"$f":"IF(J62=FALSE,\"\",J62)","v":"Derrotado em (h)"},null,null,null,{"$f":"IF(ISBLANK(K60),\"\",SUM(IF(K61>K60,1,0)+(IF(L61>L60,1,0)+(IF(M61>M60,1,0)))))","v":""},"(i)",null,{"$f":"IF(N60=N61,\"\",IF(N60>N61,J60,J61))","v":""}]
[null,null,{"$f":"IF(C63=FALSE,\"Derrotado em (h)\",C63)","v":"Derrotado em (h)"},null,null,null,{"$f":"IF(ISBLANK(D61),\"\",SUM(IF(D62>D61,1,0)+(IF(E62>E61,1,0)+(IF(F62>F61,1,0)))))","v":""},null,null,{"$f":"IF(G61=G62,IF(C61=\"Bye\",C62,IF(C62=\"Bye\",C61)),(IF(ISBLANK(D61),\"\",IF(G61>G62,C61,C62))))","v":"Derrotado em (h)"},null,null,null,null,{"$f":"O55+1","v":153}]
[null,null,{"$f":"IF(G31=G32,IF(C31=\"Bye\",C31,IF(C32=\"Bye\",C32)),(IF(ISBLANK(D31),\"\",IF(G31>G32,C32,C31))))","v":false}]
[]
[]
[null,"Lista de Participantes / Sorteio",null,null,{"$f":"B7","v":0},null,null,null,null,null,null,null,null,null,"Classificação"]
[null,"Nº","Nome (1º e último)","Escola",null,null,null,null,null,null,"Abv.*",null,null,null,"Cl."]
[5,1,{"$f":"IF(ISERROR(VLOOKUP(CELL(\"contents\",$A68),$B$89:$C$104,2,FALSE)),\"\",VLOOKUP(CELL(\"contents\",$A68),$B$89:$C$104,2,FALSE))","v":"bye"},{"$f":"IF(ISERROR(VLOOKUP(CELL(\"contents\",$A68),$B$89:$D$104,3,FALSE)),\"\",VLOOKUP(CELL(\"contents\",$A68),$B$89:$D$104,3,FALSE))","v":0},null,null,null,null,null,null,null,null,null,null,"1º",null,{"$f":"Q41","v":""}]
[13,2,"Ana Ferreira",{"$f":"IF(ISERROR(VLOOKUP(CELL(\"contents\",$A69),$B$89:$D$104,3,FALSE)),\"\",VLOOKUP(CELL(\"contents\",$A69),$B$89:$D$104,3,FALSE))","v":0},null,null,null,null,null,null,null,null,null,null,"2º",null,{"$f":"IF(Q68=Q34,Q35,Q34)","v":""}]
[4,3,"Dulce",0,null,null,null,null,null,null,null,null,null,null,"3º",null,{"$f":"IF(N36=N37,\"\",IF(N36>N37,J37,J36))","v":""}]
[15,4,"Patrícia Pedro",0,null,null,null,null,null,null,null,null,null,null,"4º",null,{"$f":"IF(U52=U53,\"\",IF(U52>U53,Q53,Q52))","v":""}]
[6,5,"Débora Mendonça",0,null,null,null,null,null,null,null,null,null,null,"5º",null,{"$f":"IF(G39=G40,\"\",IF(G39>G40,C39,C40))","v":""}]
[14,6,"bye",0,null,null,null,null,null,null,null,null,null,null,"6º",null,{"$f":"IF(G39=G40,\"\",IF(G39>G40,C40,C39))","v":""}]
[16,7,"bye",0,null,null,null,null,null,null,null,null,null,null,"7ºs",null,{"$f":"IF(G36=G37,\"\",IF(G36>G37,C36,C37))","v":""}]
[9,8,"Raquel Cebola",0,null,null,null,null,null,null,null,null,null,null,"8ºs",null,{"$f":"IF(G36=G37,\"\",IF(G36>G37,C37,C36))","v":""}]
[1,9,"Carina",0,null,null,null,null,null,null,null,null,null,null,"9ºs",null,{"$f":"IF(N44=N45,\"\",IF(N44>N45,J45,J44))","v":""}]
[12,10,"bye",0,null,null,null,null,null,null,null,null,null,null,"10ºs",null,{"$f":"IF(N49=N50,\"\",IF(N49>N50,J50,J49))","v":""}]
[3,11,"Letycia",0,null,null,null,null,null,null,null,null,null,null,"11ºs",null,{"$f":"IF(N55=N56,\"\",IF(N55>N56,J56,J55))","v":""}]
[8,12,"bye",0,null,null,null,null,null,null,null,null,null,null,"12ºs",null,{"$f":"IF(N60=N61,\"\",IF(N60>N61,J61,J60))","v":""}]
[11,13,"Daniela",0,null,null,null,null,null,null,null,null,null,null,"13ºs",null,{"$f":"IF(G43=G44,\"\",IF(G43>G44,C44,C43))","v":""}]
[2,14,"bye",0,null,null,null,null,null,null,null,null,null,null,"14ºs",null,{"$f":"IF(G50=G51,\"\",IF(G50>G51,C51,C50))","v":""}]
[10,15,"Adriana",0,null,null,null,null,null,null,null,null,null,null,"15ºs",null,{"$f":"IF(G54=G55,\"\",IF(G54>G55,C55,C54))","v":""}]
[7,16,"Emily Pedroso",0,null,null,null,null,null,null,null,null,null,null,"16ºs",null,{"$f":"IF(G61=G62,\"\",IF(G61>G62,C62,C61))","v":""}]
[]
[]
[]
[null,"Lista de Participantes"]
[null,"Nº","Nome (1º e último)","Escola",null,null,null,null,null,null,"Abv.*"]
[null,1,"Carina"]
[null,2,"bye"]
[null,3,"Letycia"]
[null,4,"Dulce"]
[null,5,"bye"]
[null,6,"Débora Mendonça"]
[null,7,"Emily Pedroso"]
[null,8,"bye"]
[null,9,"Raquel Cebola"]
[null,10,"Adriana"]
[null,11,"Daniela"]
[null,12,"bye"]
[null,13,"Ana Ferreira"]
[null,14,"bye"]
[null,15,"Patrícia Pedro"]
[null,16,"bye"]

{"sheet":"5","index":7,"n_rows":86,"n_cols":88,"rows_kept":86,"cut":false,"hidden":true,"merged":[[1,73,1,83],[12,74,13,76],[23,57,23,59],[2,12,2,41],[3,13,5,41],[10,8,10,26],[2,82,2,83],[9,74,10,76],[6,39,7,54],[8,34,9,54],[0,11,1,42],[6,0,7,28],[23,1,23,2],[23,3,23,7],[10,1,10,6],[17,14,17,15],[17,16,17,40],[18,14,18,15],[18,16,18,40],[14,14,14,40],[15,14,15,15],[15,16,15,40],[16,14,16,15],[16,16,16,40],[23,45,23,47],[23,48,23,52],[23,53,23,54],[25,53,25,54],[19,14,19,15],[19,16,19,40],[24,8,24,22],[23,8,23,38],[26,53,26,54],[24,51,24,52],[24,53,24,54],[26,51,26,52],[25,48,25,49],[25,51,25,52],[24,48,24,49],[23,39,23,41],[24,24,24,38],[26,8,26,22],[26,24,26,38],[23,42,23,44],[24,1,24,2],[33,8,33,22],[33,24,33,38],[31,8,31,22],[31,24,31,38],[32,8,32,22],[32,24,32,38],[29,1,29,2],[29,3,29,7],[29,8,29,22],[29,24,29,38],[24,3,24,7],[30,48,30,49],[28,51,28,52],[29,48,29,49],[25,1,25,2],[25,3,25,7],[25,8,25,22],[25,24,25,38],[26,1,26,2],[26,3,26,7],[28,1,28,2],[30,1,30,2],[30,3,30,7],[30,8,30,22],[30,24,30,38],[27,48,27,49],[26,48,26,49],[28,3,28,7],[28,48,28,49],[28,8,28,22],[28,24,28,38],[27,1,27,2],[27,3,27,7],[27,8,27,22],[27,24,27,38],[27,53,27,54],[31,51,31,52],[31,53,31,54],[30,53,30,54],[28,53,28,54],[29,53,29,54],[30,51,30,52],[29,51,29,52],[27,51,27,52],[38,51,38,53],[38,40,38,41],[38,43,38,44],[42,51,42,53],[39,45,39,47],[39,51,39,53],[39,43,39,44],[31,48,31,49],[32,1,32,2],[32,3,32,7],[37,51,37,53],[37,40,37,44],[37,45,37,47],[35,51,36,53],[33,48,33,49],[33,51,33,52],[32,53,32,54],[32,48,32,49],[33,53,33,54],[32,51,32,52],[31,1,31,2],[31,3,31,7],[33,1,33,2],[33,3,33,7],[37,37,37,39],[39,40,39,41],[38,8,38,9],[38,10,38,33],[38,34,38,36],[39,8,39,9],[39,10,39,33],[38,37,38,39],[38,45,38,47],[39,37,39,39],[42,8,42,9],[42,10,42,33],[41,8,41,9],[41,10,41,33],[40,8,40,9],[40,10,40,33],[37,8,37,9],[37,10,37,33],[37,34,37,36],[39,34,39,36],[40,40,40,41],[40,43,40,44],[40,51,40,53],[41,45,41,47],[40,34,40,36],[40,37,40,39],[40,45,40,47],[42,34,42,36],[42,37,42,39],[41,40,41,41],[41,43,41,44],[41,51,41,53],[41,34,41,36],[42,43,42,44],[41,37,41,39],[42,40,42,41],[42,45,42,47]]}
[null,null,null,null,null,null,null,null,null,null,null,"Direcção Regional de Educação do Algarve"]
[null,null,null,null,null,null,null,null,null,null,null,null,null,null,null,null,null,null,null,null,null,null,null,null,null,null,null,null,null,null,null,null,null,null,null,null,null,null,null,null,null,null,null,null,null,null,null,null,null,null,null,null,null,null,null,null,null,null,null,null,null,null,null,null,null,null,null,null,null,null,null,null,null,"Lista de Participantes"]
[null,null,null,null,null,null,null,null,null,null,null,null,{"$f":"\"Ano Lectivo \"&Apoio!F10","v":"Ano Lectivo 2017/2018"},null,null,null,null,null,null,null,null,null,null,null,null,null,null,null,null,null,null,null,null,null,null,null,null,null,null,null,null,null,null,null,null,null,null,null,null,null,null,null,null,null,null,null,null,null,null,null,null,null,null,null,null,null,null,null,null,null,null,null,null,"Ordem","Nº","Nome (1º e último)","Escola","Abv.","Ano Nasc.","Escalão","Sexo","Observações","Insc. Prova",null,"Pontos Rank"]
[null,null,null,null,null,null,null,null,null,null,null,null,null,"Badminton",null,null,null,null,null,null,null,null,null,null,null,null,null,null,null,null,null,null,null,null,null,null,null,null,null,null,null,null,null,null,null,null,null,null,null,null,null,null,null,null,null,null,null,null,null,null,null,null,null,null,null,null,null,null,null,null,null,null,null,1,null,null,null,null,null,null,null,null,null,null,{"$f":"IF(BX4=\"\",\"\",VLOOKUP(CH4,$CI$4:$CJ$8,2,FALSE))","v":""},{"$f":"BX4&\" (\"&BZ4&\")\"","v":" ()"},{"$f":"K39","v":""},{"$f":"AZ39","v":12}]
[null,null,null,null,null,null,null,null,null,null,null,null,null,null,null,null,null,null,null,null,null,null,null,null,null,null,null,null,null,null,null,null,null,null,null,null,null,null,null,null,null,null,null,null,null,null,null,null,null,null,null,null,null,null,null,null,null,null,null,null,null,null,null,null,null,null,null,null,null,null,null,null,null,2,null,null,null,null,null,null,null,null,null,null,{"$f":"IF(BX5=\"\",\"\",VLOOKUP(CH5,$CI$4:$CJ$8,2,FALSE))","v":""},{"$f":"BX5&\" (\"&BZ5&\")\"","v":" ()"},{"$f":"K40","v":""},{"$f":"AZ40","v":10}]
[null,null,null,null,null,null,null,null,null,null,null,null,null,null,null,null,null,null,null,null,null,null,null,null,null,null,null,null,null,null,null,null,null,null,null,null,null,null,null,null,null,null,null,null,null,null,null,null,null,null,null,null,null,null,null,null,null,null,null,null,null,null,null,null,null,null,null,null,null,null,null,null,null,3,null,null,null,null,null,null,null,null,null,null,{"$f":"IF(BX6=\"\",\"\",VLOOKUP(CH6,$CI$4:$CJ$8,2,FALSE))","v":""},{"$f":"BX6&\" (\"&BZ6&\")\"","v":" ()"},{"$f":"K41","v":""},{"$f":"AZ41","v":8}]
[{"$f":"\"Escola: \"&'Ficha de Inscrição'!$D$4","v":"Escola: ACav.Silva"},null,null,null,null,null,null,null,null,null,null,null,null,null,null,null,null,null,null,null,null,null,null,null,null,null,null,null,null,null,null,null,null,null,null,null,null,null,null,{"$f":"'Ficha de Inscrição'!$A$5","v":"Torneio Nº 4"},null,null,null,null,null,null,null,null,null,null,null,null,null,null,null,null,null,null,null,null,null,null,null,null,null,null,null,null,null,null,null,null,null,4,null,null,null,null,null,null,null,null,null,null,{"$f":"IF(BX7=\"\",\"\",VLOOKUP(CH7,$CI$4:$CJ$8,2,FALSE))","v":""},{"$f":"BX7&\" (\"&BZ7&\")\"","v":" ()"},{"$f":"K42","v":""},{"$f":"AZ42","v":6}]
[null,null,null,null,null,null,null,null,null,null,null,null,null,null,null,null,null,null,null,null,null,null,null,null,null,null,null,null,null,null,null,null,null,null,null,null,null,null,null,null,null,null,null,null,null,null,null,null,null,null,null,null,null,null,null,null,null,null,null,null,null,null,null,null,null,null,null,null,null,null,null,null,null,5,null,null,null,null,null,null,null,null,null,null,{"$f":"IF(BX8=\"\",\"\",VLOOKUP(CH8,$CI$4:$CJ$8,2,FALSE))","v":""},{"$f":"BX8&\" (\"&BZ8&\")\"","v":" ()"},{"$f":"K43","v":""},{"$f":"AZ43","v":4}]
[null,null,null,null,null,null,null,null,null,null,null,null,null,null,null,null,null,null,null,null,null,null,null,null,null,null,null,null,null,null,null,null,null,null,{"$f":"'Ficha de Inscrição'!$J$4","v":"2018-01-17"}]
[null,null,null,null,null,null,null,null,null,null,null,null,null,null,null,null,null,null,null,null,null,null,null,null,null,null,null,null,null,null,null,null,null,null,null,null,null,null,null,null,null,null,null,null,null,null,null,null,null,null,null,null,null,null,null,null,null,null,null,null,null,null,null,null,null,null,null,null,null,null,null,null,null,null,"Se pretender efectuar altrerações apague, e volte a introduzir os jogadores que pretender nos espaços disponíveis."]
[null,"SS-InfB",null,null,null,null,null,null,{"$f":"LOOKUP(B11,Apoio!N9:N39,Apoio!O9:O39)","v":"Singulares Senhoras - Infantis B"}]
[]
[null,"I. Lista de Participantes",null,null,null,null,null,null,null,null,null,null,null,null,null,null,null,null,null,null,null,null,null,null,null,null,null,null,null,null,null,null,null,null,null,null,null,null,null,null,null,null,null,null,null,null,null,null,null,null,null,null,null,null,null,null,null,null,null,null,null,null,null,null,null,null,null,null,null,null,null,null,null,null,"Para efectuar alterações à de colocações nos grupos dos jogadores, altere a coluna \"ORDEM\" dando uma nova ordem de nºs e depois clique em Ordenar."]
[]
[null,null,null,null,null,null,null,null,null,null,null,null,null,null,"Participantes"]
[null,null,null,null,null,null,null,null,null,null,null,null,null,null,"1.",null,{"$f":"IF(BX4=\"\",\"\",CONCATENATE(BX4,\" \",\"(\",BZ4,\")\"))","v":""}]
[null,null,null,null,null,null,null,null,null,null,null,null,null,null,"2.",null,{"$f":"IF(BX5=\"\",\"\",CONCATENATE(BX5,\" \",\"(\",BZ5,\")\"))","v":""}]
[null,null,null,null,null,null,null,null,null,null,null,null,null,null,"3.",null,{"$f":"IF(BX6=\"\",\"\",CONCATENATE(BX6,\" \",\"(\",BZ6,\")\"))","v":""}]
[null,null,null,null,null,null,null,null,null,null,null,null,null,null,"4.",null,{"$f":"IF(BX7=\"\",\"\",CONCATENATE(BX7,\" \",\"(\",BZ7,\")\"))","v":""}]
[null,null,null,null,null,null,null,null,null,null,null,null,null,null,"5.",null,{"$f":"IF(BX8=\"\",\"\",CONCATENATE(BX8,\" \",\"(\",BZ8,\")\"))","v":""}]
[]
[null,"II. Calendário de Jogos"]
[]
[null,"Nr.",null,"Nº Jogo",null,null,null,null,"Calendário",null,null,null,null,null,null,null,null,null,null,null,null,null,null,null,null,null,null,null,null,null,null,null,null,null,null,null,null,null,null,"1º Set",null,null,"2º Set",null,null,"3º Set",null,null,"Resultado",null,null,null,null,null,null,null,null,"Pontos"]
[null,1,null,{"$f":"CONCATENATE($B$11,\" \",B25)","v":"SS-InfB 1"},null,null,null,null,{"$f":"$Q$16","v":""},null,null,null,null,null,null,null,null,null,null,null,null,null,null,"vs",{"$f":"$Q$17","v":""},null,null,null,null,null,null,null,null,null,null,null,null,null,null,null,"-",null,null,"-",null,null,"-",null,{"$f":"IF(ISBLANK(AN25),\"0\",SUM(IF(AN25>AP25,1,0)+(IF(AQ25>AS25,1,0)+(IF(AT25>AV25,1,0)))))","v":"0"},null,":",{"$f":"IF(ISBLANK(AN25),\"0\",SUM(IF(AN25<AP25,1,0)+(IF(AQ25<AS25,1,0)+(IF(AT25<AV25,1,0)))))","v":"0"},null,null,null,null,null,{"$f":"IF(ISBLANK(AW25),\"0\",IF(AW25>AZ25,2,IF(AW25=AZ25,0,1)))","v":0},":",{"$f":"IF(ISBLANK(AZ25),\"0\",IF(AZ25>AW25,2,IF(AZ25=AW25,0,1)))","v":0}]
[null,2,null,"SS-InfB 2",null,null,null,null,{"$f":"$Q$18","v":""},null,null,null,null,null,null,null,null,null,null,null,null,null,null,"vs",{"$f":"$Q$19","v":""},null,null,null,null,null,null,null,null,null,null,null,null,null,null,null,"-",null,null,"-",null,null,"-",null,"0",null,":","0",null,null,null,null,null,0,":",0]
[null,3,null,"SS-InfB 3",null,null,null,null,{"$f":"$Q$16","v":""},null,null,null,null,null,null,null,null,null,null,null,null,null,null,"vs",{"$f":"$Q$18","v":""},null,null,null,null,null,null,null,null,null,null,null,null,null,null,null,"-",null,null,"-",null,null,"-",null,"0",null,":","0",null,null,null,null,null,0,":",0]
[null,4,null,"SS-InfB 4",null,null,null,null,{"$f":"$Q$17","v":""},null,null,null,null,null,null,null,null,null,null,null,null,null,null,"vs",{"$f":"$Q$20","v":""},null,null,null,null,null,null,null,null,null,null,null,null,null,null,null,"-",null,null,"-",null,null,"-",null,"0",null,":","0",null,null,null,null,null,0,":",0]
[null,5,null,"SS-InfB 5",null,null,null,null,{"$f":"$Q$20","v":""},null,null,null,null,null,null,null,null,null,null,null,null,null,null,"vs",{"$f":"$Q$16","v":""},null,null,null,null,null,null,null,null,null,null,null,null,null,null,null,"-",null,null,"-",null,null,"-",null,"0",null,":","0",null,null,null,null,null,0,":",0]
[null,6,null,"SS-InfB 6",null,null,null,null,{"$f":"$Q$17","v":""},null,null,null,null,null,null,null,null,null,null,null,null,null,null,"vs",{"$f":"$Q$19","v":""},null,null,null,null,null,null,null,null,null,null,null,null,null,null,null,"-",null,null,"-",null,null,"-",null,"0",null,":","0",null,null,null,null,null,0,":",0]
[null,7,null,"SS-InfB 7",null,null,null,null,{"$f":"$Q$16","v":""},null,null,null,null,null,null,null,null,null,null,null,null,null,null,"vs",{"$f":"$Q$19","v":""},null,null,null,null,null,null,null,null,null,null,null,null,null,null,null,"-",null,null,"-",null,null,"-",null,"0",null,":","0",null,null,null,null,null,0,":",0]
[null,8,null,"SS-InfB 8",null,null,null,null,{"$f":"$Q$18","v":""},null,null,null,null,null,null,null,null,null,null,null,null,null,null,"vs",{"$f":"$Q$20","v":""},null,null,null,null,null,null,null,null,null,null,null,null,null,null,null,"-",null,null,"-",null,null,"-",null,"0",null,":","0",null,null,null,null,null,0,":",0]
[null,9,null,"SS-InfB 9",null,null,null,null,{"$f":"$Q$17","v":""},null,null,null,null,null,null,null,null,null,null,null,null,null,null,"vs",{"$f":"$Q$18","v":""},null,null,null,null,null,null,null,null,null,null,null,null,null,null,null,"-",null,null,"-",null,null,"-",null,"0",null,":","0",null,null,null,null,null,0,":",0]
[null,10,null,"SS-InfB 10",null,null,null,null,{"$f":"$Q$19","v":""},null,null,null,null,null,null,null,null,null,null,null,null,null,null,"vs",{"$f":"$Q$20","v":""},null,null,null,null,null,null,null,null,null,null,null,null,null,null,null,"-",null,null,"-",null,null,"-",null,"0",null,":","0",null,null,null,null,null,0,":",0]
[]
[null,null,"III. Classificação",null,null,null,null,null,null,null,null,null,null,null,null,null,null,null,null,null,null,null,null,null,null,null,null,null,null,null,null,null,null,null,null,null,null,null,null,null,null,null,null,null,null,null,null,null,null,null,null,"Rank"]
[]
[null,null,null,null,null,null,null,null,null,null,"Classificação",null,null,null,null,null,null,null,null,null,null,null,null,null,null,null,null,null,null,null,null,null,null,null,"Jogos",null,null,"Pont.",null,null,"Set's",null,null,null,null,"Dif.",null,null,null,null,null,"Pts",null,null,null,null,null,null,null,null,null,null,null,null,null,"J","Pts","M",null,"S","Dif"]
[null,null,null,null,null,null,null,null,{"$f":"I38+1","v":1},null,{"$f":"VLOOKUP($I39,$BL$39:$BS$43,2,FALSE)","v":""},null,null,null,null,null,null,null,null,null,null,null,null,null,null,null,null,null,null,null,null,null,null,null,{"$f":"VLOOKUP($I39,$BL$39:$BS$43,3,FALSE)","v":0},null,null,{"$f":"VLOOKUP($I39,$BL$39:$BS$43,4,FALSE)","v":0},null,null,{"$f":"VLOOKUP($I39,$BL$39:$BS$43,5,FALSE)","v":0},null,":",{"$f":"VLOOKUP($I39,$BL$39:$BS$43,7,FALSE)","v":0},null,{"$f":"VLOOKUP($I39,$BL$39:$BS$43,8,FALSE)","v":0},null,null,null,null,null,12,null,null,null,null,null,null,null,null,null,null,null,{"$f":"COUNTIF($BT$39:$BT$43,CONCATENATE(\">=\",BT39))","v":1},{"$f":"Q17","v":""},{"$f":"COUNT($AZ$25,$AW$28,$AW$30,$AW$33)","v":0},{"$f":"SUM($BH$25+$BF$28+$BF$30+$BF$33)","v":0},{"$f":"SUM($AZ$25+$AW$28+$AW$30+$AW$33)","v":0},":",{"$f":"SUM($AW$25+$AZ$28+$AZ$30+$AZ$33)","v":0},{"$f":"SUM(BP39-BR39)","v":0},{"$f":"BO39*1000000+(BP39-BR39)*10000+BP39*100+BU39","v":5},5]
[null,null,null,null,null,null,null,null,{"$f":"I39+1","v":2},null,{"$f":"VLOOKUP($I40,$BL$39:$BS$43,2,FALSE)","v":""},null,null,null,null,null,null,null,null,null,null,null,null,null,null,null,null,null,null,null,null,null,null,null,{"$f":"VLOOKUP($I40,$BL$39:$BS$43,3,FALSE)","v":0},null,null,{"$f":"VLOOKUP($I40,$BL$39:$BS$43,4,FALSE)","v":0},null,null,{"$f":"VLOOKUP($I40,$BL$39:$BS$43,5,FALSE)","v":0},null,":",{"$f":"VLOOKUP($I40,$BL$39:$BS$43,7,FALSE)","v":0},null,{"$f":"VLOOKUP($I40,$BL$39:$BS$43,8,FALSE)","v":0},null,null,null,null,null,10,null,null,null,null,null,null,null,null,null,null,null,{"$f":"COUNTIF($BT$39:$BT$43,CONCATENATE(\">=\",BT40))","v":2},{"$f":"$Q$18","v":""},{"$f":"COUNT($AW$26,$AZ$27,$AW$32,$AZ$33)","v":0},{"$f":"SUM($BF$26+$BH$27+$BF$32+$BH$33)","v":0},{"$f":"SUM($AW$26+$AZ$27+$AW$32+$AZ$33)","v":0},":",{"$f":"SUM($AZ$26+$AW$27+$AZ$32+$AW$33)","v":0},{"$f":"SUM(BP40-BR40)","v":0},{"$f":"BO40*1000000+(BP40-BR40)*10000+BP40*100+BU40","v":4},4]
[null,null,null,null,null,null,null,null,{"$f":"I40+1","v":3},null,{"$f":"VLOOKUP($I41,$BL$39:$BS$43,2,FALSE)","v":""},null,null,null,null,null,null,null,null,null,null,null,null,null,null,null,null,null,null,null,null,null,null,null,{"$f":"VLOOKUP($I41,$BL$39:$BS$43,3,FALSE)","v":0},null,null,{"$f":"VLOOKUP($I41,$BL$39:$BS$43,4,FALSE)","v":0},null,null,{"$f":"VLOOKUP($I41,$BL$39:$BS$43,5,FALSE)","v":0},null,":",{"$f":"VLOOKUP($I41,$BL$39:$BS$43,7,FALSE)","v":0},null,{"$f":"VLOOKUP($I41,$BL$39:$BS$43,8,FALSE)","v":0},null,null,null,null,null,8,null,null,null,null,null,null,null,null,null,null,null,{"$f":"COUNTIF($BT$39:$BT$43,CONCATENATE(\">=\",BT41))","v":3},{"$f":"$Q$19","v":""},{"$f":"COUNT($AZ$26,$AZ$30,$AZ$31,$AW$34)","v":0},{"$f":"SUM($BH$26+$BH$30+$BH$31+$BF$34)","v":0},{"$f":"SUM($AZ$26+$AZ$30+$AZ$31+$AW$34)","v":0},":",{"$f":"SUM($AW$26+$AW$30+$AW$31+$AZ$34)","v":0},{"$f":"SUM(BP41-BR41)","v":0},{"$f":"BO41*1000000+(BP41-BR41)*10000+BP41*100+BU41","v":3},3]
[null,null,null,null,null,null,null,null,{"$f":"I41+1","v":4},null,{"$f":"VLOOKUP($I42,$BL$39:$BS$43,2,FALSE)","v":""},null,null,null,null,null,null,null,null,null,null,null,null,null,null,null,null,null,null,null,null,null,null,null,{"$f":"VLOOKUP($I42,$BL$39:$BS$43,3,FALSE)","v":0},null,null,{"$f":"VLOOKUP($I42,$BL$39:$BS$43,4,FALSE)","v":0},null,null,{"$f":"VLOOKUP($I42,$BL$39:$BS$43,5,FALSE)","v":0},null,":",{"$f":"VLOOKUP($I42,$BL$39:$BS$43,7,FALSE)","v":0},null,{"$f":"VLOOKUP($I42,$BL$39:$BS$43,8,FALSE)","v":0},null,null,null,null,null,6,null,null,null,null,null,null,null,null,null,null,null,{"$f":"COUNTIF($BT$39:$BT$43,CONCATENATE(\">=\",BT42))","v":4},{"$f":"$Q$16","v":""},{"$f":"COUNT($AW$25,$AW$27,$AZ$29,$AW$31)","v":0},{"$f":"SUM($BF$25+$BF$27+$BH$29+$BF$31)","v":0},{"$f":"SUM($AW$25+$AW$27+$AZ$29+$AW$31)","v":0},":",{"$f":"SUM($AZ$25+$AZ$27+$AW$29+$AZ$31)","v":0},{"$f":"SUM(BP42-BR42)","v":0},{"$f":"BO42*1000000+(BP42-BR42)*10000+BP42*100+BU42","v":2},2]
[null,null,null,null,null,null,null,null,{"$f":"I42+1","v":5},null,{"$f":"VLOOKUP($I43,$BL$39:$BS$43,2,FALSE)","v":""},null,null,null,null,null,null,null,null,null,null,null,null,null,null,null,null,null,null,null,null,null,null,null,{"$f":"VLOOKUP($I43,$BL$39:$BS$43,3,FALSE)","v":0},null,null,{"$f":"VLOOKUP($I43,$BL$39:$BS$43,4,FALSE)","v":0},null,null,{"$f":"VLOOKUP($I43,$BL$39:$BS$43,5,FALSE)","v":0},null,":",{"$f":"VLOOKUP($I43,$BL$39:$BS$43,7,FALSE)","v":0},null,{"$f":"VLOOKUP($I43,$BL$39:$BS$43,8,FALSE)","v":0},null,null,null,null,null,4,null,null,null,null,null,null,null,null,null,null,null,{"$f":"COUNTIF($BT$39:$BT$43,CONCATENATE(\">=\",BT43))","v":5},{"$f":"$Q$20","v":""},{"$f":"COUNT($AZ$28,$AW$29,$AZ$32,$AZ$34)","v":0},{"$f":"SUM($BH$28+$BF$29+$BH$32+$BH$34)","v":0},{"$f":"SUM($AZ$28+$AW$29+$AZ$32+$AZ$34)","v":0},":",{"$f":"SUM(+$AW$28+$AZ$29+$AW$32+$AW$34)","v":0},{"$f":"SUM(BP43-BR43)","v":0},{"$f":"BO43*1000000+(BP43-BR43)*10000+BP43*100+BU43","v":1},1]
[]
[]
[]
[]
[]
[]
[]
[]
[]
["ABV","Nome",null,null,null,null,null,null,null,null,null,null,null,null,null,null,null,null,null,"Lista "]
["EM-Juv","Equipas Mistas - Juvenis",null,null,null,null,null,null,null,null,null,null,null,null,null,null,null,null,null,0]
["PH-InfA","Pares Homens - Infantis A",null,null,null,null,null,null,null,null,null,null,null,null,null,null,null,null,null,1]
["PH-InfB","Pares Homens - Infantis B",null,null,null,null,null,null,null,null,null,null,null,null,null,null,null,null,null,2]
["PH-Ini","Pares Homens - Iniciados",null,null,null,null,null,null,null,null,null,null,null,null,null,null,null,null,null,3]
["PH-Jun","Pares Homens - Juniores",null,null,null,null,null,null,null,null,null,null,null,null,null,null,null,null,null,4]
["PH-Juv","Pares Homens - Juvenis",null,null,null,null,null,null,null,null,null,null,null,null,null,null,null,null,null,5]
["PM-Ini","Pares Mistos - Iniciados",null,null,null,null,null,null,null,null,null,null,null,null,null,null,null,null,null,6]
["PS-InfA","Pares Senhoras - Infantis A",null,null,null,null,null,null,null,null,null,null,null,null,null,null,null,null,null,7]
["PS-InfB","Pares Senhoras - Infantis B",null,null,null,null,null,null,null,null,null,null,null,null,null,null,null,null,null,8]
["PS-Ini","Pares Senhoras - Iniciados",null,null,null,null,null,null,null,null,null,null,null,null,null,null,null,null,null,9]
["PS-Jun","Pares Senhoras - Juniores",null,null,null,null,null,null,null,null,null,null,null,null,null,null,null,null,null,10]
["PS-Juv","Pares Senhoras - Juvenis",null,null,null,null,null,null,null,null,null,null,null,null,null,null,null,null,null,11]
["SH-InfA","Singulares Homens - Infantis A",null,null,null,null,null,null,null,null,null,null,null,null,null,null,null,null,null,12]
["SH-InfB","Singulares Homens - Infantis B",null,null,null,null,null,null,null,null,null,null,null,null,null,null,null,null,null,13]
["SH-Ini","Singulares Homens - Iniciados",null,null,null,null,null,null,null,null,null,null,null,null,null,null,null,null,null,14]
["SH-Jun","Singulares Homens - Juniores",null,null,null,null,null,null,null,null,null,null,null,null,null,null,null,null,null,15]
["SH-Juv","Singulares Homens - Juvenis",null,null,null,null,null,null,null,null,null,null,null,null,null,null,null,null,null,16]
["SS-InfA","Singulares Senhoras - Infantis A",null,null,null,null,null,null,null,null,null,null,null,null,null,null,null,null,null,17]
["SS-InfB","Singulares Senhoras - Infantis B",null,null,null,null,null,null,null,null,null,null,null,null,null,null,null,null,null,18]
["SS-Ini","Singulares Senhoras - Iniciados",null,null,null,null,null,null,null,null,null,null,null,null,null,null,null,null,null,19]
["SS-Jun","Singulares Senhoras - Juniores",null,null,null,null,null,null,null,null,null,null,null,null,null,null,null,null,null,20]
["SS-Juv","Singulares Senhoras - Juvenis",null,null,null,null,null,null,null,null,null,null,null,null,null,null,null,null,null,21]
[null,null,null,null,null,null,null,null,null,null,null,null,null,null,null,null,null,null,null,22]
[null,null,null,null,null,null,null,null,null,null,null,null,null,null,null,null,null,null,null,23]
[null,null,null,null,null,null,null,null,null,null,null,null,null,null,null,null,null,null,null,24]
[null,null,null,null,null,null,null,null,null,null,null,null,null,null,null,null,null,null,null,25]
[null,null,null,null,null,null,null,null,null,null,null,null,null,null,null,null,null,null,null,26]
[null,null,null,null,null,null,null,null,null,null,null,null,null,null,null,null,null,null,null,27]
[null,null,null,null,null,null,null,null,null,null,null,null,null,null,null,null,null,null,null,28]
[null,null,null,null,null,null,null,null,null,null,null,null,null,null,null,null,null,null,null,29]
[null,null,null,null,null,null,null,null,null,null,null,null,null,null,null,null,null,null,null,30]
[null,null,null,null,null,null,null,null,null,null,null,null,null,null,null,null,null,null,null,"fc"]
[null,null,null,null,null,null,null,null,null,null,null,null,null,null,null,null,null,null,null,"v"]

{"sheet":"SS-InfA","index":8,"n_rows":103,"n_cols":120,"rows_kept":103,"cut":false,"hidden":false,"merged":[[3,0,3,1],[3,2,3,7],[3,8,3,12],[3,15,3,22],[3,23,3,32],[0,14,2,28],[0,38,0,43],[1,5,1,11],[1,107,1,117],[2,116,2,117],[4,3,4,5],[4,9,4,11],[8,0,14,0],[9,16,9,19],[11,111,18,115],[12,108,13,110],[15,23,15,26],[15,29,15,33],[15,108,16,110],[16,29,17,33],[18,15,18,19],[19,0,25,0],[19,15,20,19],[22,16,22,19],[30,1,31,10],[31,27,31,28],[31,23,31,25],[32,1,33,4],[32,7,33,10],[32,23,32,25],[32,27,32,28],[33,23,33,25],[33,27,33,28],[34,3,34,4],[34,9,34,10],[34,23,34,25],[34,27,34,28],[35,3,35,4],[35,9,35,10],[35,23,35,25],[35,27,35,28],[36,3,36,4],[36,9,36,10],[36,23,36,25],[36,27,36,28],[37,3,37,4],[37,9,37,10],[37,23,37,25],[37,27,37,28],[38,3,38,4],[38,9,38,10],[38,23,38,25],[38,27,38,28],[39,23,39,25],[39,27,39,28]]}
[null,null,null,"Direcção Regional de Educação do Algarve",null,null,null,null,null,null,null,null,null,null,"Badminton",null,null,null,null,null,null,null,null,null,null,null,null,null,null,null,null,null,null,null,null,null,null,null,{"$f":"$C$4","v":"Singulares Senhoras - Infantis A"},null,null,null,null,null,null,null,null,null,null,null,null,null,null,null,null,null,null,null,null,null,null,null,null,null,null,null,null,null,null,null,null,null,null,null,null,null,null,null,null,null,null,null,null,null,null,null,null,null,null,null,null,null,null,null,null,null,null,null,null,null,null,null,null,null,null,null,"ERRO de prenchimento da Lista de participantes"]
[null,null,null,null,null,{"$f":"\"Ano Lectivo \"&Apoio!F10","v":"Ano Lectivo 2017/2018"},null,null,null,null,null,null,null,null,null,null,null,null,null,null,null,null,null,null,null,null,null,null,null,null,null,null,null,null,null,null,null,null,null,null,null,null,null,null,null,null,null,null,null,null,null,null,null,null,null,null,null,null,null,null,null,null,null,null,null,null,null,null,null,null,null,null,null,null,null,null,null,null,null,null,null,null,null,null,null,null,null,null,null,null,null,null,null,null,null,null,null,null,null,null,null,null,null,null,null,null,{"$f":"SUM(DC4:DC11)","v":0},{"$f":"IF(DC2>0,\"ERRO DE PREENCHIMENTO\",\"Lista de Participantes\")","v":"Lista de Participantes"}]
[null,null,null,null,null,null,null,null,null,null,null,null,null,null,null,null,null,null,null,null,null,null,null,null,null,null,null,null,null,null,null,null,null,null,null,null,null,null,null,null,null,null,null,null,null,null,null,null,null,null,null,null,null,null,null,null,null,null,null,null,null,null,null,null,null,null,null,null,null,null,null,null,null,null,null,null,null,null,null,null,null,null,null,null,null,null,null,null,null,null,null,null,null,null,null,null,null,null,null,null,null,null,null,null,null,null,{"$f":"SUM(DC4:DC11)","v":0},"Ordem","Nº","Nome (1º e último)","Escola","Abv.","Ano Nasc.","Escalão","Sexo","Observações","Insc. Prova",null,"Pontos Rank"]
["SS-InfA",null,{"$f":"LOOKUP(A4,Apoio!N9:N39,Apoio!O9:O39)","v":"Singulares Senhoras - Infantis A"},null,null,null,null,null,{"$f":"'Ficha de Inscrição'!$A$5","v":"Torneio Nº 4"},null,null,null,null,null,null,{"$f":"\"Escola: \"&'Ficha de Inscrição'!$D$4","v":"Escola: ACav.Silva"},null,null,null,null,null,null,null,{"$f":"'Ficha de Inscrição'!$J$4","v":"2018-01-17"},null,null,null,null,null,null,null,null,null,null,null,null,null,null,null,null,null,null,null,null,null,null,null,null,null,null,null,null,null,null,null,null,null,null,null,null,null,null,null,null,null,null,null,null,null,null,null,null,null,null,null,null,null,null,null,null,null,null,null,null,null,null,null,null,null,null,null,null,null,null,null,null,null,null,null,null,null,null,null,null,null,null,{"$f":"IF(ISBLANK(DF4),COUNTA(DF5:$DG$11),0)","v":0},1,null,"Laura Grade","ACav.Silva","ACV",2007,"Infantis A","F",null,"SS",null,null,{"$f":"DF4&\" (\"&DH4&\")\"","v":"Laura Grade (ACV)"}]
[null,"1ª FASE",null,"Set's",null,null,null,null,null,"Set's",null,null,null,null,null,"2ª FASE",null,null,null,null,null,null,null,null,null,null,null,null,null,null,null,null,null,null,null,null,null,null,"Classificação 1ª Fase",null,null,null,null,null,null,null,null,null,null,null,null,null,null,null,null,null,null,null,null,null,null,null,null,null,null,null,null,null,null,null,null,null,null,null,null,null,null,null,null,null,null,null,null,null,null,null,null,null,null,null,null,null,null,null,null,null,null,null,null,null,null,null,null,null,null,null,{"$f":"IF(ISBLANK(DF5),COUNTA(DF6:$DG$11),0)","v":0},2,null,"Jessica Rochefort","DPacheco","DP",2007,"Infantis A","F",null,"SS",null,null,{"$f":"DF5&\" (\"&DH5&\")\"","v":"Jessica Rochefort (DP)"}]
[null,null,null,null,null,null,null,null,null,null,null,null,null,null,null,"1/2 Final",null,null,null,null,null,null,"Final",null,null,null,null,null,null,null,null,null,null,null,null,null,null,null,null,null,null,null,null,null,null,null,null,null,null,null,"Colocar Equipas",null,null,null,null,null,null,null,null,"Ordenar p/ Pts 1",null,"Ordenar p/ Pts 2",null,"Ordenar p/ Pts 3",null,null,"Ordenar p/ DG 1",null,null,"Ordenar p/ DG 2",null,null,"Ordenar p/ DG 3",null,null,null,"Ordenar p/ GM 1",null,null,null,"Ordenar p/ GM 2",null,null,null,"Ordenar p/ GM 3",null,null,null,null,null,null,null,null,null,null,null,null,null,null,null,null,null,"Vencedores","Derrotados",null,null,{"$f":"IF(ISBLANK(DF6),COUNTA(DF7:$DG$11),0)","v":0},3,null,"Leonor Guerreiro","DPacheco","DP",2007,"Infantis A","F",null,"SS",null,null,"Leonor Guerreiro (DP)"]
[null,null,null,null,null,null,null,null,null,null,null,null,null,1,null,null,null,null,null,null,null,null,null,null,null,null,null,null,null,null,null,null,null,null,null,null,null,null,"Classificação Grupo A",null,null,null,null,null,null,null,null,null,null,null,"Grupo A",null,null,null,null,null,null,null,null,null,null,null,null,null,null,null,null,null,null,null,null,null,null,null,null,null,null,null,null,null,null,null,null,null,null,null,null,null,null,null,null,null,null,null,null,null,null,null,null,null,null,null,{"$f":"IF(G11<>\"\",IF(G11>G10,C11,IF(G10>G11,C10,\"Empate\")),\"\")","v":"Leonor Guerreiro (DP)"},{"$f":"IF(G11<>\"\",IF(G11<G10,C11,IF(G10<G11,C10,\"Empate\")),\"\")","v":"Laura Grade (ACV)"},null,null,{"$f":"IF(ISBLANK(DF7),COUNTA(DF8:$DG$11),0)","v":0},4,null,"Maira Kaushik","DPacheco","DP",2007,"Infantis A","F",null,"SS",null,null,"Maira Kaushik (DP)"]
[null,null,null,null,null,null,null,null,null,null,null,null,null,16,null,null,null,null,null,null,null,null,null,null,null,null,null,null,null,null,null,null,null,null,null,null,null,"Cl",{"$f":"AY8","v":"Jogadores"},"Jg","V","E","D","PM","PS","DP","Pt.",null,null,null,"Jogadores","Jg","V","E","D","GM","GS","DG","Pts","Equipas","Pts","Equipas","Pts","Equipas","Pts","DG","Equipas","Pts","DG","Equipas","Pts","DG","Equipas","Pts","DG","GM","Equipas","Pts","DG","GM","Equipas","Pts","DG","GM","Equipas","Pts","DG","GM",null,null,null,"Equipas","Jg","V","D","E","GM","GS","DG","Pts",null,null,{"$f":"IF(M10<>\"\",IF(M10>M11,I10,IF(M11>M10,I11,\"Empate\")),\"\")","v":""},{"$f":"IF(M10<>\"\",IF(M10<M11,I10,IF(M11<M10,I11,\"Empate\")),\"\")","v":""},null,null,{"$f":"IF(ISBLANK(DF8),COUNTA(DF9:$DG$11),0)","v":0},5,null,"Polina Lesyuk","DPacheco","DP",2007,"Infantis A","F",null,"SS",null,null,"Polina Lesyuk (DP)"]
["Grupo A","NºJ","Jogadores",1,2,3,"R","NºJ","Jogadores",1,2,3,"R",null,null,null,null,null,null,null,null,null,null,null,null,null,null,null,null,null,null,null,null,null,null,null,null,{"$f":"IF(AM9=\"\",\"\",\"1º\")","v":"1º"},{"$f":"CN9","v":"Polina Lesyuk (DP)"},{"$f":"IF(AM9=\"\",\"\",CO9)","v":2},{"$f":"IF(AM9=\"\",\"\",CP9)","v":2},{"$f":"CQ9","v":0},{"$f":"IF(AM9=\"\",\"\",CR9)","v":0},{"$f":"IF(AM9=\"\",\"\",CS9)","v":60},{"$f":"IF(AM9=\"\",\"\",CT9)","v":40},{"$f":"IF(AM9=\"\",\"\",CU9)","v":20},{"$f":"IF(AM9=\"\",\"\",CV9)","v":4},1,1,1,{"$f":"IF(AY39=\"\",\"\",AY39)","v":"Laura Grade (ACV)"},{"$f":"COUNT(G11,G12,M15)","v":2},{"$f":"COUNTIF(CY7:CY12,AY9)","v":0},{"$f":"AZ9-(BA9+BC9)","v":0},{"$f":"COUNTIF(CZ7:CZ12,AY9)","v":2},{"$f":"SUM(D11:F11,D12:F12,J15:L15)","v":40},{"$f":"SUM(D10:F10,D13:F13,J14:L14)","v":59},{"$f":"BD9-BE9","v":-19},{"$f":"IF(AZ9=0,0,BA9*2+BC9*1)","v":2},{"$f":"IF(BG9>=BG10,AY9,AY10)","v":"Leonor Guerreiro (DP)"},{"$f":"VLOOKUP(BH9,AY9:BG12,9,FALSE)","v":3},{"$f":"IF(BI9>=BI11,BH9,BH11)","v":"Polina Lesyuk (DP)"},{"$f":"VLOOKUP(BJ9,AY9:BG12,9,FALSE)","v":4},{"$f":"IF(BK9>=BK12,BJ9,BJ12)","v":"Polina Lesyuk (DP)"},{"$f":"VLOOKUP(BL9,AY9:BG12,9,FALSE)","v":4},{"$f":"VLOOKUP(BL9,AY9:BG12,8,FALSE)","v":20},{"$f":"IF(AND(BM9=BM10,BN10>BN9),BL10,BL9)","v":"Polina Lesyuk (DP)"},{"$f":"VLOOKUP(BO9,AY9:BG12,9,FALSE)","v":4},{"$f":"VLOOKUP(BO9,AY9:BG12,8,FALSE)","v":20},{"$f":"IF(AND(BP9=BP11,BQ11>BQ9),BO11,BO9)","v":"Polina Lesyuk (DP)"},{"$f":"VLOOKUP(BR9,AY9:BG12,9,FALSE)","v":4},{"$f":"VLOOKUP(BR9,AY9:BG12,8,FALSE)","v":20},{"$f":"IF(AND(BS9=BS12,BT12>BT9),BR12,BR9)","v":"Polina Lesyuk (DP)"},{"$f":"VLOOKUP(BU9,AY9:BG12,9,FALSE)","v":4},{"$f":"VLOOKUP(BU9,AY9:BG12,8,FALSE)","v":20},{"$f":"VLOOKUP(BU9,AY9:BG12,6,FALSE)","v":60},{"$f":"IF(AND(BV9=BV10,BW9=BW10,BX10>BX9),BU10,BU9)","v":"Polina Lesyuk (DP)"},{"$f":"VLOOKUP(BY9,AY9:BG12,9,FALSE)","v":4},{"$f":"VLOOKUP(BY9,AY9:BG12,8,FALSE)","v":20},{"$f":"VLOOKUP(BY9,AY9:BG12,6,FALSE)","v":60},{"$f":"IF(AND(BZ9=BZ11,CA9=CA11,CB11>CB9),BY11,BY9)","v":"Polina Lesyuk (DP)"},{"$f":"VLOOKUP(CC9,AY9:BG12,9,FALSE)","v":4},{"$f":"VLOOKUP(CC9,AY9:BG12,8,FALSE)","v":20},{"$f":"VLOOKUP(CC9,AY9:BG12,6,FALSE)","v":60},{"$f":"IF(AND(CD9=CD12,CE9=CE12,CF12>CF9),CC12,CC9)","v":"Polina Lesyuk (DP)"},{"$f":"VLOOKUP(CG9,AY9:BG12,9,FALSE)","v":4},{"$f":"VLOOKUP(CG9,AY9:BG12,8,FALSE)","v":20},{"$f":"VLOOKUP(CG9,AY9:BG12,6,FALSE)","v":60},null,null,null,{"$f":"CG9","v":"Polina Lesyuk (DP)"},{"$f":"VLOOKUP(CN9,AY9:BG12,2,FALSE)","v":2},{"$f":"VLOOKUP(CN9,AY9:BG12,3,FALSE)","v":2},{"$f":"VLOOKUP(CN9,AY9:BG12,4,FALSE)","v":0},{"$f":"VLOOKUP(CN9,AY9:BG12,5,FALSE)","v":0},{"$f":"VLOOKUP(CN9,AY9:BG12,6,FALSE)","v":60},{"$f":"VLOOKUP(CN9,AY9:BG12,7,FALSE)","v":40},{"$f":"VLOOKUP(CN9,AY9:BG12,8,FALSE)","v":20},{"$f":"VLOOKUP(CN9,AY9:BG12,9,FALSE)","v":4},null,null,{"$f":"IF(G12<>\"\",IF(G12>G13,C12,IF(G13>G12,C13,\"Empate\")),\"\")","v":"Polina Lesyuk (DP)"},{"$f":"IF(G12<>\"\",IF(G12<G13,C12,IF(G13<G12,C13,\"Empate\")),\"\")","v":"Laura Grade (ACV)"},null,null,{"$f":"IF(ISBLANK(DF9),COUNTA(DF10:$DG$11),0)","v":0},6,null,"Violeta Pshenychnicova","DPacheco","DP",2007,"Infantis A","F",null,"SS",null,null,"Violeta Pshenychnicova (DP)"]
[null,{"$f":"$A$4","v":"SS-InfA"},{"$f":"AY10","v":"Leonor Guerreiro (DP)"},11,9,9,{"$f":"IF(ISBLANK(D10),\"\",SUM(IF(D10>D11,1,0)+(IF(E10>E11,1,0)+(IF(F10>F11,1,0)))))","v":2},{"$f":"$A$4","v":"SS-InfA"},{"$f":"IF(I11=\"\",\"\",AY11)","v":""},null,null,null,{"$f":"IF(ISBLANK(J10),\"\",SUM(IF(J10>J11,1,0)+(IF(K10>K11,1,0)+(IF(L10>L11,1,0)))))","v":""},9,null,"Jogo Nº",{"$f":"CONCATENATE($A$4,\" \",SUM(H26+1))","v":"SS-InfA 13"},null,null,null,null,null,null,null,null,null,null,null,null,null,null,null,null,null,null,null,null,{"$f":"IF(AM10=\"\",\"\",\"2º\")","v":"2º"},{"$f":"CN10","v":"Leonor Guerreiro (DP)"},{"$f":"IF(AM10=\"\",\"\",CO10)","v":2},{"$f":"IF(AM10=\"\",\"\",CP10)","v":1},{"$f":"CQ10","v":0},{"$f":"IF(AM10=\"\",\"\",CR10)","v":1},{"$f":"IF(AM10=\"\",\"\",CS10)","v":49},{"$f":"IF(AM10=\"\",\"\",CT10)","v":50},{"$f":"IF(AM10=\"\",\"\",CU10)","v":-1},{"$f":"IF(AM10=\"\",\"\",CV10)","v":3},5,8,2,{"$f":"IF(AY41=\"\",\"\",AY41)","v":"Leonor Guerreiro (DP)"},{"$f":"COUNT(G10,M13,G15)","v":2},{"$f":"COUNTIF(CY7:CY12,AY10)","v":1},{"$f":"AZ10-(BA10+BC10)","v":0},{"$f":"COUNTIF(CZ7:CZ12,AY10)","v":1},{"$f":"SUM(D10:F10,J13:L13,D15:F15)","v":49},{"$f":"SUM(D11:F11,J12:L12,D14:F14)","v":50},{"$f":"BD10-BE10","v":-1},{"$f":"IF(AZ10=0,0,BA10*2+BC10*1)","v":3},{"$f":"IF(BG10<=BG9,AY10,AY9)","v":"Laura Grade (ACV)"},{"$f":"VLOOKUP(BH10,AY9:BG12,9,FALSE)","v":2},{"$f":"IF(BI10>=BI12,BH10,BH12)","v":"Laura Grade (ACV)"},{"$f":"VLOOKUP(BJ10,AY9:BG12,9,FALSE)","v":2},{"$f":"IF(BK10>=BK11,BJ10,BJ11)","v":"Leonor Guerreiro (DP)"},{"$f":"VLOOKUP(BL10,AY9:BG12,9,FALSE)","v":3},{"$f":"VLOOKUP(BL10,AY9:BG12,8,FALSE)","v":-1},{"$f":"IF(AND(BM9=BM10,BN10>BN9),BL9,BL10)","v":"Leonor Guerreiro (DP)"},{"$f":"VLOOKUP(BO10,AY9:BG12,9,FALSE)","v":3},{"$f":"VLOOKUP(BO10,AY9:BG12,8,FALSE)","v":-1},{"$f":"IF(AND(BP10=BP12,BQ12>BQ10),BO12,BO10)","v":"Leonor Guerreiro (DP)"},{"$f":"VLOOKUP(BR10,AY9:BG12,9,FALSE)","v":3},{"$f":"VLOOKUP(BR10,AY9:BG12,8,FALSE)","v":-1},{"$f":"IF(AND(BS10=BS11,BT11>BT10),BR11,BR10)","v":"Leonor Guerreiro (DP)"},{"$f":"VLOOKUP(BU10,AY9:BG12,9,FALSE)","v":3},{"$f":"VLOOKUP(BU10,AY9:BG12,8,FALSE)","v":-1},{"$f":"VLOOKUP(BU10,AY9:BG12,6,FALSE)","v":49},{"$f":"IF(AND(BV9=BV10,BW9=BW10,BX10>BX9),BU9,BU10)","v":"Leonor Guerreiro (DP)"},{"$f":"VLOOKUP(BY10,AY9:BG12,9,FALSE)","v":3},{"$f":"VLOOKUP(BY10,AY9:BG12,8,FALSE)","v":-1},{"$f":"VLOOKUP(BY10,AY9:BG12,6,FALSE)","v":49},{"$f":"IF(AND(BZ10=BZ12,CA10=CA12,CB12>CB10),BY12,BY10)","v":"Leonor Guerreiro (DP)"},{"$f":"VLOOKUP(CC10,AY9:BG12,9,FALSE)","v":3},{"$f":"VLOOKUP(CC10,AY9:BG12,8,FALSE)","v":-1},{"$f":"VLOOKUP(CC10,AY9:BG12,6,FALSE)","v":49},{"$f":"IF(AND(CD10=CD11,CE10=CE11,CF11>CF10),CC11,CC10)","v":"Leonor Guerreiro (DP)"},{"$f":"VLOOKUP(CG10,AY9:BG12,9,FALSE)","v":3},{"$f":"VLOOKUP(CG10,AY9:BG12,8,FALSE)","v":-1},{"$f":"VLOOKUP(CG10,AY9:BG12,6,FALSE)","v":49},null,null,null,{"$f":"CG10","v":"Leonor Guerreiro (DP)"},{"$f":"VLOOKUP(CN10,AY9:BG12,2,FALSE)","v":2},{"$f":"VLOOKUP(CN10,AY9:BG12,3,FALSE)","v":1},{"$f":"VLOOKUP(CN10,AY9:BG12,4,FALSE)","v":0},{"$f":"VLOOKUP(CN10,AY9:BG12,5,FALSE)","v":1},{"$f":"VLOOKUP(CN10,AY9:BG12,6,FALSE)","v":49},{"$f":"VLOOKUP(CN10,AY9:BG12,7,FALSE)","v":50},{"$f":"VLOOKUP(CN10,AY9:BG12,8,FALSE)","v":-1},{"$f":"VLOOKUP(CN10,AY9:BG12,9,FALSE)","v":3},null,null,{"$f":"IF(M12<>\"\",IF(M12>M13,I12,IF(M13>M12,I13,\"Empate\")),\"\")","v":""},{"$f":"IF(M12<>\"\",IF(M12<M13,I12,IF(M13<M12,I13,\"Empate\")),\"\")","v":""},null,null,{"$f":"IF(ISBLANK(DF10),COUNTA(DF11:$DG$11),0)","v":0},7,null,null,null,null,null,null,null,null,null,null,null," ()"]
[null,1,{"$f":"AY9","v":"Laura Grade (ACV)"},6,11,3,{"$f":"IF(ISBLANK(D10),\"\",SUM(IF(D11>D10,1,0)+(IF(E11>E10,1,0)+(IF(F11>F10,1,0)))))","v":1},{"$f":"B11+1","v":2},{"$f":"AY12","v":""},null,null,null,{"$f":"IF(ISBLANK(J10),\"\",SUM(IF(J11>J10,1,0)+(IF(K11>K10,1,0)+(IF(L11>L10,1,0)))))","v":""},8,1,{"$f":"VLOOKUP(O11,AX54:AY57,2,FALSE)","v":"Polina Lesyuk (DP)"},9,9,null,{"$f":"IF(ISBLANK(Q11),\"\",SUM(IF(Q11>Q12,1,0)+(IF(R11>R12,1,0)+(IF(S11>S12,1,0)))))","v":2},null,null,null,null,null,null,null,null,null,null,null,null,null,null,null,null,null,{"$f":"IF(AM11=\"\",\"\",\"3º\")","v":"3º"},{"$f":"CN11","v":"Laura Grade (ACV)"},{"$f":"IF(AM11=\"\",\"\",CO11)","v":2},{"$f":"IF(AM11=\"\",\"\",CP11)","v":0},{"$f":"CQ11","v":0},{"$f":"IF(AM11=\"\",\"\",CR11)","v":2},{"$f":"IF(AM11=\"\",\"\",CS11)","v":40},{"$f":"IF(AM11=\"\",\"\",CT11)","v":59},{"$f":"IF(AM11=\"\",\"\",CU11)","v":-19},{"$f":"IF(AM11=\"\",\"\",CV11)","v":2},7.8,5,3,{"$f":"IF(AY43=\"\",\"\",AY43)","v":"Polina Lesyuk (DP)"},{"$f":"COUNT(M10,G13,G14)","v":2},{"$f":"COUNTIF(CY7:CY12,AY11)","v":2},{"$f":"AZ11-(BA11+BC11)","v":0},{"$f":"COUNTIF(CZ7:CZ12,AY11)","v":0},{"$f":"SUM(J10:L10,D13:F13,D14:F14)","v":60},{"$f":"SUM(J11:L11,D12:F12,D15:F15)","v":40},{"$f":"BD11-BE11","v":20},{"$f":"IF(AZ11=0,0,BA11*2+BC11*1)","v":4},{"$f":"IF(BG11>=BG12,AY11,AY12)","v":"Polina Lesyuk (DP)"},{"$f":"VLOOKUP(BH11,AY9:BG12,9,FALSE)","v":4},{"$f":"IF(BI11<=BI9,BH11,BH9)","v":"Leonor Guerreiro (DP)"},{"$f":"VLOOKUP(BJ11,AY9:BG12,9,FALSE)","v":3},{"$f":"IF(BK11<=BK10,BJ11,BJ10)","v":"Laura Grade (ACV)"},{"$f":"VLOOKUP(BL11,AY9:BG12,9,FALSE)","v":2},{"$f":"VLOOKUP(BL11,AY9:BG12,8,FALSE)","v":-19},{"$f":"IF(AND(BM11=BM12,BN12>BN11),BL12,BL11)","v":"Laura Grade (ACV)"},{"$f":"VLOOKUP(BO11,AY9:BG12,9,FALSE)","v":2},{"$f":"VLOOKUP(BO11,AY9:BG12,8,FALSE)","v":-19},{"$f":"IF(AND(BP9=BP11,BQ11>BQ9),BO9,BO11)","v":"Laura Grade (ACV)"},{"$f":"VLOOKUP(BR11,AY9:BG12,9,FALSE)","v":2},{"$f":"VLOOKUP(BR11,AY9:BG12,8,FALSE)","v":-19},{"$f":"IF(AND(BS10=BS11,BT11>BT10),BR10,BR11)","v":"Laura Grade (ACV)"},{"$f":"VLOOKUP(BU11,AY9:BG12,9,FALSE)","v":2},{"$f":"VLOOKUP(BU11,AY9:BG12,8,FALSE)","v":-19},{"$f":"VLOOKUP(BU11,AY9:BG12,6,FALSE)","v":40},{"$f":"IF(AND(BV11=BV12,BW11=BW12,BX12>BX11),BU12,BU11)","v":"Laura Grade (ACV)"},{"$f":"VLOOKUP(BY11,AY9:BG12,9,FALSE)","v":2},{"$f":"VLOOKUP(BY11,AY9:BG12,8,FALSE)","v":-19},{"$f":"VLOOKUP(BY11,AY9:BG12,6,FALSE)","v":40},{"$f":"IF(AND(BZ9=BZ11,CA9=CA11,CB10>CB9),BY9,BY11)","v":"Laura Grade (ACV)"},{"$f":"VLOOKUP(CC11,AY9:BG12,9,FALSE)","v":2},{"$f":"VLOOKUP(CC11,AY9:BG12,8,FALSE)","v":-19},{"$f":"VLOOKUP(CC11,AY9:BG12,6,FALSE)","v":40},{"$f":"IF(AND(CD10=CD11,CE10=CE11,CF11>CF10),CC10,CC11)","v":"Laura Grade (ACV)"},{"$f":"VLOOKUP(CG11,AY9:BG12,9,FALSE)","v":2},{"$f":"VLOOKUP(CG11,AY9:BG12,8,FALSE)","v":-19},{"$f":"VLOOKUP(CG11,AY9:BG12,6,FALSE)","v":40},null,null,null,{"$f":"CG11","v":"Laura Grade (ACV)"},{"$f":"VLOOKUP(CN11,AY9:BG12,2,FALSE)","v":2},{"$f":"VLOOKUP(CN11,AY9:BG12,3,FALSE)","v":0},{"$f":"VLOOKUP(CN11,AY9:BG12,4,FALSE)","v":0},{"$f":"VLOOKUP(CN11,AY9:BG12,5,FALSE)","v":2},{"$f":"VLOOKUP(CN11,AY9:BG12,6,FALSE)","v":40},{"$f":"VLOOKUP(CN11,AY9:BG12,7,FALSE)","v":59},{"$f":"VLOOKUP(CN11,AY9:BG12,8,FALSE)","v":-19},{"$f":"VLOOKUP(CN11,AY9:BG12,9,FALSE)","v":2},null,null,{"$f":"IF(M14<>\"\",IF(M14>M15,I14,IF(M15>M14,I15,\"Empate\")),\"\")","v":""},{"$f":"IF(M14<>\"\",IF(M14<M15,I14,IF(M15<M14,I15,\"Empate\")),\"\")","v":""},null,null,{"$f":"IF(ISBLANK(DF11),COUNTA(DF$11:$DG12),0)","v":0},8,null,null,null,null,null,null,null,null,null,null,null," ()"]
[null,{"$f":"$A$4","v":"SS-InfA"},{"$f":"AY9","v":"Laura Grade (ACV)"},11,6,3,{"$f":"IF(ISBLANK(D12),\"\",SUM(IF(D12>D13,1,0)+(IF(E12>E13,1,0)+(IF(F12>F13,1,0)))))","v":1},{"$f":"$A$4","v":"SS-InfA"},{"$f":"AY12","v":""},null,null,null,{"$f":"IF(ISBLANK(J12),\"\",SUM(IF(J12>J13,1,0)+(IF(K12>K13,1,0)+(IF(L12>L13,1,0)))))","v":""},null,4,{"$f":"VLOOKUP(O12,AX54:AY57,2,FALSE)","v":"Jessica Rochefort (DP)"},5,3,null,{"$f":"IF(ISBLANK(Q11),\"\",SUM(IF(Q12>Q11,1,0)+(IF(R12>R11,1,0)+(IF(S12>S11,1,0)))))","v":0},null,null,null,null,null,null,null,null,null,null,null,null,null,null,null,null,null,{"$f":"IF(AM12=\"\",\"\",\"4º\")","v":""},{"$f":"CN12","v":""},{"$f":"IF(AM12=\"\",\"\",CO12)","v":""},{"$f":"IF(AM12=\"\",\"\",CP12)","v":""},{"$f":"CQ12","v":-6},{"$f":"IF(AM12=\"\",\"\",CR12)","v":""},{"$f":"IF(AM12=\"\",\"\",CS12)","v":""},{"$f":"IF(AM12=\"\",\"\",CT12)","v":""},{"$f":"IF(AM12=\"\",\"\",CU12)","v":""},{"$f":"IF(AM12=\"\",\"\",CV12)","v":""},null,4,4,{"$f":"IF(AY45=\"\",\"\",AY45)","v":""},{"$f":"COUNT(M11,M12,M14)","v":0},{"$f":"COUNTIF(CY7:CY12,AY12)","v":3},{"$f":"AZ12-(BA12+BC12)","v":-6},{"$f":"COUNTIF(CZ7:CZ12,AY12)","v":3},{"$f":"SUM(J11:L11,J12:L12,J14:L14)","v":0},{"$f":"SUM(J10:L10,J13:L13,J15:L15)","v":0},{"$f":"BD12-BE12","v":0},{"$f":"IF(AZ12=0,0,BA12*2+BC12*1)","v":0},{"$f":"IF(BG12<=BG11,AY12,AY11)","v":""},{"$f":"VLOOKUP(BH12,AY9:BG12,9,FALSE)","v":0},{"$f":"IF(BI12<=BI10,BH12,BH10)","v":""},{"$f":"VLOOKUP(BJ12,AY9:BG12,9,FALSE)","v":0},{"$f":"IF(BK12<=BK9,BJ12,BJ9)","v":""},{"$f":"VLOOKUP(BL12,AY9:BG12,9,FALSE)","v":0},{"$f":"VLOOKUP(BL12,AY9:BG12,8,FALSE)","v":0},{"$f":"IF(AND(BM11=BM12,BN12>BN11),BL11,BL12)","v":""},{"$f":"VLOOKUP(BO12,AY9:BG12,9,FALSE)","v":0},{"$f":"VLOOKUP(BO12,AY9:BG12,8,FALSE)","v":0},{"$f":"IF(AND(BP10=BP12,BQ12>BQ10),BO10,BO12)","v":""},{"$f":"VLOOKUP(BR12,AY9:BG12,9,FALSE)","v":0},{"$f":"VLOOKUP(BR12,AY9:BG12,8,FALSE)","v":0},{"$f":"IF(AND(BS9=BS12,BT12>BT9),BR9,BR12)","v":""},{"$f":"VLOOKUP(BU12,AY9:BG12,9,FALSE)","v":0},{"$f":"VLOOKUP(BU12,AY9:BG12,8,FALSE)","v":0},{"$f":"VLOOKUP(BU12,AY9:BG12,6,FALSE)","v":0},{"$f":"IF(AND(BV11=BV12,BW11=BW12,BX12>BX11),BU11,BU12)","v":""},{"$f":"VLOOKUP(BY12,AY9:BG12,9,FALSE)","v":0},{"$f":"VLOOKUP(BY12,AY9:BG12,8,FALSE)","v":0},{"$f":"VLOOKUP(BY12,AY9:BG12,6,FALSE)","v":0},{"$f":"IF(AND(BZ10=BZ12,CA10=CA12,CB12>CB10),BY10,BY12)","v":""},{"$f":"VLOOKUP(CC12,AY9:BG12,9,FALSE)","v":0},{"$f":"VLOOKUP(CC12,AY9:BG12,8,FALSE)","v":0},{"$f":"VLOOKUP(CC12,AY9:BG12,6,FALSE)","v":0},{"$f":"IF(AND(CD9=CD12,CE9=CE12,CF12>CF9),CC9,CC12)","v":""},{"$f":"VLOOKUP(CG12,AY9:BG12,9,FALSE)","v":0},{"$f":"VLOOKUP(CG12,AY9:BG12,8,FALSE)","v":0},{"$f":"VLOOKUP(CG12,AY9:BG12,6,FALSE)","v":0},null,null,null,{"$f":"CG12","v":""},{"$f":"VLOOKUP(CN12,AY9:BG12,2,FALSE)","v":0},{"$f":"VLOOKUP(CN12,AY9:BG12,3,FALSE)","v":3},{"$f":"VLOOKUP(CN12,AY9:BG12,4,FALSE)","v":-6},{"$f":"VLOOKUP(CN12,AY9:BG12,5,FALSE)","v":3},{"$f":"VLOOKUP(CN12,AY9:BG12,6,FALSE)","v":0},{"$f":"VLOOKUP(CN12,AY9:BG12,7,FALSE)","v":0},{"$f":"VLOOKUP(CN12,AY9:BG12,8,FALSE)","v":0},{"$f":"VLOOKUP(CN12,AY9:BG12,9,FALSE)","v":0},null,null,{"$f":"IF(G15<>\"\",IF(G15>G14,C15,IF(G14>G15,C14,\"Empate\")),\"\")","v":"Polina Lesyuk (DP)"},{"$f":"IF(G15<>\"\",IF(G15<G14,C15,IF(G14<G15,C14,\"Empate\")),\"\")","v":"Leonor Guerreiro (DP)"},null,null,"Existe um erro no preenchimento na lista de participantes. PF elimine os espaços em branco entre os participantes, fazendo subir os jogadores abaixo, caso haja necesidade de eliminar jogadores por Falta de Comparência.",null,null,null,null,{"$f":"IF(DC2>0,DC12,\"\")","v":""}]
[null,{"$f":"H22+1","v":5},{"$f":"AY11","v":"Polina Lesyuk (DP)"},10,11,9,{"$f":"IF(ISBLANK(D12),\"\",SUM(IF(D13>D12,1,0)+(IF(E13>E12,1,0)+(IF(F13>F12,1,0)))))","v":2},{"$f":"B13+1","v":6},{"$f":"IF(I12=\"\",\"\",AY10)","v":""},null,null,null,{"$f":"IF(ISBLANK(J12),\"\",SUM(IF(J13>J12,1,0)+(IF(K13>K12,1,0)+(IF(L13>L12,1,0)))))","v":""},5,null,null,null,null,null,null,null,null,null,null,null,null,null,null,null,null,null,null,null,null,null,null,null,null,null,null,null,null,null,null,null,null,null,null,null,null,null,null,null,null,null,null,null,null,null,null,null,null,null,null,null,null,null,null,null,null,null,null,null,null,null,null,null,null,null,null,null,null,null,null,null,null,null,null,null,null,null,null,null,null,null,null,null,null,null,null,null,null,null,null,null,null,null,null,"Se pretender efectuar altrerações apague, e volte a introduzir os jogadores que pretender nos espaços disponíveis."]
[null,{"$f":"$A$4","v":"SS-InfA"},{"$f":"AY11","v":"Polina Lesyuk (DP)"},11,10,9,{"$f":"IF(ISBLANK(D14),\"\",SUM(IF(D14>D15,1,0)+(IF(E14>E15,1,0)+(IF(F14>F15,1,0)))))","v":2},{"$f":"$A$4","v":"SS-InfA"},{"$f":"AY12","v":""},null,null,null,{"$f":"IF(ISBLANK(J14),\"\",SUM(IF(J14>J15,1,0)+(IF(K14>K15,1,0)+(IF(L14>L15,1,0)))))","v":""},12,null,null,null,null,null,null,null,null,null,null,null,null,null,null,null,null,null,null,null,null,null,null,null,null,null,null,null,null,null,null,null,null,null,null,null,null,"Colocar Equipas",null,null,null,null,null,null,null,null,"Ordenar p/ Pts 1",null,"Ordenar p/ Pts 2",null,"Ordenar p/ Pts 3",null,null,"Ordenar p/ DG 1",null,null,"Ordenar p/ DG 2",null,null,"Ordenar p/ DG 3",null,null,null,"Ordenar p/ GM 1",null,null,null,"Ordenar p/ GM 2",null,null,null,"Ordenar p/ GM 3",null,null,null,null,null,null,null,null,null,null,null,null,null,null,null,null,null,"Vencedores","Derrotados"]
[null,{"$f":"H24+1","v":9},{"$f":"AY10","v":"Leonor Guerreiro (DP)"},6,11,3,{"$f":"IF(ISBLANK(D14),\"\",SUM(IF(D15>D14,1,0)+(IF(E15>E14,1,0)+(IF(F15>F14,1,0)))))","v":1},{"$f":"B15+1","v":10},{"$f":"IF(I14=\"\",\"\",AY9)","v":""},null,null,null,{"$f":"IF(ISBLANK(J14),\"\",SUM(IF(J15>J14,1,0)+(IF(K15>K14,1,0)+(IF(L15>L14,1,0)))))","v":""},null,null,null,null,null,null,null,null,null,null,null,null,null,null,null,null,null,null,null,null,null,null,null,null,null,"Classificação Grupo B",null,null,null,null,null,null,null,null,null,null,null,"Grupo B",null,null,null,null,null,null,null,null,null,null,null,null,null,null,null,null,null,null,null,null,null,null,null,null,null,null,null,null,null,null,null,null,null,null,null,null,null,null,null,null,null,null,null,null,null,null,null,null,null,null,null,{"$f":"IF(G22<>\"\",IF(G22>G21,C22,IF(G21>G22,C21,\"Empate\")),\"\")","v":"Jessica Rochefort (DP)"},{"$f":"IF(G22<>\"\",IF(G22<G21,C22,IF(G21<G22,C21,\"Empate\")),\"\")","v":"Maira Kaushik (DP)"}]
[null,null,null,null,null,null,null,null,null,null,null,null,null,13,null,null,null,null,null,null,null,null,"Jogo Nº",{"$f":"CONCATENATE($A$4,\" \",SUM(H26+3))","v":"SS-InfA 15"},null,null,null,null,null,"Vencedor",null,null,null,null,null,null,null,"Cl",{"$f":"AY16","v":"Jogadores"},"Jg","V","E","D","PM","PS","DP","Pt.",null,null,null,"Jogadores","Jg","V","E","D","GM","GS","DG","Pts","Equipas","Pts","Equipas","Pts","Equipas","Pts","DG","Equipas","Pts","DG","Equipas","Pts","DG","Equipas","Pts","DG","GM","Equipas","Pts","DG","GM","Equipas","Pts","DG","GM","Equipas","Pts","DG","GM",null,null,null,"Equipas","Jg","V","D","E","GM","GS","DG","Pts",null,null,{"$f":"IF(M21<>\"\",IF(M21>M22,I21,IF(M22>M21,I22,\"Empate\")),\"\")","v":""},{"$f":"IF(M21<>\"\",IF(M21<M22,I21,IF(M22<M21,I22,\"Empate\")),\"\")","v":""},null,null,null,null,"Para efectuar alterações à de colocações nos grupos dos jogadores, altere a coluna \"ORDEM\" dando uma nova ordem de nºs e depois clique em Ordenar."]
[null,null,null,null,null,null,null,null,null,null,null,null,null,4,null,{"$f":"IF(T11=T12,\"\",IF(T11<T12,P11,P12))","v":"Jessica Rochefort (DP)"},5,null,null,{"$f":"IF(ISBLANK(Q17),\"\",SUM(IF(Q17>Q18,1,0)+(IF(R17>R18,1,0)+(IF(S17>S18,1,0)))))","v":0},null,null,{"$f":"IF(T11=T12,\"\",IF(T11>T12,P11,P12))","v":"Polina Lesyuk (DP)"},9,9,null,{"$f":"IF(ISBLANK(X17),\"\",SUM(IF(X17>X18,1,0)+(IF(Y17>Y18,1,0)+(IF(Z17>Z18,1,0)))))","v":2},null,null,{"$f":"IF(AA17=AA18,\"\",IF(AA17>AA18,W17,W18))","v":"Polina Lesyuk (DP)"},null,null,null,null,null,null,null,{"$f":"IF(AM17=\"\",\"\",\"1º\")","v":"1º"},{"$f":"CN17","v":"Violeta Pshenychnicova (DP)"},{"$f":"IF(AM17=\"\",\"\",CO17)","v":2},{"$f":"IF(AM17=\"\",\"\",CP17)","v":2},{"$f":"CQ17","v":0},{"$f":"IF(AM17=\"\",\"\",CR17)","v":0},{"$f":"IF(AM17=\"\",\"\",CS17)","v":51},{"$f":"IF(AM17=\"\",\"\",CT17)","v":43},{"$f":"IF(AM17=\"\",\"\",CU17)","v":8},{"$f":"IF(AM17=\"\",\"\",CV17)","v":4},2,3,5,{"$f":"IF(AY40=\"\",\"\",AY40)","v":"Jessica Rochefort (DP)"},{"$f":"COUNT(G22,G23,M26)","v":2},{"$f":"COUNTIF(CY15:CY20,AY17)","v":1},{"$f":"AZ17-(BA17+BC17)","v":0},{"$f":"COUNTIF(CZ15:CZ20,AY17)","v":1},{"$f":"SUM(D22:F22,D23:F23,J26:L26)","v":58},{"$f":"SUM(D21:F21,D24:F24,J25:L25)","v":53},{"$f":"BD17-BE17","v":5},{"$f":"IF(AZ17=0,0,BA17*2+BC17*1)","v":3},{"$f":"IF(BG17>=BG18,AY17,AY18)","v":"Jessica Rochefort (DP)"},{"$f":"VLOOKUP(BH17,AY17:BG20,9,FALSE)","v":3},{"$f":"IF(BI17>=BI19,BH17,BH19)","v":"Violeta Pshenychnicova (DP)"},{"$f":"VLOOKUP(BJ17,AY17:BG20,9,FALSE)","v":4},{"$f":"IF(BK17>=BK20,BJ17,BJ20)","v":"Violeta Pshenychnicova (DP)"},{"$f":"VLOOKUP(BL17,AY17:BG20,9,FALSE)","v":4},{"$f":"VLOOKUP(BL17,AY17:BG20,8,FALSE)","v":8},{"$f":"IF(AND(BM17=BM18,BN18>BN17),BL18,BL17)","v":"Violeta Pshenychnicova (DP)"},{"$f":"VLOOKUP(BO17,AY17:BG20,9,FALSE)","v":4},{"$f":"VLOOKUP(BO17,AY17:BG20,8,FALSE)","v":8},{"$f":"IF(AND(BP17=BP19,BQ19>BQ17),BO19,BO17)","v":"Violeta Pshenychnicova (DP)"},{"$f":"VLOOKUP(BR17,AY17:BG20,9,FALSE)","v":4},{"$f":"VLOOKUP(BR17,AY17:BG20,8,FALSE)","v":8},{"$f":"IF(AND(BS17=BS20,BT20>BT17),BR20,BR17)","v":"Violeta Pshenychnicova (DP)"},{"$f":"VLOOKUP(BU17,AY17:BG20,9,FALSE)","v":4},{"$f":"VLOOKUP(BU17,AY17:BG20,8,FALSE)","v":8},{"$f":"VLOOKUP(BU17,AY17:BG20,6,FALSE)","v":51},{"$f":"IF(AND(BV17=BV18,BW17=BW18,BX18>BX17),BU18,BU17)","v":"Violeta Pshenychnicova (DP)"},{"$f":"VLOOKUP(BY17,AY17:BG20,9,FALSE)","v":4},{"$f":"VLOOKUP(BY17,AY17:BG20,8,FALSE)","v":8},{"$f":"VLOOKUP(BY17,AY17:BG20,6,FALSE)","v":51},{"$f":"IF(AND(BZ17=BZ19,CA17=CA19,CB19>CB17),BY19,BY17)","v":"Violeta Pshenychnicova (DP)"},{"$f":"VLOOKUP(CC17,AY17:BG20,9,FALSE)","v":4},{"$f":"VLOOKUP(CC17,AY17:BG20,8,FALSE)","v":8},{"$f":"VLOOKUP(CC17,AY17:BG20,6,FALSE)","v":51},{"$f":"IF(AND(CD17=CD20,CE17=CE20,CF20>CF17),CC20,CC17)","v":"Violeta Pshenychnicova (DP)"},{"$f":"VLOOKUP(CG17,AY17:BG20,9,FALSE)","v":4},{"$f":"VLOOKUP(CG17,AY17:BG20,8,FALSE)","v":8},{"$f":"VLOOKUP(CG17,AY17:BG20,6,FALSE)","v":51},null,null,null,{"$f":"CG17","v":"Violeta Pshenychnicova (DP)"},{"$f":"VLOOKUP(CN17,AY17:BG20,2,FALSE)","v":2},{"$f":"VLOOKUP(CN17,AY17:BG20,3,FALSE)","v":2},{"$f":"VLOOKUP(CN17,AY17:BG20,4,FALSE)","v":0},{"$f":"VLOOKUP(CN17,AY17:BG20,5,FALSE)","v":0},{"$f":"VLOOKUP(CN17,AY17:BG20,6,FALSE)","v":51},{"$f":"VLOOKUP(CN17,AY17:BG20,7,FALSE)","v":43},{"$f":"VLOOKUP(CN17,AY17:BG20,8,FALSE)","v":8},{"$f":"VLOOKUP(CN17,AY17:BG20,9,FALSE)","v":4},null,null,{"$f":"IF(G23<>\"\",IF(G23>G24,C23,IF(G24>G23,C24,\"Empate\")),\"\")","v":"Violeta Pshenychnicova (DP)"},{"$f":"IF(G23<>\"\",IF(G23<G24,C23,IF(G24<G23,C24,\"Empate\")),\"\")","v":"Jessica Rochefort (DP)"}]
[null,null,null,null,null,null,null,null,null,null,null,null,null,null,null,{"$f":"IF(T24=T25,\"\",IF(T24<T25,P24,P25))","v":"Violeta Pshenychnicova (DP)"},11,null,null,{"$f":"IF(ISBLANK(Q17),\"\",SUM(IF(Q18>Q17,1,0)+(IF(R18>R17,1,0)+(IF(S18>S17,1,0)))))","v":1},null,null,{"$f":"IF(T24=T25,\"\",IF(T24>T25,P24,P25))","v":"Leonor Guerreiro (DP)"},3,4,null,{"$f":"IF(ISBLANK(X17),\"\",SUM(IF(X18>X17,1,0)+(IF(Y18>Y17,1,0)+(IF(Z18>Z17,1,0)))))","v":0},null,null,null,null,null,null,null,null,null,null,{"$f":"IF(AM18=\"\",\"\",\"2º\")","v":"2º"},{"$f":"CN18","v":"Jessica Rochefort (DP)"},{"$f":"IF(AM18=\"\",\"\",CO18)","v":2},{"$f":"IF(AM18=\"\",\"\",CP18)","v":1},{"$f":"CQ18","v":0},{"$f":"IF(AM18=\"\",\"\",CR18)","v":1},{"$f":"IF(AM18=\"\",\"\",CS18)","v":58},{"$f":"IF(AM18=\"\",\"\",CT18)","v":53},{"$f":"IF(AM18=\"\",\"\",CU18)","v":5},{"$f":"IF(AM18=\"\",\"\",CV18)","v":3},6,6,6,{"$f":"IF(AY42=\"\",\"\",AY42)","v":"Maira Kaushik (DP)"},{"$f":"COUNT(G21,M24,G26)","v":2},{"$f":"COUNTIF(CY15:CY20,AY18)","v":0},{"$f":"AZ18-(BA18+BC18)","v":0},{"$f":"COUNTIF(CZ15:CZ20,AY18)","v":2},{"$f":"SUM(D21:F21,J24:L24,D26:F26)","v":39},{"$f":"SUM(D22:F22,J23:L23,D25:F25)","v":52},{"$f":"BD18-BE18","v":-13},{"$f":"IF(AZ18=0,0,BA18*2+BC18*1)","v":2},{"$f":"IF(BG18<=BG17,AY18,AY17)","v":"Maira Kaushik (DP)"},{"$f":"VLOOKUP(BH18,AY17:BG20,9,FALSE)","v":2},{"$f":"IF(BI18>=BI20,BH18,BH20)","v":"Maira Kaushik (DP)"},{"$f":"VLOOKUP(BJ18,AY17:BG20,9,FALSE)","v":2},{"$f":"IF(BK18>=BK19,BJ18,BJ19)","v":"Jessica Rochefort (DP)"},{"$f":"VLOOKUP(BL18,AY17:BG20,9,FALSE)","v":3},{"$f":"VLOOKUP(BL18,AY17:BG20,8,FALSE)","v":5},{"$f":"IF(AND(BM17=BM18,BN18>BN17),BL17,BL18)","v":"Jessica Rochefort (DP)"},{"$f":"VLOOKUP(BO18,AY17:BG20,9,FALSE)","v":3},{"$f":"VLOOKUP(BO18,AY17:BG20,8,FALSE)","v":5},{"$f":"IF(AND(BP18=BP20,BQ20>BQ18),BO20,BO18)","v":"Jessica Rochefort (DP)"},{"$f":"VLOOKUP(BR18,AY17:BG20,9,FALSE)","v":3},{"$f":"VLOOKUP(BR18,AY17:BG20,8,FALSE)","v":5},{"$f":"IF(AND(BS18=BS19,BT19>BT18),BR19,BR18)","v":"Jessica Rochefort (DP)"},{"$f":"VLOOKUP(BU18,AY17:BG20,9,FALSE)","v":3},{"$f":"VLOOKUP(BU18,AY17:BG20,8,FALSE)","v":5},{"$f":"VLOOKUP(BU18,AY17:BG20,6,FALSE)","v":58},{"$f":"IF(AND(BV17=BV18,BW17=BW18,BX18>BX17),BU17,BU18)","v":"Jessica Rochefort (DP)"},{"$f":"VLOOKUP(BY18,AY17:BG20,9,FALSE)","v":3},{"$f":"VLOOKUP(BY18,AY17:BG20,8,FALSE)","v":5},{"$f":"VLOOKUP(BY18,AY17:BG20,6,FALSE)","v":58},{"$f":"IF(AND(BZ18=BZ20,CA18=CA20,CB20>CB18),BY20,BY18)","v":"Jessica Rochefort (DP)"},{"$f":"VLOOKUP(CC18,AY17:BG20,9,FALSE)","v":3},{"$f":"VLOOKUP(CC18,AY17:BG20,8,FALSE)","v":5},{"$f":"VLOOKUP(CC18,AY17:BG20,6,FALSE)","v":58},{"$f":"IF(AND(CD18=CD19,CE18=CE19,CF19>CF18),CC19,CC18)","v":"Jessica Rochefort (DP)"},{"$f":"VLOOKUP(CG18,AY17:BG20,9,FALSE)","v":3},{"$f":"VLOOKUP(CG18,AY17:BG20,8,FALSE)","v":5},{"$f":"VLOOKUP(CG18,AY17:BG20,6,FALSE)","v":58},null,null,null,{"$f":"CG18","v":"Jessica Rochefort (DP)"},{"$f":"VLOOKUP(CN18,AY17:BG20,2,FALSE)","v":2},{"$f":"VLOOKUP(CN18,AY17:BG20,3,FALSE)","v":1},{"$f":"VLOOKUP(CN18,AY17:BG20,4,FALSE)","v":0},{"$f":"VLOOKUP(CN18,AY17:BG20,5,FALSE)","v":1},{"$f":"VLOOKUP(CN18,AY17:BG20,6,FALSE)","v":58},{"$f":"VLOOKUP(CN18,AY17:BG20,7,FALSE)","v":53},{"$f":"VLOOKUP(CN18,AY17:BG20,8,FALSE)","v":5},{"$f":"VLOOKUP(CN18,AY17:BG20,9,FALSE)","v":3},null,null,{"$f":"IF(M23<>\"\",IF(M23>M24,I23,IF(M24>M23,I24,\"Empate\")),\"\")","v":""},{"$f":"IF(M23<>\"\",IF(M23<M24,I23,IF(M24<M23,I24,\"Empate\")),\"\")","v":""}]
[null,null,null,null,null,null,null,null,null,null,null,null,null,3,null,"3º/4º",null,null,null,null,null,null,null,null,null,null,null,null,null,null,null,null,null,null,null,null,null,{"$f":"IF(AM19=\"\",\"\",\"3º\")","v":"3º"},{"$f":"CN19","v":"Maira Kaushik (DP)"},{"$f":"IF(AM19=\"\",\"\",CO19)","v":2},{"$f":"IF(AM19=\"\",\"\",CP19)","v":0},{"$f":"CQ19","v":0},{"$f":"IF(AM19=\"\",\"\",CR19)","v":2},{"$f":"IF(AM19=\"\",\"\",CS19)","v":39},{"$f":"IF(AM19=\"\",\"\",CT19)","v":52},{"$f":"IF(AM19=\"\",\"\",CU19)","v":-13},{"$f":"IF(AM19=\"\",\"\",CV19)","v":2},7.8,7,7,{"$f":"IF(AY44=\"\",\"\",AY44)","v":"Violeta Pshenychnicova (DP)"},{"$f":"COUNT(M21,G24,G25)","v":2},{"$f":"COUNTIF(CY15:CY20,AY19)","v":2},{"$f":"AZ19-(BA19+BC19)","v":0},{"$f":"COUNTIF(CZ15:CZ20,AY19)","v":0},{"$f":"SUM(J21:L21,D24:F24,D25:F25)","v":51},{"$f":"SUM(J22:L22,D23:F23,D26:F26)","v":43},{"$f":"BD19-BE19","v":8},{"$f":"IF(AZ19=0,0,BA19*2+BC19*1)","v":4},{"$f":"IF(BG19>=BG20,AY19,AY20)","v":"Violeta Pshenychnicova (DP)"},{"$f":"VLOOKUP(BH19,AY17:BG20,9,FALSE)","v":4},{"$f":"IF(BI19<=BI17,BH19,BH17)","v":"Jessica Rochefort (DP)"},{"$f":"VLOOKUP(BJ19,AY17:BG20,9,FALSE)","v":3},{"$f":"IF(BK19<=BK18,BJ19,BJ18)","v":"Maira Kaushik (DP)"},{"$f":"VLOOKUP(BL19,AY17:BG20,9,FALSE)","v":2},{"$f":"VLOOKUP(BL19,AY17:BG20,8,FALSE)","v":-13},{"$f":"IF(AND(BM19=BM20,BN20>BN19),BL20,BL19)","v":"Maira Kaushik (DP)"},{"$f":"VLOOKUP(BO19,AY17:BG20,9,FALSE)","v":2},{"$f":"VLOOKUP(BO19,AY17:BG20,8,FALSE)","v":-13},{"$f":"IF(AND(BP17=BP19,BQ19>BQ17),BO17,BO19)","v":"Maira Kaushik (DP)"},{"$f":"VLOOKUP(BR19,AY17:BG20,9,FALSE)","v":2},{"$f":"VLOOKUP(BR19,AY17:BG20,8,FALSE)","v":-13},{"$f":"IF(AND(BS18=BS19,BT19>BT18),BR18,BR19)","v":"Maira Kaushik (DP)"},{"$f":"VLOOKUP(BU19,AY17:BG20,9,FALSE)","v":2},{"$f":"VLOOKUP(BU19,AY17:BG20,8,FALSE)","v":-13},{"$f":"VLOOKUP(BU19,AY17:BG20,6,FALSE)","v":39},{"$f":"IF(AND(BV19=BV20,BW19=BW20,BX20>BX19),BU20,BU19)","v":"Maira Kaushik (DP)"},{"$f":"VLOOKUP(BY19,AY17:BG20,9,FALSE)","v":2},{"$f":"VLOOKUP(BY19,AY17:BG20,8,FALSE)","v":-13},{"$f":"VLOOKUP(BY19,AY17:BG20,6,FALSE)","v":39},{"$f":"IF(AND(BZ17=BZ19,CA17=CA19,CB18>CB17),BY17,BY19)","v":"Maira Kaushik (DP)"},{"$f":"VLOOKUP(CC19,AY17:BG20,9,FALSE)","v":2},{"$f":"VLOOKUP(CC19,AY17:BG20,8,FALSE)","v":-13},{"$f":"VLOOKUP(CC19,AY17:BG20,6,FALSE)","v":39},{"$f":"IF(AND(CD18=CD19,CE18=CE19,CF19>CF18),CC18,CC19)","v":"Maira Kaushik (DP)"},{"$f":"VLOOKUP(CG19,AY17:BG20,9,FALSE)","v":2},{"$f":"VLOOKUP(CG19,AY17:BG20,8,FALSE)","v":-13},{"$f":"VLOOKUP(CG19,AY17:BG20,6,FALSE)","v":39},null,null,null,{"$f":"CG19","v":"Maira Kaushik (DP)"},{"$f":"VLOOKUP(CN19,AY17:BG20,2,FALSE)","v":2},{"$f":"VLOOKUP(CN19,AY17:BG20,3,FALSE)","v":0},{"$f":"VLOOKUP(CN19,AY17:BG20,4,FALSE)","v":0},{"$f":"VLOOKUP(CN19,AY17:BG20,5,FALSE)","v":2},{"$f":"VLOOKUP(CN19,AY17:BG20,6,FALSE)","v":39},{"$f":"VLOOKUP(CN19,AY17:BG20,7,FALSE)","v":52},{"$f":"VLOOKUP(CN19,AY17:BG20,8,FALSE)","v":-13},{"$f":"VLOOKUP(CN19,AY17:BG20,9,FALSE)","v":2},null,null,{"$f":"IF(M25<>\"\",IF(M25>M26,I25,IF(M26>M25,I26,\"Empate\")),\"\")","v":""},{"$f":"IF(M25<>\"\",IF(M25<M26,I25,IF(M26<M25,I26,\"Empate\")),\"\")","v":""}]
["Grupo B","NºJ","Jogadores",1,2,3,"R","NºJ","Jogadores",1,2,3,"R",14,null,{"$f":"IF(T17=T18,\"\",IF(T17>T18,P17,P18))","v":"Violeta Pshenychnicova (DP)"},null,null,null,null,null,null,null,null,null,null,null,null,null,null,null,null,null,null,null,null,null,{"$f":"IF(AM20=\"\",\"\",\"4º\")","v":""},{"$f":"CN20","v":""},{"$f":"IF(AM20=\"\",\"\",CO20)","v":""},{"$f":"IF(AM20=\"\",\"\",CP20)","v":""},{"$f":"CQ20","v":-6},{"$f":"IF(AM20=\"\",\"\",CR20)","v":""},{"$f":"IF(AM20=\"\",\"\",CS20)","v":""},{"$f":"IF(AM20=\"\",\"\",CT20)","v":""},{"$f":"IF(AM20=\"\",\"\",CU20)","v":""},{"$f":"IF(AM20=\"\",\"\",CV20)","v":""},null,2,8,{"$f":"IF(AY46=\"\",\"\",AY46)","v":""},{"$f":"COUNT(M22,M23,M25)","v":0},{"$f":"COUNTIF(CY15:CY20,AY20)","v":3},{"$f":"AZ20-(BA20+BC20)","v":-6},{"$f":"COUNTIF(CZ15:CZ20,AY20)","v":3},{"$f":"SUM(J22:L22,J23:L23,J25:L25)","v":0},{"$f":"SUM(J18:L18,J21:L21,J23:L23)","v":0},{"$f":"BD20-BE20","v":0},{"$f":"IF(AZ20=0,0,BA20*2+BC20*1)","v":0},{"$f":"IF(BG20<=BG19,AY20,AY19)","v":""},{"$f":"VLOOKUP(BH20,AY17:BG20,9,FALSE)","v":0},{"$f":"IF(BI20<=BI18,BH20,BH18)","v":""},{"$f":"VLOOKUP(BJ20,AY17:BG20,9,FALSE)","v":0},{"$f":"IF(BK20<=BK17,BJ20,BJ17)","v":""},{"$f":"VLOOKUP(BL20,AY17:BG20,9,FALSE)","v":0},{"$f":"VLOOKUP(BL20,AY17:BG20,8,FALSE)","v":0},{"$f":"IF(AND(BM19=BM20,BN20>BN19),BL19,BL20)","v":""},{"$f":"VLOOKUP(BO20,AY17:BG20,9,FALSE)","v":0},{"$f":"VLOOKUP(BO20,AY17:BG20,8,FALSE)","v":0},{"$f":"IF(AND(BP18=BP20,BQ20>BQ18),BO18,BO20)","v":""},{"$f":"VLOOKUP(BR20,AY17:BG20,9,FALSE)","v":0},{"$f":"VLOOKUP(BR20,AY17:BG20,8,FALSE)","v":0},{"$f":"IF(AND(BS17=BS20,BT20>BT17),BR17,BR20)","v":""},{"$f":"VLOOKUP(BU20,AY17:BG20,9,FALSE)","v":0},{"$f":"VLOOKUP(BU20,AY17:BG20,8,FALSE)","v":0},{"$f":"VLOOKUP(BU20,AY17:BG20,6,FALSE)","v":0},{"$f":"IF(AND(BV19=BV20,BW19=BW20,BX20>BX19),BU19,BU20)","v":""},{"$f":"VLOOKUP(BY20,AY17:BG20,9,FALSE)","v":0},{"$f":"VLOOKUP(BY20,AY17:BG20,8,FALSE)","v":0},{"$f":"VLOOKUP(BY20,AY17:BG20,6,FALSE)","v":0},{"$f":"IF(AND(BZ18=BZ20,CA18=CA20,CB20>CB18),BY18,BY20)","v":""},{"$f":"VLOOKUP(CC20,AY17:BG20,9,FALSE)","v":0},{"$f":"VLOOKUP(CC20,AY17:BG20,8,FALSE)","v":0},{"$f":"VLOOKUP(CC20,AY17:BG20,6,FALSE)","v":0},{"$f":"IF(AND(CD17=CD20,CE17=CE20,CF20>CF17),CC17,CC20)","v":""},{"$f":"VLOOKUP(CG20,AY17:BG20,9,FALSE)","v":0},{"$f":"VLOOKUP(CG20,AY17:BG20,8,FALSE)","v":0},{"$f":"VLOOKUP(CG20,AY17:BG20,6,FALSE)","v":0},null,null,null,{"$f":"CG20","v":""},{"$f":"VLOOKUP(CN20,AY17:BG20,2,FALSE)","v":0},{"$f":"VLOOKUP(CN20,AY17:BG20,3,FALSE)","v":3},{"$f":"VLOOKUP(CN20,AY17:BG20,4,FALSE)","v":-6},{"$f":"VLOOKUP(CN20,AY17:BG20,5,FALSE)","v":3},{"$f":"VLOOKUP(CN20,AY17:BG20,6,FALSE)","v":0},{"$f":"VLOOKUP(CN20,AY17:BG20,7,FALSE)","v":0},{"$f":"VLOOKUP(CN20,AY17:BG20,8,FALSE)","v":0},{"$f":"VLOOKUP(CN20,AY17:BG20,9,FALSE)","v":0},null,null,{"$f":"IF(G26<>\"\",IF(G26>G25,C26,IF(G25>G26,C25,\"Empate\")),\"\")","v":"Violeta Pshenychnicova (DP)"},{"$f":"IF(G26<>\"\",IF(G26<G25,C26,IF(G25<G26,C25,\"Empate\")),\"\")","v":"Maira Kaushik (DP)"}]
[null,{"$f":"$A$4","v":"SS-InfA"},{"$f":"AY18","v":"Maira Kaushik (DP)"},8,11,5,{"$f":"IF(ISBLANK(D21),\"\",SUM(IF(D21>D22,1,0)+(IF(E21>E22,1,0)+(IF(F21>F22,1,0)))))","v":1},{"$f":"$A$4","v":"SS-InfA"},{"$f":"IF(I22=\"\",\"\",AY19)","v":""},null,null,null,{"$f":"IF(ISBLANK(J21),\"\",SUM(IF(J21>J22,1,0)+(IF(K21>K22,1,0)+(IF(L21>L22,1,0)))))","v":""}]
[null,{"$f":"H11+1","v":3},{"$f":"AY17","v":"Jessica Rochefort (DP)"},11,10,9,{"$f":"IF(ISBLANK(D21),\"\",SUM(IF(D22>D21,1,0)+(IF(E22>E21,1,0)+(IF(F22>F21,1,0)))))","v":2},{"$f":"B22+1","v":4},{"$f":"AY20","v":""},null,null,null,{"$f":"IF(ISBLANK(J21),\"\",SUM(IF(J22>J21,1,0)+(IF(K22>K21,1,0)+(IF(L22>L21,1,0)))))","v":""},11]
[null,{"$f":"$A$4","v":"SS-InfA"},{"$f":"AY17","v":"Jessica Rochefort (DP)"},9,11,8,{"$f":"IF(ISBLANK(D23),\"\",SUM(IF(D23>D24,1,0)+(IF(E23>E24,1,0)+(IF(F23>F24,1,0)))))","v":1},{"$f":"$A$4","v":"SS-InfA"},{"$f":"AY20","v":""},null,null,null,{"$f":"IF(ISBLANK(J23),\"\",SUM(IF(J23>J24,1,0)+(IF(K23>K24,1,0)+(IF(L23>L24,1,0)))))","v":""},6,null,"Jogo Nº",{"$f":"CONCATENATE($A$4,\" \",SUM(H26+2))","v":"SS-InfA 14"}]
[null,{"$f":"H13+1","v":7},{"$f":"AY19","v":"Violeta Pshenychnicova (DP)"},11,9,9,{"$f":"IF(ISBLANK(D23),\"\",SUM(IF(D24>D23,1,0)+(IF(E24>E23,1,0)+(IF(F24>F23,1,0)))))","v":2},{"$f":"B24+1","v":8},{"$f":"IF(I23=\"\",\"\",AY18)","v":""},null,null,null,{"$f":"IF(ISBLANK(J23),\"\",SUM(IF(J24>J23,1,0)+(IF(K24>K23,1,0)+(IF(L24>L23,1,0)))))","v":""},null,3,{"$f":"VLOOKUP(O24,AX54:AY57,2,FALSE)","v":"Leonor Guerreiro (DP)"},9,9,null,{"$f":"IF(ISBLANK(Q24),\"\",SUM(IF(Q24>Q25,1,0)+(IF(R24>R25,1,0)+(IF(S24>S25,1,0)))))","v":2}]
[null,{"$f":"$A$4","v":"SS-InfA"},{"$f":"AY19","v":"Violeta Pshenychnicova (DP)"},11,11,null,{"$f":"IF(ISBLANK(D25),\"\",SUM(IF(D25>D26,1,0)+(IF(E25>E26,1,0)+(IF(F25>F26,1,0)))))","v":2},{"$f":"$A$4","v":"SS-InfA"},{"$f":"AY20","v":""},null,null,null,{"$f":"IF(ISBLANK(J25),\"\",SUM(IF(J25>J26,1,0)+(IF(K25>K26,1,0)+(IF(L25>L26,1,0)))))","v":""},7,2,{"$f":"VLOOKUP(O25,AX54:AY57,2,FALSE)","v":"Violeta Pshenychnicova (DP)"},6,4,null,{"$f":"IF(ISBLANK(Q24),\"\",SUM(IF(Q25>Q24,1,0)+(IF(R25>R24,1,0)+(IF(S25>S24,1,0)))))","v":0}]
[null,{"$f":"H15+1","v":11},{"$f":"AY18","v":"Maira Kaushik (DP)"},6,9,null,{"$f":"IF(ISBLANK(D25),\"\",SUM(IF(D26>D25,1,0)+(IF(E26>E25,1,0)+(IF(F26>F25,1,0)))))","v":0},{"$f":"B26+1","v":12},{"$f":"IF(I25=\"\",\"\",AY17)","v":""},null,null,null,{"$f":"IF(ISBLANK(J25),\"\",SUM(IF(J26>J25,1,0)+(IF(K26>K25,1,0)+(IF(L26>L25,1,0)))))","v":""},10]
[]
[null,null,null,null,null,null,null,null,null,null,null,null,null,15]
[null,null,null,null,null,null,null,null,null,null,null,null,null,2]
[]
[null,"Classificações 1ª Fase",null,null,null,null,null,null,null,null,null,null,null,null,null,"Jogadores",null,null,null,null,null,null,null,null,null,null,null,null,null,"Ranking"]
[null,null,null,null,null,null,null,null,null,null,null,null,"#",null,"NºJ","Nome (1º e último)",null,null,null,null,null,null,"Escola","Abv.*",null,null,null,"Cl.",null,"Jogadores","Pt."]
[null,"Grupo A",null,null,null,null,null,"Grupo B",null,null,null,null,1,null,{"$f":"IF(DE4=\"\",\"\",DE4)","v":""},{"$f":"IF(DF4=\"\",\"\",IF(DF4=\"Bye\",\"Bye\",CONCATENATE(DF4,\" \",\"(\",DH4,\")\")))","v":"Laura Grade (ACV)"},null,null,null,null,null,null,{"$f":"IF(DG4=\"\",\"\",DG4)","v":"ACav.Silva"},"ACV",null,null,null,"1º",null,{"$f":"IF(AA17=AA18,\"\",IF(AA17>AA18,W17,W18))","v":"Polina Lesyuk (DP)"},12]
[null,null,null,null,null,null,null,null,null,null,null,null,2,null,"","Jessica Rochefort (DP)",null,null,null,null,null,null,"DPacheco","DP",2007,"Infantis A",null,"2º",null,{"$f":"IF(AA17=AA18,\"\",IF(AA17<AA18,W17,W18))","v":"Leonor Guerreiro (DP)"},11]
[null,{"$f":"AL8","v":"Cl"},"Jogadores",{"$f":"AU8","v":"Pt."},null,null,null,{"$f":"AL16","v":"Cl"},"Jogadores",{"$f":"AU16","v":"Pt."},null,null,3,null,"","Leonor Guerreiro (DP)",null,null,null,null,null,null,"DPacheco","DP",2007,"Infantis A",null,"3º",null,{"$f":"IF(T17=T18,\"\",IF(T18<T17,P17,P18))","v":"Violeta Pshenychnicova (DP)"},10]
[null,"1º","Polina Lesyuk (DP)",{"$f":"AU9","v":4},null,null,null,"1º","Violeta Pshenychnicova (DP)",{"$f":"AU17","v":4},null,null,4,null,"","Maira Kaushik (DP)",null,null,null,null,null,null,"DPacheco","DP",2007,"Infantis A",null,"4º",null,{"$f":"IF(T17=T18,\"\",IF(T18<T17,P18,P17))","v":"Jessica Rochefort (DP)"},10]
[null,"2º","Leonor Guerreiro (DP)",{"$f":"AU10","v":3},null,null,null,"2º","Jessica Rochefort (DP)",{"$f":"AU18","v":3},null,null,5,null,"","Polina Lesyuk (DP)",null,null,null,null,null,null,"DPacheco","DP",2007,"Infantis A",null,"5º",null,{"$f":"AY58","v":"Laura Grade (ACV)"},8]
[null,"3º","Laura Grade (ACV)",{"$f":"AU11","v":2},null,null,null,"3º","Maira Kaushik (DP)",{"$f":"AU19","v":2},null,null,6,null,"","Violeta Pshenychnicova (DP)",null,null,null,null,null,null,"DPacheco","DP",2007,"Infantis A",null,"6º",null,{"$f":"AY59","v":"Maira Kaushik (DP)"},8,null,null,null,null,null,null,null,null,null,null,null,null,null,null,null,null,null,null,null,"3 Grupos 6 a 8"]
[null,"","",{"$f":"AU12","v":""},null,null,null,"","",{"$f":"AU20","v":""},null,null,7,null,"","",null,null,null,null,null,null,"","","","",null,"7º",null,{"$f":"AY60","v":""},8,null,null,null,null,null,null,null,null,null,null,null,null,null,null,null,null,null,null,"A1",{"$f":"IF(DF4=\"\",\"\",CONCATENATE(DF4,\" (\",DH4,\")\"))","v":"Laura Grade (ACV)"}]
[null,null,null,null,null,null,null,null,null,null,null,null,8,null,"","",null,null,null,null,null,null,"","","","",null,"8º",null,{"$f":"AY61","v":""},8,null,null,null,null,null,null,null,null,null,null,null,null,null,null,null,null,null,null,"B1","Jessica Rochefort (DP)"]
[null,null,null,null,null,null,null,null,null,null,null,null,null,null,null,null,null,null,null,null,null,null,null,null,null,null,null,null,null,null,null,null,null,null,null,null,null,null,null,null,null,null,null,null,null,null,null,null,null,"A2","Leonor Guerreiro (DP)"]
[null,null,null,null,null,null,null,null,null,null,null,null,null,null,null,null,null,null,null,null,null,null,null,null,null,null,null,null,null,null,null,null,null,null,null,null,null,null,null,null,null,null,null,null,null,null,null,null,null,"B2","Maira Kaushik (DP)"]
[null,null,null,null,null,null,null,null,null,null,null,null,null,null,null,null,null,null,null,null,null,null,null,null,null,null,null,null,null,null,null,null,null,null,null,null,null,null,null,null,null,null,null,null,null,null,null,null,null,"A3","Polina Lesyuk (DP)"]
[null,null,null,null,null,null,null,null,null,null,null,null,null,null,null,null,null,null,null,null,null,null,null,null,null,null,null,null,null,null,null,null,null,null,null,null,null,null,null,null,null,null,null,null,null,null,null,null,null,"B3","Violeta Pshenychnicova (DP)"]
[null,null,null,null,null,null,null,null,null,null,null,null,null,null,null,null,null,null,null,null,null,null,null,null,null,null,null,null,null,null,null,null,null,null,null,null,null,null,null,null,null,null,null,null,null,null,null,null,null,"A4",""]
[null,null,null,null,null,null,null,null,null,null,null,null,null,null,null,null,null,null,null,null,null,null,null,null,null,null,null,null,null,null,null,null,null,null,null,null,null,null,null,null,null,null,null,null,null,null,null,null,null,"B4",""]
[null,null,null,null,null,null,null,null,null,null,null,null,null,null,null,null,null,null,null,null,null,null,null,null,null,null,null,null,null,null,null,null,null,null,null,null,null,null,null,null,null,null,null,null,null,null,null,null,null,null,{"$f":"IF(DJ12=\"\",\"\",IF($DJ$15=\"\",DJ12,\"\"))","v":""}]
[null,null,null,null,null,null,null,null,null,null,null,null,null,null,null,null,null,null,null,null,null,null,null,null,null,null,null,null,null,null,null,null,null,null,null,null,null,null,null,null,null,null,null,null,null,null,null,null,null,null,{"$f":"IF(DJ13=\"\",\"\",IF($DJ$15=\"\",DJ13,\"\"))","v":""}]
[null,null,null,null,null,null,null,null,null,null,null,null,null,null,null,null,null,null,null,null,null,null,null,null,null,null,null,null,null,null,null,null,null,null,null,null,null,null,null,null,null,null,null,null,null,null,null,null,null,null,{"$f":"IF(DJ14=\"\",\"\",IF($DJ$15=\"\",DJ14,\"\"))","v":""}]
[]
[null,null,null,null,null,null,null,null,null,null,null,null,null,null,null,null,null,null,null,null,null,null,null,null,null,null,null,null,null,null,null,null,null,null,null,null,null,null,null,null,null,null,null,null,null,null,null,null,null,null,{"$f":"COUNTA(DF4:DF11)","v":6},null,null,"ABV","Nome"]
[null,null,null,null,null,null,null,null,null,null,null,null,null,null,null,null,null,null,null,null,null,null,null,null,null,null,null,null,null,null,null,null,null,null,null,null,null,null,null,null,null,null,null,null,null,null,null,null,null,null,null,null,null,"EM-Juv","Equipas Mistas - Juvenis"]
[null,null,null,null,null,null,null,null,null,null,null,null,null,null,null,null,null,null,null,null,null,null,null,null,null,null,null,null,null,null,null,null,null,null,null,null,null,null,null,null,null,null,null,null,null,null,null,null,null,null,"Class 9 e 10",null,null,"PH-InfA","Pares Homens - Infantis A"]
[null,null,null,null,null,null,null,null,null,null,null,null,null,null,null,null,null,null,null,null,null,null,null,null,null,null,null,null,null,null,null,null,null,null,null,null,null,null,null,null,null,null,null,null,null,null,null,null,null,1,{"$f":"IF(D25=\"\",\"1º Grupo A\",AM9)","v":"Polina Lesyuk (DP)"},null,null,"PH-InfB","Pares Homens - Infantis B"]
[null,null,null,null,null,null,null,null,null,null,null,null,null,null,null,null,null,null,null,null,null,null,null,null,null,null,null,null,null,null,null,null,null,null,null,null,null,null,null,null,null,null,null,null,null,null,null,null,null,2,{"$f":"IF(D25=\"\",\"1º Grupo B\",AM17)","v":"Violeta Pshenychnicova (DP)"},null,null,"PH-Ini","Pares Homens - Iniciados"]
[null,"Tabela para 8 a 16 Jogadores",null,null,null,null,null,null,null,null,null,null,null,null,null,null,null,null,null,null,null,null,null,null,null,null,null,null,null,null,null,null,null,null,null,null,null,null,null,null,null,null,null,null,null,null,null,null,null,3,{"$f":"IF(D25=\"\",\"2º Grupo A\",AM10)","v":"Leonor Guerreiro (DP)"},null,null,"PH-Jun","Pares Homens - Juniores"]
[null,"Nº Jog","Grupos","Apurados 2ª Fase",null,null,null,null,null,null,null,null,null,null,null,null,null,null,null,null,null,null,null,null,null,null,null,null,null,null,null,null,null,null,null,null,null,null,null,null,null,null,null,null,null,null,null,null,null,4,{"$f":"IF(D25=\"\",\"2º Grupo B\",AM18)","v":"Jessica Rochefort (DP)"},null,null,"PH-Juv","Pares Homens - Juvenis"]
[null,9,"3 Grupos: 3+3+3","2 Primeiros + 2 melhores 3º",null,null,null,null,null,null,null,null,null,null,null,null,null,null,null,null,null,null,null,null,null,null,null,null,null,null,null,null,null,null,null,null,null,null,null,null,null,null,null,null,null,null,null,null,null,5,{"$f":"IF(D25=\"\",\"3º Grupo A\",AM11)","v":"Laura Grade (ACV)"},null,null,"PM-Ini","Pares Mistos - Iniciados"]
[null,10,"3 Grupos: 4+3+3","2 Primeiros + 2 melhores 3º",null,null,null,null,null,null,null,null,null,null,null,null,null,null,null,null,null,null,null,null,null,null,null,null,null,null,null,null,null,null,null,null,null,null,null,null,null,null,null,null,null,null,null,null,null,6,{"$f":"IF(D25=\"\",\"3º Grupo B\",AM19)","v":"Maira Kaushik (DP)"},null,null,"PS-InfA","Pares Senhoras - Infantis A"]
[null,11,"3 Grupos: 4+4+3","2 Primeiros + 3º grupos de 4",null,null,null,null,null,null,null,null,null,null,null,null,null,null,null,null,null,null,null,null,null,null,null,null,null,null,null,null,null,null,null,null,null,null,null,null,null,null,null,null,null,null,null,null,null,7,{"$f":"IF(D25=\"\",\"4º Grupo A\",AM12)","v":""},null,null,"PS-InfB","Pares Senhoras - Infantis B"]
[null,12,"4 Grupos: 3+3+3+3","2 Primeiros de cada Grupo",null,null,null,null,null,null,null,null,null,null,null,null,null,null,null,null,null,null,null,null,null,null,null,null,null,null,null,null,null,null,null,null,null,null,null,null,null,null,null,null,null,null,null,null,null,8,{"$f":"IF(D25=\"\",\"4º Grupo B\",AM20)","v":""},null,null,"PS-Ini","Pares Senhoras - Iniciados"]
[null,13,"4 Grupos: 4+3+3+3","2 Primeiros de cada Grupo",null,null,null,null,null,null,null,null,null,null,null,null,null,null,null,null,null,null,null,null,null,null,null,null,null,null,null,null,null,null,null,null,null,null,null,null,null,null,null,null,null,null,null,null,null,null,null,null,null,"PS-Jun","Pares Senhoras - Juniores"]
[null,14,"4 Grupos: 4+4+3+3","2 Primeiros de cada Grupo",null,null,null,null,null,null,null,null,null,null,null,null,null,null,null,null,null,null,null,null,null,null,null,null,null,null,null,null,null,null,null,null,null,null,null,null,null,null,null,null,null,null,null,null,null,null,null,null,null,"PS-Juv","Pares Senhoras - Juvenis"]
[null,15,"4 Grupos: 4+4+4+3","2 Primeiros de cada Grupo",null,null,null,null,null,null,null,null,null,null,null,null,null,null,null,null,null,null,null,null,null,null,null,null,null,null,null,null,null,null,null,null,null,null,null,null,null,null,null,null,null,null,null,null,null,null,null,null,null,"SH-InfA","Singulares Homens - Infantis A"]
[null,16,"4 Grupos: 4+4+4+4","2 Primeiros de cada Grupo",null,null,null,null,null,null,null,null,null,null,null,null,null,null,null,null,null,null,null,null,null,null,null,null,null,null,null,null,null,null,null,null,null,null,null,null,null,null,null,null,null,null,null,null,null,null,null,null,null,"SH-InfB","Singulares Homens - Infantis B"]
[null,null,null,null,null,null,null,null,null,null,null,null,null,null,null,null,null,null,null,null,null,null,null,null,null,null,null,null,null,null,null,null,null,null,null,null,null,null,null,null,null,null,null,null,null,null,null,null,null,null,null,null,null,"SH-Ini","Singulares Homens - Iniciados"]
[null,null,null,null,null,null,null,null,null,null,null,null,null,null,null,null,null,null,null,null,null,null,null,null,null,null,null,null,null,null,null,null,null,null,null,null,null,null,null,null,null,null,null,null,null,null,null,null,null,null,null,null,null,"SH-Jun","Singulares Homens - Juniores"]
[null,null,null,null,null,null,null,null,null,null,null,null,null,null,null,null,null,null,null,null,null,null,null,null,null,null,null,null,null,null,null,null,null,null,null,null,null,null,null,null,null,null,null,null,null,null,null,null,null,null,null,null,null,"SH-Juv","Singulares Homens - Juvenis"]
[null,null,null,null,null,null,null,null,null,null,null,null,null,null,null,null,null,null,null,null,null,null,null,null,null,null,null,null,null,null,null,null,null,null,null,null,null,null,null,null,null,null,null,null,null,null,null,null,null,null,null,null,null,"SS-InfA","Singulares Senhoras - Infantis A"]
[null,null,null,null,null,null,null,null,null,null,null,null,null,null,null,null,null,null,null,null,null,null,null,null,null,null,null,null,null,null,null,null,null,null,null,null,null,null,null,null,null,null,null,null,null,null,null,null,null,null,"Lista ",null,null,"SS-InfB","Singulares Senhoras - Infantis B"]
[null,null,null,null,null,null,null,null,null,null,null,null,null,null,null,null,null,null,null,null,null,null,null,null,null,null,null,null,null,null,null,null,null,null,null,null,null,null,null,null,null,null,null,null,null,null,null,null,null,null,0,null,null,"SS-Ini","Singulares Senhoras - Iniciados"]
[null,null,null,null,null,null,null,null,null,null,null,null,null,null,null,null,null,null,null,null,null,null,null,null,null,null,null,null,null,null,null,null,null,null,null,null,null,null,null,null,null,null,null,null,null,null,null,null,null,null,1,null,null,"SS-Jun","Singulares Senhoras - Juniores"]
[null,null,null,null,null,null,null,null,null,null,null,null,null,null,null,null,null,null,null,null,null,null,null,null,null,null,null,null,null,null,null,null,null,null,null,null,null,null,null,null,null,null,null,null,null,null,null,null,null,null,2,null,null,"SS-Juv","Singulares Senhoras - Juvenis"]
[null,null,null,null,null,null,null,null,null,null,null,null,null,null,null,null,null,null,null,null,null,null,null,null,null,null,null,null,null,null,null,null,null,null,null,null,null,null,null,null,null,null,null,null,null,null,null,null,null,null,3]
[null,null,null,null,null,null,null,null,null,null,null,null,null,null,null,null,null,null,null,null,null,null,null,null,null,null,null,null,null,null,null,null,null,null,null,null,null,null,null,null,null,null,null,null,null,null,null,null,null,null,4]
[null,null,null,null,null,null,null,null,null,null,null,null,null,null,null,null,null,null,null,null,null,null,null,null,null,null,null,null,null,null,null,null,null,null,null,null,null,null,null,null,null,null,null,null,null,null,null,null,null,null,5]
[null,null,null,null,null,null,null,null,null,null,null,null,null,null,null,null,null,null,null,null,null,null,null,null,null,null,null,null,null,null,null,null,null,null,null,null,null,null,null,null,null,null,null,null,null,null,null,null,null,null,6]
[null,null,null,null,null,null,null,null,null,null,null,null,null,null,null,null,null,null,null,null,null,null,null,null,null,null,null,null,null,null,null,null,null,null,null,null,null,null,null,null,null,null,null,null,null,null,null,null,null,null,7]
[null,null,null,null,null,null,null,null,null,null,null,null,null,null,null,null,null,null,null,null,null,null,null,null,null,null,null,null,null,null,null,null,null,null,null,null,null,null,null,null,null,null,null,null,null,null,null,null,null,null,8]
[null,null,null,null,null,null,null,null,null,null,null,null,null,null,null,null,null,null,null,null,null,null,null,null,null,null,null,null,null,null,null,null,null,null,null,null,null,null,null,null,null,null,null,null,null,null,null,null,null,null,9]
[null,null,null,null,null,null,null,null,null,null,null,null,null,null,null,null,null,null,null,null,null,null,null,null,null,null,null,null,null,null,null,null,null,null,null,null,null,null,null,null,null,null,null,null,null,null,null,null,null,null,10]
[null,null,null,null,null,null,null,null,null,null,null,null,null,null,null,null,null,null,null,null,null,null,null,null,null,null,null,null,null,null,null,null,null,null,null,null,null,null,null,null,null,null,null,null,null,null,null,null,null,null,11]
[null,null,null,null,null,null,null,null,null,null,null,null,null,null,null,null,null,null,null,null,null,null,null,null,null,null,null,null,null,null,null,null,null,null,null,null,null,null,null,null,null,null,null,null,null,null,null,null,null,null,12]
[null,null,null,null,null,null,null,null,null,null,null,null,null,null,null,null,null,null,null,null,null,null,null,null,null,null,null,null,null,null,null,null,null,null,null,null,null,null,null,null,null,null,null,null,null,null,null,null,null,null,13]
[null,null,null,null,null,null,null,null,null,null,null,null,null,null,null,null,null,null,null,null,null,null,null,null,null,null,null,null,null,null,null,null,null,null,null,null,null,null,null,null,null,null,null,null,null,null,null,null,null,null,14]
[null,null,null,null,null,null,null,null,null,null,null,null,null,null,null,null,null,null,null,null,null,null,null,null,null,null,null,null,null,null,null,null,null,null,null,null,null,null,null,null,null,null,null,null,null,null,null,null,null,null,15]
[null,null,null,null,null,null,null,null,null,null,null,null,null,null,null,null,null,null,null,null,null,null,null,null,null,null,null,null,null,null,null,null,null,null,null,null,null,null,null,null,null,null,null,null,null,null,null,null,null,null,16]
[null,null,null,null,null,null,null,null,null,null,null,null,null,null,null,null,null,null,null,null,null,null,null,null,null,null,null,null,null,null,null,null,null,null,null,null,null,null,null,null,null,null,null,null,null,null,null,null,null,null,17]
[null,null,null,null,null,null,null,null,null,null,null,null,null,null,null,null,null,null,null,null,null,null,null,null,null,null,null,null,null,null,null,null,null,null,null,null,null,null,null,null,null,null,null,null,null,null,null,null,null,null,18]
[null,null,null,null,null,null,null,null,null,null,null,null,null,null,null,null,null,null,null,null,null,null,null,null,null,null,null,null,null,null,null,null,null,null,null,null,null,null,null,null,null,null,null,null,null,null,null,null,null,null,19]
[null,null,null,null,null,null,null,null,null,null,null,null,null,null,null,null,null,null,null,null,null,null,null,null,null,null,null,null,null,null,null,null,null,null,null,null,null,null,null,null,null,null,null,null,null,null,null,null,null,null,20]
[null,null,null,null,null,null,null,null,null,null,null,null,null,null,null,null,null,null,null,null,null,null,null,null,null,null,null,null,null,null,null,null,null,null,null,null,null,null,null,null,null,null,null,null,null,null,null,null,null,null,21]
[null,null,null,null,null,null,null,null,null,null,null,null,null,null,null,null,null,null,null,null,null,null,null,null,null,null,null,null,null,null,null,null,null,null,null,null,null,null,null,null,null,null,null,null,null,null,null,null,null,null,22]
[null,null,null,null,null,null,null,null,null,null,null,null,null,null,null,null,null,null,null,null,null,null,null,null,null,null,null,null,null,null,null,null,null,null,null,null,null,null,null,null,null,null,null,null,null,null,null,null,null,null,23]
[null,null,null,null,null,null,null,null,null,null,null,null,null,null,null,null,null,null,null,null,null,null,null,null,null,null,null,null,null,null,null,null,null,null,null,null,null,null,null,null,null,null,null,null,null,null,null,null,null,null,24]
[null,null,null,null,null,null,null,null,null,null,null,null,null,null,null,null,null,null,null,null,null,null,null,null,null,null,null,null,null,null,null,null,null,null,null,null,null,null,null,null,null,null,null,null,null,null,null,null,null,null,25]
[null,null,null,null,null,null,null,null,null,null,null,null,null,null,null,null,null,null,null,null,null,null,null,null,null,null,null,null,null,null,null,null,null,null,null,null,null,null,null,null,null,null,null,null,null,null,null,null,null,null,26]
[null,null,null,null,null,null,null,null,null,null,null,null,null,null,null,null,null,null,null,null,null,null,null,null,null,null,null,null,null,null,null,null,null,null,null,null,null,null,null,null,null,null,null,null,null,null,null,null,null,null,27]
[null,null,null,null,null,null,null,null,null,null,null,null,null,null,null,null,null,null,null,null,null,null,null,null,null,null,null,null,null,null,null,null,null,null,null,null,null,null,null,null,null,null,null,null,null,null,null,null,null,null,28]
[null,null,null,null,null,null,null,null,null,null,null,null,null,null,null,null,null,null,null,null,null,null,null,null,null,null,null,null,null,null,null,null,null,null,null,null,null,null,null,null,null,null,null,null,null,null,null,null,null,null,29]
[null,null,null,null,null,null,null,null,null,null,null,null,null,null,null,null,null,null,null,null,null,null,null,null,null,null,null,null,null,null,null,null,null,null,null,null,null,null,null,null,null,null,null,null,null,null,null,null,null,null,30]
[null,null,null,null,null,null,null,null,null,null,null,null,null,null,null,null,null,null,null,null,null,null,null,null,null,null,null,null,null,null,null,null,null,null,null,null,null,null,null,null,null,null,null,null,null,null,null,null,null,null,"fc"]
[null,null,null,null,null,null,null,null,null,null,null,null,null,null,null,null,null,null,null,null,null,null,null,null,null,null,null,null,null,null,null,null,null,null,null,null,null,null,null,null,null,null,null,null,null,null,null,null,null,null,"v"]

{"sheet":"8","index":9,"n_rows":103,"n_cols":120,"rows_kept":103,"cut":false,"hidden":true,"merged":[[1,5,1,11],[11,111,18,115],[12,108,13,110],[15,108,16,110],[15,29,15,33],[16,29,17,33],[15,23,15,26],[18,15,18,19],[0,38,0,43],[1,107,1,117],[2,116,2,117],[0,14,2,28],[32,23,32,25],[32,27,32,28],[19,15,20,19],[19,0,25,0],[22,16,22,19],[4,3,4,5],[4,9,4,11],[3,8,3,12],[3,0,3,1],[3,2,3,7],[8,0,14,0],[32,7,33,10],[3,23,3,32],[3,15,3,22],[32,1,33,4],[31,23,31,25],[31,27,31,28],[30,1,31,10],[9,16,9,19],[33,27,33,28],[33,23,33,25],[35,3,35,4],[35,9,35,10],[35,23,35,25],[35,27,35,28],[34,3,34,4],[34,9,34,10],[34,23,34,25],[34,27,34,28],[36,3,36,4],[36,9,36,10],[36,23,36,25],[36,27,36,28],[37,3,37,4],[37,9,37,10],[37,23,37,25],[37,27,37,28],[39,23,39,25],[39,27,39,28],[38,3,38,4],[38,9,38,10],[38,23,38,25],[38,27,38,28]]}
[null,null,null,"Direcção Regional de Educação do Algarve",null,null,null,null,null,null,null,null,null,null,"Badminton",null,null,null,null,null,null,null,null,null,null,null,null,null,null,null,null,null,null,null,null,null,null,null,{"$f":"$C$4","v":"Pares Senhoras - Juvenis"},null,null,null,null,null,null,null,null,null,null,null,null,null,null,null,null,null,null,null,null,null,null,null,null,null,null,null,null,null,null,null,null,null,null,null,null,null,null,null,null,null,null,null,null,null,null,null,null,null,null,null,null,null,null,null,null,null,null,null,null,null,null,null,null,null,null,null,"ERRO de prenchimento da Lista de participantes"]
[null,null,null,null,null,{"$f":"\"Ano Lectivo \"&Apoio!F10","v":"Ano Lectivo 2017/2018"},null,null,null,null,null,null,null,null,null,null,null,null,null,null,null,null,null,null,null,null,null,null,null,null,null,null,null,null,null,null,null,null,null,null,null,null,null,null,null,null,null,null,null,null,null,null,null,null,null,null,null,null,null,null,null,null,null,null,null,null,null,null,null,null,null,null,null,null,null,null,null,null,null,null,null,null,null,null,null,null,null,null,null,null,null,null,null,null,null,null,null,null,null,null,null,null,null,null,null,null,{"$f":"SUM(DC4:DC11)","v":0},{"$f":"IF(DC2>0,\"ERRO DE PREENCHIMENTO\",\"Lista de Participantes\")","v":"Lista de Participantes"}]
[null,null,null,null,null,null,null,null,null,null,null,null,null,null,null,null,null,null,null,null,null,null,null,null,null,null,null,null,null,null,null,null,null,null,null,null,null,null,null,null,null,null,null,null,null,null,null,null,null,null,null,null,null,null,null,null,null,null,null,null,null,null,null,null,null,null,null,null,null,null,null,null,null,null,null,null,null,null,null,null,null,null,null,null,null,null,null,null,null,null,null,null,null,null,null,null,null,null,null,null,null,null,null,null,null,null,{"$f":"SUM(DC4:DC11)","v":0},"Ordem","Nº","Nome (1º e último)","Escola","Abv.","Ano Nasc.","Escalão","Sexo","Observações","Insc. Prova",null,"Pontos Rank"]
["PS-Juv",null,{"$f":"LOOKUP(A4,Apoio!N9:N39,Apoio!O9:O39)","v":"Pares Senhoras - Juvenis"},null,null,null,null,null,{"$f":"'Ficha de Inscrição'!$A$5","v":"Torneio Nº 4"},null,null,null,null,null,null,{"$f":"\"Escola: \"&'Ficha de Inscrição'!$D$4","v":"Escola: ACav.Silva"},null,null,null,null,null,null,null,{"$f":"'Ficha de Inscrição'!$J$4","v":"2018-01-17"},null,null,null,null,null,null,null,null,null,null,null,null,null,null,null,null,null,null,null,null,null,null,null,null,null,null,null,null,null,null,null,null,null,null,null,null,null,null,null,null,null,null,null,null,null,null,null,null,null,null,null,null,null,null,null,null,null,null,null,null,null,null,null,null,null,null,null,null,null,null,null,null,null,null,null,null,null,null,null,null,null,null,{"$f":"IF(ISBLANK(DF4),COUNTA(DF5:$DG$11),0)","v":0},1,null,null,null,null,null,null,null,null,null,null,{"$f":"IF(DF4=\"\",\"\",VLOOKUP(DP4,$AD$33:$AE$40,2,FALSE))","v":""},{"$f":"DF4&\" (\"&DH4&\")\"","v":" ()"}]
[null,"1ª FASE",null,"Set's",null,null,null,null,null,"Set's",null,null,null,null,null,"2ª FASE",null,null,null,null,null,null,null,null,null,null,null,null,null,null,null,null,null,null,null,null,null,null,"Classificação 1ª Fase",null,null,null,null,null,null,null,null,null,null,null,null,null,null,null,null,null,null,null,null,null,null,null,null,null,null,null,null,null,null,null,null,null,null,null,null,null,null,null,null,null,null,null,null,null,null,null,null,null,null,null,null,null,null,null,null,null,null,null,null,null,null,null,null,null,null,null,{"$f":"IF(ISBLANK(DF5),COUNTA(DF6:$DG$11),0)","v":0},2,null,null,null,null,null,null,null,null,null,null,{"$f":"IF(DF5=\"\",\"\",VLOOKUP(DP5,$AD$33:$AE$40,2,FALSE))","v":""},{"$f":"DF5&\" (\"&DH5&\")\"","v":" ()"}]
[null,null,null,null,null,null,null,null,null,null,null,null,null,null,null,"1/2 Final",null,null,null,null,null,null,"Final",null,null,null,null,null,null,null,null,null,null,null,null,null,null,null,null,null,null,null,null,null,null,null,null,null,null,null,"Colocar Equipas",null,null,null,null,null,null,null,null,"Ordenar p/ Pts 1",null,"Ordenar p/ Pts 2",null,"Ordenar p/ Pts 3",null,null,"Ordenar p/ DG 1",null,null,"Ordenar p/ DG 2",null,null,"Ordenar p/ DG 3",null,null,null,"Ordenar p/ GM 1",null,null,null,"Ordenar p/ GM 2",null,null,null,"Ordenar p/ GM 3",null,null,null,null,null,null,null,null,null,null,null,null,null,null,null,null,null,"Vencedores","Derrotados",null,null,{"$f":"IF(ISBLANK(DF6),COUNTA(DF7:$DG$11),0)","v":0},3,null,null,null,null,null,null,null,null,null,null,""," ()"]
[null,null,null,null,null,null,null,null,null,null,null,null,null,1,null,null,null,null,null,null,null,null,null,null,null,null,null,null,null,null,null,null,null,null,null,null,null,null,"Classificação Grupo A",null,null,null,null,null,null,null,null,null,null,null,"Grupo A",null,null,null,null,null,null,null,null,null,null,null,null,null,null,null,null,null,null,null,null,null,null,null,null,null,null,null,null,null,null,null,null,null,null,null,null,null,null,null,null,null,null,null,null,null,null,null,null,null,null,null,{"$f":"IF(G11<>\"\",IF(G11>G10,C11,IF(G10>G11,C10,\"Empate\")),\"\")","v":""},{"$f":"IF(G11<>\"\",IF(G11<G10,C11,IF(G10<G11,C10,\"Empate\")),\"\")","v":""},null,null,{"$f":"IF(ISBLANK(DF7),COUNTA(DF8:$DG$11),0)","v":0},4,null,null,null,null,null,null,null,null,null,null,""," ()"]
[null,null,null,null,null,null,null,null,null,null,null,null,null,16,null,null,null,null,null,null,null,null,null,null,null,null,null,null,null,null,null,null,null,null,null,null,null,"Cl",{"$f":"AY8","v":"Jogadores"},"Jg","V","E","D","PM","PS","DP","Pt.",null,null,null,"Jogadores","Jg","V","E","D","GM","GS","DG","Pts","Equipas","Pts","Equipas","Pts","Equipas","Pts","DG","Equipas","Pts","DG","Equipas","Pts","DG","Equipas","Pts","DG","GM","Equipas","Pts","DG","GM","Equipas","Pts","DG","GM","Equipas","Pts","DG","GM",null,null,null,"Equipas","Jg","V","D","E","GM","GS","DG","Pts",null,null,{"$f":"IF(M10<>\"\",IF(M10>M11,I10,IF(M11>M10,I11,\"Empate\")),\"\")","v":""},{"$f":"IF(M10<>\"\",IF(M10<M11,I10,IF(M11<M10,I11,\"Empate\")),\"\")","v":""},null,null,{"$f":"IF(ISBLANK(DF8),COUNTA(DF9:$DG$11),0)","v":0},5,null,null,null,null,null,null,null,null,null,null,""," ()"]
["Grupo A","NºJ","Jogadores",1,2,3,"R","NºJ","Jogadores",1,2,3,"R",null,null,null,null,null,null,null,null,null,null,null,null,null,null,null,null,null,null,null,null,null,null,null,null,{"$f":"IF(AM9=\"\",\"\",\"1º\")","v":""},{"$f":"CN9","v":""},{"$f":"IF(AM9=\"\",\"\",CO9)","v":""},{"$f":"IF(AM9=\"\",\"\",CP9)","v":""},{"$f":"CQ9","v":-12},{"$f":"IF(AM9=\"\",\"\",CR9)","v":""},{"$f":"IF(AM9=\"\",\"\",CS9)","v":""},{"$f":"IF(AM9=\"\",\"\",CT9)","v":""},{"$f":"IF(AM9=\"\",\"\",CU9)","v":""},{"$f":"IF(AM9=\"\",\"\",CV9)","v":""},1,1,1,{"$f":"IF(AY39=\"\",\"\",AY39)","v":""},{"$f":"COUNT(G11,G12,M15)","v":0},{"$f":"COUNTIF(CY7:CY12,AY9)","v":6},{"$f":"AZ9-(BA9+BC9)","v":-12},{"$f":"COUNTIF(CZ7:CZ12,AY9)","v":6},{"$f":"SUM(D11:F11,D12:F12,J15:L15)","v":0},{"$f":"SUM(D10:F10,D13:F13,J14:L14)","v":0},{"$f":"BD9-BE9","v":0},{"$f":"IF(AZ9=0,0,BA9*2+BC9*1)","v":0},{"$f":"IF(BG9>=BG10,AY9,AY10)","v":""},{"$f":"VLOOKUP(BH9,AY9:BG12,9,FALSE)","v":0},{"$f":"IF(BI9>=BI11,BH9,BH11)","v":""},{"$f":"VLOOKUP(BJ9,AY9:BG12,9,FALSE)","v":0},{"$f":"IF(BK9>=BK12,BJ9,BJ12)","v":""},{"$f":"VLOOKUP(BL9,AY9:BG12,9,FALSE)","v":0},{"$f":"VLOOKUP(BL9,AY9:BG12,8,FALSE)","v":0},{"$f":"IF(AND(BM9=BM10,BN10>BN9),BL10,BL9)","v":""},{"$f":"VLOOKUP(BO9,AY9:BG12,9,FALSE)","v":0},{"$f":"VLOOKUP(BO9,AY9:BG12,8,FALSE)","v":0},{"$f":"IF(AND(BP9=BP11,BQ11>BQ9),BO11,BO9)","v":""},{"$f":"VLOOKUP(BR9,AY9:BG12,9,FALSE)","v":0},{"$f":"VLOOKUP(BR9,AY9:BG12,8,FALSE)","v":0},{"$f":"IF(AND(BS9=BS12,BT12>BT9),BR12,BR9)","v":""},{"$f":"VLOOKUP(BU9,AY9:BG12,9,FALSE)","v":0},{"$f":"VLOOKUP(BU9,AY9:BG12,8,FALSE)","v":0},{"$f":"VLOOKUP(BU9,AY9:BG12,6,FALSE)","v":0},{"$f":"IF(AND(BV9=BV10,BW9=BW10,BX10>BX9),BU10,BU9)","v":""},{"$f":"VLOOKUP(BY9,AY9:BG12,9,FALSE)","v":0},{"$f":"VLOOKUP(BY9,AY9:BG12,8,FALSE)","v":0},{"$f":"VLOOKUP(BY9,AY9:BG12,6,FALSE)","v":0},{"$f":"IF(AND(BZ9=BZ11,CA9=CA11,CB11>CB9),BY11,BY9)","v":""},{"$f":"VLOOKUP(CC9,AY9:BG12,9,FALSE)","v":0},{"$f":"VLOOKUP(CC9,AY9:BG12,8,FALSE)","v":0},{"$f":"VLOOKUP(CC9,AY9:BG12,6,FALSE)","v":0},{"$f":"IF(AND(CD9=CD12,CE9=CE12,CF12>CF9),CC12,CC9)","v":""},{"$f":"VLOOKUP(CG9,AY9:BG12,9,FALSE)","v":0},{"$f":"VLOOKUP(CG9,AY9:BG12,8,FALSE)","v":0},{"$f":"VLOOKUP(CG9,AY9:BG12,6,FALSE)","v":0},null,null,null,{"$f":"CG9","v":""},{"$f":"VLOOKUP(CN9,AY9:BG12,2,FALSE)","v":0},{"$f":"VLOOKUP(CN9,AY9:BG12,3,FALSE)","v":6},{"$f":"VLOOKUP(CN9,AY9:BG12,4,FALSE)","v":-12},{"$f":"VLOOKUP(CN9,AY9:BG12,5,FALSE)","v":6},{"$f":"VLOOKUP(CN9,AY9:BG12,6,FALSE)","v":0},{"$f":"VLOOKUP(CN9,AY9:BG12,7,FALSE)","v":0},{"$f":"VLOOKUP(CN9,AY9:BG12,8,FALSE)","v":0},{"$f":"VLOOKUP(CN9,AY9:BG12,9,FALSE)","v":0},null,null,{"$f":"IF(G12<>\"\",IF(G12>G13,C12,IF(G13>G12,C13,\"Empate\")),\"\")","v":""},{"$f":"IF(G12<>\"\",IF(G12<G13,C12,IF(G13<G12,C13,\"Empate\")),\"\")","v":""},null,null,{"$f":"IF(ISBLANK(DF9),COUNTA(DF10:$DG$11),0)","v":0},6,null,null,null,null,null,null,null,null,null,null,""," ()"]
[null,{"$f":"$A$4","v":"PS-Juv"},{"$f":"AY10","v":""},null,null,null,{"$f":"IF(ISBLANK(D10),\"\",SUM(IF(D10>D11,1,0)+(IF(E10>E11,1,0)+(IF(F10>F11,1,0)))))","v":""},{"$f":"$A$4","v":"PS-Juv"},{"$f":"IF(I11=\"\",\"\",AY11)","v":""},null,null,null,{"$f":"IF(ISBLANK(J10),\"\",SUM(IF(J10>J11,1,0)+(IF(K10>K11,1,0)+(IF(L10>L11,1,0)))))","v":""},9,null,"Jogo Nº",{"$f":"CONCATENATE($A$4,\" \",SUM(H26+1))","v":"PS-Juv 13"},null,null,null,null,null,null,null,null,null,null,null,null,null,null,null,null,null,null,null,null,{"$f":"IF(AM10=\"\",\"\",\"2º\")","v":""},{"$f":"CN10","v":""},{"$f":"IF(AM10=\"\",\"\",CO10)","v":""},{"$f":"IF(AM10=\"\",\"\",CP10)","v":""},{"$f":"CQ10","v":-12},{"$f":"IF(AM10=\"\",\"\",CR10)","v":""},{"$f":"IF(AM10=\"\",\"\",CS10)","v":""},{"$f":"IF(AM10=\"\",\"\",CT10)","v":""},{"$f":"IF(AM10=\"\",\"\",CU10)","v":""},{"$f":"IF(AM10=\"\",\"\",CV10)","v":""},5,8,2,{"$f":"IF(AY41=\"\",\"\",AY41)","v":""},{"$f":"COUNT(G10,M13,G15)","v":0},{"$f":"COUNTIF(CY7:CY12,AY10)","v":6},{"$f":"AZ10-(BA10+BC10)","v":-12},{"$f":"COUNTIF(CZ7:CZ12,AY10)","v":6},{"$f":"SUM(D10:F10,J13:L13,D15:F15)","v":0},{"$f":"SUM(D11:F11,J12:L12,D14:F14)","v":0},{"$f":"BD10-BE10","v":0},{"$f":"IF(AZ10=0,0,BA10*2+BC10*1)","v":0},{"$f":"IF(BG10<=BG9,AY10,AY9)","v":""},{"$f":"VLOOKUP(BH10,AY9:BG12,9,FALSE)","v":0},{"$f":"IF(BI10>=BI12,BH10,BH12)","v":""},{"$f":"VLOOKUP(BJ10,AY9:BG12,9,FALSE)","v":0},{"$f":"IF(BK10>=BK11,BJ10,BJ11)","v":""},{"$f":"VLOOKUP(BL10,AY9:BG12,9,FALSE)","v":0},{"$f":"VLOOKUP(BL10,AY9:BG12,8,FALSE)","v":0},{"$f":"IF(AND(BM9=BM10,BN10>BN9),BL9,BL10)","v":""},{"$f":"VLOOKUP(BO10,AY9:BG12,9,FALSE)","v":0},{"$f":"VLOOKUP(BO10,AY9:BG12,8,FALSE)","v":0},{"$f":"IF(AND(BP10=BP12,BQ12>BQ10),BO12,BO10)","v":""},{"$f":"VLOOKUP(BR10,AY9:BG12,9,FALSE)","v":0},{"$f":"VLOOKUP(BR10,AY9:BG12,8,FALSE)","v":0},{"$f":"IF(AND(BS10=BS11,BT11>BT10),BR11,BR10)","v":""},{"$f":"VLOOKUP(BU10,AY9:BG12,9,FALSE)","v":0},{"$f":"VLOOKUP(BU10,AY9:BG12,8,FALSE)","v":0},{"$f":"VLOOKUP(BU10,AY9:BG12,6,FALSE)","v":0},{"$f":"IF(AND(BV9=BV10,BW9=BW10,BX10>BX9),BU9,BU10)","v":""},{"$f":"VLOOKUP(BY10,AY9:BG12,9,FALSE)","v":0},{"$f":"VLOOKUP(BY10,AY9:BG12,8,FALSE)","v":0},{"$f":"VLOOKUP(BY10,AY9:BG12,6,FALSE)","v":0},{"$f":"IF(AND(BZ10=BZ12,CA10=CA12,CB12>CB10),BY12,BY10)","v":""},{"$f":"VLOOKUP(CC10,AY9:BG12,9,FALSE)","v":0},{"$f":"VLOOKUP(CC10,AY9:BG12,8,FALSE)","v":0},{"$f":"VLOOKUP(CC10,AY9:BG12,6,FALSE)","v":0},{"$f":"IF(AND(CD10=CD11,CE10=CE11,CF11>CF10),CC11,CC10)","v":""},{"$f":"VLOOKUP(CG10,AY9:BG12,9,FALSE)","v":0},{"$f":"VLOOKUP(CG10,AY9:BG12,8,FALSE)","v":0},{"$f":"VLOOKUP(CG10,AY9:BG12,6,FALSE)","v":0},null,null,null,{"$f":"CG10","v":""},{"$f":"VLOOKUP(CN10,AY9:BG12,2,FALSE)","v":0},{"$f":"VLOOKUP(CN10,AY9:BG12,3,FALSE)","v":6},{"$f":"VLOOKUP(CN10,AY9:BG12,4,FALSE)","v":-12},{"$f":"VLOOKUP(CN10,AY9:BG12,5,FALSE)","v":6},{"$f":"VLOOKUP(CN10,AY9:BG12,6,FALSE)","v":0},{"$f":"VLOOKUP(CN10,AY9:BG12,7,FALSE)","v":0},{"$f":"VLOOKUP(CN10,AY9:BG12,8,FALSE)","v":0},{"$f":"VLOOKUP(CN10,AY9:BG12,9,FALSE)","v":0},null,null,{"$f":"IF(M12<>\"\",IF(M12>M13,I12,IF(M13>M12,I13,\"Empate\")),\"\")","v":""},{"$f":"IF(M12<>\"\",IF(M12<M13,I12,IF(M13<M12,I13,\"Empate\")),\"\")","v":""},null,null,{"$f":"IF(ISBLANK(DF10),COUNTA(DF11:$DG$11),0)","v":0},7,null,null,null,null,null,null,null,null,null,null,""," ()"]
[null,1,{"$f":"AY9","v":""},null,null,null,{"$f":"IF(ISBLANK(D10),\"\",SUM(IF(D11>D10,1,0)+(IF(E11>E10,1,0)+(IF(F11>F10,1,0)))))","v":""},{"$f":"B11+1","v":2},{"$f":"AY12","v":""},null,null,null,{"$f":"IF(ISBLANK(J10),\"\",SUM(IF(J11>J10,1,0)+(IF(K11>K10,1,0)+(IF(L11>L10,1,0)))))","v":""},8,1,{"$f":"VLOOKUP(O11,AX54:AY57,2,FALSE)","v":"1º Grupo A"},null,null,null,{"$f":"IF(ISBLANK(Q11),\"\",SUM(IF(Q11>Q12,1,0)+(IF(R11>R12,1,0)+(IF(S11>S12,1,0)))))","v":""},null,null,null,null,null,null,null,null,null,null,null,null,null,null,null,null,null,{"$f":"IF(AM11=\"\",\"\",\"3º\")","v":""},{"$f":"CN11","v":""},{"$f":"IF(AM11=\"\",\"\",CO11)","v":""},{"$f":"IF(AM11=\"\",\"\",CP11)","v":""},{"$f":"CQ11","v":-12},{"$f":"IF(AM11=\"\",\"\",CR11)","v":""},{"$f":"IF(AM11=\"\",\"\",CS11)","v":""},{"$f":"IF(AM11=\"\",\"\",CT11)","v":""},{"$f":"IF(AM11=\"\",\"\",CU11)","v":""},{"$f":"IF(AM11=\"\",\"\",CV11)","v":""},7.8,5,3,{"$f":"IF(AY43=\"\",\"\",AY43)","v":""},{"$f":"COUNT(M10,G13,G14)","v":0},{"$f":"COUNTIF(CY7:CY12,AY11)","v":6},{"$f":"AZ11-(BA11+BC11)","v":-12},{"$f":"COUNTIF(CZ7:CZ12,AY11)","v":6},{"$f":"SUM(J10:L10,D13:F13,D14:F14)","v":0},{"$f":"SUM(J11:L11,D12:F12,D15:F15)","v":0},{"$f":"BD11-BE11","v":0},{"$f":"IF(AZ11=0,0,BA11*2+BC11*1)","v":0},{"$f":"IF(BG11>=BG12,AY11,AY12)","v":""},{"$f":"VLOOKUP(BH11,AY9:BG12,9,FALSE)","v":0},{"$f":"IF(BI11<=BI9,BH11,BH9)","v":""},{"$f":"VLOOKUP(BJ11,AY9:BG12,9,FALSE)","v":0},{"$f":"IF(BK11<=BK10,BJ11,BJ10)","v":""},{"$f":"VLOOKUP(BL11,AY9:BG12,9,FALSE)","v":0},{"$f":"VLOOKUP(BL11,AY9:BG12,8,FALSE)","v":0},{"$f":"IF(AND(BM11=BM12,BN12>BN11),BL12,BL11)","v":""},{"$f":"VLOOKUP(BO11,AY9:BG12,9,FALSE)","v":0},{"$f":"VLOOKUP(BO11,AY9:BG12,8,FALSE)","v":0},{"$f":"IF(AND(BP9=BP11,BQ11>BQ9),BO9,BO11)","v":""},{"$f":"VLOOKUP(BR11,AY9:BG12,9,FALSE)","v":0},{"$f":"VLOOKUP(BR11,AY9:BG12,8,FALSE)","v":0},{"$f":"IF(AND(BS10=BS11,BT11>BT10),BR10,BR11)","v":""},{"$f":"VLOOKUP(BU11,AY9:BG12,9,FALSE)","v":0},{"$f":"VLOOKUP(BU11,AY9:BG12,8,FALSE)","v":0},{"$f":"VLOOKUP(BU11,AY9:BG12,6,FALSE)","v":0},{"$f":"IF(AND(BV11=BV12,BW11=BW12,BX12>BX11),BU12,BU11)","v":""},{"$f":"VLOOKUP(BY11,AY9:BG12,9,FALSE)","v":0},{"$f":"VLOOKUP(BY11,AY9:BG12,8,FALSE)","v":0},{"$f":"VLOOKUP(BY11,AY9:BG12,6,FALSE)","v":0},{"$f":"IF(AND(BZ9=BZ11,CA9=CA11,CB10>CB9),BY9,BY11)","v":""},{"$f":"VLOOKUP(CC11,AY9:BG12,9,FALSE)","v":0},{"$f":"VLOOKUP(CC11,AY9:BG12,8,FALSE)","v":0},{"$f":"VLOOKUP(CC11,AY9:BG12,6,FALSE)","v":0},{"$f":"IF(AND(CD10=CD11,CE10=CE11,CF11>CF10),CC10,CC11)","v":""},{"$f":"VLOOKUP(CG11,AY9:BG12,9,FALSE)","v":0},{"$f":"VLOOKUP(CG11,AY9:BG12,8,FALSE)","v":0},{"$f":"VLOOKUP(CG11,AY9:BG12,6,FALSE)","v":0},null,null,null,{"$f":"CG11","v":""},{"$f":"VLOOKUP(CN11,AY9:BG12,2,FALSE)","v":0},{"$f":"VLOOKUP(CN11,AY9:BG12,3,FALSE)","v":6},{"$f":"VLOOKUP(CN11,AY9:BG12,4,FALSE)","v":-12},{"$f":"VLOOKUP(CN11,AY9:BG12,5,FALSE)","v":6},{"$f":"VLOOKUP(CN11,AY9:BG12,6,FALSE)","v":0},{"$f":"VLOOKUP(CN11,AY9:BG12,7,FALSE)","v":0},{"$f":"VLOOKUP(CN11,AY9:BG12,8,FALSE)","v":0},{"$f":"VLOOKUP(CN11,AY9:BG12,9,FALSE)","v":0},null,null,{"$f":"IF(M14<>\"\",IF(M14>M15,I14,IF(M15>M14,I15,\"Empate\")),\"\")","v":""},{"$f":"IF(M14<>\"\",IF(M14<M15,I14,IF(M15<M14,I15,\"Empate\")),\"\")","v":""},null,null,{"$f":"IF(ISBLANK(DF11),COUNTA(DF$11:$DG12),0)","v":0},8,null,null,null,null,null,null,null,null,null,null,""," ()"]
[null,{"$f":"$A$4","v":"PS-Juv"},{"$f":"AY9","v":""},null,null,null,{"$f":"IF(ISBLANK(D12),\"\",SUM(IF(D12>D13,1,0)+(IF(E12>E13,1,0)+(IF(F12>F13,1,0)))))","v":""},{"$f":"$A$4","v":"PS-Juv"},{"$f":"AY12","v":""},null,null,null,{"$f":"IF(ISBLANK(J12),\"\",SUM(IF(J12>J13,1,0)+(IF(K12>K13,1,0)+(IF(L12>L13,1,0)))))","v":""},null,4,{"$f":"VLOOKUP(O12,AX54:AY57,2,FALSE)","v":"2º Grupo B"},null,null,null,{"$f":"IF(ISBLANK(Q11),\"\",SUM(IF(Q12>Q11,1,0)+(IF(R12>R11,1,0)+(IF(S12>S11,1,0)))))","v":""},null,null,null,null,null,null,null,null,null,null,null,null,null,null,null,null,null,{"$f":"IF(AM12=\"\",\"\",\"4º\")","v":""},{"$f":"CN12","v":""},{"$f":"IF(AM12=\"\",\"\",CO12)","v":""},{"$f":"IF(AM12=\"\",\"\",CP12)","v":""},{"$f":"CQ12","v":-12},{"$f":"IF(AM12=\"\",\"\",CR12)","v":""},{"$f":"IF(AM12=\"\",\"\",CS12)","v":""},{"$f":"IF(AM12=\"\",\"\",CT12)","v":""},{"$f":"IF(AM12=\"\",\"\",CU12)","v":""},{"$f":"IF(AM12=\"\",\"\",CV12)","v":""},null,4,4,{"$f":"IF(AY45=\"\",\"\",AY45)","v":""},{"$f":"COUNT(M11,M12,M14)","v":0},{"$f":"COUNTIF(CY7:CY12,AY12)","v":6},{"$f":"AZ12-(BA12+BC12)","v":-12},{"$f":"COUNTIF(CZ7:CZ12,AY12)","v":6},{"$f":"SUM(J11:L11,J12:L12,J14:L14)","v":0},{"$f":"SUM(J10:L10,J13:L13,J15:L15)","v":0},{"$f":"BD12-BE12","v":0},{"$f":"IF(AZ12=0,0,BA12*2+BC12*1)","v":0},{"$f":"IF(BG12<=BG11,AY12,AY11)","v":""},{"$f":"VLOOKUP(BH12,AY9:BG12,9,FALSE)","v":0},{"$f":"IF(BI12<=BI10,BH12,BH10)","v":""},{"$f":"VLOOKUP(BJ12,AY9:BG12,9,FALSE)","v":0},{"$f":"IF(BK12<=BK9,BJ12,BJ9)","v":""},{"$f":"VLOOKUP(BL12,AY9:BG12,9,FALSE)","v":0},{"$f":"VLOOKUP(BL12,AY9:BG12,8,FALSE)","v":0},{"$f":"IF(AND(BM11=BM12,BN12>BN11),BL11,BL12)","v":""},{"$f":"VLOOKUP(BO12,AY9:BG12,9,FALSE)","v":0},{"$f":"VLOOKUP(BO12,AY9:BG12,8,FALSE)","v":0},{"$f":"IF(AND(BP10=BP12,BQ12>BQ10),BO10,BO12)","v":""},{"$f":"VLOOKUP(BR12,AY9:BG12,9,FALSE)","v":0},{"$f":"VLOOKUP(BR12,AY9:BG12,8,FALSE)","v":0},{"$f":"IF(AND(BS9=BS12,BT12>BT9),BR9,BR12)","v":""},{"$f":"VLOOKUP(BU12,AY9:BG12,9,FALSE)","v":0},{"$f":"VLOOKUP(BU12,AY9:BG12,8,FALSE)","v":0},{"$f":"VLOOKUP(BU12,AY9:BG12,6,FALSE)","v":0},{"$f":"IF(AND(BV11=BV12,BW11=BW12,BX12>BX11),BU11,BU12)","v":""},{"$f":"VLOOKUP(BY12,AY9:BG12,9,FALSE)","v":0},{"$f":"VLOOKUP(BY12,AY9:BG12,8,FALSE)","v":0},{"$f":"VLOOKUP(BY12,AY9:BG12,6,FALSE)","v":0},{"$f":"IF(AND(BZ10=BZ12,CA10=CA12,CB12>CB10),BY10,BY12)","v":""},{"$f":"VLOOKUP(CC12,AY9:BG12,9,FALSE)","v":0},{"$f":"VLOOKUP(CC12,AY9:BG12,8,FALSE)","v":0},{"$f":"VLOOKUP(CC12,AY9:BG12,6,FALSE)","v":0},{"$f":"IF(AND(CD9=CD12,CE9=CE12,CF12>CF9),CC9,CC12)","v":""},{"$f":"VLOOKUP(CG12,AY9:BG12,9,FALSE)","v":0},{"$f":"VLOOKUP(CG12,AY9:BG12,8,FALSE)","v":0},{"$f":"VLOOKUP(CG12,AY9:BG12,6,FALSE)","v":0},null,null,null,{"$f":"CG12","v":""},{"$f":"VLOOKUP(CN12,AY9:BG12,2,FALSE)","v":0},{"$f":"VLOOKUP(CN12,AY9:BG12,3,FALSE)","v":6},{"$f":"VLOOKUP(CN12,AY9:BG12,4,FALSE)","v":-12},{"$f":"VLOOKUP(CN12,AY9:BG12,5,FALSE)","v":6},{"$f":"VLOOKUP(CN12,AY9:BG12,6,FALSE)","v":0},{"$f":"VLOOKUP(CN12,AY9:BG12,7,FALSE)","v":0},{"$f":"VLOOKUP(CN12,AY9:BG12,8,FALSE)","v":0},{"$f":"VLOOKUP(CN12,AY9:BG12,9,FALSE)","v":0},null,null,{"$f":"IF(G15<>\"\",IF(G15>G14,C15,IF(G14>G15,C14,\"Empate\")),\"\")","v":""},{"$f":"IF(G15<>\"\",IF(G15<G14,C15,IF(G14<G15,C14,\"Empate\")),\"\")","v":""},null,null,"Existe um erro no preenchimento na lista de participantes. PF elimine os espaços em branco entre os participantes, fazendo subir os jogadores abaixo, caso haja necesidade de eliminar jogadores por Falta de Comparência.",null,null,null,null,{"$f":"IF(DC2>0,DC12,\"\")","v":""}]
[null,{"$f":"H22+1","v":5},{"$f":"AY11","v":""},null,null,null,{"$f":"IF(ISBLANK(D12),\"\",SUM(IF(D13>D12,1,0)+(IF(E13>E12,1,0)+(IF(F13>F12,1,0)))))","v":""},{"$f":"B13+1","v":6},{"$f":"IF(I12=\"\",\"\",AY10)","v":""},null,null,null,{"$f":"IF(ISBLANK(J12),\"\",SUM(IF(J13>J12,1,0)+(IF(K13>K12,1,0)+(IF(L13>L12,1,0)))))","v":""},5,null,null,null,null,null,null,null,null,null,null,null,null,null,null,null,null,null,null,null,null,null,null,null,null,null,null,null,null,null,null,null,null,null,null,null,null,null,null,null,null,null,null,null,null,null,null,null,null,null,null,null,null,null,null,null,null,null,null,null,null,null,null,null,null,null,null,null,null,null,null,null,null,null,null,null,null,null,null,null,null,null,null,null,null,null,null,null,null,null,null,null,null,null,null,"Se pretender efectuar altrerações apague, e volte a introduzir os jogadores que pretender nos espaços disponíveis."]
[null,{"$f":"$A$4","v":"PS-Juv"},{"$f":"AY11","v":""},null,null,null,{"$f":"IF(ISBLANK(D14),\"\",SUM(IF(D14>D15,1,0)+(IF(E14>E15,1,0)+(IF(F14>F15,1,0)))))","v":""},{"$f":"$A$4","v":"PS-Juv"},{"$f":"AY12","v":""},null,null,null,{"$f":"IF(ISBLANK(J14),\"\",SUM(IF(J14>J15,1,0)+(IF(K14>K15,1,0)+(IF(L14>L15,1,0)))))","v":""},12,null,null,null,null,null,null,null,null,null,null,null,null,null,null,null,null,null,null,null,null,null,null,null,null,null,null,null,null,null,null,null,null,null,null,null,null,"Colocar Equipas",null,null,null,null,null,null,null,null,"Ordenar p/ Pts 1",null,"Ordenar p/ Pts 2",null,"Ordenar p/ Pts 3",null,null,"Ordenar p/ DG 1",null,null,"Ordenar p/ DG 2",null,null,"Ordenar p/ DG 3",null,null,null,"Ordenar p/ GM 1",null,null,null,"Ordenar p/ GM 2",null,null,null,"Ordenar p/ GM 3",null,null,null,null,null,null,null,null,null,null,null,null,null,null,null,null,null,"Vencedores","Derrotados"]
[null,{"$f":"H24+1","v":9},{"$f":"AY10","v":""},null,null,null,{"$f":"IF(ISBLANK(D14),\"\",SUM(IF(D15>D14,1,0)+(IF(E15>E14,1,0)+(IF(F15>F14,1,0)))))","v":""},{"$f":"B15+1","v":10},{"$f":"IF(I14=\"\",\"\",AY9)","v":""},null,null,null,{"$f":"IF(ISBLANK(J14),\"\",SUM(IF(J15>J14,1,0)+(IF(K15>K14,1,0)+(IF(L15>L14,1,0)))))","v":""},null,null,null,null,null,null,null,null,null,null,null,null,null,null,null,null,null,null,null,null,null,null,null,null,null,"Classificação Grupo B",null,null,null,null,null,null,null,null,null,null,null,"Grupo B",null,null,null,null,null,null,null,null,null,null,null,null,null,null,null,null,null,null,null,null,null,null,null,null,null,null,null,null,null,null,null,null,null,null,null,null,null,null,null,null,null,null,null,null,null,null,null,null,null,null,null,{"$f":"IF(G22<>\"\",IF(G22>G21,C22,IF(G21>G22,C21,\"Empate\")),\"\")","v":""},{"$f":"IF(G22<>\"\",IF(G22<G21,C22,IF(G21<G22,C21,\"Empate\")),\"\")","v":""}]
[null,null,null,null,null,null,null,null,null,null,null,null,null,13,null,null,null,null,null,null,null,null,"Jogo Nº",{"$f":"CONCATENATE($A$4,\" \",SUM(H26+3))","v":"PS-Juv 15"},null,null,null,null,null,"Vencedor",null,null,null,null,null,null,null,"Cl",{"$f":"AY16","v":"Jogadores"},"Jg","V","E","D","PM","PS","DP","Pt.",null,null,null,"Jogadores","Jg","V","E","D","GM","GS","DG","Pts","Equipas","Pts","Equipas","Pts","Equipas","Pts","DG","Equipas","Pts","DG","Equipas","Pts","DG","Equipas","Pts","DG","GM","Equipas","Pts","DG","GM","Equipas","Pts","DG","GM","Equipas","Pts","DG","GM",null,null,null,"Equipas","Jg","V","D","E","GM","GS","DG","Pts",null,null,{"$f":"IF(M21<>\"\",IF(M21>M22,I21,IF(M22>M21,I22,\"Empate\")),\"\")","v":""},{"$f":"IF(M21<>\"\",IF(M21<M22,I21,IF(M22<M21,I22,\"Empate\")),\"\")","v":""},null,null,null,null,"Para efectuar alterações à de colocações nos grupos dos jogadores, altere a coluna \"ORDEM\" dando uma nova ordem de nºs e depois clique em Ordenar."]
[null,null,null,null,null,null,null,null,null,null,null,null,null,4,null,{"$f":"IF(T11=T12,\"\",IF(T11<T12,P11,P12))","v":""},null,null,null,{"$f":"IF(ISBLANK(Q17),\"\",SUM(IF(Q17>Q18,1,0)+(IF(R17>R18,1,0)+(IF(S17>S18,1,0)))))","v":""},null,null,{"$f":"IF(T11=T12,\"\",IF(T11>T12,P11,P12))","v":""},null,null,null,{"$f":"IF(ISBLANK(X17),\"\",SUM(IF(X17>X18,1,0)+(IF(Y17>Y18,1,0)+(IF(Z17>Z18,1,0)))))","v":""},null,null,{"$f":"IF(AA17=AA18,\"\",IF(AA17>AA18,W17,W18))","v":""},null,null,null,null,null,null,null,{"$f":"IF(AM17=\"\",\"\",\"1º\")","v":""},{"$f":"CN17","v":""},{"$f":"IF(AM17=\"\",\"\",CO17)","v":""},{"$f":"IF(AM17=\"\",\"\",CP17)","v":""},{"$f":"CQ17","v":-12},{"$f":"IF(AM17=\"\",\"\",CR17)","v":""},{"$f":"IF(AM17=\"\",\"\",CS17)","v":""},{"$f":"IF(AM17=\"\",\"\",CT17)","v":""},{"$f":"IF(AM17=\"\",\"\",CU17)","v":""},{"$f":"IF(AM17=\"\",\"\",CV17)","v":""},2,3,5,{"$f":"IF(AY40=\"\",\"\",AY40)","v":""},{"$f":"COUNT(G22,G23,M26)","v":0},{"$f":"COUNTIF(CY15:CY20,AY17)","v":6},{"$f":"AZ17-(BA17+BC17)","v":-12},{"$f":"COUNTIF(CZ15:CZ20,AY17)","v":6},{"$f":"SUM(D22:F22,D23:F23,J26:L26)","v":0},{"$f":"SUM(D21:F21,D24:F24,J25:L25)","v":0},{"$f":"BD17-BE17","v":0},{"$f":"IF(AZ17=0,0,BA17*2+BC17*1)","v":0},{"$f":"IF(BG17>=BG18,AY17,AY18)","v":""},{"$f":"VLOOKUP(BH17,AY17:BG20,9,FALSE)","v":0},{"$f":"IF(BI17>=BI19,BH17,BH19)","v":""},{"$f":"VLOOKUP(BJ17,AY17:BG20,9,FALSE)","v":0},{"$f":"IF(BK17>=BK20,BJ17,BJ20)","v":""},{"$f":"VLOOKUP(BL17,AY17:BG20,9,FALSE)","v":0},{"$f":"VLOOKUP(BL17,AY17:BG20,8,FALSE)","v":0},{"$f":"IF(AND(BM17=BM18,BN18>BN17),BL18,BL17)","v":""},{"$f":"VLOOKUP(BO17,AY17:BG20,9,FALSE)","v":0},{"$f":"VLOOKUP(BO17,AY17:BG20,8,FALSE)","v":0},{"$f":"IF(AND(BP17=BP19,BQ19>BQ17),BO19,BO17)","v":""},{"$f":"VLOOKUP(BR17,AY17:BG20,9,FALSE)","v":0},{"$f":"VLOOKUP(BR17,AY17:BG20,8,FALSE)","v":0},{"$f":"IF(AND(BS17=BS20,BT20>BT17),BR20,BR17)","v":""},{"$f":"VLOOKUP(BU17,AY17:BG20,9,FALSE)","v":0},{"$f":"VLOOKUP(BU17,AY17:BG20,8,FALSE)","v":0},{"$f":"VLOOKUP(BU17,AY17:BG20,6,FALSE)","v":0},{"$f":"IF(AND(BV17=BV18,BW17=BW18,BX18>BX17),BU18,BU17)","v":""},{"$f":"VLOOKUP(BY17,AY17:BG20,9,FALSE)","v":0},{"$f":"VLOOKUP(BY17,AY17:BG20,8,FALSE)","v":0},{"$f":"VLOOKUP(BY17,AY17:BG20,6,FALSE)","v":0},{"$f":"IF(AND(BZ17=BZ19,CA17=CA19,CB19>CB17),BY19,BY17)","v":""},{"$f":"VLOOKUP(CC17,AY17:BG20,9,FALSE)","v":0},{"$f":"VLOOKUP(CC17,AY17:BG20,8,FALSE)","v":0},{"$f":"VLOOKUP(CC17,AY17:BG20,6,FALSE)","v":0},{"$f":"IF(AND(CD17=CD20,CE17=CE20,CF20>CF17),CC20,CC17)","v":""},{"$f":"VLOOKUP(CG17,AY17:BG20,9,FALSE)","v":0},{"$f":"VLOOKUP(CG17,AY17:BG20,8,FALSE)","v":0},{"$f":"VLOOKUP(CG17,AY17:BG20,6,FALSE)","v":0},null,null,null,{"$f":"CG17","v":""},{"$f":"VLOOKUP(CN17,AY17:BG20,2,FALSE)","v":0},{"$f":"VLOOKUP(CN17,AY17:BG20,3,FALSE)","v":6},{"$f":"VLOOKUP(CN17,AY17:BG20,4,FALSE)","v":-12},{"$f":"VLOOKUP(CN17,AY17:BG20,5,FALSE)","v":6},{"$f":"VLOOKUP(CN17,AY17:BG20,6,FALSE)","v":0},{"$f":"VLOOKUP(CN17,AY17:BG20,7,FALSE)","v":0},{"$f":"VLOOKUP(CN17,AY17:BG20,8,FALSE)","v":0},{"$f":"VLOOKUP(CN17,AY17:BG20,9,FALSE)","v":0},null,null,{"$f":"IF(G23<>\"\",IF(G23>G24,C23,IF(G24>G23,C24,\"Empate\")),\"\")","v":""},{"$f":"IF(G23<>\"\",IF(G23<G24,C23,IF(G24<G23,C24,\"Empate\")),\"\")","v":""}]
[null,null,null,null,null,null,null,null,null,null,null,null,null,null,null,{"$f":"IF(T24=T25,\"\",IF(T24<T25,P24,P25))","v":""},null,null,null,{"$f":"IF(ISBLANK(Q17),\"\",SUM(IF(Q18>Q17,1,0)+(IF(R18>R17,1,0)+(IF(S18>S17,1,0)))))","v":""},null,null,{"$f":"IF(T24=T25,\"\",IF(T24>T25,P24,P25))","v":""},null,null,null,{"$f":"IF(ISBLANK(X17),\"\",SUM(IF(X18>X17,1,0)+(IF(Y18>Y17,1,0)+(IF(Z18>Z17,1,0)))))","v":""},null,null,null,null,null,null,null,null,null,null,{"$f":"IF(AM18=\"\",\"\",\"2º\")","v":""},{"$f":"CN18","v":""},{"$f":"IF(AM18=\"\",\"\",CO18)","v":""},{"$f":"IF(AM18=\"\",\"\",CP18)","v":""},{"$f":"CQ18","v":-12},{"$f":"IF(AM18=\"\",\"\",CR18)","v":""},{"$f":"IF(AM18=\"\",\"\",CS18)","v":""},{"$f":"IF(AM18=\"\",\"\",CT18)","v":""},{"$f":"IF(AM18=\"\",\"\",CU18)","v":""},{"$f":"IF(AM18=\"\",\"\",CV18)","v":""},6,6,6,{"$f":"IF(AY42=\"\",\"\",AY42)","v":""},{"$f":"COUNT(G21,M24,G26)","v":0},{"$f":"COUNTIF(CY15:CY20,AY18)","v":6},{"$f":"AZ18-(BA18+BC18)","v":-12},{"$f":"COUNTIF(CZ15:CZ20,AY18)","v":6},{"$f":"SUM(D21:F21,J24:L24,D26:F26)","v":0},{"$f":"SUM(D22:F22,J23:L23,D25:F25)","v":0},{"$f":"BD18-BE18","v":0},{"$f":"IF(AZ18=0,0,BA18*2+BC18*1)","v":0},{"$f":"IF(BG18<=BG17,AY18,AY17)","v":""},{"$f":"VLOOKUP(BH18,AY17:BG20,9,FALSE)","v":0},{"$f":"IF(BI18>=BI20,BH18,BH20)","v":""},{"$f":"VLOOKUP(BJ18,AY17:BG20,9,FALSE)","v":0},{"$f":"IF(BK18>=BK19,BJ18,BJ19)","v":""},{"$f":"VLOOKUP(BL18,AY17:BG20,9,FALSE)","v":0},{"$f":"VLOOKUP(BL18,AY17:BG20,8,FALSE)","v":0},{"$f":"IF(AND(BM17=BM18,BN18>BN17),BL17,BL18)","v":""},{"$f":"VLOOKUP(BO18,AY17:BG20,9,FALSE)","v":0},{"$f":"VLOOKUP(BO18,AY17:BG20,8,FALSE)","v":0},{"$f":"IF(AND(BP18=BP20,BQ20>BQ18),BO20,BO18)","v":""},{"$f":"VLOOKUP(BR18,AY17:BG20,9,FALSE)","v":0},{"$f":"VLOOKUP(BR18,AY17:BG20,8,FALSE)","v":0},{"$f":"IF(AND(BS18=BS19,BT19>BT18),BR19,BR18)","v":""},{"$f":"VLOOKUP(BU18,AY17:BG20,9,FALSE)","v":0},{"$f":"VLOOKUP(BU18,AY17:BG20,8,FALSE)","v":0},{"$f":"VLOOKUP(BU18,AY17:BG20,6,FALSE)","v":0},{"$f":"IF(AND(BV17=BV18,BW17=BW18,BX18>BX17),BU17,BU18)","v":""},{"$f":"VLOOKUP(BY18,AY17:BG20,9,FALSE)","v":0},{"$f":"VLOOKUP(BY18,AY17:BG20,8,FALSE)","v":0},{"$f":"VLOOKUP(BY18,AY17:BG20,6,FALSE)","v":0},{"$f":"IF(AND(BZ18=BZ20,CA18=CA20,CB20>CB18),BY20,BY18)","v":""},{"$f":"VLOOKUP(CC18,AY17:BG20,9,FALSE)","v":0},{"$f":"VLOOKUP(CC18,AY17:BG20,8,FALSE)","v":0},{"$f":"VLOOKUP(CC18,AY17:BG20,6,FALSE)","v":0},{"$f":"IF(AND(CD18=CD19,CE18=CE19,CF19>CF18),CC19,CC18)","v":""},{"$f":"VLOOKUP(CG18,AY17:BG20,9,FALSE)","v":0},{"$f":"VLOOKUP(CG18,AY17:BG20,8,FALSE)","v":0},{"$f":"VLOOKUP(CG18,AY17:BG20,6,FALSE)","v":0},null,null,null,{"$f":"CG18","v":""},{"$f":"VLOOKUP(CN18,AY17:BG20,2,FALSE)","v":0},{"$f":"VLOOKUP(CN18,AY17:BG20,3,FALSE)","v":6},{"$f":"VLOOKUP(CN18,AY17:BG20,4,FALSE)","v":-12},{"$f":"VLOOKUP(CN18,AY17:BG20,5,FALSE)","v":6},{"$f":"VLOOKUP(CN18,AY17:BG20,6,FALSE)","v":0},{"$f":"VLOOKUP(CN18,AY17:BG20,7,FALSE)","v":0},{"$f":"VLOOKUP(CN18,AY17:BG20,8,FALSE)","v":0},{"$f":"VLOOKUP(CN18,AY17:BG20,9,FALSE)","v":0},null,null,{"$f":"IF(M23<>\"\",IF(M23>M24,I23,IF(M24>M23,I24,\"Empate\")),\"\")","v":""},{"$f":"IF(M23<>\"\",IF(M23<M24,I23,IF(M24<M23,I24,\"Empate\")),\"\")","v":""}]
[null,null,null,null,null,null,null,null,null,null,null,null,null,3,null,"3º/4º",null,null,null,null,null,null,null,null,null,null,null,null,null,null,null,null,null,null,null,null,null,{"$f":"IF(AM19=\"\",\"\",\"3º\")","v":""},{"$f":"CN19","v":""},{"$f":"IF(AM19=\"\",\"\",CO19)","v":""},{"$f":"IF(AM19=\"\",\"\",CP19)","v":""},{"$f":"CQ19","v":-12},{"$f":"IF(AM19=\"\",\"\",CR19)","v":""},{"$f":"IF(AM19=\"\",\"\",CS19)","v":""},{"$f":"IF(AM19=\"\",\"\",CT19)","v":""},{"$f":"IF(AM19=\"\",\"\",CU19)","v":""},{"$f":"IF(AM19=\"\",\"\",CV19)","v":""},7.8,7,7,{"$f":"IF(AY44=\"\",\"\",AY44)","v":""},{"$f":"COUNT(M21,G24,G25)","v":0},{"$f":"COUNTIF(CY15:CY20,AY19)","v":6},{"$f":"AZ19-(BA19+BC19)","v":-12},{"$f":"COUNTIF(CZ15:CZ20,AY19)","v":6},{"$f":"SUM(J21:L21,D24:F24,D25:F25)","v":0},{"$f":"SUM(J22:L22,D23:F23,D26:F26)","v":0},{"$f":"BD19-BE19","v":0},{"$f":"IF(AZ19=0,0,BA19*2+BC19*1)","v":0},{"$f":"IF(BG19>=BG20,AY19,AY20)","v":""},{"$f":"VLOOKUP(BH19,AY17:BG20,9,FALSE)","v":0},{"$f":"IF(BI19<=BI17,BH19,BH17)","v":""},{"$f":"VLOOKUP(BJ19,AY17:BG20,9,FALSE)","v":0},{"$f":"IF(BK19<=BK18,BJ19,BJ18)","v":""},{"$f":"VLOOKUP(BL19,AY17:BG20,9,FALSE)","v":0},{"$f":"VLOOKUP(BL19,AY17:BG20,8,FALSE)","v":0},{"$f":"IF(AND(BM19=BM20,BN20>BN19),BL20,BL19)","v":""},{"$f":"VLOOKUP(BO19,AY17:BG20,9,FALSE)","v":0},{"$f":"VLOOKUP(BO19,AY17:BG20,8,FALSE)","v":0},{"$f":"IF(AND(BP17=BP19,BQ19>BQ17),BO17,BO19)","v":""},{"$f":"VLOOKUP(BR19,AY17:BG20,9,FALSE)","v":0},{"$f":"VLOOKUP(BR19,AY17:BG20,8,FALSE)","v":0},{"$f":"IF(AND(BS18=BS19,BT19>BT18),BR18,BR19)","v":""},{"$f":"VLOOKUP(BU19,AY17:BG20,9,FALSE)","v":0},{"$f":"VLOOKUP(BU19,AY17:BG20,8,FALSE)","v":0},{"$f":"VLOOKUP(BU19,AY17:BG20,6,FALSE)","v":0},{"$f":"IF(AND(BV19=BV20,BW19=BW20,BX20>BX19),BU20,BU19)","v":""},{"$f":"VLOOKUP(BY19,AY17:BG20,9,FALSE)","v":0},{"$f":"VLOOKUP(BY19,AY17:BG20,8,FALSE)","v":0},{"$f":"VLOOKUP(BY19,AY17:BG20,6,FALSE)","v":0},{"$f":"IF(AND(BZ17=BZ19,CA17=CA19,CB18>CB17),BY17,BY19)","v":""},{"$f":"VLOOKUP(CC19,AY17:BG20,9,FALSE)","v":0},{"$f":"VLOOKUP(CC19,AY17:BG20,8,FALSE)","v":0},{"$f":"VLOOKUP(CC19,AY17:BG20,6,FALSE)","v":0},{"$f":"IF(AND(CD18=CD19,CE18=CE19,CF19>CF18),CC18,CC19)","v":""},{"$f":"VLOOKUP(CG19,AY17:BG20,9,FALSE)","v":0},{"$f":"VLOOKUP(CG19,AY17:BG20,8,FALSE)","v":0},{"$f":"VLOOKUP(CG19,AY17:BG20,6,FALSE)","v":0},null,null,null,{"$f":"CG19","v":""},{"$f":"VLOOKUP(CN19,AY17:BG20,2,FALSE)","v":0},{"$f":"VLOOKUP(CN19,AY17:BG20,3,FALSE)","v":6},{"$f":"VLOOKUP(CN19,AY17:BG20,4,FALSE)","v":-12},{"$f":"VLOOKUP(CN19,AY17:BG20,5,FALSE)","v":6},{"$f":"VLOOKUP(CN19,AY17:BG20,6,FALSE)","v":0},{"$f":"VLOOKUP(CN19,AY17:BG20,7,FALSE)","v":0},{"$f":"VLOOKUP(CN19,AY17:BG20,8,FALSE)","v":0},{"$f":"VLOOKUP(CN19,AY17:BG20,9,FALSE)","v":0},null,null,{"$f":"IF(M25<>\"\",IF(M25>M26,I25,IF(M26>M25,I26,\"Empate\")),\"\")","v":""},{"$f":"IF(M25<>\"\",IF(M25<M26,I25,IF(M26<M25,I26,\"Empate\")),\"\")","v":""}]
["Grupo B","NºJ","Jogadores",1,2,3,"R","NºJ","Jogadores",1,2,3,"R",14,null,{"$f":"IF(T17=T18,\"\",IF(T17>T18,P17,P18))","v":""},null,null,null,null,null,null,null,null,null,null,null,null,null,null,null,null,null,null,null,null,null,{"$f":"IF(AM20=\"\",\"\",\"4º\")","v":""},{"$f":"CN20","v":""},{"$f":"IF(AM20=\"\",\"\",CO20)","v":""},{"$f":"IF(AM20=\"\",\"\",CP20)","v":""},{"$f":"CQ20","v":-12},{"$f":"IF(AM20=\"\",\"\",CR20)","v":""},{"$f":"IF(AM20=\"\",\"\",CS20)","v":""},{"$f":"IF(AM20=\"\",\"\",CT20)","v":""},{"$f":"IF(AM20=\"\",\"\",CU20)","v":""},{"$f":"IF(AM20=\"\",\"\",CV20)","v":""},null,2,8,{"$f":"IF(AY46=\"\",\"\",AY46)","v":""},{"$f":"COUNT(M22,M23,M25)","v":0},{"$f":"COUNTIF(CY15:CY20,AY20)","v":6},{"$f":"AZ20-(BA20+BC20)","v":-12},{"$f":"COUNTIF(CZ15:CZ20,AY20)","v":6},{"$f":"SUM(J22:L22,J23:L23,J25:L25)","v":0},{"$f":"SUM(J18:L18,J21:L21,J23:L23)","v":0},{"$f":"BD20-BE20","v":0},{"$f":"IF(AZ20=0,0,BA20*2+BC20*1)","v":0},{"$f":"IF(BG20<=BG19,AY20,AY19)","v":""},{"$f":"VLOOKUP(BH20,AY17:BG20,9,FALSE)","v":0},{"$f":"IF(BI20<=BI18,BH20,BH18)","v":""},{"$f":"VLOOKUP(BJ20,AY17:BG20,9,FALSE)","v":0},{"$f":"IF(BK20<=BK17,BJ20,BJ17)","v":""},{"$f":"VLOOKUP(BL20,AY17:BG20,9,FALSE)","v":0},{"$f":"VLOOKUP(BL20,AY17:BG20,8,FALSE)","v":0},{"$f":"IF(AND(BM19=BM20,BN20>BN19),BL19,BL20)","v":""},{"$f":"VLOOKUP(BO20,AY17:BG20,9,FALSE)","v":0},{"$f":"VLOOKUP(BO20,AY17:BG20,8,FALSE)","v":0},{"$f":"IF(AND(BP18=BP20,BQ20>BQ18),BO18,BO20)","v":""},{"$f":"VLOOKUP(BR20,AY17:BG20,9,FALSE)","v":0},{"$f":"VLOOKUP(BR20,AY17:BG20,8,FALSE)","v":0},{"$f":"IF(AND(BS17=BS20,BT20>BT17),BR17,BR20)","v":""},{"$f":"VLOOKUP(BU20,AY17:BG20,9,FALSE)","v":0},{"$f":"VLOOKUP(BU20,AY17:BG20,8,FALSE)","v":0},{"$f":"VLOOKUP(BU20,AY17:BG20,6,FALSE)","v":0},{"$f":"IF(AND(BV19=BV20,BW19=BW20,BX20>BX19),BU19,BU20)","v":""},{"$f":"VLOOKUP(BY20,AY17:BG20,9,FALSE)","v":0},{"$f":"VLOOKUP(BY20,AY17:BG20,8,FALSE)","v":0},{"$f":"VLOOKUP(BY20,AY17:BG20,6,FALSE)","v":0},{"$f":"IF(AND(BZ18=BZ20,CA18=CA20,CB20>CB18),BY18,BY20)","v":""},{"$f":"VLOOKUP(CC20,AY17:BG20,9,FALSE)","v":0},{"$f":"VLOOKUP(CC20,AY17:BG20,8,FALSE)","v":0},{"$f":"VLOOKUP(CC20,AY17:BG20,6,FALSE)","v":0},{"$f":"IF(AND(CD17=CD20,CE17=CE20,CF20>CF17),CC17,CC20)","v":""},{"$f":"VLOOKUP(CG20,AY17:BG20,9,FALSE)","v":0},{"$f":"VLOOKUP(CG20,AY17:BG20,8,FALSE)","v":0},{"$f":"VLOOKUP(CG20,AY17:BG20,6,FALSE)","v":0},null,null,null,{"$f":"CG20","v":""},{"$f":"VLOOKUP(CN20,AY17:BG20,2,FALSE)","v":0},{"$f":"VLOOKUP(CN20,AY17:BG20,3,FALSE)","v":6},{"$f":"VLOOKUP(CN20,AY17:BG20,4,FALSE)","v":-12},{"$f":"VLOOKUP(CN20,AY17:BG20,5,FALSE)","v":6},{"$f":"VLOOKUP(CN20,AY17:BG20,6,FALSE)","v":0},{"$f":"VLOOKUP(CN20,AY17:BG20,7,FALSE)","v":0},{"$f":"VLOOKUP(CN20,AY17:BG20,8,FALSE)","v":0},{"$f":"VLOOKUP(CN20,AY17:BG20,9,FALSE)","v":0},null,null,{"$f":"IF(G26<>\"\",IF(G26>G25,C26,IF(G25>G26,C25,\"Empate\")),\"\")","v":""},{"$f":"IF(G26<>\"\",IF(G26<G25,C26,IF(G25<G26,C25,\"Empate\")),\"\")","v":""}]
[null,{"$f":"$A$4","v":"PS-Juv"},{"$f":"AY18","v":""},null,null,null,{"$f":"IF(ISBLANK(D21),\"\",SUM(IF(D21>D22,1,0)+(IF(E21>E22,1,0)+(IF(F21>F22,1,0)))))","v":""},{"$f":"$A$4","v":"PS-Juv"},{"$f":"IF(I22=\"\",\"\",AY19)","v":""},null,null,null,{"$f":"IF(ISBLANK(J21),\"\",SUM(IF(J21>J22,1,0)+(IF(K21>K22,1,0)+(IF(L21>L22,1,0)))))","v":""}]
[null,{"$f":"H11+1","v":3},{"$f":"AY17","v":""},null,null,null,{"$f":"IF(ISBLANK(D21),\"\",SUM(IF(D22>D21,1,0)+(IF(E22>E21,1,0)+(IF(F22>F21,1,0)))))","v":""},{"$f":"B22+1","v":4},{"$f":"AY20","v":""},null,null,null,{"$f":"IF(ISBLANK(J21),\"\",SUM(IF(J22>J21,1,0)+(IF(K22>K21,1,0)+(IF(L22>L21,1,0)))))","v":""},11]
[null,{"$f":"$A$4","v":"PS-Juv"},{"$f":"AY17","v":""},null,null,null,{"$f":"IF(ISBLANK(D23),\"\",SUM(IF(D23>D24,1,0)+(IF(E23>E24,1,0)+(IF(F23>F24,1,0)))))","v":""},{"$f":"$A$4","v":"PS-Juv"},{"$f":"AY20","v":""},null,null,null,{"$f":"IF(ISBLANK(J23),\"\",SUM(IF(J23>J24,1,0)+(IF(K23>K24,1,0)+(IF(L23>L24,1,0)))))","v":""},6,null,"Jogo Nº",{"$f":"CONCATENATE($A$4,\" \",SUM(H26+2))","v":"PS-Juv 14"}]
[null,{"$f":"H13+1","v":7},{"$f":"AY19","v":""},null,null,null,{"$f":"IF(ISBLANK(D23),\"\",SUM(IF(D24>D23,1,0)+(IF(E24>E23,1,0)+(IF(F24>F23,1,0)))))","v":""},{"$f":"B24+1","v":8},{"$f":"IF(I23=\"\",\"\",AY18)","v":""},null,null,null,{"$f":"IF(ISBLANK(J23),\"\",SUM(IF(J24>J23,1,0)+(IF(K24>K23,1,0)+(IF(L24>L23,1,0)))))","v":""},null,3,{"$f":"VLOOKUP(O24,AX54:AY57,2,FALSE)","v":"2º Grupo A"},null,null,null,{"$f":"IF(ISBLANK(Q24),\"\",SUM(IF(Q24>Q25,1,0)+(IF(R24>R25,1,0)+(IF(S24>S25,1,0)))))","v":""}]
[null,{"$f":"$A$4","v":"PS-Juv"},{"$f":"AY19","v":""},null,null,null,{"$f":"IF(ISBLANK(D25),\"\",SUM(IF(D25>D26,1,0)+(IF(E25>E26,1,0)+(IF(F25>F26,1,0)))))","v":""},{"$f":"$A$4","v":"PS-Juv"},{"$f":"AY20","v":""},null,null,null,{"$f":"IF(ISBLANK(J25),\"\",SUM(IF(J25>J26,1,0)+(IF(K25>K26,1,0)+(IF(L25>L26,1,0)))))","v":""},7,2,{"$f":"VLOOKUP(O25,AX54:AY57,2,FALSE)","v":"1º Grupo B"},null,null,null,{"$f":"IF(ISBLANK(Q24),\"\",SUM(IF(Q25>Q24,1,0)+(IF(R25>R24,1,0)+(IF(S25>S24,1,0)))))","v":""}]
[null,{"$f":"H15+1","v":11},{"$f":"AY18","v":""},null,null,null,{"$f":"IF(ISBLANK(D25),\"\",SUM(IF(D26>D25,1,0)+(IF(E26>E25,1,0)+(IF(F26>F25,1,0)))))","v":""},{"$f":"B26+1","v":12},{"$f":"IF(I25=\"\",\"\",AY17)","v":""},null,null,null,{"$f":"IF(ISBLANK(J25),\"\",SUM(IF(J26>J25,1,0)+(IF(K26>K25,1,0)+(IF(L26>L25,1,0)))))","v":""},10]
[]
[null,null,null,null,null,null,null,null,null,null,null,null,null,15]
[null,null,null,null,null,null,null,null,null,null,null,null,null,2]
[]
[null,"Classificações 1ª Fase",null,null,null,null,null,null,null,null,null,null,null,null,null,"Jogadores",null,null,null,null,null,null,null,null,null,null,null,null,null,"Ranking"]
[null,null,null,null,null,null,null,null,null,null,null,null,"#",null,"NºJ","Nome (1º e último)",null,null,null,null,null,null,"Escola","Abv.*",null,null,null,"Cl.",null,"Jogadores","Pt."]
[null,"Grupo A",null,null,null,null,null,"Grupo B",null,null,null,null,1,null,{"$f":"IF(DE4=\"\",\"\",DE4)","v":""},{"$f":"IF(DF4=\"\",\"\",IF(DF4=\"Bye\",\"Bye\",CONCATENATE(DF4,\" \",\"(\",DH4,\")\")))","v":""},null,null,null,null,null,null,{"$f":"IF(DG4=\"\",\"\",DG4)","v":""},"",null,null,null,"1º",null,{"$f":"IF(AA17=AA18,\"\",IF(AA17>AA18,W17,W18))","v":""},12]
[null,null,null,null,null,null,null,null,null,null,null,null,2,null,"","",null,null,null,null,null,null,"","",{"$f":"IF(DI5=\"\",\"\",DI5)","v":""},"",null,"2º",null,{"$f":"IF(AA17=AA18,\"\",IF(AA17<AA18,W17,W18))","v":""},11]
[null,{"$f":"AL8","v":"Cl"},"Jogadores",{"$f":"AU8","v":"Pt."},null,null,null,{"$f":"AL16","v":"Cl"},"Jogadores",{"$f":"AU16","v":"Pt."},null,null,3,null,"","",null,null,null,null,null,null,"","","","",null,"3º",null,{"$f":"IF(T17=T18,\"\",IF(T18<T17,P17,P18))","v":""},10]
[null,"","",{"$f":"AU9","v":""},null,null,null,"","",{"$f":"AU17","v":""},null,null,4,null,"","",null,null,null,null,null,null,"","","","",null,"4º",null,{"$f":"IF(T17=T18,\"\",IF(T18<T17,P18,P17))","v":""},10]
[null,"","",{"$f":"AU10","v":""},null,null,null,"","",{"$f":"AU18","v":""},null,null,5,null,"","",null,null,null,null,null,null,"","","","",null,"5º",null,{"$f":"AY58","v":"3º Grupo A"},8]
[null,"","",{"$f":"AU11","v":""},null,null,null,"","",{"$f":"AU19","v":""},null,null,6,null,"","",null,null,null,null,null,null,"","","","",null,"6º",null,{"$f":"AY59","v":"3º Grupo B"},8,null,null,null,null,null,null,null,null,null,null,null,null,null,null,null,null,null,null,null,"3 Grupos 6 a 8"]
[null,"","",{"$f":"AU12","v":""},null,null,null,"","",{"$f":"AU20","v":""},null,null,7,null,"","",null,null,null,null,null,null,"","","","",null,"7º",null,{"$f":"AY60","v":"4º Grupo A"},8,null,null,null,null,null,null,null,null,null,null,null,null,null,null,null,null,null,null,"A1",{"$f":"IF(DF4=\"\",\"\",CONCATENATE(DF4,\" (\",DH4,\")\"))","v":""}]
[null,null,null,null,null,null,null,null,null,null,null,null,8,null,"","",null,null,null,null,null,null,"","","","",null,"8º",null,{"$f":"AY61","v":"4º Grupo B"},8,null,null,null,null,null,null,null,null,null,null,null,null,null,null,null,null,null,null,"B1",""]
[null,null,null,null,null,null,null,null,null,null,null,null,null,null,null,null,null,null,null,null,null,null,null,null,null,null,null,null,null,null,null,null,null,null,null,null,null,null,null,null,null,null,null,null,null,null,null,null,null,"A2",""]
[null,null,null,null,null,null,null,null,null,null,null,null,null,null,null,null,null,null,null,null,null,null,null,null,null,null,null,null,null,null,null,null,null,null,null,null,null,null,null,null,null,null,null,null,null,null,null,null,null,"B2",""]
[null,null,null,null,null,null,null,null,null,null,null,null,null,null,null,null,null,null,null,null,null,null,null,null,null,null,null,null,null,null,null,null,null,null,null,null,null,null,null,null,null,null,null,null,null,null,null,null,null,"A3",""]
[null,null,null,null,null,null,null,null,null,null,null,null,null,null,null,null,null,null,null,null,null,null,null,null,null,null,null,null,null,null,null,null,null,null,null,null,null,null,null,null,null,null,null,null,null,null,null,null,null,"B3",""]
[null,null,null,null,null,null,null,null,null,null,null,null,null,null,null,null,null,null,null,null,null,null,null,null,null,null,null,null,null,null,null,null,null,null,null,null,null,null,null,null,null,null,null,null,null,null,null,null,null,"A4",""]
[null,null,null,null,null,null,null,null,null,null,null,null,null,null,null,null,null,null,null,null,null,null,null,null,null,null,null,null,null,null,null,null,null,null,null,null,null,null,null,null,null,null,null,null,null,null,null,null,null,"B4",""]
[null,null,null,null,null,null,null,null,null,null,null,null,null,null,null,null,null,null,null,null,null,null,null,null,null,null,null,null,null,null,null,null,null,null,null,null,null,null,null,null,null,null,null,null,null,null,null,null,null,null,{"$f":"IF(DJ12=\"\",\"\",IF($DJ$15=\"\",DJ12,\"\"))","v":""}]
[null,null,null,null,null,null,null,null,null,null,null,null,null,null,null,null,null,null,null,null,null,null,null,null,null,null,null,null,null,null,null,null,null,null,null,null,null,null,null,null,null,null,null,null,null,null,null,null,null,null,{"$f":"IF(DJ13=\"\",\"\",IF($DJ$15=\"\",DJ13,\"\"))","v":""}]
[null,null,null,null,null,null,null,null,null,null,null,null,null,null,null,null,null,null,null,null,null,null,null,null,null,null,null,null,null,null,null,null,null,null,null,null,null,null,null,null,null,null,null,null,null,null,null,null,null,null,{"$f":"IF(DJ14=\"\",\"\",IF($DJ$15=\"\",DJ14,\"\"))","v":""}]
[]
[null,null,null,null,null,null,null,null,null,null,null,null,null,null,null,null,null,null,null,null,null,null,null,null,null,null,null,null,null,null,null,null,null,null,null,null,null,null,null,null,null,null,null,null,null,null,null,null,null,null,{"$f":"COUNTA(DF4:DF11)","v":0},null,null,"ABV","Nome"]
[null,null,null,null,null,null,null,null,null,null,null,null,null,null,null,null,null,null,null,null,null,null,null,null,null,null,null,null,null,null,null,null,null,null,null,null,null,null,null,null,null,null,null,null,null,null,null,null,null,null,null,null,null,"EM-Juv","Equipas Mistas - Juvenis"]
[null,null,null,null,null,null,null,null,null,null,null,null,null,null,null,null,null,null,null,null,null,null,null,null,null,null,null,null,null,null,null,null,null,null,null,null,null,null,null,null,null,null,null,null,null,null,null,null,null,null,"Class 9 e 10",null,null,"PH-InfA","Pares Homens - Infantis A"]
[null,null,null,null,null,null,null,null,null,null,null,null,null,null,null,null,null,null,null,null,null,null,null,null,null,null,null,null,null,null,null,null,null,null,null,null,null,null,null,null,null,null,null,null,null,null,null,null,null,1,{"$f":"IF(D25=\"\",\"1º Grupo A\",AM9)","v":"1º Grupo A"},null,null,"PH-InfB","Pares Homens - Infantis B"]
[null,null,null,null,null,null,null,null,null,null,null,null,null,null,null,null,null,null,null,null,null,null,null,null,null,null,null,null,null,null,null,null,null,null,null,null,null,null,null,null,null,null,null,null,null,null,null,null,null,2,{"$f":"IF(D25=\"\",\"1º Grupo B\",AM17)","v":"1º Grupo B"},null,null,"PH-Ini","Pares Homens - Iniciados"]
[null,"Tabela para 8 a 16 Jogadores",null,null,null,null,null,null,null,null,null,null,null,null,null,null,null,null,null,null,null,null,null,null,null,null,null,null,null,null,null,null,null,null,null,null,null,null,null,null,null,null,null,null,null,null,null,null,null,3,{"$f":"IF(D25=\"\",\"2º Grupo A\",AM10)","v":"2º Grupo A"},null,null,"PH-Jun","Pares Homens - Juniores"]
[null,"Nº Jog","Grupos","Apurados 2ª Fase",null,null,null,null,null,null,null,null,null,null,null,null,null,null,null,null,null,null,null,null,null,null,null,null,null,null,null,null,null,null,null,null,null,null,null,null,null,null,null,null,null,null,null,null,null,4,{"$f":"IF(D25=\"\",\"2º Grupo B\",AM18)","v":"2º Grupo B"},null,null,"PH-Juv","Pares Homens - Juvenis"]
[null,9,"3 Grupos: 3+3+3","2 Primeiros + 2 melhores 3º",null,null,null,null,null,null,null,null,null,null,null,null,null,null,null,null,null,null,null,null,null,null,null,null,null,null,null,null,null,null,null,null,null,null,null,null,null,null,null,null,null,null,null,null,null,5,{"$f":"IF(D25=\"\",\"3º Grupo A\",AM11)","v":"3º Grupo A"},null,null,"PM-Ini","Pares Mistos - Iniciados"]
[null,10,"3 Grupos: 4+3+3","2 Primeiros + 2 melhores 3º",null,null,null,null,null,null,null,null,null,null,null,null,null,null,null,null,null,null,null,null,null,null,null,null,null,null,null,null,null,null,null,null,null,null,null,null,null,null,null,null,null,null,null,null,null,6,{"$f":"IF(D25=\"\",\"3º Grupo B\",AM19)","v":"3º Grupo B"},null,null,"PS-InfA","Pares Senhoras - Infantis A"]
[null,11,"3 Grupos: 4+4+3","2 Primeiros + 3º grupos de 4",null,null,null,null,null,null,null,null,null,null,null,null,null,null,null,null,null,null,null,null,null,null,null,null,null,null,null,null,null,null,null,null,null,null,null,null,null,null,null,null,null,null,null,null,null,7,{"$f":"IF(D25=\"\",\"4º Grupo A\",AM12)","v":"4º Grupo A"},null,null,"PS-InfB","Pares Senhoras - Infantis B"]
[null,12,"4 Grupos: 3+3+3+3","2 Primeiros de cada Grupo",null,null,null,null,null,null,null,null,null,null,null,null,null,null,null,null,null,null,null,null,null,null,null,null,null,null,null,null,null,null,null,null,null,null,null,null,null,null,null,null,null,null,null,null,null,8,{"$f":"IF(D25=\"\",\"4º Grupo B\",AM20)","v":"4º Grupo B"},null,null,"PS-Ini","Pares Senhoras - Iniciados"]
[null,13,"4 Grupos: 4+3+3+3","2 Primeiros de cada Grupo",null,null,null,null,null,null,null,null,null,null,null,null,null,null,null,null,null,null,null,null,null,null,null,null,null,null,null,null,null,null,null,null,null,null,null,null,null,null,null,null,null,null,null,null,null,null,null,null,null,"PS-Jun","Pares Senhoras - Juniores"]
[null,14,"4 Grupos: 4+4+3+3","2 Primeiros de cada Grupo",null,null,null,null,null,null,null,null,null,null,null,null,null,null,null,null,null,null,null,null,null,null,null,null,null,null,null,null,null,null,null,null,null,null,null,null,null,null,null,null,null,null,null,null,null,null,null,null,null,"PS-Juv","Pares Senhoras - Juvenis"]
[null,15,"4 Grupos: 4+4+4+3","2 Primeiros de cada Grupo",null,null,null,null,null,null,null,null,null,null,null,null,null,null,null,null,null,null,null,null,null,null,null,null,null,null,null,null,null,null,null,null,null,null,null,null,null,null,null,null,null,null,null,null,null,null,null,null,null,"SH-InfA","Singulares Homens - Infantis A"]
[null,16,"4 Grupos: 4+4+4+4","2 Primeiros de cada Grupo",null,null,null,null,null,null,null,null,null,null,null,null,null,null,null,null,null,null,null,null,null,null,null,null,null,null,null,null,null,null,null,null,null,null,null,null,null,null,null,null,null,null,null,null,null,null,null,null,null,"SH-InfB","Singulares Homens - Infantis B"]
[null,null,null,null,null,null,null,null,null,null,null,null,null,null,null,null,null,null,null,null,null,null,null,null,null,null,null,null,null,null,null,null,null,null,null,null,null,null,null,null,null,null,null,null,null,null,null,null,null,null,null,null,null,"SH-Ini","Singulares Homens - Iniciados"]
[null,null,null,null,null,null,null,null,null,null,null,null,null,null,null,null,null,null,null,null,null,null,null,null,null,null,null,null,null,null,null,null,null,null,null,null,null,null,null,null,null,null,null,null,null,null,null,null,null,null,null,null,null,"SH-Jun","Singulares Homens - Juniores"]
[null,null,null,null,null,null,null,null,null,null,null,null,null,null,null,null,null,null,null,null,null,null,null,null,null,null,null,null,null,null,null,null,null,null,null,null,null,null,null,null,null,null,null,null,null,null,null,null,null,null,null,null,null,"SH-Juv","Singulares Homens - Juvenis"]
[null,null,null,null,null,null,null,null,null,null,null,null,null,null,null,null,null,null,null,null,null,null,null,null,null,null,null,null,null,null,null,null,null,null,null,null,null,null,null,null,null,null,null,null,null,null,null,null,null,null,null,null,null,"SS-InfA","Singulares Senhoras - Infantis A"]
[null,null,null,null,null,null,null,null,null,null,null,null,null,null,null,null,null,null,null,null,null,null,null,null,null,null,null,null,null,null,null,null,null,null,null,null,null,null,null,null,null,null,null,null,null,null,null,null,null,null,"Lista ",null,null,"SS-InfB","Singulares Senhoras - Infantis B"]
[null,null,null,null,null,null,null,null,null,null,null,null,null,null,null,null,null,null,null,null,null,null,null,null,null,null,null,null,null,null,null,null,null,null,null,null,null,null,null,null,null,null,null,null,null,null,null,null,null,null,0,null,null,"SS-Ini","Singulares Senhoras - Iniciados"]
[null,null,null,null,null,null,null,null,null,null,null,null,null,null,null,null,null,null,null,null,null,null,null,null,null,null,null,null,null,null,null,null,null,null,null,null,null,null,null,null,null,null,null,null,null,null,null,null,null,null,1,null,null,"SS-Jun","Singulares Senhoras - Juniores"]
[null,null,null,null,null,null,null,null,null,null,null,null,null,null,null,null,null,null,null,null,null,null,null,null,null,null,null,null,null,null,null,null,null,null,null,null,null,null,null,null,null,null,null,null,null,null,null,null,null,null,2,null,null,"SS-Juv","Singulares Senhoras - Juvenis"]
[null,null,null,null,null,null,null,null,null,null,null,null,null,null,null,null,null,null,null,null,null,null,null,null,null,null,null,null,null,null,null,null,null,null,null,null,null,null,null,null,null,null,null,null,null,null,null,null,null,null,3]
[null,null,null,null,null,null,null,null,null,null,null,null,null,null,null,null,null,null,null,null,null,null,null,null,null,null,null,null,null,null,null,null,null,null,null,null,null,null,null,null,null,null,null,null,null,null,null,null,null,null,4]
[null,null,null,null,null,null,null,null,null,null,null,null,null,null,null,null,null,null,null,null,null,null,null,null,null,null,null,null,null,null,null,null,null,null,null,null,null,null,null,null,null,null,null,null,null,null,null,null,null,null,5]
[null,null,null,null,null,null,null,null,null,null,null,null,null,null,null,null,null,null,null,null,null,null,null,null,null,null,null,null,null,null,null,null,null,null,null,null,null,null,null,null,null,null,null,null,null,null,null,null,null,null,6]
[null,null,null,null,null,null,null,null,null,null,null,null,null,null,null,null,null,null,null,null,null,null,null,null,null,null,null,null,null,null,null,null,null,null,null,null,null,null,null,null,null,null,null,null,null,null,null,null,null,null,7]
[null,null,null,null,null,null,null,null,null,null,null,null,null,null,null,null,null,null,null,null,null,null,null,null,null,null,null,null,null,null,null,null,null,null,null,null,null,null,null,null,null,null,null,null,null,null,null,null,null,null,8]
[null,null,null,null,null,null,null,null,null,null,null,null,null,null,null,null,null,null,null,null,null,null,null,null,null,null,null,null,null,null,null,null,null,null,null,null,null,null,null,null,null,null,null,null,null,null,null,null,null,null,9]
[null,null,null,null,null,null,null,null,null,null,null,null,null,null,null,null,null,null,null,null,null,null,null,null,null,null,null,null,null,null,null,null,null,null,null,null,null,null,null,null,null,null,null,null,null,null,null,null,null,null,10]
[null,null,null,null,null,null,null,null,null,null,null,null,null,null,null,null,null,null,null,null,null,null,null,null,null,null,null,null,null,null,null,null,null,null,null,null,null,null,null,null,null,null,null,null,null,null,null,null,null,null,11]
[null,null,null,null,null,null,null,null,null,null,null,null,null,null,null,null,null,null,null,null,null,null,null,null,null,null,null,null,null,null,null,null,null,null,null,null,null,null,null,null,null,null,null,null,null,null,null,null,null,null,12]
[null,null,null,null,null,null,null,null,null,null,null,null,null,null,null,null,null,null,null,null,null,null,null,null,null,null,null,null,null,null,null,null,null,null,null,null,null,null,null,null,null,null,null,null,null,null,null,null,null,null,13]
[null,null,null,null,null,null,null,null,null,null,null,null,null,null,null,null,null,null,null,null,null,null,null,null,null,null,null,null,null,null,null,null,null,null,null,null,null,null,null,null,null,null,null,null,null,null,null,null,null,null,14]
[null,null,null,null,null,null,null,null,null,null,null,null,null,null,null,null,null,null,null,null,null,null,null,null,null,null,null,null,null,null,null,null,null,null,null,null,null,null,null,null,null,null,null,null,null,null,null,null,null,null,15]
[null,null,null,null,null,null,null,null,null,null,null,null,null,null,null,null,null,null,null,null,null,null,null,null,null,null,null,null,null,null,null,null,null,null,null,null,null,null,null,null,null,null,null,null,null,null,null,null,null,null,16]
[null,null,null,null,null,null,null,null,null,null,null,null,null,null,null,null,null,null,null,null,null,null,null,null,null,null,null,null,null,null,null,null,null,null,null,null,null,null,null,null,null,null,null,null,null,null,null,null,null,null,17]
[null,null,null,null,null,null,null,null,null,null,null,null,null,null,null,null,null,null,null,null,null,null,null,null,null,null,null,null,null,null,null,null,null,null,null,null,null,null,null,null,null,null,null,null,null,null,null,null,null,null,18]
[null,null,null,null,null,null,null,null,null,null,null,null,null,null,null,null,null,null,null,null,null,null,null,null,null,null,null,null,null,null,null,null,null,null,null,null,null,null,null,null,null,null,null,null,null,null,null,null,null,null,19]
[null,null,null,null,null,null,null,null,null,null,null,null,null,null,null,null,null,null,null,null,null,null,null,null,null,null,null,null,null,null,null,null,null,null,null,null,null,null,null,null,null,null,null,null,null,null,null,null,null,null,20]
[null,null,null,null,null,null,null,null,null,null,null,null,null,null,null,null,null,null,null,null,null,null,null,null,null,null,null,null,null,null,null,null,null,null,null,null,null,null,null,null,null,null,null,null,null,null,null,null,null,null,21]
[null,null,null,null,null,null,null,null,null,null,null,null,null,null,null,null,null,null,null,null,null,null,null,null,null,null,null,null,null,null,null,null,null,null,null,null,null,null,null,null,null,null,null,null,null,null,null,null,null,null,22]
[null,null,null,null,null,null,null,null,null,null,null,null,null,null,null,null,null,null,null,null,null,null,null,null,null,null,null,null,null,null,null,null,null,null,null,null,null,null,null,null,null,null,null,null,null,null,null,null,null,null,23]
[null,null,null,null,null,null,null,null,null,null,null,null,null,null,null,null,null,null,null,null,null,null,null,null,null,null,null,null,null,null,null,null,null,null,null,null,null,null,null,null,null,null,null,null,null,null,null,null,null,null,24]
[null,null,null,null,null,null,null,null,null,null,null,null,null,null,null,null,null,null,null,null,null,null,null,null,null,null,null,null,null,null,null,null,null,null,null,null,null,null,null,null,null,null,null,null,null,null,null,null,null,null,25]
[null,null,null,null,null,null,null,null,null,null,null,null,null,null,null,null,null,null,null,null,null,null,null,null,null,null,null,null,null,null,null,null,null,null,null,null,null,null,null,null,null,null,null,null,null,null,null,null,null,null,26]
[null,null,null,null,null,null,null,null,null,null,null,null,null,null,null,null,null,null,null,null,null,null,null,null,null,null,null,null,null,null,null,null,null,null,null,null,null,null,null,null,null,null,null,null,null,null,null,null,null,null,27]
[null,null,null,null,null,null,null,null,null,null,null,null,null,null,null,null,null,null,null,null,null,null,null,null,null,null,null,null,null,null,null,null,null,null,null,null,null,null,null,null,null,null,null,null,null,null,null,null,null,null,28]
[null,null,null,null,null,null,null,null,null,null,null,null,null,null,null,null,null,null,null,null,null,null,null,null,null,null,null,null,null,null,null,null,null,null,null,null,null,null,null,null,null,null,null,null,null,null,null,null,null,null,29]
[null,null,null,null,null,null,null,null,null,null,null,null,null,null,null,null,null,null,null,null,null,null,null,null,null,null,null,null,null,null,null,null,null,null,null,null,null,null,null,null,null,null,null,null,null,null,null,null,null,null,30]
[null,null,null,null,null,null,null,null,null,null,null,null,null,null,null,null,null,null,null,null,null,null,null,null,null,null,null,null,null,null,null,null,null,null,null,null,null,null,null,null,null,null,null,null,null,null,null,null,null,null,"fc"]
[null,null,null,null,null,null,null,null,null,null,null,null,null,null,null,null,null,null,null,null,null,null,null,null,null,null,null,null,null,null,null,null,null,null,null,null,null,null,null,null,null,null,null,null,null,null,null,null,null,null,"v"]

{"sheet":"SS-InfB","index":10,"n_rows":124,"n_cols":156,"rows_kept":124,"cut":false,"hidden":false,"merged":[[1,108,1,118],[3,0,3,1],[3,2,3,7],[3,8,3,14],[3,15,3,26],[3,27,3,33],[4,3,4,5],[4,9,4,11],[5,0,11,0],[6,16,6,19],[9,23,9,26],[12,16,12,19],[0,14,2,28],[0,38,0,43],[1,3,1,12],[29,0,35,0],[32,30,32,33],[35,22,35,26],[35,29,35,33],[36,22,37,26],[36,29,37,33],[13,0,19,0],[15,30,15,33],[19,16,19,19],[21,0,27,0],[22,23,22,26],[25,16,25,19],[44,16,44,19],[45,0,51,0],[47,30,47,33],[51,16,51,19],[53,0,59,0],[54,23,54,26],[57,16,57,19],[36,109,37,111],[36,112,41,117],[37,0,43,0],[38,16,38,19],[39,109,40,111],[41,23,41,26],[61,0,67,0],[71,1,72,10],[71,17,71,22],[71,23,71,24],[71,26,71,28],[71,30,71,31],[72,17,72,22],[72,23,72,24],[72,26,72,28],[72,30,72,31],[75,17,75,22],[75,23,75,24],[75,26,75,28],[75,30,75,31],[76,17,76,22],[76,23,76,24],[76,26,76,28],[76,30,76,31],[73,17,73,22],[73,23,73,24],[73,26,73,28],[73,30,73,31],[74,17,74,22],[74,23,74,24],[74,26,74,28],[74,30,74,31],[79,17,79,22],[79,23,79,24],[79,26,79,28],[79,30,79,31],[80,17,80,22],[80,23,80,24],[80,26,80,28],[80,30,80,31],[77,17,77,22],[77,23,77,24],[77,26,77,28],[77,30,77,31],[78,17,78,22],[78,23,78,24],[78,26,78,28],[78,30,78,31],[83,17,83,22],[83,23,83,24],[83,26,83,28],[83,30,83,31],[84,17,84,22],[84,23,84,24],[84,26,84,28],[84,30,84,31],[81,17,81,22],[81,23,81,24],[81,26,81,28],[81,30,81,31],[82,17,82,22],[82,23,82,24],[82,26,82,28],[82,30,82,31],[87,17,87,22],[87,23,87,24],[87,26,87,28],[87,30,87,31],[88,17,88,22],[88,23,88,24],[88,26,88,28],[88,30,88,31],[85,17,85,22],[85,23,85,24],[85,26,85,28],[85,30,85,31],[86,17,86,22],[86,23,86,24],[86,26,86,28],[86,30,86,31],[91,17,91,22],[91,23,91,24],[91,26,91,28],[91,30,91,31],[92,17,92,22],[92,23,92,24],[92,26,92,28],[92,30,92,31],[89,17,89,22],[89,23,89,24],[89,26,89,28],[89,30,89,31],[90,17,90,22],[90,23,90,24],[90,26,90,28],[90,30,90,31],[95,17,95,22],[95,23,95,24],[95,26,95,28],[95,30,95,31],[96,17,96,22],[96,23,96,24],[96,26,96,28],[96,30,96,31],[93,17,93,22],[93,23,93,24],[93,26,93,28],[93,30,93,31],[94,17,94,22],[94,23,94,24],[94,26,94,28],[94,30,94,31],[98,3,98,4],[98,9,98,10],[98,17,98,22],[98,23,98,24],[98,26,98,28],[98,30,98,31],[97,3,97,4],[97,9,97,10],[97,17,97,22],[97,23,97,24],[97,26,97,28],[97,30,97,31],[100,3,100,4],[100,9,100,10],[100,17,100,22],[100,23,100,24],[100,26,100,28],[100,30,100,31],[99,3,99,4],[99,9,99,10],[99,17,99,22],[99,23,99,24],[99,26,99,28],[99,30,99,31],[103,17,103,22],[103,23,103,24],[103,26,103,28],[103,30,103,31],[101,17,101,22],[101,23,101,24],[101,26,101,28],[101,30,101,31],[102,17,102,22],[102,23,102,24],[102,26,102,28],[102,30,102,31]]}
[null,null,null,"Direcção Regional de Educação do Algarve",null,null,null,null,null,null,null,null,null,null,"Badminton",null,null,null,null,null,null,null,null,null,null,null,null,null,null,null,null,null,null,null,null,null,null,null,{"$f":"$C$4","v":"Singulares Senhoras - Infantis B"},null,null,null,null,null,null,null,null,null,null,null,null,null,null,null,null,null,null,null,null,null,null,null,null,null,null,null,null,null,null,null,null,null,null,null,null,null,null,null,null,null,null,null,null,null,null,null,null,null,null,null,null,null,null,null,null,null,null,null,null,null,null,null,null,null,null,null,null,null,"Quadro para 17 a 32 Jogadores",null,null,null,null,null,null,null,null,null,null,null,{"$f":"COUNTA(DG4:DG35)","v":21},1,"A1",{"$f":"IF(DG4=\"\",\"\",IF($DG$24=\"\",CONCATENATE(DG4,\"\",\" (\",DI4,\")\"),\"\"))","v":""},"A1",{"$f":"IF(DG4=\"\",\"\",IF(AND($DG$27=\"\",$DG$24<>\"\"),CONCATENATE(DG4,\"\",\" (\",DI4,\")\"),\"\"))","v":"Iris Rodrigues (ACV)"},null,null,{"$f":"IF(DG4=\"\",\"\",IF($DG$27=\"\",\"\",CONCATENATE(DG4,\"\",\" (\",DI4,\")\")))","v":""},null,null,null,"Lista ",null,null,null,null,null,null,null,null,null,null,null,null,null,null,null,null,null,"ABV","Nome",null,"Tabela para 8 a 32 Jogadores"]
[null,null,null,{"$f":"\"Ano Lectivo \"&Apoio!F10","v":"Ano Lectivo 2017/2018"},null,null,null,null,null,null,null,null,null,null,null,null,null,null,null,null,null,null,null,null,null,null,null,null,null,null,null,null,null,null,null,null,null,null,null,null,null,null,null,null,null,null,null,null,null,null,null,null,null,null,null,null,null,null,null,null,null,null,null,null,null,null,null,null,null,null,null,null,null,null,null,null,null,null,null,null,null,null,null,null,null,null,null,null,null,null,null,null,null,null,null,null,null,null,null,null,null,null,null,null,null,null,null,{"$f":"SUM(DD4:DD35)","v":0},{"$f":"IF(DD2>0,\"ERRO DE PREENCHIMENTO\",\"Lista de Participantes\")","v":"Lista de Participantes"},null,null,null,null,null,null,null,null,null,null,null,null,2,"B1","","D1","Tânia Jesus (ACV)",null,null,"",null,null,null,0,null,null,null,null,null,null,null,null,null,null,null,null,null,null,null,null,null,"EM-Juv","Equipas Mistas - Juvenis",null,"Nº Jog","Grupos","Apurados 2ª Fase"]
[null,null,null,null,null,null,null,null,null,null,null,null,null,null,null,null,null,null,null,null,null,null,null,null,null,null,null,null,null,null,null,null,null,null,null,null,null,null,null,null,null,null,null,null,null,null,null,null,null,null,null,null,null,null,null,null,null,null,null,null,null,null,null,null,null,null,null,null,null,null,null,null,null,null,null,null,null,null,null,null,null,null,null,null,null,null,null,null,null,null,null,null,null,null,null,null,null,null,null,null,null,null,null,null,null,null,null,{"$f":"SUM(DD4:DD35)","v":0},"Ordem","Nº","Nome (1º e último)","Escola","Abv.","Ano Nasc.","Escalão","Sexo","Observações","Insc. Prova",null,null,null,3,"C1","","C1","Beatriz Coelho (ACV)",null,null,"",null,null,null,1,null,null,null,null,null,null,null,null,null,null,null,null,null,null,null,null,null,"PH-InfA","Pares Homens - Infantis A",null,9,"3 Grupos: 3+3+3","2 Primeiros + 2 melhores 3º"]
["SS-InfB",null,{"$f":"LOOKUP(A4,Apoio!N9:N39,Apoio!O9:O39)","v":"Singulares Senhoras - Infantis B"},null,null,null,null,null,{"$f":"'Ficha de Inscrição'!$A$5","v":"Torneio Nº 4"},null,null,null,null,null,null,{"$f":"\"Escola: \"&'Ficha de Inscrição'!$D$4","v":"Escola: ACav.Silva"},null,null,null,null,null,null,null,null,null,null,null,{"$f":"'Ficha de Inscrição'!$J$4","v":"2018-01-17"},null,null,null,null,null,null,null,null,null,null,null,null,null,null,null,null,null,null,null,null,null,null,null,null,null,null,null,null,null,null,null,null,null,null,null,null,null,null,null,null,null,null,null,null,null,null,null,null,null,null,null,null,null,null,null,null,null,null,null,null,null,null,null,null,null,null,null,null,null,null,null,null,null,null,null,null,null,null,null,{"$f":"IF(ISBLANK(DG4),COUNTA(DG5:$DG$35),0)","v":0},1,null,"Iris Rodrigues","ACav.Silva","ACV",2005,"Infantis B","F",null,"SS",null,null,null,4,"A2","","B1","Vitória Coelho (ACV)",null,null,"",null,null,null,2,null,null,null,null,null,null,null,null,null,null,null,null,null,null,null,null,null,"PH-InfB","Pares Homens - Infantis B",null,10,"3 Grupos: 4+3+3","2 Primeiros + 2 melhores 3º"]
[null,"1ª FASE",null,"Set's",null,null,null,null,null,"Set's",null,null,null,null,null,"2ª FASE",null,null,null,null,null,null,null,null,null,null,null,null,null,null,null,null,null,null,null,null,null,null,"Classificação 1ª Fase",null,null,null,null,null,null,null,null,null,null,null,null,null,null,null,null,null,null,null,null,null,null,null,null,null,null,null,null,null,null,null,null,null,null,null,null,null,null,null,null,null,null,null,null,null,null,null,null,null,null,null,null,null,null,null,null,null,null,null,null,null,null,null,null,null,null,null,null,{"$f":"IF(ISBLANK(DG5),COUNTA(DG6:$DG$35),0)","v":0},2,null,"Tânia Jesus","ACav.Silva","ACV",2005,"Infantis B","F",null,"SS",null,null,null,5,"B2","","B2","Iara Nascimento (ACV)",null,null,"",null,null,null,3,null,null,null,null,null,null,null,null,null,null,null,null,null,null,null,null,null,"PH-Ini","Pares Homens - Iniciados",null,11,"3 Grupos: 4+4+3","2 Primeiros + 3º grupos de 4"]
["Grupo A","NºJ","Jogadores",1,2,3,"R","NºJ","Jogadores",1,2,3,"R",null,null,"1/8 Final",null,null,null,null,null,null,"1/4 Final",null,null,null,null,null,null,"1/2 Final",null,null,null,null,null,null,null,null,null,null,null,null,null,null,null,null,null,null,5,6,8,"Colocar Equipas",null,null,null,null,null,null,null,null,"Ordenar p/ Pts 1",null,"Ordenar p/ Pts 2",null,"Ordenar p/ Pts 3",null,null,"Ordenar p/ DG 1",null,null,"Ordenar p/ DG 2",null,null,"Ordenar p/ DG 3",null,null,null,"Ordenar p/ GM 1",null,null,null,"Ordenar p/ GM 2",null,null,null,"Ordenar p/ GM 3",null,null,null,null,null,null,null,null,null,null,null,null,null,null,null,null,null,"Vencedores","Derrotados",null,null,{"$f":"IF(ISBLANK(DG6),COUNTA(DG7:$DG$35),0)","v":0},3,null,"Beatriz Coelho","ACav.Silva","ACV",2005,"Infantis B","F",null,"SS",null,null,null,6,"C2","","C2","Carolina Lima (ACV)",null,null,"",null,null,null,4,null,null,null,null,null,null,null,null,null,null,null,null,null,null,null,null,null,"PH-Jun","Pares Homens - Juniores",null,12,"4 Grupos: 3+3+3+3","2 Primeiros de cada Grupo"]
[null,{"$f":"$A$4","v":"SS-InfB"},{"$f":"AZ10","v":"Elena Rafael (DP)"},11,11,null,{"$f":"IF(ISBLANK(D7),\"\",SUM(IF(D7>D8,1,0)+(IF(E7>E8,1,0)+(IF(F7>F8,1,0)))))","v":2},{"$f":"$A$4","v":"SS-InfB"},{"$f":"IF(I8=\"\",\"\",AZ11)","v":""},null,null,null,{"$f":"IF(ISBLANK(J7),\"\",SUM(IF(J7>J8,1,0)+(IF(K7>K8,1,0)+(IF(L7>L8,1,0)))))","v":""},null,null,"Jogo Nº",{"$f":"CONCATENATE($A$4,\" \",SUM($H$68+1))","v":"SS-InfB 49"},null,null,null,null,null,null,null,null,null,null,null,null,null,null,null,null,null,null,null,null,null,"Classificação Grupo A",null,null,null,null,null,null,null,null,null,null,null,null,"Grupo A",null,null,null,null,null,null,null,null,null,null,null,null,null,null,null,null,null,null,null,null,null,null,null,null,null,null,null,null,null,null,null,null,null,null,null,null,null,null,null,null,null,null,null,null,null,null,null,null,null,null,null,{"$f":"IF(G8<>\"\",IF(G8>G7,C8,IF(G7>G8,C7,\"Empate\")),\"\")","v":"Elena Rafael (DP)"},{"$f":"IF(G8<>\"\",IF(G8<G7,C8,IF(G7<G8,C7,\"Empate\")),\"\")","v":"Iris Rodrigues (ACV)"},null,null,{"$f":"IF(ISBLANK(DG7),COUNTA(DG8:$DG$35),0)","v":0},4,null,"Vitória Coelho","ACav.Silva","ACV",2006,"Infantis B","F",null,"SS",null,null,null,7,"A3","","D2","Leonor Inácio (ACV)",null,null,"",null,null,null,5,null,null,null,null,null,null,null,null,null,null,null,null,null,null,null,null,null,"PH-Juv","Pares Homens - Juvenis",null,13,"4 Grupos: 4+3+3+3","2 Primeiros de cada Grupo"]
[null,1,{"$f":"AZ9","v":"Iris Rodrigues (ACV)"},4,2,null,{"$f":"IF(ISBLANK(D7),\"\",SUM(IF(D8>D7,1,0)+(IF(E8>E7,1,0)+(IF(F8>F7,1,0)))))","v":0},{"$f":"B8+1","v":2},{"$f":"AZ12","v":""},null,null,null,{"$f":"IF(ISBLANK(J7),\"\",SUM(IF(J8>J7,1,0)+(IF(K8>K7,1,0)+(IF(L8>L7,1,0)))))","v":""},null,1,{"$f":"IF($DQ$1<=20,LOOKUP(O8,$DT$36:$DT$51,$DU$36:$DU$51),IF(AND($DQ$1>20,$DQ$1<24),LOOKUP(O8,$DT$36:$DT$51,$DV$36:$DV$51),LOOKUP(O8,$DT$36:$DT$51,$DW$36:$DW$51)))","v":"Jasmine Campbell (ASA)"},9,9,null,{"$f":"IF(ISBLANK(Q8),\"\",SUM(IF(Q8>Q9,1,0)+(IF(R8>R9,1,0)+(IF(S8>S9,1,0)))))","v":2},null,null,null,null,null,null,null,null,null,null,null,null,null,null,null,null,null,"Cl",{"$f":"AZ8","v":"Jogadores"},"Jg","V","E","D","PM","PS","DP","Pt.",null,null,null,null,"Jogadores","Jg","V","E","D","GM","GS","DG","Pts","Equipas","Pts","Equipas","Pts","Equipas","Pts","DG","Equipas","Pts","DG","Equipas","Pts","DG","Equipas","Pts","DG","GM","Equipas","Pts","DG","GM","Equipas","Pts","DG","GM","Equipas","Pts","DG","GM",null,null,null,"Equipas","Jg","V","D","E","GM","GS","DG","Pts",null,null,{"$f":"IF(M7<>\"\",IF(M7>M8,I7,IF(M8>M7,I8,\"Empate\")),\"\")","v":""},{"$f":"IF(M7<>\"\",IF(M7<M8,I7,IF(M8<M7,I8,\"Empate\")),\"\")","v":""},null,null,{"$f":"IF(ISBLANK(DG8),COUNTA(DG9:$DG$35),0)","v":0},5,null,"Iara Nascimento","ACav.Silva","ACV",2006,"Infantis B","F",null,"SS",null,null,null,8,"B3","","A2","Daniela Dias (ACV)",null,null,"",null,null,null,6,null,null,null,null,null,null,null,null,null,null,null,null,null,null,null,null,null,"PM-Ini","Pares Mistos - Iniciados",null,14,"4 Grupos: 4+4+3+3","2 Primeiros de cada Grupo"]
[null,{"$f":"$A$4","v":"SS-InfB"},{"$f":"AZ9","v":"Iris Rodrigues (ACV)"},3,4,null,{"$f":"IF(ISBLANK(D9),\"\",SUM(IF(D9>D10,1,0)+(IF(E9>E10,1,0)+(IF(F9>F10,1,0)))))","v":0},{"$f":"$A$4","v":"SS-InfB"},{"$f":"AZ12","v":""},null,null,null,{"$f":"IF(ISBLANK(J9),\"\",SUM(IF(J9>J10,1,0)+(IF(K9>K10,1,0)+(IF(L9>L10,1,0)))))","v":""},null,16,{"$f":"IF($DQ$1<=20,LOOKUP(O9,$DT$36:$DT$51,$DU$36:$DU$51),IF(AND($DQ$1>20,$DQ$1<24),LOOKUP(O9,$DT$36:$DT$51,$DV$36:$DV$51),LOOKUP(O9,$DT$36:$DT$51,$DW$36:$DW$51)))","v":"Beatriz Coelho (ACV)"},4,3,null,{"$f":"IF(ISBLANK(Q8),\"\",SUM(IF(Q9>Q8,1,0)+(IF(R9>R8,1,0)+(IF(S9>S8,1,0)))))","v":0},null,null,null,null,null,null,null,null,null,null,null,null,null,null,null,1,null,{"$f":"IF(AM9=\"\",\"\",\"1º\")","v":"1º"},{"$f":"CO9","v":"Jasmine Campbell (ASA)"},{"$f":"IF(AM9=\"\",\"\",CP9)","v":2},{"$f":"IF(AM9=\"\",\"\",CQ9)","v":2},{"$f":"IF(AM9=\"\",\"\",CR9)","v":0},{"$f":"IF(AM9=\"\",\"\",CS9)","v":0},{"$f":"IF(AM9=\"\",\"\",CT9)","v":44},{"$f":"IF(AM9=\"\",\"\",CU9)","v":22},{"$f":"IF(AM9=\"\",\"\",CV9)","v":22},{"$f":"IF(AM9=\"\",\"\",CW9)","v":4},{"$f":"IF(AND($DQ$1>=17,$DQ$1<=20),AW9,IF(AND($DQ$1>=21,$DQ$1<=23),AX9,AY9))","v":1},1,1,1,{"$f":"IF($DQ$1<=20,LOOKUP(DR1,$DR$1:$DR$20,$DT$1:$DT$20),IF(AND($DQ$1>20,$DQ$1<24),LOOKUP(DR1,$DR$1:$DR$23,$DV$1:$DV$23),LOOKUP(DR1,$DR$1:$DR$32,$DY$1:$DY$32)))","v":"Iris Rodrigues (ACV)"},{"$f":"COUNT(G8,G9,M12)","v":2},{"$f":"COUNTIF(CZ7:CZ12,AZ9)","v":0},{"$f":"BA9-(BB9+BD9)","v":0},{"$f":"COUNTIF(DA7:DA12,AZ9)","v":2},{"$f":"SUM(D8:F8,D9:F9,J12:L12)","v":13},{"$f":"SUM(D7:F7,D10:F10,J11:L11)","v":44},{"$f":"BE9-BF9","v":-31},{"$f":"IF(BA9=0,0,BB9*2+BD9*1)","v":2},{"$f":"IF(BH9>=BH10,AZ9,AZ10)","v":"Elena Rafael (DP)"},{"$f":"VLOOKUP(BI9,AZ9:BH12,9,FALSE)","v":3},{"$f":"IF(BJ9>=BJ11,BI9,BI11)","v":"Jasmine Campbell (ASA)"},{"$f":"VLOOKUP(BK9,AZ9:BH12,9,FALSE)","v":4},{"$f":"IF(BL9>=BL12,BK9,BK12)","v":"Jasmine Campbell (ASA)"},{"$f":"VLOOKUP(BM9,AZ9:BH12,9,FALSE)","v":4},{"$f":"VLOOKUP(BM9,AZ9:BH12,8,FALSE)","v":22},{"$f":"IF(AND(BN9=BN10,BO10>BO9),BM10,BM9)","v":"Jasmine Campbell (ASA)"},{"$f":"VLOOKUP(BP9,AZ9:BH12,9,FALSE)","v":4},{"$f":"VLOOKUP(BP9,AZ9:BH12,8,FALSE)","v":22},{"$f":"IF(AND(BQ9=BQ11,BR11>BR9),BP11,BP9)","v":"Jasmine Campbell (ASA)"},{"$f":"VLOOKUP(BS9,AZ9:BH12,9,FALSE)","v":4},{"$f":"VLOOKUP(BS9,AZ9:BH12,8,FALSE)","v":22},{"$f":"IF(AND(BT9=BT12,BU12>BU9),BS12,BS9)","v":"Jasmine Campbell (ASA)"},{"$f":"VLOOKUP(BV9,AZ9:BH12,9,FALSE)","v":4},{"$f":"VLOOKUP(BV9,AZ9:BH12,8,FALSE)","v":22},{"$f":"VLOOKUP(BV9,AZ9:BH12,6,FALSE)","v":44},{"$f":"IF(AND(BW9=BW10,BX9=BX10,BY10>BY9),BV10,BV9)","v":"Jasmine Campbell (ASA)"},{"$f":"VLOOKUP(BZ9,AZ9:BH12,9,FALSE)","v":4},{"$f":"VLOOKUP(BZ9,AZ9:BH12,8,FALSE)","v":22},{"$f":"VLOOKUP(BZ9,AZ9:BH12,6,FALSE)","v":44},{"$f":"IF(AND(CA9=CA11,CB9=CB11,CC11>CC9),BZ11,BZ9)","v":"Jasmine Campbell (ASA)"},{"$f":"VLOOKUP(CD9,AZ9:BH12,9,FALSE)","v":4},{"$f":"VLOOKUP(CD9,AZ9:BH12,8,FALSE)","v":22},{"$f":"VLOOKUP(CD9,AZ9:BH12,6,FALSE)","v":44},{"$f":"IF(AND(CE9=CE12,CF9=CF12,CG12>CG9),CD12,CD9)","v":"Jasmine Campbell (ASA)"},{"$f":"VLOOKUP(CH9,AZ9:BH12,9,FALSE)","v":4},{"$f":"VLOOKUP(CH9,AZ9:BH12,8,FALSE)","v":22},{"$f":"VLOOKUP(CH9,AZ9:BH12,6,FALSE)","v":44},null,null,null,{"$f":"CH9","v":"Jasmine Campbell (ASA)"},{"$f":"VLOOKUP(CO9,AZ9:BH12,2,FALSE)","v":2},{"$f":"VLOOKUP(CO9,AZ9:BH12,3,FALSE)","v":2},{"$f":"VLOOKUP(CO9,AZ9:BH12,4,FALSE)","v":0},{"$f":"VLOOKUP(CO9,AZ9:BH12,5,FALSE)","v":0},{"$f":"VLOOKUP(CO9,AZ9:BH12,6,FALSE)","v":44},{"$f":"VLOOKUP(CO9,AZ9:BH12,7,FALSE)","v":22},{"$f":"VLOOKUP(CO9,AZ9:BH12,8,FALSE)","v":22},{"$f":"VLOOKUP(CO9,AZ9:BH12,9,FALSE)","v":4},null,null,{"$f":"IF(G9<>\"\",IF(G9>G10,C9,IF(G10>G9,C10,\"Empate\")),\"\")","v":"Jasmine Campbell (ASA)"},{"$f":"IF(G9<>\"\",IF(G9<G10,C9,IF(G10<G9,C10,\"Empate\")),\"\")","v":"Iris Rodrigues (ACV)"},null,null,{"$f":"IF(ISBLANK(DG9),COUNTA(DG10:$DG$35),0)","v":0},6,null,"Carolina Lima","ACav.Silva","ACV",2006,"Infantis B","F",null,"SS",null,null,null,9,"C3","","A3","Carolina Rodrigues (ACV)",null,null,"",null,null,null,7,null,null,null,null,null,null,null,null,null,null,null,null,null,null,null,null,null,"PS-InfA","Pares Senhoras - Infantis A",null,15,"4 Grupos: 4+4+4+3","2 Primeiros de cada Grupo"]
[null,17,{"$f":"AZ11","v":"Jasmine Campbell (ASA)"},11,11,null,{"$f":"IF(ISBLANK(D9),\"\",SUM(IF(D10>D9,1,0)+(IF(E10>E9,1,0)+(IF(F10>F9,1,0)))))","v":2},18,{"$f":"IF(I9=\"\",\"\",AZ10)","v":""},null,null,null,{"$f":"IF(ISBLANK(J9),\"\",SUM(IF(J10>J9,1,0)+(IF(K10>K9,1,0)+(IF(L10>L9,1,0)))))","v":""},null,null,null,null,null,null,null,null,null,"Jogo Nº",{"$f":"CONCATENATE($A$4,\" \",SUM($H$68+9))","v":"SS-InfB 57"},null,null,null,null,null,null,null,null,null,null,null,7,null,{"$f":"IF(AM10=\"\",\"\",\"2º\")","v":"2º"},{"$f":"CO10","v":"Elena Rafael (DP)"},{"$f":"IF(AM10=\"\",\"\",CP10)","v":2},{"$f":"IF(AM10=\"\",\"\",CQ10)","v":1},{"$f":"IF(AM10=\"\",\"\",CR10)","v":0},{"$f":"IF(AM10=\"\",\"\",CS10)","v":1},{"$f":"IF(AM10=\"\",\"\",CT10)","v":37},{"$f":"IF(AM10=\"\",\"\",CU10)","v":28},{"$f":"IF(AM10=\"\",\"\",CV10)","v":9},{"$f":"IF(AM10=\"\",\"\",CW10)","v":3},{"$f":"IF(AND($DQ$1>=17,$DQ$1<=20),AW10,IF(AND($DQ$1>=21,$DQ$1<=23),AX10,AY10))","v":12},10,12,16,{"$f":"IF($DQ$1<=20,LOOKUP(DR10,$DR$1:$DR$20,$DT$1:$DT$20),IF(AND($DQ$1>20,$DQ$1<24),LOOKUP(DR12,$DR$1:$DR$23,$DV$1:$DV$23),LOOKUP(DR16,$DR$1:$DR$32,$DY$1:$DY$32)))","v":"Elena Rafael (DP)"},{"$f":"COUNT(G7,M10,G12)","v":2},{"$f":"COUNTIF(CZ7:CZ12,AZ10)","v":1},{"$f":"BA10-(BB10+BD10)","v":0},{"$f":"COUNTIF(DA7:DA12,AZ10)","v":1},{"$f":"SUM(D7:F7,J10:L10,D12:F12)","v":37},{"$f":"SUM(D8:F8,J9:L9,D11:F11)","v":28},{"$f":"BE10-BF10","v":9},{"$f":"IF(BA10=0,0,BB10*2+BD10*1)","v":3},{"$f":"IF(BH10<=BH9,AZ10,AZ9)","v":"Iris Rodrigues (ACV)"},{"$f":"VLOOKUP(BI10,AZ9:BH12,9,FALSE)","v":2},{"$f":"IF(BJ10>=BJ12,BI10,BI12)","v":"Iris Rodrigues (ACV)"},{"$f":"VLOOKUP(BK10,AZ9:BH12,9,FALSE)","v":2},{"$f":"IF(BL10>=BL11,BK10,BK11)","v":"Elena Rafael (DP)"},{"$f":"VLOOKUP(BM10,AZ9:BH12,9,FALSE)","v":3},{"$f":"VLOOKUP(BM10,AZ9:BH12,8,FALSE)","v":9},{"$f":"IF(AND(BN9=BN10,BO10>BO9),BM9,BM10)","v":"Elena Rafael (DP)"},{"$f":"VLOOKUP(BP10,AZ9:BH12,9,FALSE)","v":3},{"$f":"VLOOKUP(BP10,AZ9:BH12,8,FALSE)","v":9},{"$f":"IF(AND(BQ10=BQ12,BR12>BR10),BP12,BP10)","v":"Elena Rafael (DP)"},{"$f":"VLOOKUP(BS10,AZ9:BH12,9,FALSE)","v":3},{"$f":"VLOOKUP(BS10,AZ9:BH12,8,FALSE)","v":9},{"$f":"IF(AND(BT10=BT11,BU11>BU10),BS11,BS10)","v":"Elena Rafael (DP)"},{"$f":"VLOOKUP(BV10,AZ9:BH12,9,FALSE)","v":3},{"$f":"VLOOKUP(BV10,AZ9:BH12,8,FALSE)","v":9},{"$f":"VLOOKUP(BV10,AZ9:BH12,6,FALSE)","v":37},{"$f":"IF(AND(BW9=BW10,BX9=BX10,BY10>BY9),BV9,BV10)","v":"Elena Rafael (DP)"},{"$f":"VLOOKUP(BZ10,AZ9:BH12,9,FALSE)","v":3},{"$f":"VLOOKUP(BZ10,AZ9:BH12,8,FALSE)","v":9},{"$f":"VLOOKUP(BZ10,AZ9:BH12,6,FALSE)","v":37},{"$f":"IF(AND(CA10=CA12,CB10=CB12,CC12>CC10),BZ12,BZ10)","v":"Elena Rafael (DP)"},{"$f":"VLOOKUP(CD10,AZ9:BH12,9,FALSE)","v":3},{"$f":"VLOOKUP(CD10,AZ9:BH12,8,FALSE)","v":9},{"$f":"VLOOKUP(CD10,AZ9:BH12,6,FALSE)","v":37},{"$f":"IF(AND(CE10=CE11,CF10=CF11,CG11>CG10),CD11,CD10)","v":"Elena Rafael (DP)"},{"$f":"VLOOKUP(CH10,AZ9:BH12,9,FALSE)","v":3},{"$f":"VLOOKUP(CH10,AZ9:BH12,8,FALSE)","v":9},{"$f":"VLOOKUP(CH10,AZ9:BH12,6,FALSE)","v":37},null,null,null,{"$f":"CH10","v":"Elena Rafael (DP)"},{"$f":"VLOOKUP(CO10,AZ9:BH12,2,FALSE)","v":2},{"$f":"VLOOKUP(CO10,AZ9:BH12,3,FALSE)","v":1},{"$f":"VLOOKUP(CO10,AZ9:BH12,4,FALSE)","v":0},{"$f":"VLOOKUP(CO10,AZ9:BH12,5,FALSE)","v":1},{"$f":"VLOOKUP(CO10,AZ9:BH12,6,FALSE)","v":37},{"$f":"VLOOKUP(CO10,AZ9:BH12,7,FALSE)","v":28},{"$f":"VLOOKUP(CO10,AZ9:BH12,8,FALSE)","v":9},{"$f":"VLOOKUP(CO10,AZ9:BH12,9,FALSE)","v":3},null,null,{"$f":"IF(M9<>\"\",IF(M9>M10,I9,IF(M10>M9,I10,\"Empate\")),\"\")","v":""},{"$f":"IF(M9<>\"\",IF(M9<M10,I9,IF(M10<M9,I10,\"Empate\")),\"\")","v":""},null,null,{"$f":"IF(ISBLANK(DG10),COUNTA(DG11:$DG$35),0)","v":0},7,null,"Leonor Inácio","ACav.Silva","ACV",2006,"Infantis B","F",null,"SS",null,null,null,10,"A4","","D3","Cristina Curnic (DP)",null,null,"",null,null,null,8,null,null,null,null,null,null,null,null,null,null,null,null,null,null,null,null,null,"PS-InfB","Pares Senhoras - Infantis B",null,16,"4 Grupos: 4+4+4+4","2 Primeiros de cada Grupo"]
[null,{"$f":"$A$4","v":"SS-InfB"},{"$f":"AZ11","v":"Jasmine Campbell (ASA)"},11,11,null,{"$f":"IF(ISBLANK(D11),\"\",SUM(IF(D11>D12,1,0)+(IF(E11>E12,1,0)+(IF(F11>F12,1,0)))))","v":2},{"$f":"$A$4","v":"SS-InfB"},{"$f":"AZ12","v":""},null,null,null,{"$f":"IF(ISBLANK(J11),\"\",SUM(IF(J11>J12,1,0)+(IF(K11>K12,1,0)+(IF(L11>L12,1,0)))))","v":""},null,null,null,null,null,null,null,null,null,{"$f":"IF(P8=\"Bye\",P9,IF(P9=\"Bye\",P8,IF(T8=T9,\"\",IF(T8>T9,P8,P9))))","v":"Jasmine Campbell (ASA)"},3,9,4,{"$f":"IF(ISBLANK(X11),\"\",SUM(IF(X11>X12,1,0)+(IF(Y11>Y12,1,0)+(IF(Z11>Z12,1,0)))))","v":1},null,null,null,null,null,null,null,null,null,null,{"$f":"IF(AM11=\"\",\"\",\"3º\")","v":"3º"},{"$f":"CO11","v":"Iris Rodrigues (ACV)"},{"$f":"IF(AM11=\"\",\"\",CP11)","v":2},{"$f":"IF(AM11=\"\",\"\",CQ11)","v":0},{"$f":"IF(AM11=\"\",\"\",CR11)","v":0},{"$f":"IF(AM11=\"\",\"\",CS11)","v":2},{"$f":"IF(AM11=\"\",\"\",CT11)","v":13},{"$f":"IF(AM11=\"\",\"\",CU11)","v":44},{"$f":"IF(AM11=\"\",\"\",CV11)","v":-31},{"$f":"IF(AM11=\"\",\"\",CW11)","v":2},{"$f":"IF(AND($DQ$1>=17,$DQ$1<=20),AW11,IF(AND($DQ$1>=21,$DQ$1<=23),AX11,AY11))","v":18},15,18,17,{"$f":"IF($DQ$1<=20,LOOKUP(DR15,$DR$1:$DR$20,$DT$1:$DT$20),IF(AND($DQ$1>20,$DQ$1<24),LOOKUP(DR18,$DR$1:$DR$23,$DV$1:$DV$23),LOOKUP(DR17,$DR$1:$DR$32,$DY$1:$DY$32)))","v":"Jasmine Campbell (ASA)"},{"$f":"COUNT(M7,G10,G11)","v":2},{"$f":"COUNTIF(CZ7:CZ12,AZ11)","v":2},{"$f":"BA11-(BB11+BD11)","v":0},{"$f":"COUNTIF(DA7:DA12,AZ11)","v":0},{"$f":"SUM(J7:L7,D10:F10,D11:F11)","v":44},{"$f":"SUM(J8:L8,D9:F9,D12:F12)","v":22},{"$f":"BE11-BF11","v":22},{"$f":"IF(BA11=0,0,BB11*2+BD11*1)","v":4},{"$f":"IF(BH11>=BH12,AZ11,AZ12)","v":"Jasmine Campbell (ASA)"},{"$f":"VLOOKUP(BI11,AZ9:BH12,9,FALSE)","v":4},{"$f":"IF(BJ11<=BJ9,BI11,BI9)","v":"Elena Rafael (DP)"},{"$f":"VLOOKUP(BK11,AZ9:BH12,9,FALSE)","v":3},{"$f":"IF(BL11<=BL10,BK11,BK10)","v":"Iris Rodrigues (ACV)"},{"$f":"VLOOKUP(BM11,AZ9:BH12,9,FALSE)","v":2},{"$f":"VLOOKUP(BM11,AZ9:BH12,8,FALSE)","v":-31},{"$f":"IF(AND(BN11=BN12,BO12>BO11),BM12,BM11)","v":"Iris Rodrigues (ACV)"},{"$f":"VLOOKUP(BP11,AZ9:BH12,9,FALSE)","v":2},{"$f":"VLOOKUP(BP11,AZ9:BH12,8,FALSE)","v":-31},{"$f":"IF(AND(BQ9=BQ11,BR11>BR9),BP9,BP11)","v":"Iris Rodrigues (ACV)"},{"$f":"VLOOKUP(BS11,AZ9:BH12,9,FALSE)","v":2},{"$f":"VLOOKUP(BS11,AZ9:BH12,8,FALSE)","v":-31},{"$f":"IF(AND(BT10=BT11,BU11>BU10),BS10,BS11)","v":"Iris Rodrigues (ACV)"},{"$f":"VLOOKUP(BV11,AZ9:BH12,9,FALSE)","v":2},{"$f":"VLOOKUP(BV11,AZ9:BH12,8,FALSE)","v":-31},{"$f":"VLOOKUP(BV11,AZ9:BH12,6,FALSE)","v":13},{"$f":"IF(AND(BW11=BW12,BX11=BX12,BY12>BY11),BV12,BV11)","v":"Iris Rodrigues (ACV)"},{"$f":"VLOOKUP(BZ11,AZ9:BH12,9,FALSE)","v":2},{"$f":"VLOOKUP(BZ11,AZ9:BH12,8,FALSE)","v":-31},{"$f":"VLOOKUP(BZ11,AZ9:BH12,6,FALSE)","v":13},{"$f":"IF(AND(CA9=CA11,CB9=CB11,CC10>CC9),BZ9,BZ11)","v":"Iris Rodrigues (ACV)"},{"$f":"VLOOKUP(CD11,AZ9:BH12,9,FALSE)","v":2},{"$f":"VLOOKUP(CD11,AZ9:BH12,8,FALSE)","v":-31},{"$f":"VLOOKUP(CD11,AZ9:BH12,6,FALSE)","v":13},{"$f":"IF(AND(CE10=CE11,CF10=CF11,CG11>CG10),CD10,CD11)","v":"Iris Rodrigues (ACV)"},{"$f":"VLOOKUP(CH11,AZ9:BH12,9,FALSE)","v":2},{"$f":"VLOOKUP(CH11,AZ9:BH12,8,FALSE)","v":-31},{"$f":"VLOOKUP(CH11,AZ9:BH12,6,FALSE)","v":13},null,null,null,{"$f":"CH11","v":"Iris Rodrigues (ACV)"},{"$f":"VLOOKUP(CO11,AZ9:BH12,2,FALSE)","v":2},{"$f":"VLOOKUP(CO11,AZ9:BH12,3,FALSE)","v":0},{"$f":"VLOOKUP(CO11,AZ9:BH12,4,FALSE)","v":0},{"$f":"VLOOKUP(CO11,AZ9:BH12,5,FALSE)","v":2},{"$f":"VLOOKUP(CO11,AZ9:BH12,6,FALSE)","v":13},{"$f":"VLOOKUP(CO11,AZ9:BH12,7,FALSE)","v":44},{"$f":"VLOOKUP(CO11,AZ9:BH12,8,FALSE)","v":-31},{"$f":"VLOOKUP(CO11,AZ9:BH12,9,FALSE)","v":2},null,null,{"$f":"IF(M11<>\"\",IF(M11>M12,I11,IF(M12>M11,I12,\"Empate\")),\"\")","v":""},{"$f":"IF(M11<>\"\",IF(M11<M12,I11,IF(M12<M11,I12,\"Empate\")),\"\")","v":""},null,null,{"$f":"IF(ISBLANK(DG11),COUNTA(DG12:$DG$35),0)","v":0},8,null,"Daniela Dias","ACav.Silva","ACV",2006,"Infantis B","F",null,"SS",null,null,null,11,"B4","","C3","Bárbara Fernandes (DP)",null,null,"",null,null,null,9,null,null,null,null,null,null,null,null,null,null,null,null,null,null,null,null,null,"PS-Ini","Pares Senhoras - Iniciados",null,17,"5 Grupos: 4+4+3+3+3","1 Primeiros + 3 melhores 2º"]
[null,33,{"$f":"AZ10","v":"Elena Rafael (DP)"},6,9,null,{"$f":"IF(ISBLANK(D11),\"\",SUM(IF(D12>D11,1,0)+(IF(E12>E11,1,0)+(IF(F12>F11,1,0)))))","v":0},34,{"$f":"IF(I11=\"\",\"\",AZ9)","v":""},null,null,null,{"$f":"IF(ISBLANK(J11),\"\",SUM(IF(J12>J11,1,0)+(IF(K12>K11,1,0)+(IF(L12>L11,1,0)))))","v":""},null,null,null,null,null,null,null,null,null,{"$f":"IF(P14=\"Bye\",P15,IF(P15=\"Bye\",P14,IF(T14=T15,\"\",IF(T14>T15,P14,P15))))","v":"Carolina Lima (ACV)"},9,6,9,{"$f":"IF(ISBLANK(X11),\"\",SUM(IF(X12>X11,1,0)+(IF(Y12>Y11,1,0)+(IF(Z12>Z11,1,0)))))","v":2},null,null,null,null,null,null,null,null,null,null,{"$f":"IF(AM12=\"\",\"\",\"4º\")","v":""},{"$f":"CO12","v":""},{"$f":"IF(AM12=\"\",\"\",CP12)","v":""},{"$f":"IF(AM12=\"\",\"\",CQ12)","v":""},{"$f":"IF(AM12=\"\",\"\",CR12)","v":""},{"$f":"IF(AM12=\"\",\"\",CS12)","v":""},{"$f":"IF(AM12=\"\",\"\",CT12)","v":""},{"$f":"IF(AM12=\"\",\"\",CU12)","v":""},{"$f":"IF(AM12=\"\",\"\",CV12)","v":""},{"$f":"IF(AM12=\"\",\"\",CW12)","v":""},{"$f":"IF(AND($DQ$1>=17,$DQ$1<=20),AW12,IF(AND($DQ$1>=21,$DQ$1<=23),AX12,AY12))","v":24},20,24,32,{"$f":"IF($DQ$1<=20,LOOKUP(DR20,$DR$1:$DR$20,$DT$1:$DT$20),IF(AND($DQ$1>20,$DQ$1<24),LOOKUP(DR24,$DR$1:$DR$24,$DV$1:$DV$24),LOOKUP(DR32,$DR$1:$DR$32,$DY$1:$DY$32)))","v":""},{"$f":"COUNT(M8,M9,M11)","v":0},{"$f":"COUNTIF(CZ7:CZ12,AZ12)","v":3},{"$f":"BA12-(BB12+BD12)","v":-6},{"$f":"COUNTIF(DA7:DA12,AZ12)","v":3},{"$f":"SUM(J8:L8,J9:L9,J11:L11)","v":0},{"$f":"SUM(J7:L7,J10:L10,J12:L12)","v":0},{"$f":"BE12-BF12","v":0},{"$f":"IF(BA12=0,0,BB12*2+BD12*1)","v":0},{"$f":"IF(BH12<=BH11,AZ12,AZ11)","v":""},{"$f":"VLOOKUP(BI12,AZ9:BH12,9,FALSE)","v":0},{"$f":"IF(BJ12<=BJ10,BI12,BI10)","v":""},{"$f":"VLOOKUP(BK12,AZ9:BH12,9,FALSE)","v":0},{"$f":"IF(BL12<=BL9,BK12,BK9)","v":""},{"$f":"VLOOKUP(BM12,AZ9:BH12,9,FALSE)","v":0},{"$f":"VLOOKUP(BM12,AZ9:BH12,8,FALSE)","v":0},{"$f":"IF(AND(BN11=BN12,BO12>BO11),BM11,BM12)","v":""},{"$f":"VLOOKUP(BP12,AZ9:BH12,9,FALSE)","v":0},{"$f":"VLOOKUP(BP12,AZ9:BH12,8,FALSE)","v":0},{"$f":"IF(AND(BQ10=BQ12,BR12>BR10),BP10,BP12)","v":""},{"$f":"VLOOKUP(BS12,AZ9:BH12,9,FALSE)","v":0},{"$f":"VLOOKUP(BS12,AZ9:BH12,8,FALSE)","v":0},{"$f":"IF(AND(BT9=BT12,BU12>BU9),BS9,BS12)","v":""},{"$f":"VLOOKUP(BV12,AZ9:BH12,9,FALSE)","v":0},{"$f":"VLOOKUP(BV12,AZ9:BH12,8,FALSE)","v":0},{"$f":"VLOOKUP(BV12,AZ9:BH12,6,FALSE)","v":0},{"$f":"IF(AND(BW11=BW12,BX11=BX12,BY12>BY11),BV11,BV12)","v":""},{"$f":"VLOOKUP(BZ12,AZ9:BH12,9,FALSE)","v":0},{"$f":"VLOOKUP(BZ12,AZ9:BH12,8,FALSE)","v":0},{"$f":"VLOOKUP(BZ12,AZ9:BH12,6,FALSE)","v":0},{"$f":"IF(AND(CA10=CA12,CB10=CB12,CC12>CC10),BZ10,BZ12)","v":""},{"$f":"VLOOKUP(CD12,AZ9:BH12,9,FALSE)","v":0},{"$f":"VLOOKUP(CD12,AZ9:BH12,8,FALSE)","v":0},{"$f":"VLOOKUP(CD12,AZ9:BH12,6,FALSE)","v":0},{"$f":"IF(AND(CE9=CE12,CF9=CF12,CG12>CG9),CD9,CD12)","v":""},{"$f":"VLOOKUP(CH12,AZ9:BH12,9,FALSE)","v":0},{"$f":"VLOOKUP(CH12,AZ9:BH12,8,FALSE)","v":0},{"$f":"VLOOKUP(CH12,AZ9:BH12,6,FALSE)","v":0},null,null,null,{"$f":"CH12","v":""},{"$f":"VLOOKUP(CO12,AZ9:BH12,2,FALSE)","v":0},{"$f":"VLOOKUP(CO12,AZ9:BH12,3,FALSE)","v":3},{"$f":"VLOOKUP(CO12,AZ9:BH12,4,FALSE)","v":-6},{"$f":"VLOOKUP(CO12,AZ9:BH12,5,FALSE)","v":3},{"$f":"VLOOKUP(CO12,AZ9:BH12,6,FALSE)","v":0},{"$f":"VLOOKUP(CO12,AZ9:BH12,7,FALSE)","v":0},{"$f":"VLOOKUP(CO12,AZ9:BH12,8,FALSE)","v":0},{"$f":"VLOOKUP(CO12,AZ9:BH12,9,FALSE)","v":0},null,null,{"$f":"IF(G12<>\"\",IF(G12>G11,C12,IF(G11>G12,C11,\"Empate\")),\"\")","v":"Jasmine Campbell (ASA)"},{"$f":"IF(G12<>\"\",IF(G12<G11,C12,IF(G11<G12,C11,\"Empate\")),\"\")","v":"Elena Rafael (DP)"},null,null,{"$f":"IF(ISBLANK(DG12),COUNTA(DG13:$DG$35),0)","v":0},9,null,"Carolina Rodrigues","ACav.Silva","ACV",2005,"Infantis B","F",null,"SS",null,null,null,12,null,"","B3","Elena Rafael (DP)",null,null,"",null,null,null,10,null,null,null,null,null,null,null,null,null,null,null,null,null,null,null,null,null,"PS-Jun","Pares Senhoras - Juniores",null,18,"5 Grupos: 4+4+4+3+3","1 Primeiros + 3 melhores 2º"]
[null,null,null,null,null,null,null,null,null,null,null,null,null,null,null,"Jogo Nº",{"$f":"CONCATENATE($A$4,\" \",SUM($H$68+2))","v":"SS-InfB 50"},null,null,null,null,null,null,null,null,null,null,null,null,null,null,null,null,null,null,null,null,null,null,null,null,null,null,null,null,null,null,null,null,null,null,null,null,null,null,null,null,null,null,null,null,null,null,null,null,null,null,null,null,null,null,null,null,null,null,null,null,null,null,null,null,null,null,null,null,null,null,null,null,null,null,null,null,null,null,null,null,null,null,null,null,null,null,null,null,null,null,{"$f":"IF(ISBLANK(DG13),COUNTA(DG14:$DG$35),0)","v":0},10,null,"Cristina Curnic","DPacheco","DP",2006,"Infantis B","F",null,"SS",null,null,null,13,null,"","B4","Loredana Junea (DP)",null,null,"",null,null,null,11,null,null,null,null,null,null,null,null,null,null,null,null,null,null,null,null,null,"PS-Juv","Pares Senhoras - Juvenis",null,19,"5 Grupos: 4+4+4+4+3","1 Primeiros + 3 melhores 2º"]
["Grupo B","NºJ","Jogadores",1,2,3,"R","NºJ","Jogadores",1,2,3,"R",null,9,{"$f":"IF($DQ$1<=20,LOOKUP(O14,$DT$36:$DT$51,$DU$36:$DU$51),IF(AND($DQ$1>20,$DQ$1<24),LOOKUP(O14,$DT$36:$DT$51,$DV$36:$DV$51),LOOKUP(O14,$DT$36:$DT$51,$DW$36:$DW$51)))","v":"Laura Gomes (DP)"},8,4,null,{"$f":"IF(ISBLANK(Q14),\"\",SUM(IF(Q14>Q15,1,0)+(IF(R14>R15,1,0)+(IF(S14>S15,1,0)))))","v":0},null,null,null,null,null,null,null,null,null,null,null,null,null,null,null,null,null,null,null,null,null,null,null,null,null,null,null,null,null,null,null,"Colocar Equipas",null,null,null,null,null,null,null,null,"Ordenar p/ Pts 1",null,"Ordenar p/ Pts 2",null,"Ordenar p/ Pts 3",null,null,"Ordenar p/ DG 1",null,null,"Ordenar p/ DG 2",null,null,"Ordenar p/ DG 3",null,null,null,"Ordenar p/ GM 1",null,null,null,"Ordenar p/ GM 2",null,null,null,"Ordenar p/ GM 3",null,null,null,null,null,null,null,null,null,null,null,null,null,null,null,null,null,"Vencedores","Derrotados",null,null,{"$f":"IF(ISBLANK(DG14),COUNTA(DG15:$DG$35),0)","v":0},11,null,"Bárbara Fernandes","DPacheco","DP",2006,"Infantis B","F",null,"SS",null,null,null,14,null,"","C4","Luana Piedade (DP)",null,null,"",null,null,null,12,null,null,null,null,null,null,null,null,null,null,null,null,null,null,null,null,null,"SH-InfA","Singulares Homens - Infantis A",null,20,"5 Grupos: 4+4+4+4+4","1 Primeiros + 3 melhores 2º"]
[null,{"$f":"$A$4","v":"SS-InfB"},{"$f":"AZ18","v":"Leonor Inácio (ACV)"},2,3,null,{"$f":"IF(ISBLANK(D15),\"\",SUM(IF(D15>D16,1,0)+(IF(E15>E16,1,0)+(IF(F15>F16,1,0)))))","v":0},{"$f":"$A$4","v":"SS-InfB"},{"$f":"IF(I16=\"\",\"\",AZ19)","v":"Loredana Junea (DP)"},11,7,6,{"$f":"IF(ISBLANK(J15),\"\",SUM(IF(J15>J16,1,0)+(IF(K15>K16,1,0)+(IF(L15>L16,1,0)))))","v":1},null,8,{"$f":"IF($DQ$1<=20,LOOKUP(O15,$DT$36:$DT$51,$DU$36:$DU$51),IF(AND($DQ$1>20,$DQ$1<24),LOOKUP(O15,$DT$36:$DT$51,$DV$36:$DV$51),LOOKUP(O15,$DT$36:$DT$51,$DW$36:$DW$51)))","v":"Carolina Lima (ACV)"},9,9,null,{"$f":"IF(ISBLANK(Q14),\"\",SUM(IF(Q15>Q14,1,0)+(IF(R15>R14,1,0)+(IF(S15>S14,1,0)))))","v":2},null,null,null,null,null,null,null,null,null,null,null,null,null,null,null,null,null,null,"Classificação Grupo B",null,null,null,null,null,null,null,null,null,null,null,null,"Grupo B",null,null,null,null,null,null,null,null,null,null,null,null,null,null,null,null,null,null,null,null,null,null,null,null,null,null,null,null,null,null,null,null,null,null,null,null,null,null,null,null,null,null,null,null,null,null,null,null,null,null,null,{"$f":"IF(G16<>\"\",IF(G16>G15,C16,IF(G15>G16,C15,\"Empate\")),\"\")","v":"Carolina Lima (ACV)"},{"$f":"IF(G16<>\"\",IF(G16<G15,C16,IF(G15<G16,C15,\"Empate\")),\"\")","v":"Leonor Inácio (ACV)"},null,null,{"$f":"IF(ISBLANK(DG15),COUNTA(DG16:$DG$35),0)","v":0},12,null,"Elena Rafael","DPacheco","DP",2006,"Infantis B","F",null,"SS",null,null,null,15,null,"","D4","Paula Tijaro (DP)",null,null,"",null,null,null,13,null,null,null,null,null,null,null,null,null,null,null,null,null,null,null,null,null,"SH-InfB","Singulares Homens - Infantis B",null,21,"6 Grupos: 4+4+4+3+3+3","2 Primeiros + 4 melhores 3º"]
[null,{"$f":"H8+1","v":3},{"$f":"AZ17","v":"Carolina Lima (ACV)"},11,11,null,{"$f":"IF(ISBLANK(D15),\"\",SUM(IF(D16>D15,1,0)+(IF(E16>E15,1,0)+(IF(F16>F15,1,0)))))","v":2},{"$f":"B16+1","v":4},{"$f":"AZ20","v":"Lara Carvalho (ASA)"},9,11,9,{"$f":"IF(ISBLANK(J15),\"\",SUM(IF(J16>J15,1,0)+(IF(K16>K15,1,0)+(IF(L16>L15,1,0)))))","v":2},null,null,null,null,null,null,null,null,null,null,null,null,null,null,null,null,"Jogo Nº",{"$f":"CONCATENATE($A$4,\" \",SUM($H$68+13))","v":"SS-InfB 61"},null,null,null,null,null,null,"Cl",{"$f":"AZ16","v":"Jogadores"},"Jg","V","E","D","PM","PS","DP","Pt.",null,null,null,null,"Jogadores","Jg","V","E","D","GM","GS","DG","Pts","Equipas","Pts","Equipas","Pts","Equipas","Pts","DG","Equipas","Pts","DG","Equipas","Pts","DG","Equipas","Pts","DG","GM","Equipas","Pts","DG","GM","Equipas","Pts","DG","GM","Equipas","Pts","DG","GM",null,null,null,"Equipas","Jg","V","D","E","GM","GS","DG","Pts",null,null,{"$f":"IF(M15<>\"\",IF(M15>M16,I15,IF(M16>M15,I16,\"Empate\")),\"\")","v":"Lara Carvalho (ASA)"},{"$f":"IF(M15<>\"\",IF(M15<M16,I15,IF(M16<M15,I16,\"Empate\")),\"\")","v":"Loredana Junea (DP)"},null,null,{"$f":"IF(ISBLANK(DG16),COUNTA(DG17:$DG$35),0)","v":0},13,null,"Loredana Junea","DPacheco","DP",2006,"Infantis B","F",null,"SS",null,null,null,16,null,"","A4","Laura Gomes (DP)",null,null,"",null,null,null,14,null,null,null,null,null,null,null,null,null,null,null,null,null,null,null,null,null,"SH-Ini","Singulares Homens - Iniciados",null,22,"6 Grupos: 4+4+4+4+3+3","2 Primeiros + 4 melhores 3º"]
[null,{"$f":"$A$4","v":"SS-InfB"},{"$f":"AZ17","v":"Carolina Lima (ACV)"},11,11,null,{"$f":"IF(ISBLANK(D17),\"\",SUM(IF(D17>D18,1,0)+(IF(E17>E18,1,0)+(IF(F17>F18,1,0)))))","v":2},{"$f":"$A$4","v":"SS-InfB"},{"$f":"AZ20","v":"Lara Carvalho (ASA)"},11,11,null,{"$f":"IF(ISBLANK(J17),\"\",SUM(IF(J17>J18,1,0)+(IF(K17>K18,1,0)+(IF(L17>L18,1,0)))))","v":2},null,null,null,null,null,null,null,null,null,null,null,null,null,null,null,null,{"$f":"IF(AA11=AA12,\"\",IF(AA11>AA12,W11,W12))","v":"Carolina Lima (ACV)"},4,6,null,{"$f":"IF(ISBLANK(AE17),\"\",SUM(IF(AE17>AE18,1,0)+(IF(AF17>AF18,1,0)+(IF(AG17>AG18,1,0)))))","v":0},null,4,null,{"$f":"IF(AM17=\"\",\"\",\"1º\")","v":"1º"},{"$f":"CO17","v":"Lara Carvalho (ASA)"},{"$f":"IF(AM17=\"\",\"\",CP17)","v":3},{"$f":"IF(AM17=\"\",\"\",CQ17)","v":3},{"$f":"IF(AM17=\"\",\"\",CR17)","v":0},{"$f":"IF(AM17=\"\",\"\",CS17)","v":0},{"$f":"IF(AM17=\"\",\"\",CT17)","v":73},{"$f":"IF(AM17=\"\",\"\",CU17)","v":41},{"$f":"IF(AM17=\"\",\"\",CV17)","v":32},{"$f":"IF(AM17=\"\",\"\",CW17)","v":6},{"$f":"IF(AND($DQ$1>=17,$DQ$1<=20),AW17,IF(AND($DQ$1>=21,$DQ$1<=23),AX17,AY17))","v":6},5,6,8,{"$f":"IF($DQ$1<=20,LOOKUP(DR5,$DR$1:$DR$20,$DT$1:$DT$20),IF(AND($DQ$1>20,$DQ$1<24),LOOKUP(DR6,$DR$1:$DR$23,$DV$1:$DV$23),LOOKUP(DR8,$DR$1:$DR$32,$DY$1:$DY$32)))","v":"Carolina Lima (ACV)"},{"$f":"COUNT(G16,G17,M20)","v":3},{"$f":"COUNTIF(CZ15:CZ20,AZ17)","v":2},{"$f":"BA17-(BB17+BD17)","v":0},{"$f":"COUNTIF(DA15:DA20,AZ17)","v":1},{"$f":"SUM(D16:F16,D17:F17,J20:L20)","v":53},{"$f":"SUM(D15:F15,D18:F18,J19:L19)","v":45},{"$f":"BE17-BF17","v":8},{"$f":"IF(BA17=0,0,BB17*2+BD17*1)","v":5},{"$f":"IF(BH17>=BH18,AZ17,AZ18)","v":"Carolina Lima (ACV)"},{"$f":"VLOOKUP(BI17,AZ17:BH20,9,FALSE)","v":5},{"$f":"IF(BJ17>=BJ19,BI17,BI19)","v":"Lara Carvalho (ASA)"},{"$f":"VLOOKUP(BK17,AZ17:BH20,9,FALSE)","v":6},{"$f":"IF(BL17>=BL20,BK17,BK20)","v":"Lara Carvalho (ASA)"},{"$f":"VLOOKUP(BM17,AZ17:BH20,9,FALSE)","v":6},{"$f":"VLOOKUP(BM17,AZ17:BH20,8,FALSE)","v":32},{"$f":"IF(AND(BN17=BN18,BO18>BO17),BM18,BM17)","v":"Lara Carvalho (ASA)"},{"$f":"VLOOKUP(BP17,AZ17:BH20,9,FALSE)","v":6},{"$f":"VLOOKUP(BP17,AZ17:BH20,8,FALSE)","v":32},{"$f":"IF(AND(BQ17=BQ19,BR19>BR17),BP19,BP17)","v":"Lara Carvalho (ASA)"},{"$f":"VLOOKUP(BS17,AZ17:BH20,9,FALSE)","v":6},{"$f":"VLOOKUP(BS17,AZ17:BH20,8,FALSE)","v":32},{"$f":"IF(AND(BT17=BT20,BU20>BU17),BS20,BS17)","v":"Lara Carvalho (ASA)"},{"$f":"VLOOKUP(BV17,AZ17:BH20,9,FALSE)","v":6},{"$f":"VLOOKUP(BV17,AZ17:BH20,8,FALSE)","v":32},{"$f":"VLOOKUP(BV17,AZ17:BH20,6,FALSE)","v":73},{"$f":"IF(AND(BW17=BW18,BX17=BX18,BY18>BY17),BV18,BV17)","v":"Lara Carvalho (ASA)"},{"$f":"VLOOKUP(BZ17,AZ17:BH20,9,FALSE)","v":6},{"$f":"VLOOKUP(BZ17,AZ17:BH20,8,FALSE)","v":32},{"$f":"VLOOKUP(BZ17,AZ17:BH20,6,FALSE)","v":73},{"$f":"IF(AND(CA17=CA19,CB17=CB19,CC19>CC17),BZ19,BZ17)","v":"Lara Carvalho (ASA)"},{"$f":"VLOOKUP(CD17,AZ17:BH20,9,FALSE)","v":6},{"$f":"VLOOKUP(CD17,AZ17:BH20,8,FALSE)","v":32},{"$f":"VLOOKUP(CD17,AZ17:BH20,6,FALSE)","v":73},{"$f":"IF(AND(CE17=CE20,CF17=CF20,CG20>CG17),CD20,CD17)","v":"Lara Carvalho (ASA)"},{"$f":"VLOOKUP(CH17,AZ17:BH20,9,FALSE)","v":6},{"$f":"VLOOKUP(CH17,AZ17:BH20,8,FALSE)","v":32},{"$f":"VLOOKUP(CH17,AZ17:BH20,6,FALSE)","v":73},null,null,null,{"$f":"CH17","v":"Lara Carvalho (ASA)"},{"$f":"VLOOKUP(CO17,AZ17:BH20,2,FALSE)","v":3},{"$f":"VLOOKUP(CO17,AZ17:BH20,3,FALSE)","v":3},{"$f":"VLOOKUP(CO17,AZ17:BH20,4,FALSE)","v":0},{"$f":"VLOOKUP(CO17,AZ17:BH20,5,FALSE)","v":0},{"$f":"VLOOKUP(CO17,AZ17:BH20,6,FALSE)","v":73},{"$f":"VLOOKUP(CO17,AZ17:BH20,7,FALSE)","v":41},{"$f":"VLOOKUP(CO17,AZ17:BH20,8,FALSE)","v":32},{"$f":"VLOOKUP(CO17,AZ17:BH20,9,FALSE)","v":6},null,null,{"$f":"IF(G17<>\"\",IF(G17>G18,C17,IF(G18>G17,C18,\"Empate\")),\"\")","v":"Carolina Lima (ACV)"},{"$f":"IF(G17<>\"\",IF(G17<G18,C17,IF(G18<G17,C18,\"Empate\")),\"\")","v":"Loredana Junea (DP)"},null,null,{"$f":"IF(ISBLANK(DG17),COUNTA(DG18:$DG$35),0)","v":0},14,null,"Luana Piedade","DPacheco","DP",2005,"Infantis B","F",null,"SS",null,null,null,17,null,"",null,"Carina Croitoru (ASA)",null,null,"",null,null,null,15,null,null,null,null,null,null,null,null,null,null,null,null,null,null,null,null,null,"SH-Jun","Singulares Homens - Juniores",null,23,"6 Grupos: 4+4+4+4+4+3","2 Primeiros + 4 melhores 3º"]
[null,{"$f":"H10+1","v":19},{"$f":"AZ19","v":"Loredana Junea (DP)"},9,9,null,{"$f":"IF(ISBLANK(D17),\"\",SUM(IF(D18>D17,1,0)+(IF(E18>E17,1,0)+(IF(F18>F17,1,0)))))","v":0},{"$f":"B18+1","v":20},{"$f":"IF(I17=\"\",\"\",AZ18)","v":"Leonor Inácio (ACV)"},5,3,null,{"$f":"IF(ISBLANK(J17),\"\",SUM(IF(J18>J17,1,0)+(IF(K18>K17,1,0)+(IF(L18>L17,1,0)))))","v":0},null,null,null,null,null,null,null,null,null,null,null,null,null,null,null,null,{"$f":"IF(AA24=AA25,\"\",IF(AA24>AA25,W24,W25))","v":"Eva Oliveira (ASA)"},9,9,null,{"$f":"IF(ISBLANK(AE17),\"\",SUM(IF(AE18>AE17,1,0)+(IF(AF18>AF17,1,0)+(IF(AG18>AG17,1,0)))))","v":2},null,6,null,{"$f":"IF(AM18=\"\",\"\",\"2º\")","v":"2º"},{"$f":"CO18","v":"Carolina Lima (ACV)"},{"$f":"IF(AM18=\"\",\"\",CP18)","v":3},{"$f":"IF(AM18=\"\",\"\",CQ18)","v":2},{"$f":"IF(AM18=\"\",\"\",CR18)","v":0},{"$f":"IF(AM18=\"\",\"\",CS18)","v":1},{"$f":"IF(AM18=\"\",\"\",CT18)","v":53},{"$f":"IF(AM18=\"\",\"\",CU18)","v":45},{"$f":"IF(AM18=\"\",\"\",CV18)","v":8},{"$f":"IF(AM18=\"\",\"\",CW18)","v":5},{"$f":"IF(AND($DQ$1>=17,$DQ$1<=20),AW18,IF(AND($DQ$1>=21,$DQ$1<=23),AX18,AY18))","v":7},8,7,9,{"$f":"IF($DQ$1<=20,LOOKUP(DR8,$DR$1:$DR$20,$DT$1:$DT$20),IF(AND($DQ$1>20,$DQ$1<24),LOOKUP(DR7,$DR$1:$DR$23,$DV$1:$DV$23),LOOKUP(DR9,$DR$1:$DR$32,$DY$1:$DY$32)))","v":"Leonor Inácio (ACV)"},{"$f":"COUNT(G15,M18,G20)","v":3},{"$f":"COUNTIF(CZ15:CZ20,AZ18)","v":0},{"$f":"BA18-(BB18+BD18)","v":0},{"$f":"COUNTIF(DA15:DA20,AZ18)","v":3},{"$f":"SUM(D15:F15,J18:L18,D20:F20)","v":30},{"$f":"SUM(D16:F16,J17:L17,D19:F19)","v":66},{"$f":"BE18-BF18","v":-36},{"$f":"IF(BA18=0,0,BB18*2+BD18*1)","v":3},{"$f":"IF(BH18<=BH17,AZ18,AZ17)","v":"Leonor Inácio (ACV)"},{"$f":"VLOOKUP(BI18,AZ17:BH20,9,FALSE)","v":3},{"$f":"IF(BJ18>=BJ20,BI18,BI20)","v":"Loredana Junea (DP)"},{"$f":"VLOOKUP(BK18,AZ17:BH20,9,FALSE)","v":4},{"$f":"IF(BL18>=BL19,BK18,BK19)","v":"Carolina Lima (ACV)"},{"$f":"VLOOKUP(BM18,AZ17:BH20,9,FALSE)","v":5},{"$f":"VLOOKUP(BM18,AZ17:BH20,8,FALSE)","v":8},{"$f":"IF(AND(BN17=BN18,BO18>BO17),BM17,BM18)","v":"Carolina Lima (ACV)"},{"$f":"VLOOKUP(BP18,AZ17:BH20,9,FALSE)","v":5},{"$f":"VLOOKUP(BP18,AZ17:BH20,8,FALSE)","v":8},{"$f":"IF(AND(BQ18=BQ20,BR20>BR18),BP20,BP18)","v":"Carolina Lima (ACV)"},{"$f":"VLOOKUP(BS18,AZ17:BH20,9,FALSE)","v":5},{"$f":"VLOOKUP(BS18,AZ17:BH20,8,FALSE)","v":8},{"$f":"IF(AND(BT18=BT19,BU19>BU18),BS19,BS18)","v":"Carolina Lima (ACV)"},{"$f":"VLOOKUP(BV18,AZ17:BH20,9,FALSE)","v":5},{"$f":"VLOOKUP(BV18,AZ17:BH20,8,FALSE)","v":8},{"$f":"VLOOKUP(BV18,AZ17:BH20,6,FALSE)","v":53},{"$f":"IF(AND(BW17=BW18,BX17=BX18,BY18>BY17),BV17,BV18)","v":"Carolina Lima (ACV)"},{"$f":"VLOOKUP(BZ18,AZ17:BH20,9,FALSE)","v":5},{"$f":"VLOOKUP(BZ18,AZ17:BH20,8,FALSE)","v":8},{"$f":"VLOOKUP(BZ18,AZ17:BH20,6,FALSE)","v":53},{"$f":"IF(AND(CA18=CA20,CB18=CB20,CC20>CC18),BZ20,BZ18)","v":"Carolina Lima (ACV)"},{"$f":"VLOOKUP(CD18,AZ17:BH20,9,FALSE)","v":5},{"$f":"VLOOKUP(CD18,AZ17:BH20,8,FALSE)","v":8},{"$f":"VLOOKUP(CD18,AZ17:BH20,6,FALSE)","v":53},{"$f":"IF(AND(CE18=CE19,CF18=CF19,CG19>CG18),CD19,CD18)","v":"Carolina Lima (ACV)"},{"$f":"VLOOKUP(CH18,AZ17:BH20,9,FALSE)","v":5},{"$f":"VLOOKUP(CH18,AZ17:BH20,8,FALSE)","v":8},{"$f":"VLOOKUP(CH18,AZ17:BH20,6,FALSE)","v":53},null,null,null,{"$f":"CH18","v":"Carolina Lima (ACV)"},{"$f":"VLOOKUP(CO18,AZ17:BH20,2,FALSE)","v":3},{"$f":"VLOOKUP(CO18,AZ17:BH20,3,FALSE)","v":2},{"$f":"VLOOKUP(CO18,AZ17:BH20,4,FALSE)","v":0},{"$f":"VLOOKUP(CO18,AZ17:BH20,5,FALSE)","v":1},{"$f":"VLOOKUP(CO18,AZ17:BH20,6,FALSE)","v":53},{"$f":"VLOOKUP(CO18,AZ17:BH20,7,FALSE)","v":45},{"$f":"VLOOKUP(CO18,AZ17:BH20,8,FALSE)","v":8},{"$f":"VLOOKUP(CO18,AZ17:BH20,9,FALSE)","v":5},null,null,{"$f":"IF(M17<>\"\",IF(M17>M18,I17,IF(M18>M17,I18,\"Empate\")),\"\")","v":"Lara Carvalho (ASA)"},{"$f":"IF(M17<>\"\",IF(M17<M18,I17,IF(M18<M17,I18,\"Empate\")),\"\")","v":"Leonor Inácio (ACV)"},null,null,{"$f":"IF(ISBLANK(DG18),COUNTA(DG19:$DG$35),0)","v":0},15,null,"Paula Tijaro","DPacheco","DP",2006,"Infantis B","F",null,"SS",null,null,null,18,null,"",null,"Jasmine Campbell (ASA)",null,null,"",null,null,null,16,null,null,null,null,null,null,null,null,null,null,null,null,null,null,null,null,null,"SH-Juv","Singulares Homens - Juvenis",null,24,"8 Grupos: 3+3+3+3+3+3+3+3","2 Primeiros de cada Grupo"]
[null,{"$f":"$A$4","v":"SS-InfB"},{"$f":"AZ19","v":"Loredana Junea (DP)"},11,11,null,{"$f":"IF(ISBLANK(D19),\"\",SUM(IF(D19>D20,1,0)+(IF(E19>E20,1,0)+(IF(F19>F20,1,0)))))","v":2},{"$f":"$A$4","v":"SS-InfB"},{"$f":"AZ20","v":"Lara Carvalho (ASA)"},11,11,null,{"$f":"IF(ISBLANK(J19),\"\",SUM(IF(J19>J20,1,0)+(IF(K19>K20,1,0)+(IF(L19>L20,1,0)))))","v":2},null,null,null,null,null,null,null,null,null,null,null,null,null,null,null,null,null,null,null,null,null,null,null,null,{"$f":"IF(AM19=\"\",\"\",\"3º\")","v":"3º"},{"$f":"CO19","v":"Loredana Junea (DP)"},{"$f":"IF(AM19=\"\",\"\",CP19)","v":3},{"$f":"IF(AM19=\"\",\"\",CQ19)","v":1},{"$f":"IF(AM19=\"\",\"\",CR19)","v":0},{"$f":"IF(AM19=\"\",\"\",CS19)","v":2},{"$f":"IF(AM19=\"\",\"\",CT19)","v":64},{"$f":"IF(AM19=\"\",\"\",CU19)","v":68},{"$f":"IF(AM19=\"\",\"\",CV19)","v":-4},{"$f":"IF(AM19=\"\",\"\",CW19)","v":4},{"$f":"IF(AND($DQ$1>=17,$DQ$1<=20),AW19,IF(AND($DQ$1>=21,$DQ$1<=23),AX19,AY19))","v":13},12,13,24,{"$f":"IF($DQ$1<=20,LOOKUP(DR12,$DR$1:$DR$20,$DT$1:$DT$20),IF(AND($DQ$1>20,$DQ$1<24),LOOKUP(DR13,$DR$1:$DR$23,$DV$1:$DV$23),LOOKUP(DR24,$DR$1:$DR$32,$DY$1:$DY$32)))","v":"Loredana Junea (DP)"},{"$f":"COUNT(M15,G18,G19)","v":3},{"$f":"COUNTIF(CZ15:CZ20,AZ19)","v":1},{"$f":"BA19-(BB19+BD19)","v":0},{"$f":"COUNTIF(DA15:DA20,AZ19)","v":2},{"$f":"SUM(J15:L15,D18:F18,D19:F19)","v":64},{"$f":"SUM(J16:L16,D17:F17,D20:F20)","v":68},{"$f":"BE19-BF19","v":-4},{"$f":"IF(BA19=0,0,BB19*2+BD19*1)","v":4},{"$f":"IF(BH19>=BH20,AZ19,AZ20)","v":"Lara Carvalho (ASA)"},{"$f":"VLOOKUP(BI19,AZ17:BH20,9,FALSE)","v":6},{"$f":"IF(BJ19<=BJ17,BI19,BI17)","v":"Carolina Lima (ACV)"},{"$f":"VLOOKUP(BK19,AZ17:BH20,9,FALSE)","v":5},{"$f":"IF(BL19<=BL18,BK19,BK18)","v":"Loredana Junea (DP)"},{"$f":"VLOOKUP(BM19,AZ17:BH20,9,FALSE)","v":4},{"$f":"VLOOKUP(BM19,AZ17:BH20,8,FALSE)","v":-4},{"$f":"IF(AND(BN19=BN20,BO20>BO19),BM20,BM19)","v":"Loredana Junea (DP)"},{"$f":"VLOOKUP(BP19,AZ17:BH20,9,FALSE)","v":4},{"$f":"VLOOKUP(BP19,AZ17:BH20,8,FALSE)","v":-4},{"$f":"IF(AND(BQ17=BQ19,BR19>BR17),BP17,BP19)","v":"Loredana Junea (DP)"},{"$f":"VLOOKUP(BS19,AZ17:BH20,9,FALSE)","v":4},{"$f":"VLOOKUP(BS19,AZ17:BH20,8,FALSE)","v":-4},{"$f":"IF(AND(BT18=BT19,BU19>BU18),BS18,BS19)","v":"Loredana Junea (DP)"},{"$f":"VLOOKUP(BV19,AZ17:BH20,9,FALSE)","v":4},{"$f":"VLOOKUP(BV19,AZ17:BH20,8,FALSE)","v":-4},{"$f":"VLOOKUP(BV19,AZ17:BH20,6,FALSE)","v":64},{"$f":"IF(AND(BW19=BW20,BX19=BX20,BY20>BY19),BV20,BV19)","v":"Loredana Junea (DP)"},{"$f":"VLOOKUP(BZ19,AZ17:BH20,9,FALSE)","v":4},{"$f":"VLOOKUP(BZ19,AZ17:BH20,8,FALSE)","v":-4},{"$f":"VLOOKUP(BZ19,AZ17:BH20,6,FALSE)","v":64},{"$f":"IF(AND(CA17=CA19,CB17=CB19,CC18>CC17),BZ17,BZ19)","v":"Loredana Junea (DP)"},{"$f":"VLOOKUP(CD19,AZ17:BH20,9,FALSE)","v":4},{"$f":"VLOOKUP(CD19,AZ17:BH20,8,FALSE)","v":-4},{"$f":"VLOOKUP(CD19,AZ17:BH20,6,FALSE)","v":64},{"$f":"IF(AND(CE18=CE19,CF18=CF19,CG19>CG18),CD18,CD19)","v":"Loredana Junea (DP)"},{"$f":"VLOOKUP(CH19,AZ17:BH20,9,FALSE)","v":4},{"$f":"VLOOKUP(CH19,AZ17:BH20,8,FALSE)","v":-4},{"$f":"VLOOKUP(CH19,AZ17:BH20,6,FALSE)","v":64},null,null,null,{"$f":"CH19","v":"Loredana Junea (DP)"},{"$f":"VLOOKUP(CO19,AZ17:BH20,2,FALSE)","v":3},{"$f":"VLOOKUP(CO19,AZ17:BH20,3,FALSE)","v":1},{"$f":"VLOOKUP(CO19,AZ17:BH20,4,FALSE)","v":0},{"$f":"VLOOKUP(CO19,AZ17:BH20,5,FALSE)","v":2},{"$f":"VLOOKUP(CO19,AZ17:BH20,6,FALSE)","v":64},{"$f":"VLOOKUP(CO19,AZ17:BH20,7,FALSE)","v":68},{"$f":"VLOOKUP(CO19,AZ17:BH20,8,FALSE)","v":-4},{"$f":"VLOOKUP(CO19,AZ17:BH20,9,FALSE)","v":4},null,null,{"$f":"IF(M19<>\"\",IF(M19>M20,I19,IF(M20>M19,I20,\"Empate\")),\"\")","v":"Lara Carvalho (ASA)"},{"$f":"IF(M19<>\"\",IF(M19<M20,I19,IF(M20<M19,I20,\"Empate\")),\"\")","v":"Carolina Lima (ACV)"},null,null,{"$f":"IF(ISBLANK(DG19),COUNTA(DG20:$DG$35),0)","v":0},16,null,"Laura Gomes","DPacheco","DP",2005,"Infantis B","F",null,"SS",null,null,null,19,null,"",null,"Eva Oliveira (ASA)",null,null,"",null,null,null,17,null,null,null,null,null,null,null,null,null,null,null,null,null,null,null,null,null,"SS-InfA","Singulares Senhoras - Infantis A",null,25,"8 Grupos: 4+3+3+3+3+3+3+3","2 Primeiros de cada Grupo"]
[null,{"$f":"H12+1","v":35},{"$f":"AZ18","v":"Leonor Inácio (ACV)"},10,7,null,{"$f":"IF(ISBLANK(D19),\"\",SUM(IF(D20>D19,1,0)+(IF(E20>E19,1,0)+(IF(F20>F19,1,0)))))","v":0},{"$f":"B20+1","v":36},{"$f":"IF(I19=\"\",\"\",AZ17)","v":"Carolina Lima (ACV)"},5,4,null,{"$f":"IF(ISBLANK(J19),\"\",SUM(IF(J20>J19,1,0)+(IF(K20>K19,1,0)+(IF(L20>L19,1,0)))))","v":0},null,null,"Jogo Nº",{"$f":"CONCATENATE($A$4,\" \",SUM($H$68+3))","v":"SS-InfB 51"},null,null,null,null,null,null,null,null,null,null,null,null,null,null,null,null,null,null,null,null,{"$f":"IF(AM20=\"\",\"\",\"4º\")","v":"4º"},{"$f":"CO20","v":"Leonor Inácio (ACV)"},{"$f":"IF(AM20=\"\",\"\",CP20)","v":3},{"$f":"IF(AM20=\"\",\"\",CQ20)","v":0},{"$f":"IF(AM20=\"\",\"\",CR20)","v":0},{"$f":"IF(AM20=\"\",\"\",CS20)","v":3},{"$f":"IF(AM20=\"\",\"\",CT20)","v":30},{"$f":"IF(AM20=\"\",\"\",CU20)","v":66},{"$f":"IF(AM20=\"\",\"\",CV20)","v":-36},{"$f":"IF(AM20=\"\",\"\",CW20)","v":3},{"$f":"IF(AND($DQ$1>=17,$DQ$1<=20),AW20,IF(AND($DQ$1>=21,$DQ$1<=23),AX20,AY20))","v":20},17,20,25,{"$f":"IF($DQ$1<=20,LOOKUP(DR17,$DR$1:$DR$20,$DT$1:$DT$20),IF(AND($DQ$1>20,$DQ$1<24),LOOKUP(DR20,$DR$1:$DR$23,$DV$1:$DV$23),LOOKUP(DR25,$DR$1:$DR$32,$DY$1:$DY$32)))","v":"Lara Carvalho (ASA)"},{"$f":"COUNT(M16,M17,M19)","v":3},{"$f":"COUNTIF(CZ15:CZ20,AZ20)","v":3},{"$f":"BA20-(BB20+BD20)","v":0},{"$f":"COUNTIF(DA15:DA20,AZ20)","v":0},{"$f":"SUM(J16:L16,J17:L17,J19:L19)","v":73},{"$f":"SUM(J15:L15,J18:L18,J20:L20)","v":41},{"$f":"BE20-BF20","v":32},{"$f":"IF(BA20=0,0,BB20*2+BD20*1)","v":6},{"$f":"IF(BH20<=BH19,AZ20,AZ19)","v":"Loredana Junea (DP)"},{"$f":"VLOOKUP(BI20,AZ17:BH20,9,FALSE)","v":4},{"$f":"IF(BJ20<=BJ18,BI20,BI18)","v":"Leonor Inácio (ACV)"},{"$f":"VLOOKUP(BK20,AZ17:BH20,9,FALSE)","v":3},{"$f":"IF(BL20<=BL17,BK20,BK17)","v":"Leonor Inácio (ACV)"},{"$f":"VLOOKUP(BM20,AZ17:BH20,9,FALSE)","v":3},{"$f":"VLOOKUP(BM20,AZ17:BH20,8,FALSE)","v":-36},{"$f":"IF(AND(BN19=BN20,BO20>BO19),BM19,BM20)","v":"Leonor Inácio (ACV)"},{"$f":"VLOOKUP(BP20,AZ17:BH20,9,FALSE)","v":3},{"$f":"VLOOKUP(BP20,AZ17:BH20,8,FALSE)","v":-36},{"$f":"IF(AND(BQ18=BQ20,BR20>BR18),BP18,BP20)","v":"Leonor Inácio (ACV)"},{"$f":"VLOOKUP(BS20,AZ17:BH20,9,FALSE)","v":3},{"$f":"VLOOKUP(BS20,AZ17:BH20,8,FALSE)","v":-36},{"$f":"IF(AND(BT17=BT20,BU20>BU17),BS17,BS20)","v":"Leonor Inácio (ACV)"},{"$f":"VLOOKUP(BV20,AZ17:BH20,9,FALSE)","v":3},{"$f":"VLOOKUP(BV20,AZ17:BH20,8,FALSE)","v":-36},{"$f":"VLOOKUP(BV20,AZ17:BH20,6,FALSE)","v":30},{"$f":"IF(AND(BW19=BW20,BX19=BX20,BY20>BY19),BV19,BV20)","v":"Leonor Inácio (ACV)"},{"$f":"VLOOKUP(BZ20,AZ17:BH20,9,FALSE)","v":3},{"$f":"VLOOKUP(BZ20,AZ17:BH20,8,FALSE)","v":-36},{"$f":"VLOOKUP(BZ20,AZ17:BH20,6,FALSE)","v":30},{"$f":"IF(AND(CA18=CA20,CB18=CB20,CC20>CC18),BZ18,BZ20)","v":"Leonor Inácio (ACV)"},{"$f":"VLOOKUP(CD20,AZ17:BH20,9,FALSE)","v":3},{"$f":"VLOOKUP(CD20,AZ17:BH20,8,FALSE)","v":-36},{"$f":"VLOOKUP(CD20,AZ17:BH20,6,FALSE)","v":30},{"$f":"IF(AND(CE17=CE20,CF17=CF20,CG20>CG17),CD17,CD20)","v":"Leonor Inácio (ACV)"},{"$f":"VLOOKUP(CH20,AZ17:BH20,9,FALSE)","v":3},{"$f":"VLOOKUP(CH20,AZ17:BH20,8,FALSE)","v":-36},{"$f":"VLOOKUP(CH20,AZ17:BH20,6,FALSE)","v":30},null,null,null,{"$f":"CH20","v":"Leonor Inácio (ACV)"},{"$f":"VLOOKUP(CO20,AZ17:BH20,2,FALSE)","v":3},{"$f":"VLOOKUP(CO20,AZ17:BH20,3,FALSE)","v":0},{"$f":"VLOOKUP(CO20,AZ17:BH20,4,FALSE)","v":0},{"$f":"VLOOKUP(CO20,AZ17:BH20,5,FALSE)","v":3},{"$f":"VLOOKUP(CO20,AZ17:BH20,6,FALSE)","v":30},{"$f":"VLOOKUP(CO20,AZ17:BH20,7,FALSE)","v":66},{"$f":"VLOOKUP(CO20,AZ17:BH20,8,FALSE)","v":-36},{"$f":"VLOOKUP(CO20,AZ17:BH20,9,FALSE)","v":3},null,null,{"$f":"IF(G20<>\"\",IF(G20>G19,C20,IF(G19>G20,C19,\"Empate\")),\"\")","v":"Loredana Junea (DP)"},{"$f":"IF(G20<>\"\",IF(G20<G19,C20,IF(G19<G20,C19,\"Empate\")),\"\")","v":"Leonor Inácio (ACV)"},null,null,{"$f":"IF(ISBLANK(DG20),COUNTA(DG21:$DG$35),0)","v":0},17,null,"Carina Croitoru","ASAgostinho","ASA",2006,"Infantis B","F",null,"SS",null,null,null,20,null,"",null,"Lara Carvalho (ASA)",null,null,"",null,null,null,18,null,null,null,null,null,null,null,null,null,null,null,null,null,null,null,null,null,"SS-InfB","Singulares Senhoras - Infantis B",null,26,"8 Grupos: 4+4+3+3+3+3+3+3","2 Primeiros de cada Grupo"]
[null,null,null,null,null,null,null,null,null,null,null,null,null,null,5,{"$f":"IF($DQ$1<=20,LOOKUP(O21,$DT$36:$DT$51,$DU$36:$DU$51),IF(AND($DQ$1>20,$DQ$1<24),LOOKUP(O21,$DT$36:$DT$51,$DV$36:$DV$51),LOOKUP(O21,$DT$36:$DT$51,$DW$36:$DW$51)))","v":"Eva Oliveira (ASA)"},9,9,null,{"$f":"IF(ISBLANK(Q21),\"\",SUM(IF(Q21>Q22,1,0)+(IF(R21>R22,1,0)+(IF(S21>S22,1,0)))))","v":2},null,null,null,null,null,null,null,null,null,null,null,null,null,null,null,null,null,null,null,null,null,null,null,null,null,null,null,null,null,null,null,null,null,null,null,null,null,null,null,null,null,null,null,null,null,null,null,null,null,null,null,null,null,null,null,null,null,null,null,null,null,null,null,null,null,null,null,null,null,null,null,null,null,null,null,null,null,null,null,null,null,null,null,null,null,null,null,{"$f":"IF(ISBLANK(DG21),COUNTA(DG22:$DG$35),0)","v":0},18,null,"Jasmine Campbell","ASAgostinho","ASA",2006,"Infantis B","F",null,"SS",null,null,null,21,null,null,null,"Liliam Vogt (ASA)",null,null,"",null,null,null,19,null,null,null,null,null,null,null,null,null,null,null,null,null,null,null,null,null,"SS-Ini","Singulares Senhoras - Iniciados",null,27,"8 Grupos: 4+4+4+3+3+3+3+3","2 Primeiros de cada Grupo"]
["Grupo C","NºJ","Jogadores",1,2,3,"R","NºJ","Jogadores",1,2,3,"R",null,12,{"$f":"IF($DQ$1<=20,LOOKUP(O22,$DT$36:$DT$51,$DU$36:$DU$51),IF(AND($DQ$1>20,$DQ$1<24),LOOKUP(O22,$DT$36:$DT$51,$DV$36:$DV$51),LOOKUP(O22,$DT$36:$DT$51,$DW$36:$DW$51)))","v":"Bárbara Fernandes (DP)"},3,2,null,{"$f":"IF(ISBLANK(Q21),\"\",SUM(IF(Q22>Q21,1,0)+(IF(R22>R21,1,0)+(IF(S22>S21,1,0)))))","v":0},null,null,null,null,null,null,null,null,null,null,null,null,null,null,null,null,null,null,null,null,null,null,null,null,null,null,null,null,null,null,null,"Colocar Equipas",null,null,null,null,null,null,null,null,"Ordenar p/ Pts 1",null,"Ordenar p/ Pts 2",null,"Ordenar p/ Pts 3",null,null,"Ordenar p/ DG 1",null,null,"Ordenar p/ DG 2",null,null,"Ordenar p/ DG 3",null,null,null,"Ordenar p/ GM 1",null,null,null,"Ordenar p/ GM 2",null,null,null,"Ordenar p/ GM 3",null,null,null,null,null,null,null,null,null,null,null,null,null,null,null,null,null,"Vencedores","Derrotados",null,null,{"$f":"IF(ISBLANK(DG22),COUNTA(DG23:$DG$35),0)","v":0},19,null,"Eva Oliveira","ASAgostinho","ASA",2006,"Infantis B","F",null,"SS",null,null,null,22,null,null,null,"",null,null,"",null,null,null,20,null,null,null,null,null,null,null,null,null,null,null,null,null,null,null,null,null,"SS-Jun","Singulares Senhoras - Juniores",null,28,"8 Grupos: 4+4+4+4+3+3+3+3","2 Primeiros de cada Grupo"]
[null,{"$f":"$A$4","v":"SS-InfB"},{"$f":"AZ26","v":"Carolina Rodrigues (ACV)"},11,11,null,{"$f":"IF(ISBLANK(D23),\"\",SUM(IF(D23>D24,1,0)+(IF(E23>E24,1,0)+(IF(F23>F24,1,0)))))","v":2},{"$f":"$A$4","v":"SS-InfB"},{"$f":"IF(I24=\"\",\"\",AZ27)","v":"Laura Gomes (DP)"},10,11,7,{"$f":"IF(ISBLANK(J23),\"\",SUM(IF(J23>J24,1,0)+(IF(K23>K24,1,0)+(IF(L23>L24,1,0)))))","v":1},null,null,null,null,null,null,null,null,null,"Jogo Nº",{"$f":"CONCATENATE($A$4,\" \",SUM($H$68+10))","v":"SS-InfB 58"},null,null,null,null,null,null,null,null,null,null,null,null,null,null,"Classificação Grupo C",null,null,null,null,null,null,null,null,null,null,null,null,"Grupo C",null,null,null,null,null,null,null,null,null,null,null,null,null,null,null,null,null,null,null,null,null,null,null,null,null,null,null,null,null,null,null,null,null,null,null,null,null,null,null,null,null,null,null,null,null,null,null,null,null,null,null,{"$f":"IF(G24<>\"\",IF(G24>G23,C24,IF(G23>G24,C23,\"Empate\")),\"\")","v":"Carolina Rodrigues (ACV)"},{"$f":"IF(G24<>\"\",IF(G24<G23,C24,IF(G23<G24,C23,\"Empate\")),\"\")","v":"Vitória Coelho (ACV)"},null,null,{"$f":"IF(ISBLANK(DG23),COUNTA(DG24:$DG$35),0)","v":0},20,null,"Lara Carvalho","ASAgostinho","ASA",2006,"Infantis B","F",null,"SS",null,null,null,23,null,null,null,"",null,null,"",null,null,null,21,null,null,null,null,null,null,null,null,null,null,null,null,null,null,null,null,null,"SS-Juv","Singulares Senhoras - Juvenis",null,29,"8 Grupos: 4+4+4+4+4+3+3+3","2 Primeiros de cada Grupo"]
[null,{"$f":"H16+1","v":5},{"$f":"AZ25","v":"Vitória Coelho (ACV)"},3,6,null,{"$f":"IF(ISBLANK(D23),\"\",SUM(IF(D24>D23,1,0)+(IF(E24>E23,1,0)+(IF(F24>F23,1,0)))))","v":0},{"$f":"B24+1","v":6},{"$f":"AZ28","v":"Liliam Vogt (ASA)"},11,7,9,{"$f":"IF(ISBLANK(J23),\"\",SUM(IF(J24>J23,1,0)+(IF(K24>K23,1,0)+(IF(L24>L23,1,0)))))","v":2},null,null,null,null,null,null,null,null,null,{"$f":"IF(P21=\"Bye\",P22,IF(P22=\"Bye\",P21,IF(T21=T22,\"\",IF(T21>T22,P21,P22))))","v":"Eva Oliveira (ASA)"},9,9,null,{"$f":"IF(ISBLANK(X24),\"\",SUM(IF(X24>X25,1,0)+(IF(Y24>Y25,1,0)+(IF(Z24>Z25,1,0)))))","v":2},null,null,null,null,null,null,null,null,null,null,"Cl",{"$f":"AZ24","v":"Jogadores"},"Jg","V","E","D","PM","PS","DP","Pt.",null,null,null,null,"Jogadores","Jg","V","E","D","GM","GS","DG","Pts","Equipas","Pts","Equipas","Pts","Equipas","Pts","DG","Equipas","Pts","DG","Equipas","Pts","DG","Equipas","Pts","DG","GM","Equipas","Pts","DG","GM","Equipas","Pts","DG","GM","Equipas","Pts","DG","GM",null,null,null,"Equipas","Jg","V","D","E","GM","GS","DG","Pts",null,null,{"$f":"IF(M23<>\"\",IF(M23>M24,I23,IF(M24>M23,I24,\"Empate\")),\"\")","v":"Liliam Vogt (ASA)"},{"$f":"IF(M23<>\"\",IF(M23<M24,I23,IF(M24<M23,I24,\"Empate\")),\"\")","v":"Laura Gomes (DP)"},null,null,{"$f":"IF(ISBLANK(DG24),COUNTA(DG25:$DG$35),0)","v":0},21,null,"Liliam Vogt","ASAgostinho","ASA",2005,"Infantis B","F",null,"SS",null,null,null,24,null,null,null,"",null,null,"",null,null,null,22,null,null,null,null,null,null,null,null,null,null,null,null,null,null,null,null,null,null,null,null,30,"8 Grupos: 4+4+4+4+4+4+3+3","2 Primeiros de cada Grupo"]
[null,{"$f":"$A$4","v":"SS-InfB"},{"$f":"AZ25","v":"Vitória Coelho (ACV)"},5,6,null,{"$f":"IF(ISBLANK(D25),\"\",SUM(IF(D25>D26,1,0)+(IF(E25>E26,1,0)+(IF(F25>F26,1,0)))))","v":0},{"$f":"$A$4","v":"SS-InfB"},{"$f":"AZ28","v":"Liliam Vogt (ASA)"},11,11,null,{"$f":"IF(ISBLANK(J25),\"\",SUM(IF(J25>J26,1,0)+(IF(K25>K26,1,0)+(IF(L25>L26,1,0)))))","v":2},null,null,null,null,null,null,null,null,null,{"$f":"IF(P27=\"Bye\",P28,IF(P28=\"Bye\",P27,IF(T27=T28,\"\",IF(T27>T28,P27,P28))))","v":"Cristina Curnic (DP)"},2,6,null,{"$f":"IF(ISBLANK(X24),\"\",SUM(IF(X25>X24,1,0)+(IF(Y25>Y24,1,0)+(IF(Z25>Z24,1,0)))))","v":0},null,null,null,null,null,null,null,null,3,null,{"$f":"IF(AM25=\"\",\"\",\"1º\")","v":"1º"},{"$f":"CO25","v":"Liliam Vogt (ASA)"},{"$f":"IF(AM25=\"\",\"\",CP25)","v":3},{"$f":"IF(AM25=\"\",\"\",CQ25)","v":3},{"$f":"IF(AM25=\"\",\"\",CR25)","v":0},{"$f":"IF(AM25=\"\",\"\",CS25)","v":0},{"$f":"IF(AM25=\"\",\"\",CT25)","v":71},{"$f":"IF(AM25=\"\",\"\",CU25)","v":60},{"$f":"IF(AM25=\"\",\"\",CV25)","v":11},{"$f":"IF(AM25=\"\",\"\",CW25)","v":6},{"$f":"IF(AND($DQ$1>=17,$DQ$1<=20),AW25,IF(AND($DQ$1>=21,$DQ$1<=23),AX25,AY25))","v":4},3,4,5,{"$f":"IF($DQ$1<=20,LOOKUP(DR3,$DR$1:$DR$20,$DT$1:$DT$20),IF(AND($DQ$1>20,$DQ$1<24),LOOKUP(DR4,$DR$1:$DR$23,$DV$1:$DV$23),LOOKUP(DR5,$DR$1:$DR$32,$DY$1:$DY$32)))","v":"Vitória Coelho (ACV)"},{"$f":"COUNT(G24,G25,M28)","v":3},{"$f":"COUNTIF(CZ23:CZ28,AZ25)","v":0},{"$f":"BA25-(BB25+BD25)","v":0},{"$f":"COUNTIF(DA23:DA28,AZ25)","v":3},{"$f":"SUM(D24:F24,D25:F25,J28:L28)","v":32},{"$f":"SUM(D23:F23,D26:F26,J27:L27)","v":66},{"$f":"BE25-BF25","v":-34},{"$f":"IF(BA25=0,0,BB25*2+BD25*1)","v":3},{"$f":"IF(BH25>=BH26,AZ25,AZ26)","v":"Carolina Rodrigues (ACV)"},{"$f":"VLOOKUP(BI25,AZ25:BH28,9,FALSE)","v":4},{"$f":"IF(BJ25>=BJ27,BI25,BI27)","v":"Liliam Vogt (ASA)"},{"$f":"VLOOKUP(BK25,AZ25:BH28,9,FALSE)","v":6},{"$f":"IF(BL25>=BL28,BK25,BK28)","v":"Liliam Vogt (ASA)"},{"$f":"VLOOKUP(BM25,AZ25:BH28,9,FALSE)","v":6},{"$f":"VLOOKUP(BM25,AZ25:BH28,8,FALSE)","v":11},{"$f":"IF(AND(BN25=BN26,BO26>BO25),BM26,BM25)","v":"Liliam Vogt (ASA)"},{"$f":"VLOOKUP(BP25,AZ25:BH28,9,FALSE)","v":6},{"$f":"VLOOKUP(BP25,AZ25:BH28,8,FALSE)","v":11},{"$f":"IF(AND(BQ25=BQ27,BR27>BR25),BP27,BP25)","v":"Liliam Vogt (ASA)"},{"$f":"VLOOKUP(BS25,AZ25:BH28,9,FALSE)","v":6},{"$f":"VLOOKUP(BS25,AZ25:BH28,8,FALSE)","v":11},{"$f":"IF(AND(BT25=BT28,BU28>BU25),BS28,BS25)","v":"Liliam Vogt (ASA)"},{"$f":"VLOOKUP(BV25,AZ25:BH28,9,FALSE)","v":6},{"$f":"VLOOKUP(BV25,AZ25:BH28,8,FALSE)","v":11},{"$f":"VLOOKUP(BV25,AZ25:BH28,6,FALSE)","v":71},{"$f":"IF(AND(BW25=BW26,BX25=BX26,BY26>BY25),BV26,BV25)","v":"Liliam Vogt (ASA)"},{"$f":"VLOOKUP(BZ25,AZ25:BH28,9,FALSE)","v":6},{"$f":"VLOOKUP(BZ25,AZ25:BH28,8,FALSE)","v":11},{"$f":"VLOOKUP(BZ25,AZ25:BH28,6,FALSE)","v":71},{"$f":"IF(AND(CA25=CA27,CB25=CB27,CC27>CC25),BZ27,BZ25)","v":"Liliam Vogt (ASA)"},{"$f":"VLOOKUP(CD25,AZ25:BH28,9,FALSE)","v":6},{"$f":"VLOOKUP(CD25,AZ25:BH28,8,FALSE)","v":11},{"$f":"VLOOKUP(CD25,AZ25:BH28,6,FALSE)","v":71},{"$f":"IF(AND(CE25=CE28,CF25=CF28,CG28>CG25),CD28,CD25)","v":"Liliam Vogt (ASA)"},{"$f":"VLOOKUP(CH25,AZ25:BH28,9,FALSE)","v":6},{"$f":"VLOOKUP(CH25,AZ25:BH28,8,FALSE)","v":11},{"$f":"VLOOKUP(CH25,AZ25:BH28,6,FALSE)","v":71},null,null,null,{"$f":"CH25","v":"Liliam Vogt (ASA)"},{"$f":"VLOOKUP(CO25,AZ25:BH28,2,FALSE)","v":3},{"$f":"VLOOKUP(CO25,AZ25:BH28,3,FALSE)","v":3},{"$f":"VLOOKUP(CO25,AZ25:BH28,4,FALSE)","v":0},{"$f":"VLOOKUP(CO25,AZ25:BH28,5,FALSE)","v":0},{"$f":"VLOOKUP(CO25,AZ25:BH28,6,FALSE)","v":71},{"$f":"VLOOKUP(CO25,AZ25:BH28,7,FALSE)","v":60},{"$f":"VLOOKUP(CO25,AZ25:BH28,8,FALSE)","v":11},{"$f":"VLOOKUP(CO25,AZ25:BH28,9,FALSE)","v":6},null,null,{"$f":"IF(G25<>\"\",IF(G25>G26,C25,IF(G26>G25,C26,\"Empate\")),\"\")","v":"Laura Gomes (DP)"},{"$f":"IF(G25<>\"\",IF(G25<G26,C25,IF(G26<G25,C26,\"Empate\")),\"\")","v":"Vitória Coelho (ACV)"},null,null,{"$f":"IF(ISBLANK(DG25),COUNTA(DG26:$DG$35),0)","v":0},22,null,null,null,null,null,null,null,null,null,null,null,null,25,null,null,null,null,null,null,"",null,null,null,23,null,null,null,null,null,null,null,null,null,null,null,null,null,null,null,null,null,null,null,null,31,"8 Grupos: 4+4+4+4+4+4+4+3","2 Primeiros de cada Grupo"]
[null,{"$f":"H18+1","v":21},{"$f":"AZ27","v":"Laura Gomes (DP)"},11,11,null,{"$f":"IF(ISBLANK(D25),\"\",SUM(IF(D26>D25,1,0)+(IF(E26>E25,1,0)+(IF(F26>F25,1,0)))))","v":2},{"$f":"B26+1","v":22},{"$f":"IF(I25=\"\",\"\",AZ26)","v":"Carolina Rodrigues (ACV)"},10,10,null,{"$f":"IF(ISBLANK(J25),\"\",SUM(IF(J26>J25,1,0)+(IF(K26>K25,1,0)+(IF(L26>L25,1,0)))))","v":0},null,null,"Jogo Nº",{"$f":"CONCATENATE($A$4,\" \",SUM($H$68+4))","v":"SS-InfB 52"},null,null,null,null,null,null,null,null,null,null,null,null,null,null,null,null,null,null,5,null,{"$f":"IF(AM26=\"\",\"\",\"2º\")","v":"2º"},{"$f":"CO26","v":"Laura Gomes (DP)"},{"$f":"IF(AM26=\"\",\"\",CP26)","v":3},{"$f":"IF(AM26=\"\",\"\",CQ26)","v":2},{"$f":"IF(AM26=\"\",\"\",CR26)","v":0},{"$f":"IF(AM26=\"\",\"\",CS26)","v":1},{"$f":"IF(AM26=\"\",\"\",CT26)","v":75},{"$f":"IF(AM26=\"\",\"\",CU26)","v":66},{"$f":"IF(AM26=\"\",\"\",CV26)","v":9},{"$f":"IF(AM26=\"\",\"\",CW26)","v":5},{"$f":"IF(AND($DQ$1>=17,$DQ$1<=20),AW26,IF(AND($DQ$1>=21,$DQ$1<=23),AX26,AY26))","v":9},6,9,12,{"$f":"IF($DQ$1<=20,LOOKUP(DR6,$DR$1:$DR$20,$DT$1:$DT$20),IF(AND($DQ$1>20,$DQ$1<24),LOOKUP(DR9,$DR$1:$DR$23,$DV$1:$DV$23),LOOKUP(DR12,$DR$1:$DR$32,$DY$1:$DY$32)))","v":"Carolina Rodrigues (ACV)"},{"$f":"COUNT(G23,M26,G28)","v":3},{"$f":"COUNTIF(CZ23:CZ28,AZ26)","v":1},{"$f":"BA26-(BB26+BD26)","v":0},{"$f":"COUNTIF(DA23:DA28,AZ26)","v":2},{"$f":"SUM(D23:F23,J26:L26,D28:F28)","v":70},{"$f":"SUM(D24:F24,J25:L25,D27:F27)","v":56},{"$f":"BE26-BF26","v":14},{"$f":"IF(BA26=0,0,BB26*2+BD26*1)","v":4},{"$f":"IF(BH26<=BH25,AZ26,AZ25)","v":"Vitória Coelho (ACV)"},{"$f":"VLOOKUP(BI26,AZ25:BH28,9,FALSE)","v":3},{"$f":"IF(BJ26>=BJ28,BI26,BI28)","v":"Laura Gomes (DP)"},{"$f":"VLOOKUP(BK26,AZ25:BH28,9,FALSE)","v":5},{"$f":"IF(BL26>=BL27,BK26,BK27)","v":"Laura Gomes (DP)"},{"$f":"VLOOKUP(BM26,AZ25:BH28,9,FALSE)","v":5},{"$f":"VLOOKUP(BM26,AZ25:BH28,8,FALSE)","v":9},{"$f":"IF(AND(BN25=BN26,BO26>BO25),BM25,BM26)","v":"Laura Gomes (DP)"},{"$f":"VLOOKUP(BP26,AZ25:BH28,9,FALSE)","v":5},{"$f":"VLOOKUP(BP26,AZ25:BH28,8,FALSE)","v":9},{"$f":"IF(AND(BQ26=BQ28,BR28>BR26),BP28,BP26)","v":"Laura Gomes (DP)"},{"$f":"VLOOKUP(BS26,AZ25:BH28,9,FALSE)","v":5},{"$f":"VLOOKUP(BS26,AZ25:BH28,8,FALSE)","v":9},{"$f":"IF(AND(BT26=BT27,BU27>BU26),BS27,BS26)","v":"Laura Gomes (DP)"},{"$f":"VLOOKUP(BV26,AZ25:BH28,9,FALSE)","v":5},{"$f":"VLOOKUP(BV26,AZ25:BH28,8,FALSE)","v":9},{"$f":"VLOOKUP(BV26,AZ25:BH28,6,FALSE)","v":75},{"$f":"IF(AND(BW25=BW26,BX25=BX26,BY26>BY25),BV25,BV26)","v":"Laura Gomes (DP)"},{"$f":"VLOOKUP(BZ26,AZ25:BH28,9,FALSE)","v":5},{"$f":"VLOOKUP(BZ26,AZ25:BH28,8,FALSE)","v":9},{"$f":"VLOOKUP(BZ26,AZ25:BH28,6,FALSE)","v":75},{"$f":"IF(AND(CA26=CA28,CB26=CB28,CC28>CC26),BZ28,BZ26)","v":"Laura Gomes (DP)"},{"$f":"VLOOKUP(CD26,AZ25:BH28,9,FALSE)","v":5},{"$f":"VLOOKUP(CD26,AZ25:BH28,8,FALSE)","v":9},{"$f":"VLOOKUP(CD26,AZ25:BH28,6,FALSE)","v":75},{"$f":"IF(AND(CE26=CE27,CF26=CF27,CG27>CG26),CD27,CD26)","v":"Laura Gomes (DP)"},{"$f":"VLOOKUP(CH26,AZ25:BH28,9,FALSE)","v":5},{"$f":"VLOOKUP(CH26,AZ25:BH28,8,FALSE)","v":9},{"$f":"VLOOKUP(CH26,AZ25:BH28,6,FALSE)","v":75},null,null,null,{"$f":"CH26","v":"Laura Gomes (DP)"},{"$f":"VLOOKUP(CO26,AZ25:BH28,2,FALSE)","v":3},{"$f":"VLOOKUP(CO26,AZ25:BH28,3,FALSE)","v":2},{"$f":"VLOOKUP(CO26,AZ25:BH28,4,FALSE)","v":0},{"$f":"VLOOKUP(CO26,AZ25:BH28,5,FALSE)","v":1},{"$f":"VLOOKUP(CO26,AZ25:BH28,6,FALSE)","v":75},{"$f":"VLOOKUP(CO26,AZ25:BH28,7,FALSE)","v":66},{"$f":"VLOOKUP(CO26,AZ25:BH28,8,FALSE)","v":9},{"$f":"VLOOKUP(CO26,AZ25:BH28,9,FALSE)","v":5},null,null,{"$f":"IF(M25<>\"\",IF(M25>M26,I25,IF(M26>M25,I26,\"Empate\")),\"\")","v":"Liliam Vogt (ASA)"},{"$f":"IF(M25<>\"\",IF(M25<M26,I25,IF(M26<M25,I26,\"Empate\")),\"\")","v":"Carolina Rodrigues (ACV)"},null,null,{"$f":"IF(ISBLANK(DG26),COUNTA(DG27:$DG$35),0)","v":0},23,null,null,null,null,null,null,null,null,null,null,null,null,26,null,null,null,null,null,null,"",null,null,null,24,null,null,null,null,null,null,null,null,null,null,null,null,null,null,null,null,null,null,null,null,32,"8 Grupos: 4+4+4+4+4+4+4+4","2 Primeiros de cada Grupo"]
[null,{"$f":"$A$4","v":"SS-InfB"},{"$f":"AZ27","v":"Laura Gomes (DP)"},11,3,11,{"$f":"IF(ISBLANK(D27),\"\",SUM(IF(D27>D28,1,0)+(IF(E27>E28,1,0)+(IF(F27>F28,1,0)))))","v":2},{"$f":"$A$4","v":"SS-InfB"},{"$f":"AZ28","v":"Liliam Vogt (ASA)"},11,11,null,{"$f":"IF(ISBLANK(J27),\"\",SUM(IF(J27>J28,1,0)+(IF(K27>K28,1,0)+(IF(L27>L28,1,0)))))","v":2},null,13,{"$f":"IF($DQ$1<=20,LOOKUP(O27,$DT$36:$DT$51,$DU$36:$DU$51),IF(AND($DQ$1>20,$DQ$1<24),LOOKUP(O27,$DT$36:$DT$51,$DV$36:$DV$51),LOOKUP(O27,$DT$36:$DT$51,$DW$36:$DW$51)))","v":"Carolina Rodrigues (ACV)"},4,5,null,{"$f":"IF(ISBLANK(Q27),\"\",SUM(IF(Q27>Q28,1,0)+(IF(R27>R28,1,0)+(IF(S27>S28,1,0)))))","v":0},null,null,null,null,null,null,null,null,null,null,null,null,null,null,null,null,null,{"$f":"IF(AM27=\"\",\"\",\"3º\")","v":"3º"},{"$f":"CO27","v":"Carolina Rodrigues (ACV)"},{"$f":"IF(AM27=\"\",\"\",CP27)","v":3},{"$f":"IF(AM27=\"\",\"\",CQ27)","v":1},{"$f":"IF(AM27=\"\",\"\",CR27)","v":0},{"$f":"IF(AM27=\"\",\"\",CS27)","v":2},{"$f":"IF(AM27=\"\",\"\",CT27)","v":70},{"$f":"IF(AM27=\"\",\"\",CU27)","v":56},{"$f":"IF(AM27=\"\",\"\",CV27)","v":14},{"$f":"IF(AM27=\"\",\"\",CW27)","v":4},{"$f":"IF(AND($DQ$1>=17,$DQ$1<=20),AW27,IF(AND($DQ$1>=21,$DQ$1<=23),AX27,AY27))","v":16},11,16,21,{"$f":"IF($DQ$1<=20,LOOKUP(DR11,$DR$1:$DR$20,$DT$1:$DT$20),IF(AND($DQ$1>20,$DQ$1<24),LOOKUP(DR16,$DR$1:$DR$23,$DV$1:$DV$23),LOOKUP(DR21,$DR$1:$DR$32,$DY$1:$DY$32)))","v":"Laura Gomes (DP)"},{"$f":"COUNT(M23,G26,G27)","v":3},{"$f":"COUNTIF(CZ23:CZ28,AZ27)","v":2},{"$f":"BA27-(BB27+BD27)","v":0},{"$f":"COUNTIF(DA23:DA28,AZ27)","v":1},{"$f":"SUM(J23:L23,D26:F26,D27:F27)","v":75},{"$f":"SUM(J24:L24,D25:F25,D28:F28)","v":66},{"$f":"BE27-BF27","v":9},{"$f":"IF(BA27=0,0,BB27*2+BD27*1)","v":5},{"$f":"IF(BH27>=BH28,AZ27,AZ28)","v":"Liliam Vogt (ASA)"},{"$f":"VLOOKUP(BI27,AZ25:BH28,9,FALSE)","v":6},{"$f":"IF(BJ27<=BJ25,BI27,BI25)","v":"Carolina Rodrigues (ACV)"},{"$f":"VLOOKUP(BK27,AZ25:BH28,9,FALSE)","v":4},{"$f":"IF(BL27<=BL26,BK27,BK26)","v":"Carolina Rodrigues (ACV)"},{"$f":"VLOOKUP(BM27,AZ25:BH28,9,FALSE)","v":4},{"$f":"VLOOKUP(BM27,AZ25:BH28,8,FALSE)","v":14},{"$f":"IF(AND(BN27=BN28,BO28>BO27),BM28,BM27)","v":"Carolina Rodrigues (ACV)"},{"$f":"VLOOKUP(BP27,AZ25:BH28,9,FALSE)","v":4},{"$f":"VLOOKUP(BP27,AZ25:BH28,8,FALSE)","v":14},{"$f":"IF(AND(BQ25=BQ27,BR27>BR25),BP25,BP27)","v":"Carolina Rodrigues (ACV)"},{"$f":"VLOOKUP(BS27,AZ25:BH28,9,FALSE)","v":4},{"$f":"VLOOKUP(BS27,AZ25:BH28,8,FALSE)","v":14},{"$f":"IF(AND(BT26=BT27,BU27>BU26),BS26,BS27)","v":"Carolina Rodrigues (ACV)"},{"$f":"VLOOKUP(BV27,AZ25:BH28,9,FALSE)","v":4},{"$f":"VLOOKUP(BV27,AZ25:BH28,8,FALSE)","v":14},{"$f":"VLOOKUP(BV27,AZ25:BH28,6,FALSE)","v":70},{"$f":"IF(AND(BW27=BW28,BX27=BX28,BY28>BY27),BV28,BV27)","v":"Carolina Rodrigues (ACV)"},{"$f":"VLOOKUP(BZ27,AZ25:BH28,9,FALSE)","v":4},{"$f":"VLOOKUP(BZ27,AZ25:BH28,8,FALSE)","v":14},{"$f":"VLOOKUP(BZ27,AZ25:BH28,6,FALSE)","v":70},{"$f":"IF(AND(CA25=CA27,CB25=CB27,CC26>CC25),BZ25,BZ27)","v":"Carolina Rodrigues (ACV)"},{"$f":"VLOOKUP(CD27,AZ25:BH28,9,FALSE)","v":4},{"$f":"VLOOKUP(CD27,AZ25:BH28,8,FALSE)","v":14},{"$f":"VLOOKUP(CD27,AZ25:BH28,6,FALSE)","v":70},{"$f":"IF(AND(CE26=CE27,CF26=CF27,CG27>CG26),CD26,CD27)","v":"Carolina Rodrigues (ACV)"},{"$f":"VLOOKUP(CH27,AZ25:BH28,9,FALSE)","v":4},{"$f":"VLOOKUP(CH27,AZ25:BH28,8,FALSE)","v":14},{"$f":"VLOOKUP(CH27,AZ25:BH28,6,FALSE)","v":70},null,null,null,{"$f":"CH27","v":"Carolina Rodrigues (ACV)"},{"$f":"VLOOKUP(CO27,AZ25:BH28,2,FALSE)","v":3},{"$f":"VLOOKUP(CO27,AZ25:BH28,3,FALSE)","v":1},{"$f":"VLOOKUP(CO27,AZ25:BH28,4,FALSE)","v":0},{"$f":"VLOOKUP(CO27,AZ25:BH28,5,FALSE)","v":2},{"$f":"VLOOKUP(CO27,AZ25:BH28,6,FALSE)","v":70},{"$f":"VLOOKUP(CO27,AZ25:BH28,7,FALSE)","v":56},{"$f":"VLOOKUP(CO27,AZ25:BH28,8,FALSE)","v":14},{"$f":"VLOOKUP(CO27,AZ25:BH28,9,FALSE)","v":4},null,null,{"$f":"IF(M27<>\"\",IF(M27>M28,I27,IF(M28>M27,I28,\"Empate\")),\"\")","v":"Liliam Vogt (ASA)"},{"$f":"IF(M27<>\"\",IF(M27<M28,I27,IF(M28<M27,I28,\"Empate\")),\"\")","v":"Vitória Coelho (ACV)"},null,null,{"$f":"IF(ISBLANK(DG27),COUNTA(DG28:$DG$35),0)","v":0},24,null,null,null,null,null,null,null,null,null,null,null,null,27,null,null,null,null,null,null,"",null,null,null,25]
[null,{"$f":"H20+1","v":37},{"$f":"AZ26","v":"Carolina Rodrigues (ACV)"},8,11,9,{"$f":"IF(ISBLANK(D27),\"\",SUM(IF(D28>D27,1,0)+(IF(E28>E27,1,0)+(IF(F28>F27,1,0)))))","v":1},{"$f":"B28+1","v":38},{"$f":"IF(I27=\"\",\"\",AZ25)","v":"Vitória Coelho (ACV)"},7,5,null,{"$f":"IF(ISBLANK(J27),\"\",SUM(IF(J28>J27,1,0)+(IF(K28>K27,1,0)+(IF(L28>L27,1,0)))))","v":0},null,4,{"$f":"IF($DQ$1<=20,LOOKUP(O28,$DT$36:$DT$51,$DU$36:$DU$51),IF(AND($DQ$1>20,$DQ$1<24),LOOKUP(O28,$DT$36:$DT$51,$DV$36:$DV$51),LOOKUP(O28,$DT$36:$DT$51,$DW$36:$DW$51)))","v":"Cristina Curnic (DP)"},9,9,null,{"$f":"IF(ISBLANK(Q27),\"\",SUM(IF(Q28>Q27,1,0)+(IF(R28>R27,1,0)+(IF(S28>S27,1,0)))))","v":2},null,null,null,null,null,null,null,null,null,null,null,null,null,null,null,null,null,{"$f":"IF(AM28=\"\",\"\",\"4º\")","v":"4º"},{"$f":"CO28","v":"Vitória Coelho (ACV)"},{"$f":"IF(AM28=\"\",\"\",CP28)","v":3},{"$f":"IF(AM28=\"\",\"\",CQ28)","v":0},{"$f":"IF(AM28=\"\",\"\",CR28)","v":0},{"$f":"IF(AM28=\"\",\"\",CS28)","v":3},{"$f":"IF(AM28=\"\",\"\",CT28)","v":32},{"$f":"IF(AM28=\"\",\"\",CU28)","v":66},{"$f":"IF(AM28=\"\",\"\",CV28)","v":-34},{"$f":"IF(AM28=\"\",\"\",CW28)","v":3},{"$f":"IF(AND($DQ$1>=17,$DQ$1<=20),AW28,IF(AND($DQ$1>=21,$DQ$1<=23),AX28,AY28))","v":21},16,21,28,{"$f":"IF($DQ$1<=20,LOOKUP(DR16,$DR$1:$DR$20,$DT$1:$DT$20),IF(AND($DQ$1>20,$DQ$1<24),LOOKUP(DR21,$DR$1:$DR$23,$DV$1:$DV$23),LOOKUP(DR28,$DR$1:$DR$32,$DY$1:$DY$32)))","v":"Liliam Vogt (ASA)"},{"$f":"COUNT(M24,M25,M27)","v":3},{"$f":"COUNTIF(CZ23:CZ28,AZ28)","v":3},{"$f":"BA28-(BB28+BD28)","v":0},{"$f":"COUNTIF(DA23:DA28,AZ28)","v":0},{"$f":"SUM(J24:L24,J25:L25,J27:L27)","v":71},{"$f":"SUM(J23:L23,J26:L26,J28:L28)","v":60},{"$f":"BE28-BF28","v":11},{"$f":"IF(BA28=0,0,BB28*2+BD28*1)","v":6},{"$f":"IF(BH28<=BH27,AZ28,AZ27)","v":"Laura Gomes (DP)"},{"$f":"VLOOKUP(BI28,AZ25:BH28,9,FALSE)","v":5},{"$f":"IF(BJ28<=BJ26,BI28,BI26)","v":"Vitória Coelho (ACV)"},{"$f":"VLOOKUP(BK28,AZ25:BH28,9,FALSE)","v":3},{"$f":"IF(BL28<=BL25,BK28,BK25)","v":"Vitória Coelho (ACV)"},{"$f":"VLOOKUP(BM28,AZ25:BH28,9,FALSE)","v":3},{"$f":"VLOOKUP(BM28,AZ25:BH28,8,FALSE)","v":-34},{"$f":"IF(AND(BN27=BN28,BO28>BO27),BM27,BM28)","v":"Vitória Coelho (ACV)"},{"$f":"VLOOKUP(BP28,AZ25:BH28,9,FALSE)","v":3},{"$f":"VLOOKUP(BP28,AZ25:BH28,8,FALSE)","v":-34},{"$f":"IF(AND(BQ26=BQ28,BR28>BR26),BP26,BP28)","v":"Vitória Coelho (ACV)"},{"$f":"VLOOKUP(BS28,AZ25:BH28,9,FALSE)","v":3},{"$f":"VLOOKUP(BS28,AZ25:BH28,8,FALSE)","v":-34},{"$f":"IF(AND(BT25=BT28,BU28>BU25),BS25,BS28)","v":"Vitória Coelho (ACV)"},{"$f":"VLOOKUP(BV28,AZ25:BH28,9,FALSE)","v":3},{"$f":"VLOOKUP(BV28,AZ25:BH28,8,FALSE)","v":-34},{"$f":"VLOOKUP(BV28,AZ25:BH28,6,FALSE)","v":32},{"$f":"IF(AND(BW27=BW28,BX27=BX28,BY28>BY27),BV27,BV28)","v":"Vitória Coelho (ACV)"},{"$f":"VLOOKUP(BZ28,AZ25:BH28,9,FALSE)","v":3},{"$f":"VLOOKUP(BZ28,AZ25:BH28,8,FALSE)","v":-34},{"$f":"VLOOKUP(BZ28,AZ25:BH28,6,FALSE)","v":32},{"$f":"IF(AND(CA26=CA28,CB26=CB28,CC28>CC26),BZ26,BZ28)","v":"Vitória Coelho (ACV)"},{"$f":"VLOOKUP(CD28,AZ25:BH28,9,FALSE)","v":3},{"$f":"VLOOKUP(CD28,AZ25:BH28,8,FALSE)","v":-34},{"$f":"VLOOKUP(CD28,AZ25:BH28,6,FALSE)","v":32},{"$f":"IF(AND(CE25=CE28,CF25=CF28,CG28>CG25),CD25,CD28)","v":"Vitória Coelho (ACV)"},{"$f":"VLOOKUP(CH28,AZ25:BH28,9,FALSE)","v":3},{"$f":"VLOOKUP(CH28,AZ25:BH28,8,FALSE)","v":-34},{"$f":"VLOOKUP(CH28,AZ25:BH28,6,FALSE)","v":32},null,null,null,{"$f":"CH28","v":"Vitória Coelho (ACV)"},{"$f":"VLOOKUP(CO28,AZ25:BH28,2,FALSE)","v":3},{"$f":"VLOOKUP(CO28,AZ25:BH28,3,FALSE)","v":0},{"$f":"VLOOKUP(CO28,AZ25:BH28,4,FALSE)","v":0},{"$f":"VLOOKUP(CO28,AZ25:BH28,5,FALSE)","v":3},{"$f":"VLOOKUP(CO28,AZ25:BH28,6,FALSE)","v":32},{"$f":"VLOOKUP(CO28,AZ25:BH28,7,FALSE)","v":66},{"$f":"VLOOKUP(CO28,AZ25:BH28,8,FALSE)","v":-34},{"$f":"VLOOKUP(CO28,AZ25:BH28,9,FALSE)","v":3},null,null,{"$f":"IF(G28<>\"\",IF(G28>G27,C28,IF(G27>G28,C27,\"Empate\")),\"\")","v":"Laura Gomes (DP)"},{"$f":"IF(G28<>\"\",IF(G28<G27,C28,IF(G27<G28,C27,\"Empate\")),\"\")","v":"Carolina Rodrigues (ACV)"},null,null,{"$f":"IF(ISBLANK(DG28),COUNTA(DG29:$DG$35),0)","v":0},25,null,null,null,null,null,null,null,null,null,null,null,null,28,null,null,null,null,null,null,"",null,null,null,26]
[null,null,null,null,null,null,null,null,null,null,null,null,null,null,null,null,null,null,null,null,null,null,null,null,null,null,null,null,null,null,null,null,null,null,null,null,null,null,null,null,null,null,null,null,null,null,null,null,null,null,null,null,null,null,null,null,null,null,null,null,null,null,null,null,null,null,null,null,null,null,null,null,null,null,null,null,null,null,null,null,null,null,null,null,null,null,null,null,null,null,null,null,null,null,null,null,null,null,null,null,null,null,null,null,null,null,null,{"$f":"IF(ISBLANK(DG29),COUNTA(DG30:$DG$35),0)","v":0},26,null,null,null,null,null,null,null,null,null,null,null,null,29,null,null,null,null,null,null,"",null,null,null,27]
["Grupo D","NºJ","Jogadores",1,2,3,"R","NºJ","Jogadores",1,2,3,"R",null,null,null,null,null,null,null,null,null,null,null,null,null,null,null,null,null,null,null,null,null,null,null,null,null,null,null,null,null,null,null,null,null,null,null,null,null,null,"Colocar Equipas",null,null,null,null,null,null,null,null,"Ordenar p/ Pts 1",null,"Ordenar p/ Pts 2",null,"Ordenar p/ Pts 3",null,null,"Ordenar p/ DG 1",null,null,"Ordenar p/ DG 2",null,null,"Ordenar p/ DG 3",null,null,null,"Ordenar p/ GM 1",null,null,null,"Ordenar p/ GM 2",null,null,null,"Ordenar p/ GM 3",null,null,null,null,null,null,null,null,null,null,null,null,null,null,null,null,null,"Vencedores","Derrotados",null,null,{"$f":"IF(ISBLANK(DG30),COUNTA(DG31:$DG$35),0)","v":0},27,null,null,null,null,null,null,null,null,null,null,null,null,30,null,null,null,null,null,null,"",null,null,null,28]
[null,{"$f":"$A$4","v":"SS-InfB"},{"$f":"AZ34","v":"Cristina Curnic (DP)"},11,2,9,{"$f":"IF(ISBLANK(D31),\"\",SUM(IF(D31>D32,1,0)+(IF(E31>E32,1,0)+(IF(F31>F32,1,0)))))","v":2},{"$f":"$A$4","v":"SS-InfB"},{"$f":"IF(I32=\"\",\"\",AZ35)","v":""},null,null,null,{"$f":"IF(ISBLANK(J31),\"\",SUM(IF(J31>J32,1,0)+(IF(K31>K32,1,0)+(IF(L31>L32,1,0)))))","v":""},null,null,null,null,null,null,null,null,null,null,null,null,null,null,null,null,null,null,null,null,null,null,null,null,null,"Classificação Grupo D",null,null,null,null,null,null,null,null,null,null,null,null,"Grupo D",null,null,null,null,null,null,null,null,null,null,null,null,null,null,null,null,null,null,null,null,null,null,null,null,null,null,null,null,null,null,null,null,null,null,null,null,null,null,null,null,null,null,null,null,null,null,null,null,null,null,null,{"$f":"IF(G32<>\"\",IF(G32>G31,C32,IF(G31>G32,C31,\"Empate\")),\"\")","v":"Cristina Curnic (DP)"},{"$f":"IF(G32<>\"\",IF(G32<G31,C32,IF(G31<G32,C31,\"Empate\")),\"\")","v":"Beatriz Coelho (ACV)"},null,null,{"$f":"IF(ISBLANK(DG31),COUNTA(DG32:$DG$35),0)","v":0},28,null,null,null,null,null,null,null,null,null,null,null,null,31,null,null,null,null,null,null,"",null,null,null,29]
[null,{"$f":"H24+1","v":7},{"$f":"AZ33","v":"Beatriz Coelho (ACV)"},9,11,0,{"$f":"IF(ISBLANK(D31),\"\",SUM(IF(D32>D31,1,0)+(IF(E32>E31,1,0)+(IF(F32>F31,1,0)))))","v":1},{"$f":"B32+1","v":8},{"$f":"AZ36","v":""},null,null,null,{"$f":"IF(ISBLANK(J31),\"\",SUM(IF(J32>J31,1,0)+(IF(K32>K31,1,0)+(IF(L32>L31,1,0)))))","v":""},null,null,null,null,null,null,null,null,null,null,null,null,null,null,null,null,"Final",null,null,null,null,null,null,null,"Cl",{"$f":"AZ32","v":"Jogadores"},"Jg","V","E","D","PM","PS","DP","Pt.",null,null,null,null,"Jogadores","Jg","V","E","D","GM","GS","DG","Pts","Equipas","Pts","Equipas","Pts","Equipas","Pts","DG","Equipas","Pts","DG","Equipas","Pts","DG","Equipas","Pts","DG","GM","Equipas","Pts","DG","GM","Equipas","Pts","DG","GM","Equipas","Pts","DG","GM",null,null,null,"Equipas","Jg","V","D","E","GM","GS","DG","Pts",null,null,{"$f":"IF(M31<>\"\",IF(M31>M32,I31,IF(M32>M31,I32,\"Empate\")),\"\")","v":""},{"$f":"IF(M31<>\"\",IF(M31<M32,I31,IF(M32<M31,I32,\"Empate\")),\"\")","v":""},null,null,{"$f":"IF(ISBLANK(DG32),COUNTA(DG33:$DG$35),0)","v":0},29,null,null,null,null,null,null,null,null,null,null,null,null,32,null,null,null,null,null,null,"",null,null,null,30]
[null,{"$f":"$A$4","v":"SS-InfB"},{"$f":"AZ33","v":"Beatriz Coelho (ACV)"},1,6,null,{"$f":"IF(ISBLANK(D33),\"\",SUM(IF(D33>D34,1,0)+(IF(E33>E34,1,0)+(IF(F33>F34,1,0)))))","v":0},{"$f":"$A$4","v":"SS-InfB"},{"$f":"AZ36","v":""},null,null,null,{"$f":"IF(ISBLANK(J33),\"\",SUM(IF(J33>J34,1,0)+(IF(K33>K34,1,0)+(IF(L33>L34,1,0)))))","v":""},null,null,null,null,null,null,null,null,null,null,null,null,null,null,null,null,"Jogo Nº",{"$f":"CONCATENATE($A$4,\" \",SUM($H$68+15))","v":"SS-InfB 63"},null,null,null,null,2,null,{"$f":"IF(AM33=\"\",\"\",\"1º\")","v":"1º"},{"$f":"CO33","v":"Cristina Curnic (DP)"},{"$f":"IF(AM33=\"\",\"\",CP33)","v":2},{"$f":"IF(AM33=\"\",\"\",CQ33)","v":2},{"$f":"IF(AM33=\"\",\"\",CR33)","v":0},{"$f":"IF(AM33=\"\",\"\",CS33)","v":0},{"$f":"IF(AM33=\"\",\"\",CT33)","v":44},{"$f":"IF(AM33=\"\",\"\",CU33)","v":31},{"$f":"IF(AM33=\"\",\"\",CV33)","v":13},{"$f":"IF(AM33=\"\",\"\",CW33)","v":4},{"$f":"IF(AND($DQ$1>=17,$DQ$1<=20),AW33,IF(AND($DQ$1>=21,$DQ$1<=23),AX33,AY33))","v":3},4,3,4,{"$f":"IF($DQ$1<=20,LOOKUP(DR4,$DR$1:$DR$20,$DT$1:$DT$20),IF(AND($DQ$1>20,$DQ$1<24),LOOKUP(DR3,$DR$1:$DR$23,$DV$1:$DV$23),LOOKUP(DR4,$DR$1:$DR$32,$DY$1:$DY$32)))","v":"Beatriz Coelho (ACV)"},{"$f":"COUNT(G32,G33,M36)","v":2},{"$f":"COUNTIF(CZ31:CZ36,AZ33)","v":0},{"$f":"BA33-(BB33+BD33)","v":0},{"$f":"COUNTIF(DA31:DA36,AZ33)","v":2},{"$f":"SUM(D32:F32,D33:F33,J36:L36)","v":27},{"$f":"SUM(D31:F31,D34:F34,J35:L35)","v":44},{"$f":"BE33-BF33","v":-17},{"$f":"IF(BA33=0,0,BB33*2+BD33*1)","v":2},{"$f":"IF(BH33>=BH34,AZ33,AZ34)","v":"Cristina Curnic (DP)"},{"$f":"VLOOKUP(BI33,AZ33:BH36,9,FALSE)","v":4},{"$f":"IF(BJ33>=BJ35,BI33,BI35)","v":"Cristina Curnic (DP)"},{"$f":"VLOOKUP(BK33,AZ33:BH36,9,FALSE)","v":4},{"$f":"IF(BL33>=BL36,BK33,BK36)","v":"Cristina Curnic (DP)"},{"$f":"VLOOKUP(BM33,AZ33:BH36,9,FALSE)","v":4},{"$f":"VLOOKUP(BM33,AZ33:BH36,8,FALSE)","v":13},{"$f":"IF(AND(BN33=BN34,BO34>BO33),BM34,BM33)","v":"Cristina Curnic (DP)"},{"$f":"VLOOKUP(BP33,AZ33:BH36,9,FALSE)","v":4},{"$f":"VLOOKUP(BP33,AZ33:BH36,8,FALSE)","v":13},{"$f":"IF(AND(BQ33=BQ35,BR35>BR33),BP35,BP33)","v":"Cristina Curnic (DP)"},{"$f":"VLOOKUP(BS33,AZ33:BH36,9,FALSE)","v":4},{"$f":"VLOOKUP(BS33,AZ33:BH36,8,FALSE)","v":13},{"$f":"IF(AND(BT33=BT36,BU36>BU33),BS36,BS33)","v":"Cristina Curnic (DP)"},{"$f":"VLOOKUP(BV33,AZ33:BH36,9,FALSE)","v":4},{"$f":"VLOOKUP(BV33,AZ33:BH36,8,FALSE)","v":13},{"$f":"VLOOKUP(BV33,AZ33:BH36,6,FALSE)","v":44},{"$f":"IF(AND(BW33=BW34,BX33=BX34,BY34>BY33),BV34,BV33)","v":"Cristina Curnic (DP)"},{"$f":"VLOOKUP(BZ33,AZ33:BH36,9,FALSE)","v":4},{"$f":"VLOOKUP(BZ33,AZ33:BH36,8,FALSE)","v":13},{"$f":"VLOOKUP(BZ33,AZ33:BH36,6,FALSE)","v":44},{"$f":"IF(AND(CA33=CA35,CB33=CB35,CC35>CC33),BZ35,BZ33)","v":"Cristina Curnic (DP)"},{"$f":"VLOOKUP(CD33,AZ33:BH36,9,FALSE)","v":4},{"$f":"VLOOKUP(CD33,AZ33:BH36,8,FALSE)","v":13},{"$f":"VLOOKUP(CD33,AZ33:BH36,6,FALSE)","v":44},{"$f":"IF(AND(CE33=CE36,CF33=CF36,CG36>CG33),CD36,CD33)","v":"Cristina Curnic (DP)"},{"$f":"VLOOKUP(CH33,AZ33:BH36,9,FALSE)","v":4},{"$f":"VLOOKUP(CH33,AZ33:BH36,8,FALSE)","v":13},{"$f":"VLOOKUP(CH33,AZ33:BH36,6,FALSE)","v":44},null,null,null,{"$f":"CH33","v":"Cristina Curnic (DP)"},{"$f":"VLOOKUP(CO33,AZ33:BH36,2,FALSE)","v":2},{"$f":"VLOOKUP(CO33,AZ33:BH36,3,FALSE)","v":2},{"$f":"VLOOKUP(CO33,AZ33:BH36,4,FALSE)","v":0},{"$f":"VLOOKUP(CO33,AZ33:BH36,5,FALSE)","v":0},{"$f":"VLOOKUP(CO33,AZ33:BH36,6,FALSE)","v":44},{"$f":"VLOOKUP(CO33,AZ33:BH36,7,FALSE)","v":31},{"$f":"VLOOKUP(CO33,AZ33:BH36,8,FALSE)","v":13},{"$f":"VLOOKUP(CO33,AZ33:BH36,9,FALSE)","v":4},null,null,{"$f":"IF(G33<>\"\",IF(G33>G34,C33,IF(G34>G33,C34,\"Empate\")),\"\")","v":"Paula Tijaro (DP)"},{"$f":"IF(G33<>\"\",IF(G33<G34,C33,IF(G34<G33,C34,\"Empate\")),\"\")","v":"Beatriz Coelho (ACV)"},null,null,{"$f":"IF(ISBLANK(DG33),COUNTA(DG34:$DG$35),0)","v":0},30,null,null,null,null,null,null,null,null,null,null,null,null,null,"5 Grupos 17 a 20",null,"6 Grupos 21 a 23",null,"8 Grupos 24 a 32",null,null,null,null,null,"fc"]
[null,{"$f":"H26+1","v":23},{"$f":"AZ35","v":"Paula Tijaro (DP)"},11,11,null,{"$f":"IF(ISBLANK(D33),\"\",SUM(IF(D34>D33,1,0)+(IF(E34>E33,1,0)+(IF(F34>F33,1,0)))))","v":2},{"$f":"B34+1","v":24},{"$f":"IF(I33=\"\",\"\",AZ34)","v":""},null,null,null,{"$f":"IF(ISBLANK(J33),\"\",SUM(IF(J34>J33,1,0)+(IF(K34>K33,1,0)+(IF(L34>L33,1,0)))))","v":""},null,null,null,null,null,null,null,null,null,{"$f":"IF(AH17=AH18,\"\",IF(AH17>AH18,AD18,AD17))","v":"Carolina Lima (ACV)"},5,null,null,{"$f":"IF(ISBLANK(X34),\"\",SUM(IF(X34>X35,1,0)+(IF(Y34>Y35,1,0)+(IF(Z34>Z35,1,0)))))","v":0},null,null,{"$f":"IF(AH17=AH18,\"\",IF(AH17>AH18,AD17,AD18))","v":"Eva Oliveira (ASA)"},9,8,4,{"$f":"IF(ISBLANK(AE34),\"\",SUM(IF(AE34>AE35,1,0)+(IF(AF34>AF35,1,0)+(IF(AG34>AG35,1,0)))))","v":1},null,8,null,{"$f":"IF(AM34=\"\",\"\",\"2º\")","v":"2º"},{"$f":"CO34","v":"Paula Tijaro (DP)"},{"$f":"IF(AM34=\"\",\"\",CP34)","v":2},{"$f":"IF(AM34=\"\",\"\",CQ34)","v":1},{"$f":"IF(AM34=\"\",\"\",CR34)","v":0},{"$f":"IF(AM34=\"\",\"\",CS34)","v":1},{"$f":"IF(AM34=\"\",\"\",CT34)","v":33},{"$f":"IF(AM34=\"\",\"\",CU34)","v":29},{"$f":"IF(AM34=\"\",\"\",CV34)","v":4},{"$f":"IF(AM34=\"\",\"\",CW34)","v":3},{"$f":"IF(AND($DQ$1>=17,$DQ$1<=20),AW34,IF(AND($DQ$1>=21,$DQ$1<=23),AX34,AY34))","v":10},7,10,13,{"$f":"IF($DQ$1<=20,LOOKUP(DR7,$DR$1:$DR$20,$DT$1:$DT$20),IF(AND($DQ$1>20,$DQ$1<24),LOOKUP(DR10,$DR$1:$DR$23,$DV$1:$DV$23),LOOKUP(DR13,$DR$1:$DR$32,$DY$1:$DY$32)))","v":"Cristina Curnic (DP)"},{"$f":"COUNT(G31,M34,G36)","v":2},{"$f":"COUNTIF(CZ31:CZ36,AZ34)","v":2},{"$f":"BA34-(BB34+BD34)","v":0},{"$f":"COUNTIF(DA31:DA36,AZ34)","v":0},{"$f":"SUM(D31:F31,J34:L34,D36:F36)","v":44},{"$f":"SUM(D32:F32,J33:L33,D35:F35)","v":31},{"$f":"BE34-BF34","v":13},{"$f":"IF(BA34=0,0,BB34*2+BD34*1)","v":4},{"$f":"IF(BH34<=BH33,AZ34,AZ33)","v":"Beatriz Coelho (ACV)"},{"$f":"VLOOKUP(BI34,AZ33:BH36,9,FALSE)","v":2},{"$f":"IF(BJ34>=BJ36,BI34,BI36)","v":"Beatriz Coelho (ACV)"},{"$f":"VLOOKUP(BK34,AZ33:BH36,9,FALSE)","v":2},{"$f":"IF(BL34>=BL35,BK34,BK35)","v":"Paula Tijaro (DP)"},{"$f":"VLOOKUP(BM34,AZ33:BH36,9,FALSE)","v":3},{"$f":"VLOOKUP(BM34,AZ33:BH36,8,FALSE)","v":4},{"$f":"IF(AND(BN33=BN34,BO34>BO33),BM33,BM34)","v":"Paula Tijaro (DP)"},{"$f":"VLOOKUP(BP34,AZ33:BH36,9,FALSE)","v":3},{"$f":"VLOOKUP(BP34,AZ33:BH36,8,FALSE)","v":4},{"$f":"IF(AND(BQ34=BQ36,BR36>BR34),BP36,BP34)","v":"Paula Tijaro (DP)"},{"$f":"VLOOKUP(BS34,AZ33:BH36,9,FALSE)","v":3},{"$f":"VLOOKUP(BS34,AZ33:BH36,8,FALSE)","v":4},{"$f":"IF(AND(BT34=BT35,BU35>BU34),BS35,BS34)","v":"Paula Tijaro (DP)"},{"$f":"VLOOKUP(BV34,AZ33:BH36,9,FALSE)","v":3},{"$f":"VLOOKUP(BV34,AZ33:BH36,8,FALSE)","v":4},{"$f":"VLOOKUP(BV34,AZ33:BH36,6,FALSE)","v":33},{"$f":"IF(AND(BW33=BW34,BX33=BX34,BY34>BY33),BV33,BV34)","v":"Paula Tijaro (DP)"},{"$f":"VLOOKUP(BZ34,AZ33:BH36,9,FALSE)","v":3},{"$f":"VLOOKUP(BZ34,AZ33:BH36,8,FALSE)","v":4},{"$f":"VLOOKUP(BZ34,AZ33:BH36,6,FALSE)","v":33},{"$f":"IF(AND(CA34=CA36,CB34=CB36,CC36>CC34),BZ36,BZ34)","v":"Paula Tijaro (DP)"},{"$f":"VLOOKUP(CD34,AZ33:BH36,9,FALSE)","v":3},{"$f":"VLOOKUP(CD34,AZ33:BH36,8,FALSE)","v":4},{"$f":"VLOOKUP(CD34,AZ33:BH36,6,FALSE)","v":33},{"$f":"IF(AND(CE34=CE35,CF34=CF35,CG35>CG34),CD35,CD34)","v":"Paula Tijaro (DP)"},{"$f":"VLOOKUP(CH34,AZ33:BH36,9,FALSE)","v":3},{"$f":"VLOOKUP(CH34,AZ33:BH36,8,FALSE)","v":4},{"$f":"VLOOKUP(CH34,AZ33:BH36,6,FALSE)","v":33},null,null,null,{"$f":"CH34","v":"Paula Tijaro (DP)"},{"$f":"VLOOKUP(CO34,AZ33:BH36,2,FALSE)","v":2},{"$f":"VLOOKUP(CO34,AZ33:BH36,3,FALSE)","v":1},{"$f":"VLOOKUP(CO34,AZ33:BH36,4,FALSE)","v":0},{"$f":"VLOOKUP(CO34,AZ33:BH36,5,FALSE)","v":1},{"$f":"VLOOKUP(CO34,AZ33:BH36,6,FALSE)","v":33},{"$f":"VLOOKUP(CO34,AZ33:BH36,7,FALSE)","v":29},{"$f":"VLOOKUP(CO34,AZ33:BH36,8,FALSE)","v":4},{"$f":"VLOOKUP(CO34,AZ33:BH36,9,FALSE)","v":3},null,null,{"$f":"IF(M33<>\"\",IF(M33>M34,I33,IF(M34>M33,I34,\"Empate\")),\"\")","v":""},{"$f":"IF(M33<>\"\",IF(M33<M34,I33,IF(M34<M33,I34,\"Empate\")),\"\")","v":""},null,null,{"$f":"IF(ISBLANK(DG34),COUNTA(DG35:$DG$35),0)","v":0},31,null,null,null,null,null,null,null,null,null,null,null,null,null,null,null,null,null,null,null,null,null,null,null,"v"]
[null,{"$f":"$A$4","v":"SS-InfB"},{"$f":"AZ35","v":"Paula Tijaro (DP)"},6,5,null,{"$f":"IF(ISBLANK(D35),\"\",SUM(IF(D35>D36,1,0)+(IF(E35>E36,1,0)+(IF(F35>F36,1,0)))))","v":0},{"$f":"$A$4","v":"SS-InfB"},{"$f":"AZ36","v":""},null,null,null,{"$f":"IF(ISBLANK(J35),\"\",SUM(IF(J35>J36,1,0)+(IF(K35>K36,1,0)+(IF(L35>L36,1,0)))))","v":""},null,null,null,null,null,null,null,null,null,{"$f":"IF(AH49=AH50,\"\",IF(AH49>AH50,AD50,AD49))","v":"Tânia Jesus (ACV)"},9,null,null,{"$f":"IF(ISBLANK(X34),\"\",SUM(IF(X35>X34,1,0)+(IF(Y35>Y34,1,0)+(IF(Z35>Z34,1,0)))))","v":1},null,null,{"$f":"IF(AH49=AH50,\"\",IF(AH49>AH50,AD49,AD50))","v":"Lara Carvalho (ASA)"},8,9,9,{"$f":"IF(ISBLANK(AE34),\"\",SUM(IF(AE35>AE34,1,0)+(IF(AF35>AF34,1,0)+(IF(AG35>AG34,1,0)))))","v":2},null,null,null,{"$f":"IF(AM35=\"\",\"\",\"3º\")","v":"3º"},{"$f":"CO35","v":"Beatriz Coelho (ACV)"},{"$f":"IF(AM35=\"\",\"\",CP35)","v":2},{"$f":"IF(AM35=\"\",\"\",CQ35)","v":0},{"$f":"IF(AM35=\"\",\"\",CR35)","v":0},{"$f":"IF(AM35=\"\",\"\",CS35)","v":2},{"$f":"IF(AM35=\"\",\"\",CT35)","v":27},{"$f":"IF(AM35=\"\",\"\",CU35)","v":44},{"$f":"IF(AM35=\"\",\"\",CV35)","v":-17},{"$f":"IF(AM35=\"\",\"\",CW35)","v":2},{"$f":"IF(AND($DQ$1>=17,$DQ$1<=20),AW35,IF(AND($DQ$1>=21,$DQ$1<=23),AX35,AY35))","v":15},13,15,20,{"$f":"IF($DQ$1<=20,LOOKUP(DR13,$DR$1:$DR$20,$DT$1:$DT$20),IF(AND($DQ$1>20,$DQ$1<24),LOOKUP(DR15,$DR$1:$DR$23,$DV$1:$DV$23),LOOKUP(DR20,$DR$1:$DR$32,$DY$1:$DY$32)))","v":"Paula Tijaro (DP)"},{"$f":"COUNT(M31,G34,G35)","v":2},{"$f":"COUNTIF(CZ31:CZ36,AZ35)","v":1},{"$f":"BA35-(BB35+BD35)","v":0},{"$f":"COUNTIF(DA31:DA36,AZ35)","v":1},{"$f":"SUM(J31:L31,D34:F34,D35:F35)","v":33},{"$f":"SUM(J32:L32,D33:F33,D36:F36)","v":29},{"$f":"BE35-BF35","v":4},{"$f":"IF(BA35=0,0,BB35*2+BD35*1)","v":3},{"$f":"IF(BH35>=BH36,AZ35,AZ36)","v":"Paula Tijaro (DP)"},{"$f":"VLOOKUP(BI35,AZ33:BH36,9,FALSE)","v":3},{"$f":"IF(BJ35<=BJ33,BI35,BI33)","v":"Paula Tijaro (DP)"},{"$f":"VLOOKUP(BK35,AZ33:BH36,9,FALSE)","v":3},{"$f":"IF(BL35<=BL34,BK35,BK34)","v":"Beatriz Coelho (ACV)"},{"$f":"VLOOKUP(BM35,AZ33:BH36,9,FALSE)","v":2},{"$f":"VLOOKUP(BM35,AZ33:BH36,8,FALSE)","v":-17},{"$f":"IF(AND(BN35=BN36,BO36>BO35),BM36,BM35)","v":"Beatriz Coelho (ACV)"},{"$f":"VLOOKUP(BP35,AZ33:BH36,9,FALSE)","v":2},{"$f":"VLOOKUP(BP35,AZ33:BH36,8,FALSE)","v":-17},{"$f":"IF(AND(BQ33=BQ35,BR35>BR33),BP33,BP35)","v":"Beatriz Coelho (ACV)"},{"$f":"VLOOKUP(BS35,AZ33:BH36,9,FALSE)","v":2},{"$f":"VLOOKUP(BS35,AZ33:BH36,8,FALSE)","v":-17},{"$f":"IF(AND(BT34=BT35,BU35>BU34),BS34,BS35)","v":"Beatriz Coelho (ACV)"},{"$f":"VLOOKUP(BV35,AZ33:BH36,9,FALSE)","v":2},{"$f":"VLOOKUP(BV35,AZ33:BH36,8,FALSE)","v":-17},{"$f":"VLOOKUP(BV35,AZ33:BH36,6,FALSE)","v":27},{"$f":"IF(AND(BW35=BW36,BX35=BX36,BY36>BY35),BV36,BV35)","v":"Beatriz Coelho (ACV)"},{"$f":"VLOOKUP(BZ35,AZ33:BH36,9,FALSE)","v":2},{"$f":"VLOOKUP(BZ35,AZ33:BH36,8,FALSE)","v":-17},{"$f":"VLOOKUP(BZ35,AZ33:BH36,6,FALSE)","v":27},{"$f":"IF(AND(CA33=CA35,CB33=CB35,CC34>CC33),BZ33,BZ35)","v":"Beatriz Coelho (ACV)"},{"$f":"VLOOKUP(CD35,AZ33:BH36,9,FALSE)","v":2},{"$f":"VLOOKUP(CD35,AZ33:BH36,8,FALSE)","v":-17},{"$f":"VLOOKUP(CD35,AZ33:BH36,6,FALSE)","v":27},{"$f":"IF(AND(CE34=CE35,CF34=CF35,CG35>CG34),CD34,CD35)","v":"Beatriz Coelho (ACV)"},{"$f":"VLOOKUP(CH35,AZ33:BH36,9,FALSE)","v":2},{"$f":"VLOOKUP(CH35,AZ33:BH36,8,FALSE)","v":-17},{"$f":"VLOOKUP(CH35,AZ33:BH36,6,FALSE)","v":27},null,null,null,{"$f":"CH35","v":"Beatriz Coelho (ACV)"},{"$f":"VLOOKUP(CO35,AZ33:BH36,2,FALSE)","v":2},{"$f":"VLOOKUP(CO35,AZ33:BH36,3,FALSE)","v":0},{"$f":"VLOOKUP(CO35,AZ33:BH36,4,FALSE)","v":0},{"$f":"VLOOKUP(CO35,AZ33:BH36,5,FALSE)","v":2},{"$f":"VLOOKUP(CO35,AZ33:BH36,6,FALSE)","v":27},{"$f":"VLOOKUP(CO35,AZ33:BH36,7,FALSE)","v":44},{"$f":"VLOOKUP(CO35,AZ33:BH36,8,FALSE)","v":-17},{"$f":"VLOOKUP(CO35,AZ33:BH36,9,FALSE)","v":2},null,null,{"$f":"IF(M35<>\"\",IF(M35>M36,I35,IF(M36>M35,I36,\"Empate\")),\"\")","v":""},{"$f":"IF(M35<>\"\",IF(M35<M36,I35,IF(M36<M35,I36,\"Empate\")),\"\")","v":""},null,null,{"$f":"IF(ISBLANK(DG35),COUNTA(DG$35:$DG36),0)","v":0},32,null,null,null,null,null,null,null,null,null,null,null,null,null,null,"Class","Class17 e 20","Class 21 a 23","Class 24 a 32",null,null,null,null,null,null,null,"Classificações últimos"]
[null,{"$f":"H28+1","v":39},{"$f":"AZ34","v":"Cristina Curnic (DP)"},11,11,null,{"$f":"IF(ISBLANK(D35),\"\",SUM(IF(D36>D35,1,0)+(IF(E36>E35,1,0)+(IF(F36>F35,1,0)))))","v":2},{"$f":"B36+1","v":40},{"$f":"IF(I35=\"\",\"\",AZ33)","v":""},null,null,null,{"$f":"IF(ISBLANK(J35),\"\",SUM(IF(J36>J35,1,0)+(IF(K36>K35,1,0)+(IF(L36>L35,1,0)))))","v":""},null,null,null,null,null,null,null,null,null,"3º/4º",null,null,null,null,null,null,"Vencedor",null,null,null,null,null,null,null,{"$f":"IF(AM36=\"\",\"\",\"4º\")","v":""},{"$f":"CO36","v":""},{"$f":"IF(AM36=\"\",\"\",CP36)","v":""},{"$f":"IF(AM36=\"\",\"\",CQ36)","v":""},{"$f":"IF(AM36=\"\",\"\",CR36)","v":""},{"$f":"IF(AM36=\"\",\"\",CS36)","v":""},{"$f":"IF(AM36=\"\",\"\",CT36)","v":""},{"$f":"IF(AM36=\"\",\"\",CU36)","v":""},{"$f":"IF(AM36=\"\",\"\",CV36)","v":""},{"$f":"IF(AM36=\"\",\"\",CW36)","v":""},{"$f":"IF(AND($DQ$1>=17,$DQ$1<=20),AW36,IF(AND($DQ$1>=21,$DQ$1<=23),AX36,AY36))","v":22},18,22,29,{"$f":"IF($DQ$1<=20,LOOKUP(DR18,$DR$1:$DR$20,$DT$1:$DT$20),IF(AND($DQ$1>20,$DQ$1<24),LOOKUP(DR22,$DR$1:$DR$23,$DV$1:$DV$23),LOOKUP(DR29,$DR$1:$DR$32,$DY$1:$DY$32)))","v":""},{"$f":"COUNT(M32,M33,M35)","v":0},{"$f":"COUNTIF(CZ31:CZ36,AZ36)","v":3},{"$f":"BA36-(BB36+BD36)","v":-6},{"$f":"COUNTIF(DA31:DA36,AZ36)","v":3},{"$f":"SUM(J32:L32,J33:L33,J35:L35)","v":0},{"$f":"SUM(J31:L31,J34:L34,J36:L36)","v":0},{"$f":"BE36-BF36","v":0},{"$f":"IF(BA36=0,0,BB36*2+BD36*1)","v":0},{"$f":"IF(BH36<=BH35,AZ36,AZ35)","v":""},{"$f":"VLOOKUP(BI36,AZ33:BH36,9,FALSE)","v":0},{"$f":"IF(BJ36<=BJ34,BI36,BI34)","v":""},{"$f":"VLOOKUP(BK36,AZ33:BH36,9,FALSE)","v":0},{"$f":"IF(BL36<=BL33,BK36,BK33)","v":""},{"$f":"VLOOKUP(BM36,AZ33:BH36,9,FALSE)","v":0},{"$f":"VLOOKUP(BM36,AZ33:BH36,8,FALSE)","v":0},{"$f":"IF(AND(BN35=BN36,BO36>BO35),BM35,BM36)","v":""},{"$f":"VLOOKUP(BP36,AZ33:BH36,9,FALSE)","v":0},{"$f":"VLOOKUP(BP36,AZ33:BH36,8,FALSE)","v":0},{"$f":"IF(AND(BQ34=BQ36,BR36>BR34),BP34,BP36)","v":""},{"$f":"VLOOKUP(BS36,AZ33:BH36,9,FALSE)","v":0},{"$f":"VLOOKUP(BS36,AZ33:BH36,8,FALSE)","v":0},{"$f":"IF(AND(BT33=BT36,BU36>BU33),BS33,BS36)","v":""},{"$f":"VLOOKUP(BV36,AZ33:BH36,9,FALSE)","v":0},{"$f":"VLOOKUP(BV36,AZ33:BH36,8,FALSE)","v":0},{"$f":"VLOOKUP(BV36,AZ33:BH36,6,FALSE)","v":0},{"$f":"IF(AND(BW35=BW36,BX35=BX36,BY36>BY35),BV35,BV36)","v":""},{"$f":"VLOOKUP(BZ36,AZ33:BH36,9,FALSE)","v":0},{"$f":"VLOOKUP(BZ36,AZ33:BH36,8,FALSE)","v":0},{"$f":"VLOOKUP(BZ36,AZ33:BH36,6,FALSE)","v":0},{"$f":"IF(AND(CA34=CA36,CB34=CB36,CC36>CC34),BZ34,BZ36)","v":""},{"$f":"VLOOKUP(CD36,AZ33:BH36,9,FALSE)","v":0},{"$f":"VLOOKUP(CD36,AZ33:BH36,8,FALSE)","v":0},{"$f":"VLOOKUP(CD36,AZ33:BH36,6,FALSE)","v":0},{"$f":"IF(AND(CE33=CE36,CF33=CF36,CG36>CG33),CD33,CD36)","v":""},{"$f":"VLOOKUP(CH36,AZ33:BH36,9,FALSE)","v":0},{"$f":"VLOOKUP(CH36,AZ33:BH36,8,FALSE)","v":0},{"$f":"VLOOKUP(CH36,AZ33:BH36,6,FALSE)","v":0},null,null,null,{"$f":"CH36","v":""},{"$f":"VLOOKUP(CO36,AZ33:BH36,2,FALSE)","v":0},{"$f":"VLOOKUP(CO36,AZ33:BH36,3,FALSE)","v":3},{"$f":"VLOOKUP(CO36,AZ33:BH36,4,FALSE)","v":-6},{"$f":"VLOOKUP(CO36,AZ33:BH36,5,FALSE)","v":3},{"$f":"VLOOKUP(CO36,AZ33:BH36,6,FALSE)","v":0},{"$f":"VLOOKUP(CO36,AZ33:BH36,7,FALSE)","v":0},{"$f":"VLOOKUP(CO36,AZ33:BH36,8,FALSE)","v":0},{"$f":"VLOOKUP(CO36,AZ33:BH36,9,FALSE)","v":0},null,null,{"$f":"IF(G36<>\"\",IF(G36>G35,C36,IF(G35>G36,C35,\"Empate\")),\"\")","v":"Cristina Curnic (DP)"},{"$f":"IF(G36<>\"\",IF(G36<G35,C36,IF(G35<G36,C35,\"Empate\")),\"\")","v":"Paula Tijaro (DP)"},null,null,"Lista de Paticipantes bem preenchida",null,null,null,null,null,null,null,null,null,null,null,null,null,null,null,1,{"$f":"IF(D11=\"\",\"1º Grupo A\",AM9)","v":"Jasmine Campbell (ASA)"},{"$f":"IF(D11=\"\",\"1º Grupo A\",AM9)","v":"Jasmine Campbell (ASA)"},{"$f":"IF(D11=\"\",\"1º Grupo A\",AM9)","v":"Jasmine Campbell (ASA)"}]
[null,null,null,null,null,null,null,null,null,null,null,null,null,null,null,null,null,null,null,null,null,null,{"$f":"IF(AA34=AA35,\"\",IF(AA34>AA35,W34,W35))","v":"Tânia Jesus (ACV)"},null,null,null,null,null,null,{"$f":"IF(AH34=AH35,\"\",IF(AH34>AH35,AD34,AD35))","v":"Lara Carvalho (ASA)"},null,null,null,null,null,null,null,null,null,null,null,null,null,null,null,null,null,null,null,null,null,null,null,null,null,null,null,null,null,null,null,null,null,null,null,null,null,null,null,null,null,null,null,null,null,null,null,null,null,null,null,null,null,null,null,null,null,null,null,null,null,null,null,null,null,null,null,null,null,null,null,null,null,null,null,null,null,null,null,"Se pretender efectuar altrerações apague, e volte a introduzir os jogadores que pretender nos espaços disponíveis.",null,null,{"$f":"IF(DD2>0,DD38,\"\")","v":""},null,null,null,null,null,null,null,null,null,null,2,{"$f":"IF(D19=\"\",\"1º Grupo B\",AM17)","v":"Lara Carvalho (ASA)"},{"$f":"IF(D19=\"\",\"1º Grupo B\",AM17)","v":"Lara Carvalho (ASA)"},{"$f":"IF(D19=\"\",\"1º Grupo B\",AM17)","v":"Lara Carvalho (ASA)"},null,null,null,null,null,null,null,"GRUPO de 5",null,"3 melhores 2ºs"]
["Grupo E","NºJ","Jogadores",1,2,3,"R","NºJ","Jogadores",1,2,3,"R",null,null,null,null,null,null,null,null,null,null,null,null,null,null,null,null,null,null,null,null,null,null,null,null,null,null,null,null,null,null,null,null,null,null,null,null,null,null,"Colocar Equipas",null,null,null,null,null,null,null,null,"Ordenar p/ Pts 1",null,"Ordenar p/ Pts 2",null,"Ordenar p/ Pts 3",null,null,"Ordenar p/ DG 1",null,null,"Ordenar p/ DG 2",null,null,"Ordenar p/ DG 3",null,null,null,"Ordenar p/ GM 1",null,null,null,"Ordenar p/ GM 2",null,null,null,"Ordenar p/ GM 3",null,null,null,null,null,null,null,null,null,null,null,null,null,null,null,null,null,"Vencedores","Derrotados",null,null,"Existe um erro no preenchimento na lista de participantes. PF elimine os espaços em branco entre os participantes, fazendo subir os jogadores abaixo, caso haja necesidade de eliminar jogadores por Falta de Comparência.",null,null,null,null,null,null,null,null,null,null,null,null,null,null,null,3,{"$f":"IF(D27=\"\",\"1º Grupo C\",AM25)","v":"Liliam Vogt (ASA)"},{"$f":"IF(D27=\"\",\"1º Grupo C\",AM25)","v":"Liliam Vogt (ASA)"},{"$f":"IF(D27=\"\",\"1º Grupo C\",AM25)","v":"Liliam Vogt (ASA)"}]
[null,{"$f":"$A$4","v":"SS-InfB"},{"$f":"AZ42","v":"Daniela Dias (ACV)"},6,10,null,{"$f":"IF(ISBLANK(D39),\"\",SUM(IF(D39>D40,1,0)+(IF(E39>E40,1,0)+(IF(F39>F40,1,0)))))","v":0},{"$f":"$A$4","v":"SS-InfB"},{"$f":"IF(I40=\"\",\"\",AZ43)","v":"Luana Piedade (DP)"},7,4,null,{"$f":"IF(ISBLANK(J39),\"\",SUM(IF(J39>J40,1,0)+(IF(K39>K40,1,0)+(IF(L39>L40,1,0)))))","v":0},null,null,"Jogo Nº",{"$f":"CONCATENATE($A$4,\" \",SUM($H$68+5))","v":"SS-InfB 53"},null,null,null,null,null,null,null,null,null,null,null,null,null,null,null,null,null,null,null,null,null,"Classificação Grupo E",null,null,null,null,null,null,null,null,null,null,null,null,"Grupo E",null,null,null,null,null,null,null,null,null,null,null,null,null,null,null,null,null,null,null,null,null,null,null,null,null,null,null,null,null,null,null,null,null,null,null,null,null,null,null,null,null,null,null,null,null,null,null,null,null,null,null,{"$f":"IF(G40<>\"\",IF(G40>G39,C40,IF(G39>G40,C39,\"Empate\")),\"\")","v":"Iara Nascimento (ACV)"},{"$f":"IF(G40<>\"\",IF(G40<G39,C40,IF(G39<G40,C39,\"Empate\")),\"\")","v":"Daniela Dias (ACV)"},null,null,null,null,null,null,null,null,null,null,null,null,null,null,null,null,null,"Empates",4,{"$f":"IF(D35=\"\",\"1º Grupo D\",AM33)","v":"Cristina Curnic (DP)"},{"$f":"IF(D35=\"\",\"1º Grupo D\",AM33)","v":"Cristina Curnic (DP)"},{"$f":"IF(D35=\"\",\"1º Grupo D\",AM33)","v":"Cristina Curnic (DP)"},null,null,null,null,null,null,null,"17 a 20","Class","Cl","Jogadores","Jg","V","E","D","PM","PS","DP","Pt.","Rank"]
[null,9,{"$f":"AZ41","v":"Iara Nascimento (ACV)"},11,11,null,{"$f":"IF(ISBLANK(D39),\"\",SUM(IF(D40>D39,1,0)+(IF(E40>E39,1,0)+(IF(F40>F39,1,0)))))","v":2},10,{"$f":"AZ44","v":"Eva Oliveira (ASA)"},11,11,null,{"$f":"IF(ISBLANK(J39),\"\",SUM(IF(J40>J39,1,0)+(IF(K40>K39,1,0)+(IF(L40>L39,1,0)))))","v":2},null,3,{"$f":"IF($DQ$1<=20,LOOKUP(O40,$DT$36:$DT$51,$DU$36:$DU$51),IF(AND($DQ$1>20,$DQ$1<24),LOOKUP(O40,$DT$36:$DT$51,$DV$36:$DV$51),LOOKUP(O40,$DT$36:$DT$51,$DW$36:$DW$51)))","v":"Liliam Vogt (ASA)"},2,5,null,{"$f":"IF(ISBLANK(Q40),\"\",SUM(IF(Q40>Q41,1,0)+(IF(R40>R41,1,0)+(IF(S40>S41,1,0)))))","v":0},null,null,null,null,null,null,null,null,null,null,null,null,null,null,null,null,null,"Cl",{"$f":"AZ40","v":"Jogadores"},"Jg","V","E","D","PM","PS","DP","Pt.",null,null,null,null,"Jogadores","Jg","V","E","D","GM","GS","DG","Pts","Equipas","Pts","Equipas","Pts","Equipas","Pts","DG","Equipas","Pts","DG","Equipas","Pts","DG","Equipas","Pts","DG","GM","Equipas","Pts","DG","GM","Equipas","Pts","DG","GM","Equipas","Pts","DG","GM",null,null,null,"Equipas","Jg","V","D","E","GM","GS","DG","Pts",null,null,{"$f":"IF(M39<>\"\",IF(M39>M40,I39,IF(M40>M39,I40,\"Empate\")),\"\")","v":"Eva Oliveira (ASA)"},{"$f":"IF(M39<>\"\",IF(M39<M40,I39,IF(M40<M39,I40,\"Empate\")),\"\")","v":"Luana Piedade (DP)"},null,null,null,null,"Para efectuar alterações à de colocações nos grupos dos jogadores, altere a coluna \"ORDEM\" dando uma nova ordem de nºs e depois clique em Ordenar.",null,null,null,null,null,null,null,null,null,null,null,null,"Gr5",5,{"$f":"IF(D43=\"\",\"1º Grupo E\",AM41)","v":"Eva Oliveira (ASA)"},{"$f":"IF(D43=\"\",\"1º Grupo E\",AM41)","v":"Eva Oliveira (ASA)"},{"$f":"IF(D43=\"\",\"1º Grupo E\",AM41)","v":"Eva Oliveira (ASA)"},null,null,null,null,null,null,null,"A",{"$f":"COUNTIF($EQ$40:$EQ$44,CONCATENATE(\">=\",EQ40))","v":4},{"$f":"AL10","v":"2º"},"Elena Rafael (DP)",2,1,0,1,37,28,9,3,{"$f":"EP40*1000000+(EM40-EN40)*10000+EM40*100+ER40","v":3093705},5]
[null,{"$f":"$A$4","v":"SS-InfB"},{"$f":"AZ41","v":"Iara Nascimento (ACV)"},8,5,null,{"$f":"IF(ISBLANK(D41),\"\",SUM(IF(D41>D42,1,0)+(IF(E41>E42,1,0)+(IF(F41>F42,1,0)))))","v":0},{"$f":"$A$4","v":"SS-InfB"},{"$f":"AZ44","v":"Eva Oliveira (ASA)"},11,11,null,{"$f":"IF(ISBLANK(J41),\"\",SUM(IF(J41>J42,1,0)+(IF(K41>K42,1,0)+(IF(L41>L42,1,0)))))","v":2},null,14,{"$f":"IF($DQ$1<=20,LOOKUP(O41,$DT$36:$DT$51,$DU$36:$DU$51),IF(AND($DQ$1>20,$DQ$1<24),LOOKUP(O41,$DT$36:$DT$51,$DV$36:$DV$51),LOOKUP(O41,$DT$36:$DT$51,$DW$36:$DW$51)))","v":"Loredana Junea (DP)"},9,9,null,{"$f":"IF(ISBLANK(Q40),\"\",SUM(IF(Q41>Q40,1,0)+(IF(R41>R40,1,0)+(IF(S41>S40,1,0)))))","v":2},null,null,null,null,null,null,null,null,null,null,null,null,null,null,null,1,null,"1º",{"$f":"CO41","v":"Eva Oliveira (ASA)"},3,3,0,0,66,19,47,6,{"$f":"IF(AND($DQ$1>=17,$DQ$1<=20),AW41,IF(AND($DQ$1>=21,$DQ$1<=23),AX41,AY41))","v":5},2,5,3,{"$f":"IF($DQ$1<=20,LOOKUP(DR2,$DR$1:$DR$20,$DT$1:$DT$20),IF(AND($DQ$1>20,$DQ$1<24),LOOKUP(DR5,$DR$1:$DR$23,$DV$1:$DV$23),LOOKUP(DR3,$DR$1:$DR$32,$DY$1:$DY$32)))","v":"Iara Nascimento (ACV)"},{"$f":"COUNT(G40,G41,M44)","v":3},{"$f":"COUNTIF(CZ39:CZ44,AZ41)","v":1},{"$f":"BA41-(BB41+BD41)","v":0},{"$f":"COUNTIF(DA39:DA44,AZ41)","v":2},{"$f":"SUM(D40:F40,D41:F41,J44:L44)","v":39},{"$f":"SUM(D39:F39,D42:F42,J43:L43)","v":60},{"$f":"BE41-BF41","v":-21},{"$f":"IF(BA41=0,0,BB41*2+BD41*1)","v":4},{"$f":"IF(BH41>=BH42,AZ41,AZ42)","v":"Iara Nascimento (ACV)"},{"$f":"VLOOKUP(BI41,AZ41:BH44,9,FALSE)","v":4},{"$f":"IF(BJ41>=BJ43,BI41,BI43)","v":"Eva Oliveira (ASA)"},{"$f":"VLOOKUP(BK41,AZ41:BH44,9,FALSE)","v":6},{"$f":"IF(BL41>=BL44,BK41,BK44)","v":"Eva Oliveira (ASA)"},{"$f":"VLOOKUP(BM41,AZ41:BH44,9,FALSE)","v":6},{"$f":"VLOOKUP(BM41,AZ41:BH44,8,FALSE)","v":47},{"$f":"IF(AND(BN41=BN42,BO42>BO41),BM42,BM41)","v":"Eva Oliveira (ASA)"},{"$f":"VLOOKUP(BP41,AZ41:BH44,9,FALSE)","v":6},{"$f":"VLOOKUP(BP41,AZ41:BH44,8,FALSE)","v":47},{"$f":"IF(AND(BQ41=BQ43,BR43>BR41),BP43,BP41)","v":"Eva Oliveira (ASA)"},{"$f":"VLOOKUP(BS41,AZ41:BH44,9,FALSE)","v":6},{"$f":"VLOOKUP(BS41,AZ41:BH44,8,FALSE)","v":47},{"$f":"IF(AND(BT41=BT44,BU44>BU41),BS44,BS41)","v":"Eva Oliveira (ASA)"},{"$f":"VLOOKUP(BV41,AZ41:BH44,9,FALSE)","v":6},{"$f":"VLOOKUP(BV41,AZ41:BH44,8,FALSE)","v":47},{"$f":"VLOOKUP(BV41,AZ41:BH44,6,FALSE)","v":66},{"$f":"IF(AND(BW41=BW42,BX41=BX42,BY42>BY41),BV42,BV41)","v":"Eva Oliveira (ASA)"},{"$f":"VLOOKUP(BZ41,AZ41:BH44,9,FALSE)","v":6},{"$f":"VLOOKUP(BZ41,AZ41:BH44,8,FALSE)","v":47},{"$f":"VLOOKUP(BZ41,AZ41:BH44,6,FALSE)","v":66},{"$f":"IF(AND(CA41=CA43,CB41=CB43,CC43>CC41),BZ43,BZ41)","v":"Eva Oliveira (ASA)"},{"$f":"VLOOKUP(CD41,AZ41:BH44,9,FALSE)","v":6},{"$f":"VLOOKUP(CD41,AZ41:BH44,8,FALSE)","v":47},{"$f":"VLOOKUP(CD41,AZ41:BH44,6,FALSE)","v":66},{"$f":"IF(AND(CE41=CE44,CF41=CF44,CG44>CG41),CD44,CD41)","v":"Eva Oliveira (ASA)"},{"$f":"VLOOKUP(CH41,AZ41:BH44,9,FALSE)","v":6},{"$f":"VLOOKUP(CH41,AZ41:BH44,8,FALSE)","v":47},{"$f":"VLOOKUP(CH41,AZ41:BH44,6,FALSE)","v":66},null,null,null,{"$f":"CH41","v":"Eva Oliveira (ASA)"},{"$f":"VLOOKUP(CO41,AZ41:BH44,2,FALSE)","v":3},{"$f":"VLOOKUP(CO41,AZ41:BH44,3,FALSE)","v":3},{"$f":"VLOOKUP(CO41,AZ41:BH44,4,FALSE)","v":0},{"$f":"VLOOKUP(CO41,AZ41:BH44,5,FALSE)","v":0},{"$f":"VLOOKUP(CO41,AZ41:BH44,6,FALSE)","v":66},{"$f":"VLOOKUP(CO41,AZ41:BH44,7,FALSE)","v":19},{"$f":"VLOOKUP(CO41,AZ41:BH44,8,FALSE)","v":47},{"$f":"VLOOKUP(CO41,AZ41:BH44,9,FALSE)","v":6},null,null,{"$f":"IF(G41<>\"\",IF(G41>G42,C41,IF(G42>G41,C42,\"Empate\")),\"\")","v":"Luana Piedade (DP)"},{"$f":"IF(G41<>\"\",IF(G41<G42,C41,IF(G42<G41,C42,\"Empate\")),\"\")","v":"Iara Nascimento (ACV)"},null,null,null,null,null,null,null,null,null,null,null,null,null,null,null,null,null,1,6,{"$f":"IF($D$43=\"\",\"1º Melhor 2º\",VLOOKUP(DS41,$EF$40:$EP$44,3,FALSE))","v":"Laura Gomes (DP)"},{"$f":"IF(D51=\"\",\"1º Grupo F\",AM49)","v":"Tânia Jesus (ACV)"},{"$f":"IF(D51=\"\",\"1º Grupo F\",AM49)","v":"Tânia Jesus (ACV)"},null,null,null,null,null,null,null,"B",{"$f":"COUNTIF($EQ$40:$EQ$44,CONCATENATE(\">=\",EQ41))","v":3},{"$f":"AL18","v":"2º"},"Carolina Lima (ACV)",3,2,0,1,53,45,8,5,5085304,4]
[null,25,{"$f":"AZ43","v":"Luana Piedade (DP)"},11,11,null,{"$f":"IF(ISBLANK(D41),\"\",SUM(IF(D42>D41,1,0)+(IF(E42>E41,1,0)+(IF(F42>F41,1,0)))))","v":2},26,{"$f":"IF(I41=\"\",\"\",AZ42)","v":"Daniela Dias (ACV)"},3,1,null,{"$f":"IF(ISBLANK(J41),\"\",SUM(IF(J42>J41,1,0)+(IF(K42>K41,1,0)+(IF(L42>L41,1,0)))))","v":0},null,null,null,null,null,null,null,null,null,"Jogo Nº",{"$f":"CONCATENATE($A$4,\" \",SUM($H$68+11))","v":"SS-InfB 59"},null,null,null,null,null,null,null,null,null,null,null,7,null,"2º","Luana Piedade (DP)",3,2,0,1,55,46,9,5,{"$f":"IF(AND($DQ$1>=17,$DQ$1<=20),AW42,IF(AND($DQ$1>=21,$DQ$1<=23),AX42,AY42))","v":8},9,8,14,{"$f":"IF($DQ$1<=20,LOOKUP(DR9,$DR$1:$DR$20,$DT$1:$DT$20),IF(AND($DQ$1>20,$DQ$1<24),LOOKUP(DR8,$DR$1:$DR$23,$DV$1:$DV$23),LOOKUP(DR14,$DR$1:$DR$32,$DY$1:$DY$32)))","v":"Daniela Dias (ACV)"},{"$f":"COUNT(G39,M42,G44)","v":3},{"$f":"COUNTIF(CZ39:CZ44,AZ42)","v":0},{"$f":"BA42-(BB42+BD42)","v":0},{"$f":"COUNTIF(DA39:DA44,AZ42)","v":3},{"$f":"SUM(D39:F39,J42:L42,D44:F44)","v":31},{"$f":"SUM(D40:F40,J41:L41,D43:F43)","v":66},{"$f":"BE42-BF42","v":-35},{"$f":"IF(BA42=0,0,BB42*2+BD42*1)","v":3},{"$f":"IF(BH42<=BH41,AZ42,AZ41)","v":"Daniela Dias (ACV)"},{"$f":"VLOOKUP(BI42,AZ41:BH44,9,FALSE)","v":3},{"$f":"IF(BJ42>=BJ44,BI42,BI44)","v":"Luana Piedade (DP)"},{"$f":"VLOOKUP(BK42,AZ41:BH44,9,FALSE)","v":5},{"$f":"IF(BL42>=BL43,BK42,BK43)","v":"Luana Piedade (DP)"},{"$f":"VLOOKUP(BM42,AZ41:BH44,9,FALSE)","v":5},{"$f":"VLOOKUP(BM42,AZ41:BH44,8,FALSE)","v":9},{"$f":"IF(AND(BN41=BN42,BO42>BO41),BM41,BM42)","v":"Luana Piedade (DP)"},{"$f":"VLOOKUP(BP42,AZ41:BH44,9,FALSE)","v":5},{"$f":"VLOOKUP(BP42,AZ41:BH44,8,FALSE)","v":9},{"$f":"IF(AND(BQ42=BQ44,BR44>BR42),BP44,BP42)","v":"Luana Piedade (DP)"},{"$f":"VLOOKUP(BS42,AZ41:BH44,9,FALSE)","v":5},{"$f":"VLOOKUP(BS42,AZ41:BH44,8,FALSE)","v":9},{"$f":"IF(AND(BT42=BT43,BU43>BU42),BS43,BS42)","v":"Luana Piedade (DP)"},{"$f":"VLOOKUP(BV42,AZ41:BH44,9,FALSE)","v":5},{"$f":"VLOOKUP(BV42,AZ41:BH44,8,FALSE)","v":9},{"$f":"VLOOKUP(BV42,AZ41:BH44,6,FALSE)","v":55},{"$f":"IF(AND(BW41=BW42,BX41=BX42,BY42>BY41),BV41,BV42)","v":"Luana Piedade (DP)"},{"$f":"VLOOKUP(BZ42,AZ41:BH44,9,FALSE)","v":5},{"$f":"VLOOKUP(BZ42,AZ41:BH44,8,FALSE)","v":9},{"$f":"VLOOKUP(BZ42,AZ41:BH44,6,FALSE)","v":55},{"$f":"IF(AND(CA42=CA44,CB42=CB44,CC44>CC42),BZ44,BZ42)","v":"Luana Piedade (DP)"},{"$f":"VLOOKUP(CD42,AZ41:BH44,9,FALSE)","v":5},{"$f":"VLOOKUP(CD42,AZ41:BH44,8,FALSE)","v":9},{"$f":"VLOOKUP(CD42,AZ41:BH44,6,FALSE)","v":55},{"$f":"IF(AND(CE42=CE43,CF42=CF43,CG43>CG42),CD43,CD42)","v":"Luana Piedade (DP)"},{"$f":"VLOOKUP(CH42,AZ41:BH44,9,FALSE)","v":5},{"$f":"VLOOKUP(CH42,AZ41:BH44,8,FALSE)","v":9},{"$f":"VLOOKUP(CH42,AZ41:BH44,6,FALSE)","v":55},null,null,null,{"$f":"CH42","v":"Luana Piedade (DP)"},{"$f":"VLOOKUP(CO42,AZ41:BH44,2,FALSE)","v":3},{"$f":"VLOOKUP(CO42,AZ41:BH44,3,FALSE)","v":2},{"$f":"VLOOKUP(CO42,AZ41:BH44,4,FALSE)","v":0},{"$f":"VLOOKUP(CO42,AZ41:BH44,5,FALSE)","v":1},{"$f":"VLOOKUP(CO42,AZ41:BH44,6,FALSE)","v":55},{"$f":"VLOOKUP(CO42,AZ41:BH44,7,FALSE)","v":46},{"$f":"VLOOKUP(CO42,AZ41:BH44,8,FALSE)","v":9},{"$f":"VLOOKUP(CO42,AZ41:BH44,9,FALSE)","v":5},null,null,{"$f":"IF(M41<>\"\",IF(M41>M42,I41,IF(M42>M41,I42,\"Empate\")),\"\")","v":"Eva Oliveira (ASA)"},{"$f":"IF(M41<>\"\",IF(M41<M42,I41,IF(M42<M41,I42,\"Empate\")),\"\")","v":"Daniela Dias (ACV)"},null,null,null,null,null,null,null,null,null,null,null,null,null,null,null,null,null,2,7,{"$f":"IF($D$43=\"\",\"1º Melhor 2º\",VLOOKUP(DS42,$EF$40:$EP$44,3,FALSE))","v":"Luana Piedade (DP)"},{"$f":"IF(D11=\"\",\"2º Grupo A\",AM10)","v":"Elena Rafael (DP)"},{"$f":"IF(D59=\"\",\"1º Grupo G\",AM57)","v":"1º Grupo G"},null,null,null,null,null,null,null,"C",{"$f":"COUNTIF($EQ$40:$EQ$44,CONCATENATE(\">=\",EQ42))","v":1},{"$f":"AL26","v":"2º"},"Laura Gomes (DP)",3,2,0,1,75,66,9,5,5097503,3]
[null,{"$f":"$A$4","v":"SS-InfB"},{"$f":"AZ43","v":"Luana Piedade (DP)"},11,11,null,{"$f":"IF(ISBLANK(D43),\"\",SUM(IF(D43>D44,1,0)+(IF(E43>E44,1,0)+(IF(F43>F44,1,0)))))","v":2},{"$f":"$A$4","v":"SS-InfB"},{"$f":"AZ44","v":"Eva Oliveira (ASA)"},11,11,null,{"$f":"IF(ISBLANK(J43),\"\",SUM(IF(J43>J44,1,0)+(IF(K43>K44,1,0)+(IF(L43>L44,1,0)))))","v":2},null,null,null,null,null,null,null,null,null,{"$f":"IF(P40=\"Bye\",P41,IF(P41=\"Bye\",P40,IF(T40=T41,\"\",IF(T40>T41,P40,P41))))","v":"Loredana Junea (DP)"},3,6,null,{"$f":"IF(ISBLANK(X43),\"\",SUM(IF(X43>X44,1,0)+(IF(Y43>Y44,1,0)+(IF(Z43>Z44,1,0)))))","v":0},null,null,null,null,null,null,null,null,null,null,"3º","Iara Nascimento (ACV)",3,1,0,2,39,60,-21,4,{"$f":"IF(AND($DQ$1>=17,$DQ$1<=20),AW43,IF(AND($DQ$1>=21,$DQ$1<=23),AX43,AY43))","v":14},14,14,19,{"$f":"IF($DQ$1<=20,LOOKUP(DR14,$DR$1:$DR$20,$DT$1:$DT$20),IF(AND($DQ$1>20,$DQ$1<24),LOOKUP(DR14,$DR$1:$DR$23,$DV$1:$DV$23),LOOKUP(DR19,$DR$1:$DR$32,$DY$1:$DY$32)))","v":"Luana Piedade (DP)"},{"$f":"COUNT(M39,G42,G43)","v":3},{"$f":"COUNTIF(CZ39:CZ44,AZ43)","v":2},{"$f":"BA43-(BB43+BD43)","v":0},{"$f":"COUNTIF(DA39:DA44,AZ43)","v":1},{"$f":"SUM(J39:L39,D42:F42,D43:F43)","v":55},{"$f":"SUM(J40:L40,D41:F41,D44:F44)","v":46},{"$f":"BE43-BF43","v":9},{"$f":"IF(BA43=0,0,BB43*2+BD43*1)","v":5},{"$f":"IF(BH43>=BH44,AZ43,AZ44)","v":"Eva Oliveira (ASA)"},{"$f":"VLOOKUP(BI43,AZ41:BH44,9,FALSE)","v":6},{"$f":"IF(BJ43<=BJ41,BI43,BI41)","v":"Iara Nascimento (ACV)"},{"$f":"VLOOKUP(BK43,AZ41:BH44,9,FALSE)","v":4},{"$f":"IF(BL43<=BL42,BK43,BK42)","v":"Iara Nascimento (ACV)"},{"$f":"VLOOKUP(BM43,AZ41:BH44,9,FALSE)","v":4},{"$f":"VLOOKUP(BM43,AZ41:BH44,8,FALSE)","v":-21},{"$f":"IF(AND(BN43=BN44,BO44>BO43),BM44,BM43)","v":"Iara Nascimento (ACV)"},{"$f":"VLOOKUP(BP43,AZ41:BH44,9,FALSE)","v":4},{"$f":"VLOOKUP(BP43,AZ41:BH44,8,FALSE)","v":-21},{"$f":"IF(AND(BQ41=BQ43,BR43>BR41),BP41,BP43)","v":"Iara Nascimento (ACV)"},{"$f":"VLOOKUP(BS43,AZ41:BH44,9,FALSE)","v":4},{"$f":"VLOOKUP(BS43,AZ41:BH44,8,FALSE)","v":-21},{"$f":"IF(AND(BT42=BT43,BU43>BU42),BS42,BS43)","v":"Iara Nascimento (ACV)"},{"$f":"VLOOKUP(BV43,AZ41:BH44,9,FALSE)","v":4},{"$f":"VLOOKUP(BV43,AZ41:BH44,8,FALSE)","v":-21},{"$f":"VLOOKUP(BV43,AZ41:BH44,6,FALSE)","v":39},{"$f":"IF(AND(BW43=BW44,BX43=BX44,BY44>BY43),BV44,BV43)","v":"Iara Nascimento (ACV)"},{"$f":"VLOOKUP(BZ43,AZ41:BH44,9,FALSE)","v":4},{"$f":"VLOOKUP(BZ43,AZ41:BH44,8,FALSE)","v":-21},{"$f":"VLOOKUP(BZ43,AZ41:BH44,6,FALSE)","v":39},{"$f":"IF(AND(CA41=CA43,CB41=CB43,CC42>CC41),BZ41,BZ43)","v":"Iara Nascimento (ACV)"},{"$f":"VLOOKUP(CD43,AZ41:BH44,9,FALSE)","v":4},{"$f":"VLOOKUP(CD43,AZ41:BH44,8,FALSE)","v":-21},{"$f":"VLOOKUP(CD43,AZ41:BH44,6,FALSE)","v":39},{"$f":"IF(AND(CE42=CE43,CF42=CF43,CG43>CG42),CD42,CD43)","v":"Iara Nascimento (ACV)"},{"$f":"VLOOKUP(CH43,AZ41:BH44,9,FALSE)","v":4},{"$f":"VLOOKUP(CH43,AZ41:BH44,8,FALSE)","v":-21},{"$f":"VLOOKUP(CH43,AZ41:BH44,6,FALSE)","v":39},null,null,null,{"$f":"CH43","v":"Iara Nascimento (ACV)"},{"$f":"VLOOKUP(CO43,AZ41:BH44,2,FALSE)","v":3},{"$f":"VLOOKUP(CO43,AZ41:BH44,3,FALSE)","v":1},{"$f":"VLOOKUP(CO43,AZ41:BH44,4,FALSE)","v":0},{"$f":"VLOOKUP(CO43,AZ41:BH44,5,FALSE)","v":2},{"$f":"VLOOKUP(CO43,AZ41:BH44,6,FALSE)","v":39},{"$f":"VLOOKUP(CO43,AZ41:BH44,7,FALSE)","v":60},{"$f":"VLOOKUP(CO43,AZ41:BH44,8,FALSE)","v":-21},{"$f":"VLOOKUP(CO43,AZ41:BH44,9,FALSE)","v":4},null,null,{"$f":"IF(M43<>\"\",IF(M43>M44,I43,IF(M44>M43,I44,\"Empate\")),\"\")","v":"Eva Oliveira (ASA)"},{"$f":"IF(M43<>\"\",IF(M43<M44,I43,IF(M44<M43,I44,\"Empate\")),\"\")","v":"Iara Nascimento (ACV)"},null,null,null,null,null,null,null,null,null,null,null,null,null,null,null,null,null,3,8,{"$f":"IF($D$43=\"\",\"1º Melhor 2º\",VLOOKUP(DS43,$EF$40:$EP$44,3,FALSE))","v":"Carolina Lima (ACV)"},{"$f":"IF(D19=\"\",\"2º Grupo B\",AM18)","v":"Carolina Lima (ACV)"},{"$f":"IF(D67=\"\",\"1º Grupo H\",AM65)","v":"1º Grupo H"},null,null,null,null,null,null,null,"D",{"$f":"COUNTIF($EQ$40:$EQ$44,CONCATENATE(\">=\",EQ43))","v":5},{"$f":"AL34","v":"2º"},"Paula Tijaro (DP)",2,1,0,1,33,29,4,3,3043302,2]
[null,41,{"$f":"AZ42","v":"Daniela Dias (ACV)"},4,7,null,{"$f":"IF(ISBLANK(D43),\"\",SUM(IF(D44>D43,1,0)+(IF(E44>E43,1,0)+(IF(F44>F43,1,0)))))","v":0},{"$f":"B44+1","v":42},{"$f":"IF(I43=\"\",\"\",AZ41)","v":"Iara Nascimento (ACV)"},1,3,null,{"$f":"IF(ISBLANK(J43),\"\",SUM(IF(J44>J43,1,0)+(IF(K44>K43,1,0)+(IF(L44>L43,1,0)))))","v":0},null,null,null,null,null,null,null,null,null,{"$f":"IF(P46=\"Bye\",P47,IF(P47=\"Bye\",P46,IF(T46=T47,\"\",IF(T46>T47,P46,P47))))","v":"Tânia Jesus (ACV)"},9,9,null,{"$f":"IF(ISBLANK(X43),\"\",SUM(IF(X44>X43,1,0)+(IF(Y44>Y43,1,0)+(IF(Z44>Z43,1,0)))))","v":2},null,null,null,null,null,null,null,null,null,null,{"$f":"IF(AM44=\"\",\"\",\"4º\")","v":"4º"},{"$f":"CO44","v":"Daniela Dias (ACV)"},{"$f":"IF(AM44=\"\",\"\",CP44)","v":3},{"$f":"IF(AM44=\"\",\"\",CQ44)","v":0},{"$f":"IF(AM44=\"\",\"\",CR44)","v":0},{"$f":"IF(AM44=\"\",\"\",CS44)","v":3},{"$f":"IF(AM44=\"\",\"\",CT44)","v":31},{"$f":"IF(AM44=\"\",\"\",CU44)","v":66},{"$f":"IF(AM44=\"\",\"\",CV44)","v":-35},{"$f":"IF(AM44=\"\",\"\",CW44)","v":3},{"$f":"IF(AND($DQ$1>=17,$DQ$1<=20),AW44,IF(AND($DQ$1>=21,$DQ$1<=23),AX44,AY44))","v":19},19,19,30,{"$f":"IF($DQ$1<=20,LOOKUP(DR19,$DR$1:$DR$20,$DT$1:$DT$20),IF(AND($DQ$1>20,$DQ$1<24),LOOKUP(DR19,$DR$1:$DR$23,$DV$1:$DV$23),LOOKUP(DR30,$DR$1:$DR$32,$DY$1:$DY$32)))","v":"Eva Oliveira (ASA)"},{"$f":"COUNT(M40,M41,M43)","v":3},{"$f":"COUNTIF(CZ39:CZ44,AZ44)","v":3},{"$f":"BA44-(BB44+BD44)","v":0},{"$f":"COUNTIF(DA39:DA44,AZ44)","v":0},{"$f":"SUM(J40:L40,J41:L41,J43:L43)","v":66},{"$f":"SUM(J39:L39,J42:L42,J44:L44)","v":19},{"$f":"BE44-BF44","v":47},{"$f":"IF(BA44=0,0,BB44*2+BD44*1)","v":6},{"$f":"IF(BH44<=BH43,AZ44,AZ43)","v":"Luana Piedade (DP)"},{"$f":"VLOOKUP(BI44,AZ41:BH44,9,FALSE)","v":5},{"$f":"IF(BJ44<=BJ42,BI44,BI42)","v":"Daniela Dias (ACV)"},{"$f":"VLOOKUP(BK44,AZ41:BH44,9,FALSE)","v":3},{"$f":"IF(BL44<=BL41,BK44,BK41)","v":"Daniela Dias (ACV)"},{"$f":"VLOOKUP(BM44,AZ41:BH44,9,FALSE)","v":3},{"$f":"VLOOKUP(BM44,AZ41:BH44,8,FALSE)","v":-35},{"$f":"IF(AND(BN43=BN44,BO44>BO43),BM43,BM44)","v":"Daniela Dias (ACV)"},{"$f":"VLOOKUP(BP44,AZ41:BH44,9,FALSE)","v":3},{"$f":"VLOOKUP(BP44,AZ41:BH44,8,FALSE)","v":-35},{"$f":"IF(AND(BQ42=BQ44,BR44>BR42),BP42,BP44)","v":"Daniela Dias (ACV)"},{"$f":"VLOOKUP(BS44,AZ41:BH44,9,FALSE)","v":3},{"$f":"VLOOKUP(BS44,AZ41:BH44,8,FALSE)","v":-35},{"$f":"IF(AND(BT41=BT44,BU44>BU41),BS41,BS44)","v":"Daniela Dias (ACV)"},{"$f":"VLOOKUP(BV44,AZ41:BH44,9,FALSE)","v":3},{"$f":"VLOOKUP(BV44,AZ41:BH44,8,FALSE)","v":-35},{"$f":"VLOOKUP(BV44,AZ41:BH44,6,FALSE)","v":31},{"$f":"IF(AND(BW43=BW44,BX43=BX44,BY44>BY43),BV43,BV44)","v":"Daniela Dias (ACV)"},{"$f":"VLOOKUP(BZ44,AZ41:BH44,9,FALSE)","v":3},{"$f":"VLOOKUP(BZ44,AZ41:BH44,8,FALSE)","v":-35},{"$f":"VLOOKUP(BZ44,AZ41:BH44,6,FALSE)","v":31},{"$f":"IF(AND(CA42=CA44,CB42=CB44,CC44>CC42),BZ42,BZ44)","v":"Daniela Dias (ACV)"},{"$f":"VLOOKUP(CD44,AZ41:BH44,9,FALSE)","v":3},{"$f":"VLOOKUP(CD44,AZ41:BH44,8,FALSE)","v":-35},{"$f":"VLOOKUP(CD44,AZ41:BH44,6,FALSE)","v":31},{"$f":"IF(AND(CE41=CE44,CF41=CF44,CG44>CG41),CD41,CD44)","v":"Daniela Dias (ACV)"},{"$f":"VLOOKUP(CH44,AZ41:BH44,9,FALSE)","v":3},{"$f":"VLOOKUP(CH44,AZ41:BH44,8,FALSE)","v":-35},{"$f":"VLOOKUP(CH44,AZ41:BH44,6,FALSE)","v":31},null,null,null,{"$f":"CH44","v":"Daniela Dias (ACV)"},{"$f":"VLOOKUP(CO44,AZ41:BH44,2,FALSE)","v":3},{"$f":"VLOOKUP(CO44,AZ41:BH44,3,FALSE)","v":0},{"$f":"VLOOKUP(CO44,AZ41:BH44,4,FALSE)","v":0},{"$f":"VLOOKUP(CO44,AZ41:BH44,5,FALSE)","v":3},{"$f":"VLOOKUP(CO44,AZ41:BH44,6,FALSE)","v":31},{"$f":"VLOOKUP(CO44,AZ41:BH44,7,FALSE)","v":66},{"$f":"VLOOKUP(CO44,AZ41:BH44,8,FALSE)","v":-35},{"$f":"VLOOKUP(CO44,AZ41:BH44,9,FALSE)","v":3},null,null,{"$f":"IF(G44<>\"\",IF(G44>G43,C44,IF(G43>G44,C43,\"Empate\")),\"\")","v":"Luana Piedade (DP)"},{"$f":"IF(G44<>\"\",IF(G44<G43,C44,IF(G43<G44,C43,\"Empate\")),\"\")","v":"Daniela Dias (ACV)"},null,null,null,null,null,null,null,null,null,null,null,null,null,null,null,null,null,null,9,"Bye",{"$f":"IF(D27=\"\",\"2º Grupo C\",AM26)","v":"Laura Gomes (DP)"},{"$f":"IF(D59=\"\",\"2º Grupo G\",AM58)","v":"2º Grupo G"},null,null,null,null,null,null,null,"E",{"$f":"COUNTIF($EQ$40:$EQ$44,CONCATENATE(\">=\",EQ44))","v":2},{"$f":"AL42","v":"2º"},"Luana Piedade (DP)",3,2,0,1,55,46,9,5,5095501,1]
[null,null,null,null,null,null,null,null,null,null,null,null,null,null,null,"Jogo Nº",{"$f":"CONCATENATE($A$4,\" \",SUM($H$68+6))","v":"SS-InfB 54"},null,null,null,null,null,null,null,null,null,null,null,null,null,null,null,null,null,null,null,null,null,null,null,null,null,null,null,null,null,null,null,null,null,null,null,null,null,null,null,null,null,null,null,null,null,null,null,null,null,null,null,null,null,null,null,null,null,null,null,null,null,null,null,null,null,null,null,null,null,null,null,null,null,null,null,null,null,null,null,null,null,null,null,null,null,null,null,null,null,null,null,null,null,null,null,null,null,null,null,null,null,null,null,null,null,null,10,"Bye",{"$f":"IF(D35=\"\",\"2º Grupo D\",AM34)","v":"Paula Tijaro (DP)"},{"$f":"IF(D67=\"\",\"2º Grupo H\",AM66)","v":"2º Grupo H"},null,null,null,null,null,null,null,"A",{"$f":"COUNTIF($EQ$45:$EQ$54,CONCATENATE(\">=\",EQ45))","v":8},{"$f":"AL11","v":"3º"},"Iris Rodrigues (ACV)",2,0,0,2,13,44,-31,2,1691310,10]
["Grupo F","NºJ","Jogadores",1,2,3,"R","NºJ","Jogadores",1,2,3,"R",null,11,{"$f":"IF($DQ$1<=20,LOOKUP(O46,$DT$36:$DT$51,$DU$36:$DU$51),IF(AND($DQ$1>20,$DQ$1<24),LOOKUP(O46,$DT$36:$DT$51,$DV$36:$DV$51),LOOKUP(O46,$DT$36:$DT$51,$DW$36:$DW$51)))","v":"Luana Piedade (DP)"},3,7,null,{"$f":"IF(ISBLANK(Q46),\"\",SUM(IF(Q46>Q47,1,0)+(IF(R46>R47,1,0)+(IF(S46>S47,1,0)))))","v":0},null,null,null,null,null,null,null,null,null,null,null,null,null,null,null,null,null,null,null,null,null,null,null,null,null,null,null,null,null,null,null,"Colocar Equipas",null,null,null,null,null,null,null,null,"Ordenar p/ Pts 1",null,"Ordenar p/ Pts 2",null,"Ordenar p/ Pts 3",null,null,"Ordenar p/ DG 1",null,null,"Ordenar p/ DG 2",null,null,"Ordenar p/ DG 3",null,null,null,"Ordenar p/ GM 1",null,null,null,"Ordenar p/ GM 2",null,null,null,"Ordenar p/ GM 3",null,null,null,null,null,null,null,null,null,null,null,null,null,null,null,null,null,"Vencedores","Derrotados",null,null,null,null,null,null,null,null,null,null,null,null,null,null,null,null,"Empates",null,11,"Bye",{"$f":"IF(D43=\"\",\"2º Grupo E\",AM42)","v":"Luana Piedade (DP)"},{"$f":"IF(D43=\"\",\"2º Grupo E\",AM42)","v":"Luana Piedade (DP)"},null,null,null,null,null,null,null,"B",2,{"$f":"AL19","v":"3º"},"Loredana Junea (DP)",3,1,0,2,64,68,-4,4,3966409,9]
[null,{"$f":"$A$4","v":"SS-InfB"},{"$f":"AZ50","v":"Bárbara Fernandes (DP)"},7,1,null,{"$f":"IF(ISBLANK(D47),\"\",SUM(IF(D47>D48,1,0)+(IF(E47>E48,1,0)+(IF(F47>F48,1,0)))))","v":0},{"$f":"$A$4","v":"SS-InfB"},{"$f":"IF(I48=\"\",\"\",AZ51)","v":""},null,null,null,{"$f":"IF(ISBLANK(J47),\"\",SUM(IF(J47>J48,1,0)+(IF(K47>K48,1,0)+(IF(L47>L48,1,0)))))","v":""},null,6,{"$f":"IF($DQ$1<=20,LOOKUP(O47,$DT$36:$DT$51,$DU$36:$DU$51),IF(AND($DQ$1>20,$DQ$1<24),LOOKUP(O47,$DT$36:$DT$51,$DV$36:$DV$51),LOOKUP(O47,$DT$36:$DT$51,$DW$36:$DW$51)))","v":"Tânia Jesus (ACV)"},9,9,null,{"$f":"IF(ISBLANK(Q46),\"\",SUM(IF(Q47>Q46,1,0)+(IF(R47>R46,1,0)+(IF(S47>S46,1,0)))))","v":2},null,null,null,null,null,null,null,null,null,null,null,null,null,null,null,null,null,null,"Classificação Grupo F",null,null,null,null,null,null,null,null,null,null,null,null,"Grupo F",null,null,null,null,null,null,null,null,null,null,null,null,null,null,null,null,null,null,null,null,null,null,null,null,null,null,null,null,null,null,null,null,null,null,null,null,null,null,null,null,null,null,null,null,null,null,null,null,null,null,null,{"$f":"IF(G48<>\"\",IF(G48>G47,C48,IF(G47>G48,C47,\"Empate\")),\"\")","v":"Tânia Jesus (ACV)"},{"$f":"IF(G48<>\"\",IF(G48<G47,C48,IF(G47<G48,C47,\"Empate\")),\"\")","v":"Bárbara Fernandes (DP)"},null,null,null,null,null,null,null,null,null,null,null,null,null,null,null,null,"Gr6",null,12,"Bye",{"$f":"IF(D51=\"\",\"2º Grupo F\",AM50)","v":"Bárbara Fernandes (DP)"},{"$f":"IF(D51=\"\",\"2º Grupo F\",AM50)","v":"Bárbara Fernandes (DP)"},null,null,null,null,null,null,null,"C",1,{"$f":"AL27","v":"3º"},"Carolina Rodrigues (ACV)",3,1,0,2,70,56,14,4,4147008,8]
[null,{"$f":"H40+1","v":11},{"$f":"AZ49","v":"Tânia Jesus (ACV)"},11,11,null,{"$f":"IF(ISBLANK(D47),\"\",SUM(IF(D48>D47,1,0)+(IF(E48>E47,1,0)+(IF(F48>F47,1,0)))))","v":2},{"$f":"B48+1","v":12},{"$f":"AZ52","v":""},null,null,null,{"$f":"IF(ISBLANK(J47),\"\",SUM(IF(J48>J47,1,0)+(IF(K48>K47,1,0)+(IF(L48>L47,1,0)))))","v":""},null,null,null,null,null,null,null,null,null,null,null,null,null,null,null,null,"Jogo Nº",{"$f":"CONCATENATE($A$4,\" \",SUM($H$68+14))","v":"SS-InfB 62"},null,null,null,null,null,null,"Cl",{"$f":"AZ48","v":"Jogadores"},"Jg","V","E","D","PM","PS","DP","Pt.",null,null,null,null,"Jogadores","Jg","V","E","D","GM","GS","DG","Pts","Equipas","Pts","Equipas","Pts","Equipas","Pts","DG","Equipas","Pts","DG","Equipas","Pts","DG","Equipas","Pts","DG","GM","Equipas","Pts","DG","GM","Equipas","Pts","DG","GM","Equipas","Pts","DG","GM",null,null,null,"Equipas","Jg","V","D","E","GM","GS","DG","Pts",null,null,{"$f":"IF(M47<>\"\",IF(M47>M48,I47,IF(M48>M47,I48,\"Empate\")),\"\")","v":""},{"$f":"IF(M47<>\"\",IF(M47<M48,I47,IF(M48<M47,I48,\"Empate\")),\"\")","v":""},null,null,null,null,null,null,null,null,null,null,null,null,null,null,null,null,1,null,13,"Bye",{"$f":"IF($D$51=\"\",\"1º Melhor 3º\",VLOOKUP(DR48,$EF$58:$EP$63,3,FALSE))","v":"Carolina Rodrigues (ACV)"},{"$f":"IF(D27=\"\",\"2º Grupo C\",AM26)","v":"Laura Gomes (DP)"},null,null,null,null,null,null,null,"D",7,{"$f":"AL35","v":"3º"},"Beatriz Coelho (ACV)",2,0,0,2,27,44,-17,2,1832707,7]
[null,{"$f":"$A$4","v":"SS-InfB"},{"$f":"AZ49","v":"Tânia Jesus (ACV)"},11,11,null,{"$f":"IF(ISBLANK(D49),\"\",SUM(IF(D49>D50,1,0)+(IF(E49>E50,1,0)+(IF(F49>F50,1,0)))))","v":2},{"$f":"$A$4","v":"SS-InfB"},{"$f":"AZ52","v":""},null,null,null,{"$f":"IF(ISBLANK(J49),\"\",SUM(IF(J49>J50,1,0)+(IF(K49>K50,1,0)+(IF(L49>L50,1,0)))))","v":""},null,null,null,null,null,null,null,null,null,null,null,null,null,null,null,null,{"$f":"IF(AA43=AA44,\"\",IF(AA43>AA44,W43,W44))","v":"Tânia Jesus (ACV)"},9,6,7,{"$f":"IF(ISBLANK(AE49),\"\",SUM(IF(AE49>AE50,1,0)+(IF(AF49>AF50,1,0)+(IF(AG49>AG50,1,0)))))","v":1},null,4,null,{"$f":"IF(AM49=\"\",\"\",\"1º\")","v":"1º"},{"$f":"CO49","v":"Tânia Jesus (ACV)"},{"$f":"IF(AM49=\"\",\"\",CP49)","v":2},{"$f":"IF(AM49=\"\",\"\",CQ49)","v":2},{"$f":"IF(AM49=\"\",\"\",CR49)","v":0},{"$f":"IF(AM49=\"\",\"\",CS49)","v":0},{"$f":"IF(AM49=\"\",\"\",CT49)","v":44},{"$f":"IF(AM49=\"\",\"\",CU49)","v":10},{"$f":"IF(AM49=\"\",\"\",CV49)","v":34},{"$f":"IF(AM49=\"\",\"\",CW49)","v":4},{"$f":"IF(AND($DQ$1>=17,$DQ$1<=20),AW49,IF(AND($DQ$1>=21,$DQ$1<=23),AX49,AY49))","v":2}," ",2,6,{"$f":"IF($DQ$1<=20,\"\",IF(AND($DQ$1>20,$DQ$1<24),LOOKUP(DR2,$DR$1:$DR$23,$DV$1:$DV$23),LOOKUP(DR6,$DR$1:$DR$32,$DY$1:$DY$32)))","v":"Tânia Jesus (ACV)"},{"$f":"COUNT(G48,G49,M52)","v":2},{"$f":"COUNTIF(CZ47:CZ52,AZ49)","v":2},{"$f":"BA49-(BB49+BD49)","v":0},{"$f":"COUNTIF(DA47:DA52,AZ49)","v":0},{"$f":"SUM(D48:F48,D49:F49,J52:L52)","v":44},{"$f":"SUM(D47:F47,D50:F50,J51:L51)","v":10},{"$f":"BE49-BF49","v":34},{"$f":"IF(BA49=0,0,BB49*2+BD49*1)","v":4},{"$f":"IF(BH49>=BH50,AZ49,AZ50)","v":"Tânia Jesus (ACV)"},{"$f":"VLOOKUP(BI49,AZ49:BH52,9,FALSE)","v":4},{"$f":"IF(BJ49>=BJ51,BI49,BI51)","v":"Tânia Jesus (ACV)"},{"$f":"VLOOKUP(BK49,AZ49:BH52,9,FALSE)","v":4},{"$f":"IF(BL49>=BL52,BK49,BK52)","v":"Tânia Jesus (ACV)"},{"$f":"VLOOKUP(BM49,AZ49:BH52,9,FALSE)","v":4},{"$f":"VLOOKUP(BM49,AZ49:BH52,8,FALSE)","v":34},{"$f":"IF(AND(BN49=BN50,BO50>BO49),BM50,BM49)","v":"Tânia Jesus (ACV)"},{"$f":"VLOOKUP(BP49,AZ49:BH52,9,FALSE)","v":4},{"$f":"VLOOKUP(BP49,AZ49:BH52,8,FALSE)","v":34},{"$f":"IF(AND(BQ49=BQ51,BR51>BR49),BP51,BP49)","v":"Tânia Jesus (ACV)"},{"$f":"VLOOKUP(BS49,AZ49:BH52,9,FALSE)","v":4},{"$f":"VLOOKUP(BS49,AZ49:BH52,8,FALSE)","v":34},{"$f":"IF(AND(BT49=BT52,BU52>BU49),BS52,BS49)","v":"Tânia Jesus (ACV)"},{"$f":"VLOOKUP(BV49,AZ49:BH52,9,FALSE)","v":4},{"$f":"VLOOKUP(BV49,AZ49:BH52,8,FALSE)","v":34},{"$f":"VLOOKUP(BV49,AZ49:BH52,6,FALSE)","v":44},{"$f":"IF(AND(BW49=BW50,BX49=BX50,BY50>BY49),BV50,BV49)","v":"Tânia Jesus (ACV)"},{"$f":"VLOOKUP(BZ49,AZ49:BH52,9,FALSE)","v":4},{"$f":"VLOOKUP(BZ49,AZ49:BH52,8,FALSE)","v":34},{"$f":"VLOOKUP(BZ49,AZ49:BH52,6,FALSE)","v":44},{"$f":"IF(AND(CA49=CA51,CB49=CB51,CC51>CC49),BZ51,BZ49)","v":"Tânia Jesus (ACV)"},{"$f":"VLOOKUP(CD49,AZ49:BH52,9,FALSE)","v":4},{"$f":"VLOOKUP(CD49,AZ49:BH52,8,FALSE)","v":34},{"$f":"VLOOKUP(CD49,AZ49:BH52,6,FALSE)","v":44},{"$f":"IF(AND(CE49=CE52,CF49=CF52,CG52>CG49),CD52,CD49)","v":"Tânia Jesus (ACV)"},{"$f":"VLOOKUP(CH49,AZ49:BH52,9,FALSE)","v":4},{"$f":"VLOOKUP(CH49,AZ49:BH52,8,FALSE)","v":34},{"$f":"VLOOKUP(CH49,AZ49:BH52,6,FALSE)","v":44},null,null,null,{"$f":"CH49","v":"Tânia Jesus (ACV)"},{"$f":"VLOOKUP(CO49,AZ49:BH52,2,FALSE)","v":2},{"$f":"VLOOKUP(CO49,AZ49:BH52,3,FALSE)","v":2},{"$f":"VLOOKUP(CO49,AZ49:BH52,4,FALSE)","v":0},{"$f":"VLOOKUP(CO49,AZ49:BH52,5,FALSE)","v":0},{"$f":"VLOOKUP(CO49,AZ49:BH52,6,FALSE)","v":44},{"$f":"VLOOKUP(CO49,AZ49:BH52,7,FALSE)","v":10},{"$f":"VLOOKUP(CO49,AZ49:BH52,8,FALSE)","v":34},{"$f":"VLOOKUP(CO49,AZ49:BH52,9,FALSE)","v":4},null,null,{"$f":"IF(G49<>\"\",IF(G49>G50,C49,IF(G50>G49,C50,\"Empate\")),\"\")","v":"Tânia Jesus (ACV)"},{"$f":"IF(G49<>\"\",IF(G49<G50,C49,IF(G50<G49,C50,\"Empate\")),\"\")","v":"Carina Croitoru (ASA)"},null,null,null,null,null,null,null,null,null,null,null,null,null,null,null,null,2,null,14,"Bye",{"$f":"IF($D$51=\"\",\"2º Melhor 3º\",VLOOKUP(DR49,$EF$58:$EP$63,3,FALSE))","v":"Loredana Junea (DP)"},{"$f":"IF(D35=\"\",\"2º Grupo D\",AM34)","v":"Paula Tijaro (DP)"},null,null,null,null,null,null,null,"E",3,{"$f":"AL43","v":"3º"},"Iara Nascimento (ACV)",3,1,0,2,39,60,-21,4,3793906,6]
[null,{"$f":"H42+1","v":27},{"$f":"AZ51","v":"Carina Croitoru (ASA)"},1,1,null,{"$f":"IF(ISBLANK(D49),\"\",SUM(IF(D50>D49,1,0)+(IF(E50>E49,1,0)+(IF(F50>F49,1,0)))))","v":0},{"$f":"B50+1","v":28},{"$f":"IF(I49=\"\",\"\",AZ50)","v":""},null,null,null,{"$f":"IF(ISBLANK(J49),\"\",SUM(IF(J50>J49,1,0)+(IF(K50>K49,1,0)+(IF(L50>L49,1,0)))))","v":""},null,null,null,null,null,null,null,null,null,null,null,null,null,null,null,null,{"$f":"IF(AA56=AA57,\"\",IF(AA56>AA57,W56,W57))","v":"Lara Carvalho (ASA)"},5,9,9,{"$f":"IF(ISBLANK(AE49),\"\",SUM(IF(AE50>AE49,1,0)+(IF(AF50>AF49,1,0)+(IF(AG50>AG49,1,0)))))","v":2},null,6,null,{"$f":"IF(AM50=\"\",\"\",\"2º\")","v":"2º"},{"$f":"CO50","v":"Bárbara Fernandes (DP)"},{"$f":"IF(AM50=\"\",\"\",CP50)","v":2},{"$f":"IF(AM50=\"\",\"\",CQ50)","v":1},{"$f":"IF(AM50=\"\",\"\",CR50)","v":0},{"$f":"IF(AM50=\"\",\"\",CS50)","v":1},{"$f":"IF(AM50=\"\",\"\",CT50)","v":30},{"$f":"IF(AM50=\"\",\"\",CU50)","v":32},{"$f":"IF(AM50=\"\",\"\",CV50)","v":-2},{"$f":"IF(AM50=\"\",\"\",CW50)","v":3},{"$f":"IF(AND($DQ$1>=17,$DQ$1<=20),AW50,IF(AND($DQ$1>=21,$DQ$1<=23),AX50,AY50))","v":11}," ",11,11,{"$f":"IF($DQ$1<=20,\"\",IF(AND($DQ$1>20,$DQ$1<24),LOOKUP(DR11,$DR$1:$DR$23,$DV$1:$DV$23),LOOKUP(DR11,$DR$1:$DR$32,$DY$1:$DY$32)))","v":"Bárbara Fernandes (DP)"},{"$f":"COUNT(G47,M50,G52)","v":2},{"$f":"COUNTIF(CZ47:CZ52,AZ50)","v":1},{"$f":"BA50-(BB50+BD50)","v":0},{"$f":"COUNTIF(DA47:DA52,AZ50)","v":1},{"$f":"SUM(D47:F47,J50:L50,D52:F52)","v":30},{"$f":"SUM(D48:F48,J49:L49,D51:F51)","v":32},{"$f":"BE50-BF50","v":-2},{"$f":"IF(BA50=0,0,BB50*2+BD50*1)","v":3},{"$f":"IF(BH50<=BH49,AZ50,AZ49)","v":"Bárbara Fernandes (DP)"},{"$f":"VLOOKUP(BI50,AZ49:BH52,9,FALSE)","v":3},{"$f":"IF(BJ50>=BJ52,BI50,BI52)","v":"Bárbara Fernandes (DP)"},{"$f":"VLOOKUP(BK50,AZ49:BH52,9,FALSE)","v":3},{"$f":"IF(BL50>=BL51,BK50,BK51)","v":"Bárbara Fernandes (DP)"},{"$f":"VLOOKUP(BM50,AZ49:BH52,9,FALSE)","v":3},{"$f":"VLOOKUP(BM50,AZ49:BH52,8,FALSE)","v":-2},{"$f":"IF(AND(BN49=BN50,BO50>BO49),BM49,BM50)","v":"Bárbara Fernandes (DP)"},{"$f":"VLOOKUP(BP50,AZ49:BH52,9,FALSE)","v":3},{"$f":"VLOOKUP(BP50,AZ49:BH52,8,FALSE)","v":-2},{"$f":"IF(AND(BQ50=BQ52,BR52>BR50),BP52,BP50)","v":"Bárbara Fernandes (DP)"},{"$f":"VLOOKUP(BS50,AZ49:BH52,9,FALSE)","v":3},{"$f":"VLOOKUP(BS50,AZ49:BH52,8,FALSE)","v":-2},{"$f":"IF(AND(BT50=BT51,BU51>BU50),BS51,BS50)","v":"Bárbara Fernandes (DP)"},{"$f":"VLOOKUP(BV50,AZ49:BH52,9,FALSE)","v":3},{"$f":"VLOOKUP(BV50,AZ49:BH52,8,FALSE)","v":-2},{"$f":"VLOOKUP(BV50,AZ49:BH52,6,FALSE)","v":30},{"$f":"IF(AND(BW49=BW50,BX49=BX50,BY50>BY49),BV49,BV50)","v":"Bárbara Fernandes (DP)"},{"$f":"VLOOKUP(BZ50,AZ49:BH52,9,FALSE)","v":3},{"$f":"VLOOKUP(BZ50,AZ49:BH52,8,FALSE)","v":-2},{"$f":"VLOOKUP(BZ50,AZ49:BH52,6,FALSE)","v":30},{"$f":"IF(AND(CA50=CA52,CB50=CB52,CC52>CC50),BZ52,BZ50)","v":"Bárbara Fernandes (DP)"},{"$f":"VLOOKUP(CD50,AZ49:BH52,9,FALSE)","v":3},{"$f":"VLOOKUP(CD50,AZ49:BH52,8,FALSE)","v":-2},{"$f":"VLOOKUP(CD50,AZ49:BH52,6,FALSE)","v":30},{"$f":"IF(AND(CE50=CE51,CF50=CF51,CG51>CG50),CD51,CD50)","v":"Bárbara Fernandes (DP)"},{"$f":"VLOOKUP(CH50,AZ49:BH52,9,FALSE)","v":3},{"$f":"VLOOKUP(CH50,AZ49:BH52,8,FALSE)","v":-2},{"$f":"VLOOKUP(CH50,AZ49:BH52,6,FALSE)","v":30},null,null,null,{"$f":"CH50","v":"Bárbara Fernandes (DP)"},{"$f":"VLOOKUP(CO50,AZ49:BH52,2,FALSE)","v":2},{"$f":"VLOOKUP(CO50,AZ49:BH52,3,FALSE)","v":1},{"$f":"VLOOKUP(CO50,AZ49:BH52,4,FALSE)","v":0},{"$f":"VLOOKUP(CO50,AZ49:BH52,5,FALSE)","v":1},{"$f":"VLOOKUP(CO50,AZ49:BH52,6,FALSE)","v":30},{"$f":"VLOOKUP(CO50,AZ49:BH52,7,FALSE)","v":32},{"$f":"VLOOKUP(CO50,AZ49:BH52,8,FALSE)","v":-2},{"$f":"VLOOKUP(CO50,AZ49:BH52,9,FALSE)","v":3},null,null,{"$f":"IF(M49<>\"\",IF(M49>M50,I49,IF(M50>M49,I50,\"Empate\")),\"\")","v":""},{"$f":"IF(M49<>\"\",IF(M49<M50,I49,IF(M50<M49,I50,\"Empate\")),\"\")","v":""},null,null,null,null,null,null,null,null,null,null,null,null,null,null,null,"Empates",3,null,15,"Bye",{"$f":"IF($D$51=\"\",\"3º Melhor 3º\",VLOOKUP(DR50,$EF$58:$EP$63,3,FALSE))","v":"Iara Nascimento (ACV)"},{"$f":"IF(D11=\"\",\"2º Grupo A\",AM10)","v":"Elena Rafael (DP)"},null,null,null,null,null,null,null,"A",9,{"$f":"AL12","v":""},"","","","","",{"$f":"IF($EH$50=\"\",-0.1,AR12)","v":-0.1},{"$f":"IF($EH$50=\"\",-0.1,AS12)","v":-0.1},{"$f":"IF($EH$50=\"\",-0.1,AT12)","v":-0.1},{"$f":"IF($EH$50=\"\",-0.1,AU12)","v":-0.1},-100005,5]
[null,{"$f":"$A$4","v":"SS-InfB"},{"$f":"AZ51","v":"Carina Croitoru (ASA)"},5,5,null,{"$f":"IF(ISBLANK(D51),\"\",SUM(IF(D51>D52,1,0)+(IF(E51>E52,1,0)+(IF(F51>F52,1,0)))))","v":0},{"$f":"$A$4","v":"SS-InfB"},{"$f":"AZ52","v":""},null,null,null,{"$f":"IF(ISBLANK(J51),\"\",SUM(IF(J51>J52,1,0)+(IF(K51>K52,1,0)+(IF(L51>L52,1,0)))))","v":""},null,null,null,null,null,null,null,null,null,null,null,null,null,null,null,null,null,null,null,null,null,null,null,null,{"$f":"IF(AM51=\"\",\"\",\"3º\")","v":"3º"},{"$f":"CO51","v":"Carina Croitoru (ASA)"},{"$f":"IF(AM51=\"\",\"\",CP51)","v":2},{"$f":"IF(AM51=\"\",\"\",CQ51)","v":0},{"$f":"IF(AM51=\"\",\"\",CR51)","v":0},{"$f":"IF(AM51=\"\",\"\",CS51)","v":2},{"$f":"IF(AM51=\"\",\"\",CT51)","v":12},{"$f":"IF(AM51=\"\",\"\",CU51)","v":44},{"$f":"IF(AM51=\"\",\"\",CV51)","v":-32},{"$f":"IF(AM51=\"\",\"\",CW51)","v":2},{"$f":"IF(AND($DQ$1>=17,$DQ$1<=20),AW51,IF(AND($DQ$1>=21,$DQ$1<=23),AX51,AY51))","v":17}," ",17,22,{"$f":"IF($DQ$1<=20,\"\",IF(AND($DQ$1>20,$DQ$1<24),LOOKUP(DR17,$DR$1:$DR$23,$DV$1:$DV$23),LOOKUP(DR22,$DR$1:$DR$32,$DY$1:$DY$32)))","v":"Carina Croitoru (ASA)"},{"$f":"COUNT(M47,G50,G51)","v":2},{"$f":"COUNTIF(CZ47:CZ52,AZ51)","v":0},{"$f":"BA51-(BB51+BD51)","v":0},{"$f":"COUNTIF(DA47:DA52,AZ51)","v":2},{"$f":"SUM(J47:L47,D50:F50,D51:F51)","v":12},{"$f":"SUM(J48:L48,D49:F49,D52:F52)","v":44},{"$f":"BE51-BF51","v":-32},{"$f":"IF(BA51=0,0,BB51*2+BD51*1)","v":2},{"$f":"IF(BH51>=BH52,AZ51,AZ52)","v":"Carina Croitoru (ASA)"},{"$f":"VLOOKUP(BI51,AZ49:BH52,9,FALSE)","v":2},{"$f":"IF(BJ51<=BJ49,BI51,BI49)","v":"Carina Croitoru (ASA)"},{"$f":"VLOOKUP(BK51,AZ49:BH52,9,FALSE)","v":2},{"$f":"IF(BL51<=BL50,BK51,BK50)","v":"Carina Croitoru (ASA)"},{"$f":"VLOOKUP(BM51,AZ49:BH52,9,FALSE)","v":2},{"$f":"VLOOKUP(BM51,AZ49:BH52,8,FALSE)","v":-32},{"$f":"IF(AND(BN51=BN52,BO52>BO51),BM52,BM51)","v":"Carina Croitoru (ASA)"},{"$f":"VLOOKUP(BP51,AZ49:BH52,9,FALSE)","v":2},{"$f":"VLOOKUP(BP51,AZ49:BH52,8,FALSE)","v":-32},{"$f":"IF(AND(BQ49=BQ51,BR51>BR49),BP49,BP51)","v":"Carina Croitoru (ASA)"},{"$f":"VLOOKUP(BS51,AZ49:BH52,9,FALSE)","v":2},{"$f":"VLOOKUP(BS51,AZ49:BH52,8,FALSE)","v":-32},{"$f":"IF(AND(BT50=BT51,BU51>BU50),BS50,BS51)","v":"Carina Croitoru (ASA)"},{"$f":"VLOOKUP(BV51,AZ49:BH52,9,FALSE)","v":2},{"$f":"VLOOKUP(BV51,AZ49:BH52,8,FALSE)","v":-32},{"$f":"VLOOKUP(BV51,AZ49:BH52,6,FALSE)","v":12},{"$f":"IF(AND(BW51=BW52,BX51=BX52,BY52>BY51),BV52,BV51)","v":"Carina Croitoru (ASA)"},{"$f":"VLOOKUP(BZ51,AZ49:BH52,9,FALSE)","v":2},{"$f":"VLOOKUP(BZ51,AZ49:BH52,8,FALSE)","v":-32},{"$f":"VLOOKUP(BZ51,AZ49:BH52,6,FALSE)","v":12},{"$f":"IF(AND(CA49=CA51,CB49=CB51,CC50>CC49),BZ49,BZ51)","v":"Carina Croitoru (ASA)"},{"$f":"VLOOKUP(CD51,AZ49:BH52,9,FALSE)","v":2},{"$f":"VLOOKUP(CD51,AZ49:BH52,8,FALSE)","v":-32},{"$f":"VLOOKUP(CD51,AZ49:BH52,6,FALSE)","v":12},{"$f":"IF(AND(CE50=CE51,CF50=CF51,CG51>CG50),CD50,CD51)","v":"Carina Croitoru (ASA)"},{"$f":"VLOOKUP(CH51,AZ49:BH52,9,FALSE)","v":2},{"$f":"VLOOKUP(CH51,AZ49:BH52,8,FALSE)","v":-32},{"$f":"VLOOKUP(CH51,AZ49:BH52,6,FALSE)","v":12},null,null,null,{"$f":"CH51","v":"Carina Croitoru (ASA)"},{"$f":"VLOOKUP(CO51,AZ49:BH52,2,FALSE)","v":2},{"$f":"VLOOKUP(CO51,AZ49:BH52,3,FALSE)","v":0},{"$f":"VLOOKUP(CO51,AZ49:BH52,4,FALSE)","v":0},{"$f":"VLOOKUP(CO51,AZ49:BH52,5,FALSE)","v":2},{"$f":"VLOOKUP(CO51,AZ49:BH52,6,FALSE)","v":12},{"$f":"VLOOKUP(CO51,AZ49:BH52,7,FALSE)","v":44},{"$f":"VLOOKUP(CO51,AZ49:BH52,8,FALSE)","v":-32},{"$f":"VLOOKUP(CO51,AZ49:BH52,9,FALSE)","v":2},null,null,{"$f":"IF(M51<>\"\",IF(M51>M52,I51,IF(M52>M51,I52,\"Empate\")),\"\")","v":""},{"$f":"IF(M51<>\"\",IF(M51<M52,I51,IF(M52<M51,I52,\"Empate\")),\"\")","v":""},null,null,null,null,null,null,null,null,null,null,null,null,null,null,null,"Gr8",4,null,16,"Bye",{"$f":"IF($D$51=\"\",\"4º Melhor 3º\",VLOOKUP(DR51,$EF$58:$EP$63,3,FALSE))","v":"Beatriz Coelho (ACV)"},{"$f":"IF(D19=\"\",\"2º Grupo B\",AM18)","v":"Carolina Lima (ACV)"},null,null,null,null,null,null,null,"B",6,{"$f":"AL20","v":"4º"},"Leonor Inácio (ACV)",3,0,0,3,{"$f":"IF($EH$51=\"\",-0.1,AR20)","v":30},{"$f":"IF($EH$51=\"\",-0.1,AS20)","v":66},{"$f":"IF($EH$51=\"\",-0.1,AT20)","v":-36},{"$f":"IF($EH$51=\"\",-0.1,AU20)","v":3},2643004,4]
[null,{"$f":"H44+1","v":43},{"$f":"AZ50","v":"Bárbara Fernandes (DP)"},11,11,null,{"$f":"IF(ISBLANK(D51),\"\",SUM(IF(D52>D51,1,0)+(IF(E52>E51,1,0)+(IF(F52>F51,1,0)))))","v":2},{"$f":"B52+1","v":44},{"$f":"IF(I51=\"\",\"\",AZ49)","v":""},null,null,null,{"$f":"IF(ISBLANK(J51),\"\",SUM(IF(J52>J51,1,0)+(IF(K52>K51,1,0)+(IF(L52>L51,1,0)))))","v":""},null,null,"Jogo Nº",{"$f":"CONCATENATE($A$4,\" \",SUM($H$68+7))","v":"SS-InfB 55"},null,null,null,null,null,null,null,null,null,null,null,null,null,null,null,null,null,null,null,null,{"$f":"IF(AM52=\"\",\"\",\"4º\")","v":""},{"$f":"CO52","v":""},{"$f":"IF(AM52=\"\",\"\",CP52)","v":""},{"$f":"IF(AM52=\"\",\"\",CQ52)","v":""},{"$f":"IF(AM52=\"\",\"\",CR52)","v":""},{"$f":"IF(AM52=\"\",\"\",CS52)","v":""},{"$f":"IF(AM52=\"\",\"\",CT52)","v":""},{"$f":"IF(AM52=\"\",\"\",CU52)","v":""},{"$f":"IF(AM52=\"\",\"\",CV52)","v":""},{"$f":"IF(AM52=\"\",\"\",CW52)","v":""},{"$f":"IF(AND($DQ$1>=17,$DQ$1<=20),AW52,IF(AND($DQ$1>=21,$DQ$1<=23),AX52,AY52))","v":23}," ",23,27,{"$f":"IF($DQ$1<=20,\"\",IF(AND($DQ$1>20,$DQ$1<24),LOOKUP(DR23,$DR$1:$DR$23,$DV$1:$DV$23),LOOKUP(DR27,$DR$1:$DR$32,$DY$1:$DY$32)))","v":""},{"$f":"COUNT(M48,M49,M51)","v":0},{"$f":"COUNTIF(CZ47:CZ52,AZ52)","v":3},{"$f":"BA52-(BB52+BD52)","v":-6},{"$f":"COUNTIF(DA47:DA52,AZ52)","v":3},{"$f":"SUM(J48:L48,J49:L49,J51:L51)","v":0},{"$f":"SUM(J47:L47,J50:L50,J52:L52)","v":0},{"$f":"BE52-BF52","v":0},{"$f":"IF(BA52=0,0,BB52*2+BD52*1)","v":0},{"$f":"IF(BH52<=BH51,AZ52,AZ51)","v":""},{"$f":"VLOOKUP(BI52,AZ49:BH52,9,FALSE)","v":0},{"$f":"IF(BJ52<=BJ50,BI52,BI50)","v":""},{"$f":"VLOOKUP(BK52,AZ49:BH52,9,FALSE)","v":0},{"$f":"IF(BL52<=BL49,BK52,BK49)","v":""},{"$f":"VLOOKUP(BM52,AZ49:BH52,9,FALSE)","v":0},{"$f":"VLOOKUP(BM52,AZ49:BH52,8,FALSE)","v":0},{"$f":"IF(AND(BN51=BN52,BO52>BO51),BM51,BM52)","v":""},{"$f":"VLOOKUP(BP52,AZ49:BH52,9,FALSE)","v":0},{"$f":"VLOOKUP(BP52,AZ49:BH52,8,FALSE)","v":0},{"$f":"IF(AND(BQ50=BQ52,BR52>BR50),BP50,BP52)","v":""},{"$f":"VLOOKUP(BS52,AZ49:BH52,9,FALSE)","v":0},{"$f":"VLOOKUP(BS52,AZ49:BH52,8,FALSE)","v":0},{"$f":"IF(AND(BT49=BT52,BU52>BU49),BS49,BS52)","v":""},{"$f":"VLOOKUP(BV52,AZ49:BH52,9,FALSE)","v":0},{"$f":"VLOOKUP(BV52,AZ49:BH52,8,FALSE)","v":0},{"$f":"VLOOKUP(BV52,AZ49:BH52,6,FALSE)","v":0},{"$f":"IF(AND(BW51=BW52,BX51=BX52,BY52>BY51),BV51,BV52)","v":""},{"$f":"VLOOKUP(BZ52,AZ49:BH52,9,FALSE)","v":0},{"$f":"VLOOKUP(BZ52,AZ49:BH52,8,FALSE)","v":0},{"$f":"VLOOKUP(BZ52,AZ49:BH52,6,FALSE)","v":0},{"$f":"IF(AND(CA50=CA52,CB50=CB52,CC52>CC50),BZ50,BZ52)","v":""},{"$f":"VLOOKUP(CD52,AZ49:BH52,9,FALSE)","v":0},{"$f":"VLOOKUP(CD52,AZ49:BH52,8,FALSE)","v":0},{"$f":"VLOOKUP(CD52,AZ49:BH52,6,FALSE)","v":0},{"$f":"IF(AND(CE49=CE52,CF49=CF52,CG52>CG49),CD49,CD52)","v":""},{"$f":"VLOOKUP(CH52,AZ49:BH52,9,FALSE)","v":0},{"$f":"VLOOKUP(CH52,AZ49:BH52,8,FALSE)","v":0},{"$f":"VLOOKUP(CH52,AZ49:BH52,6,FALSE)","v":0},null,null,null,{"$f":"CH52","v":""},{"$f":"VLOOKUP(CO52,AZ49:BH52,2,FALSE)","v":0},{"$f":"VLOOKUP(CO52,AZ49:BH52,3,FALSE)","v":3},{"$f":"VLOOKUP(CO52,AZ49:BH52,4,FALSE)","v":-6},{"$f":"VLOOKUP(CO52,AZ49:BH52,5,FALSE)","v":3},{"$f":"VLOOKUP(CO52,AZ49:BH52,6,FALSE)","v":0},{"$f":"VLOOKUP(CO52,AZ49:BH52,7,FALSE)","v":0},{"$f":"VLOOKUP(CO52,AZ49:BH52,8,FALSE)","v":0},{"$f":"VLOOKUP(CO52,AZ49:BH52,9,FALSE)","v":0},null,null,{"$f":"IF(G52<>\"\",IF(G52>G51,C52,IF(G51>G52,C51,\"Empate\")),\"\")","v":"Bárbara Fernandes (DP)"},{"$f":"IF(G52<>\"\",IF(G52<G51,C52,IF(G51<G52,C51,\"Empate\")),\"\")","v":"Carina Croitoru (ASA)"},null,null,null,null,null,null,null,null,null,null,null,null,null,null,null,1,5,4,17,{"$f":"IF($D$43=\"\",\"\",VLOOKUP(DS52,$EF$40:$EP$44,3,FALSE))","v":"Elena Rafael (DP)"},{"$f":"IF($D$51=\"\",\"\",VLOOKUP(DR52,$EF$58:$EP$63,3,FALSE))","v":"Iris Rodrigues (ACV)"},{"$f":"IF($D$51=\"\",\"\",VLOOKUP(DQ52,$EF$74:$EP$89,3,FALSE))","v":"Carolina Rodrigues (ACV)"},null,null,null,null,null,null,null,"C",4,{"$f":"AL28","v":"4º"},"Vitória Coelho (ACV)",3,0,0,3,{"$f":"IF($EH$52=\"\",-0.1,AR28)","v":32},{"$f":"IF($EH$52=\"\",-0.1,AS28)","v":66},{"$f":"IF($EH$52=\"\",-0.1,AT28)","v":-34},{"$f":"IF($EH$52=\"\",-0.1,AU28)","v":3},2663203,3]
[null,null,null,null,null,null,null,null,null,null,null,null,null,null,7,{"$f":"IF($DQ$1<=20,LOOKUP(O53,$DT$36:$DT$51,$DU$36:$DU$51),IF(AND($DQ$1>20,$DQ$1<24),LOOKUP(O53,$DT$36:$DT$51,$DV$36:$DV$51),LOOKUP(O53,$DT$36:$DT$51,$DW$36:$DW$51)))","v":"Elena Rafael (DP)"},9,8,9,{"$f":"IF(ISBLANK(Q53),\"\",SUM(IF(Q53>Q54,1,0)+(IF(R53>R54,1,0)+(IF(S53>S54,1,0)))))","v":2},null,null,null,null,null,null,null,null,null,null,null,null,null,null,null,null,null,null,null,null,null,null,null,null,null,null,null,null,null,null,null,null,null,null,null,null,null,null,null,null,null,null,null,null,null,null,null,null,null,null,null,null,null,null,null,null,null,null,null,null,null,null,null,null,null,null,null,null,null,null,null,null,null,null,null,null,null,null,null,null,null,null,null,null,null,null,null,null,null,null,null,null,null,null,null,null,null,null,null,null,2,6,5,18,{"$f":"IF($D$43=\"\",\"\",VLOOKUP(DS53,$EF$40:$EP$44,3,FALSE))","v":"Paula Tijaro (DP)"},{"$f":"IF($D$51=\"\",\"\",VLOOKUP(DR53,$EF$58:$EP$63,3,FALSE))","v":"Carina Croitoru (ASA)"},"Loredana Junea (DP)",null,null,null,null,null,null,null,"D",10,{"$f":"AL36","v":""},"","","","","",{"$f":"IF($EH$53=\"\",-0.1,AR36)","v":-0.1},{"$f":"IF($EH$53=\"\",-0.1,AS36)","v":-0.1},{"$f":"IF($EH$53=\"\",-0.1,AT36)","v":-0.1},{"$f":"IF($EH$53=\"\",-0.1,AU36)","v":-0.1},-100008,2]
["Grupo G","NºJ","Jogadores",1,2,3,"R","NºJ","Jogadores",1,2,3,"R",null,10,{"$f":"IF($DQ$1<=20,LOOKUP(O54,$DT$36:$DT$51,$DU$36:$DU$51),IF(AND($DQ$1>20,$DQ$1<24),LOOKUP(O54,$DT$36:$DT$51,$DV$36:$DV$51),LOOKUP(O54,$DT$36:$DT$51,$DW$36:$DW$51)))","v":"Paula Tijaro (DP)"},5,9,8,{"$f":"IF(ISBLANK(Q53),\"\",SUM(IF(Q54>Q53,1,0)+(IF(R54>R53,1,0)+(IF(S54>S53,1,0)))))","v":1},null,null,null,null,null,null,null,null,null,null,null,null,null,null,null,null,null,null,null,null,null,null,null,null,null,null,null,null,null,null,null,"Colocar Equipas",null,null,null,null,null,null,null,null,"Ordenar p/ Pts 1",null,"Ordenar p/ Pts 2",null,"Ordenar p/ Pts 3",null,null,"Ordenar p/ DG 1",null,null,"Ordenar p/ DG 2",null,null,"Ordenar p/ DG 3",null,null,null,"Ordenar p/ GM 1",null,null,null,"Ordenar p/ GM 2",null,null,null,"Ordenar p/ GM 3",null,null,null,null,null,null,null,null,null,null,null,null,null,null,null,null,null,"Vencedores","Derrotados",null,null,null,null,null,null,null,null,null,null,null,null,null,null,null,3,1,1,19,{"$f":"IF($D$43=\"\",\"\",VLOOKUP(DS54,$EF$45:$EP$54,3,FALSE))","v":"Carolina Rodrigues (ACV)"},{"$f":"IF($D$51=\"\",\"\",VLOOKUP(DR54,$EF$64:$EP$69,3,FALSE))","v":"Vitória Coelho (ACV)"},"Iara Nascimento (ACV)",null,null,null,null,null,null,null,"E",5,{"$f":"AL44","v":"4º"},"Daniela Dias (ACV)",3,0,0,3,{"$f":"IF($EH$54=\"\",-0.1,AR44)","v":31},{"$f":"IF($EH$54=\"\",-0.1,AS44)","v":66},{"$f":"IF($EH$54=\"\",-0.1,AT44)","v":-35},{"$f":"IF($EH$54=\"\",-0.1,AU44)","v":3},2653101,1]
[null,{"$f":"$A$4","v":"SS-InfB"},{"$f":"AZ58","v":""},null,null,null,{"$f":"IF(ISBLANK(D55),\"\",SUM(IF(D55>D56,1,0)+(IF(E55>E56,1,0)+(IF(F55>F56,1,0)))))","v":""},{"$f":"$A$4","v":"SS-InfB"},{"$f":"IF(I56=\"\",\"\",AZ59)","v":""},null,null,null,{"$f":"IF(ISBLANK(J55),\"\",SUM(IF(J55>J56,1,0)+(IF(K55>K56,1,0)+(IF(L55>L56,1,0)))))","v":""},null,null,null,null,null,null,null,null,null,"Jogo Nº",{"$f":"CONCATENATE($A$4,\" \",SUM($H$68+12))","v":"SS-InfB 60"},null,null,null,null,null,null,null,null,null,null,null,null,null,null,"Classificação Grupo G",null,null,null,null,null,null,null,null,null,null,null,null,"Grupo G",null,null,null,null,null,null,null,null,null,null,null,null,null,null,null,null,null,null,null,null,null,null,null,null,null,null,null,null,null,null,null,null,null,null,null,null,null,null,null,null,null,null,null,null,null,null,null,null,null,null,null,{"$f":"IF(G56<>\"\",IF(G56>G55,C56,IF(G55>G56,C55,\"Empate\")),\"\")","v":""},{"$f":"IF(G56<>\"\",IF(G56<G55,C56,IF(G55<G56,C55,\"Empate\")),\"\")","v":""},null,null,null,null,null,null,null,null,null,null,null,null,null,null,null,4,2,2,20,"Loredana Junea (DP)","Daniela Dias (ACV)","Vitória Coelho (ACV)"]
[null,{"$f":"H48+1","v":13},{"$f":"AZ57","v":""},null,null,null,{"$f":"IF(ISBLANK(D55),\"\",SUM(IF(D56>D55,1,0)+(IF(E56>E55,1,0)+(IF(F56>F55,1,0)))))","v":""},{"$f":"B56+1","v":14},{"$f":"AZ60","v":""},null,null,null,{"$f":"IF(ISBLANK(J55),\"\",SUM(IF(J56>J55,1,0)+(IF(K56>K55,1,0)+(IF(L56>L55,1,0)))))","v":""},null,null,null,null,null,null,null,null,null,{"$f":"IF(P53=\"Bye\",P54,IF(P54=\"Bye\",P53,IF(T53=T54,\"\",IF(T53>T54,P53,P54))))","v":"Elena Rafael (DP)"},4,5,null,{"$f":"IF(ISBLANK(X56),\"\",SUM(IF(X56>X57,1,0)+(IF(Y56>Y57,1,0)+(IF(Z56>Z57,1,0)))))","v":0},null,null,null,null,null,null,null,null,null,null,"Cl",{"$f":"AZ56","v":"Jogadores"},"Jg","V","E","D","PM","PS","DP","Pt.",null," ",null,null,"Jogadores","Jg","V","E","D","GM","GS","DG","Pts","Equipas","Pts","Equipas","Pts","Equipas","Pts","DG","Equipas","Pts","DG","Equipas","Pts","DG","Equipas","Pts","DG","GM","Equipas","Pts","DG","GM","Equipas","Pts","DG","GM","Equipas","Pts","DG","GM",null,null,null,"Equipas","Jg","V","D","E","GM","GS","DG","Pts",null,null,{"$f":"IF(M55<>\"\",IF(M55>M56,I55,IF(M56>M55,I56,\"Empate\")),\"\")","v":""},{"$f":"IF(M55<>\"\",IF(M55<M56,I55,IF(M56<M55,I56,\"Empate\")),\"\")","v":""},null,null,null,null,null,null,null,null,null,null,null,null,null,null,null,5,3,3,21,"Iara Nascimento (ACV)","Leonor Inácio (ACV)","Daniela Dias (ACV)",null,null,null,null,null,null,null,"GRUPO de 6",null,"4 melhores 3ºs"]
[null,{"$f":"$A$4","v":"SS-InfB"},{"$f":"AZ57","v":""},null,null,null,{"$f":"IF(ISBLANK(D57),\"\",SUM(IF(D57>D58,1,0)+(IF(E57>E58,1,0)+(IF(F57>F58,1,0)))))","v":""},{"$f":"$A$4","v":"SS-InfB"},{"$f":"AZ60","v":""},null,null,null,{"$f":"IF(ISBLANK(J57),\"\",SUM(IF(J57>J58,1,0)+(IF(K57>K58,1,0)+(IF(L57>L58,1,0)))))","v":""},null,null,null,null,null,null,null,null,null,{"$f":"IF(P59=\"Bye\",P60,IF(P60=\"Bye\",P59,IF(T59=T60,\"\",IF(T59>T60,P59,P60))))","v":"Lara Carvalho (ASA)"},9,9,null,{"$f":"IF(ISBLANK(X56),\"\",SUM(IF(X57>X56,1,0)+(IF(Y57>Y56,1,0)+(IF(Z57>Z56,1,0)))))","v":2},null,null,null,null,null,null,null,null,3,null,{"$f":"IF(AM57=\"\",\"\",\"1º\")","v":""},{"$f":"CO57","v":""},{"$f":"IF(AM57=\"\",\"\",CP57)","v":""},{"$f":"IF(AM57=\"\",\"\",CQ57)","v":""},{"$f":"IF(AM57=\"\",\"\",CR57)","v":""},{"$f":"IF(AM57=\"\",\"\",CS57)","v":""},{"$f":"IF(AM57=\"\",\"\",CT57)","v":""},{"$f":"IF(AM57=\"\",\"\",CU57)","v":""},{"$f":"IF(AM57=\"\",\"\",CV57)","v":""},{"$f":"IF(AM57=\"\",\"\",CW57)","v":""},{"$f":"IF(AND($DQ$1>=17,$DQ$1<=20),AW57,IF(AND($DQ$1>=21,$DQ$1<=23),AX57,AY57))","v":" "}," "," ",7,{"$f":"IF($DQ$1<=20,\"\",IF(AND($DQ$1>20,$DQ$1<24),\"\",LOOKUP(DR7,$DR$1:$DR$32,$DY$1:$DY$32)))","v":""},{"$f":"COUNT(G56,G57,M60)","v":0},{"$f":"COUNTIF(CZ55:CZ60,AZ57)","v":6},{"$f":"BA57-(BB57+BD57)","v":-12},{"$f":"COUNTIF(DA55:DA60,AZ57)","v":6},{"$f":"SUM(D56:F56,D57:F57,J60:L60)","v":0},{"$f":"SUM(D55:F55,D58:F58,J59:L59)","v":0},{"$f":"BE57-BF57","v":0},{"$f":"IF(BA57=0,0,BB57*2+BD57*1)","v":0},{"$f":"IF(BH57>=BH58,AZ57,AZ58)","v":""},{"$f":"VLOOKUP(BI57,AZ57:BH60,9,FALSE)","v":0},{"$f":"IF(BJ57>=BJ59,BI57,BI59)","v":""},{"$f":"VLOOKUP(BK57,AZ57:BH60,9,FALSE)","v":0},{"$f":"IF(BL57>=BL60,BK57,BK60)","v":""},{"$f":"VLOOKUP(BM57,AZ57:BH60,9,FALSE)","v":0},{"$f":"VLOOKUP(BM57,AZ57:BH60,8,FALSE)","v":0},{"$f":"IF(AND(BN57=BN58,BO58>BO57),BM58,BM57)","v":""},{"$f":"VLOOKUP(BP57,AZ57:BH60,9,FALSE)","v":0},{"$f":"VLOOKUP(BP57,AZ57:BH60,8,FALSE)","v":0},{"$f":"IF(AND(BQ57=BQ59,BR59>BR57),BP59,BP57)","v":""},{"$f":"VLOOKUP(BS57,AZ57:BH60,9,FALSE)","v":0},{"$f":"VLOOKUP(BS57,AZ57:BH60,8,FALSE)","v":0},{"$f":"IF(AND(BT57=BT60,BU60>BU57),BS60,BS57)","v":""},{"$f":"VLOOKUP(BV57,AZ57:BH60,9,FALSE)","v":0},{"$f":"VLOOKUP(BV57,AZ57:BH60,8,FALSE)","v":0},{"$f":"VLOOKUP(BV57,AZ57:BH60,6,FALSE)","v":0},{"$f":"IF(AND(BW57=BW58,BX57=BX58,BY58>BY57),BV58,BV57)","v":""},{"$f":"VLOOKUP(BZ57,AZ57:BH60,9,FALSE)","v":0},{"$f":"VLOOKUP(BZ57,AZ57:BH60,8,FALSE)","v":0},{"$f":"VLOOKUP(BZ57,AZ57:BH60,6,FALSE)","v":0},{"$f":"IF(AND(CA57=CA59,CB57=CB59,CC59>CC57),BZ59,BZ57)","v":""},{"$f":"VLOOKUP(CD57,AZ57:BH60,9,FALSE)","v":0},{"$f":"VLOOKUP(CD57,AZ57:BH60,8,FALSE)","v":0},{"$f":"VLOOKUP(CD57,AZ57:BH60,6,FALSE)","v":0},{"$f":"IF(AND(CE57=CE60,CF57=CF60,CG60>CG57),CD60,CD57)","v":""},{"$f":"VLOOKUP(CH57,AZ57:BH60,9,FALSE)","v":0},{"$f":"VLOOKUP(CH57,AZ57:BH60,8,FALSE)","v":0},{"$f":"VLOOKUP(CH57,AZ57:BH60,6,FALSE)","v":0},null,null,null,{"$f":"CH57","v":""},{"$f":"VLOOKUP(CO57,AZ57:BH60,2,FALSE)","v":0},{"$f":"VLOOKUP(CO57,AZ57:BH60,3,FALSE)","v":6},{"$f":"VLOOKUP(CO57,AZ57:BH60,4,FALSE)","v":-12},{"$f":"VLOOKUP(CO57,AZ57:BH60,5,FALSE)","v":6},{"$f":"VLOOKUP(CO57,AZ57:BH60,6,FALSE)","v":0},{"$f":"VLOOKUP(CO57,AZ57:BH60,7,FALSE)","v":0},{"$f":"VLOOKUP(CO57,AZ57:BH60,8,FALSE)","v":0},{"$f":"VLOOKUP(CO57,AZ57:BH60,9,FALSE)","v":0},null,null,{"$f":"IF(G57<>\"\",IF(G57>G58,C57,IF(G58>G57,C58,\"Empate\")),\"\")","v":""},{"$f":"IF(G57<>\"\",IF(G57<G58,C57,IF(G58<G57,C58,\"Empate\")),\"\")","v":""},null,null,null,null,null,null,null,null,null,null,null,null,null,null,null,6,4,4,22,"Vitória Coelho (ACV)","","Leonor Inácio (ACV)",null,null,null,null,null,null,null,"21 a 23","Class","Cl","Jogadores","Jg","V","E","D","PM","PS","DP","Pt.","Rank"]
[null,{"$f":"H50+1","v":29},{"$f":"AZ59","v":""},null,null,null,{"$f":"IF(ISBLANK(D57),\"\",SUM(IF(D58>D57,1,0)+(IF(E58>E57,1,0)+(IF(F58>F57,1,0)))))","v":""},{"$f":"B58+1","v":30},{"$f":"IF(I57=\"\",\"\",AZ58)","v":""},null,null,null,{"$f":"IF(ISBLANK(J57),\"\",SUM(IF(J58>J57,1,0)+(IF(K58>K57,1,0)+(IF(L58>L57,1,0)))))","v":""},null,null,"Jogo Nº",{"$f":"CONCATENATE($A$4,\" \",SUM($H$68+8))","v":"SS-InfB 56"},null,null,null,null,null,null,null,null,null,null,null,null,null,null,null,null,null,null,5,null,{"$f":"IF(AM58=\"\",\"\",\"2º\")","v":""},{"$f":"CO58","v":""},{"$f":"IF(AM58=\"\",\"\",CP58)","v":""},{"$f":"IF(AM58=\"\",\"\",CQ58)","v":""},{"$f":"IF(AM58=\"\",\"\",CR58)","v":""},{"$f":"IF(AM58=\"\",\"\",CS58)","v":""},{"$f":"IF(AM58=\"\",\"\",CT58)","v":""},{"$f":"IF(AM58=\"\",\"\",CU58)","v":""},{"$f":"IF(AM58=\"\",\"\",CV58)","v":""},{"$f":"IF(AM58=\"\",\"\",CW58)","v":""},{"$f":"IF(AND($DQ$1>=17,$DQ$1<=20),AW58,IF(AND($DQ$1>=21,$DQ$1<=23),AX58,AY58))","v":" "}," "," ",10,{"$f":"IF($DQ$1<=20,\"\",IF(AND($DQ$1>20,$DQ$1<24),\"\",LOOKUP(DR10,$DR$1:$DR$32,$DY$1:$DY$32)))","v":""},{"$f":"COUNT(G55,M58,G60)","v":0},{"$f":"COUNTIF(CZ55:CZ60,AZ58)","v":6},{"$f":"BA58-(BB58+BD58)","v":-12},{"$f":"COUNTIF(DA55:DA60,AZ58)","v":6},{"$f":"SUM(D55:F55,J58:L58,D60:F60)","v":0},{"$f":"SUM(D56:F56,J57:L57,D59:F59)","v":0},{"$f":"BE58-BF58","v":0},{"$f":"IF(BA58=0,0,BB58*2+BD58*1)","v":0},{"$f":"IF(BH58<=BH57,AZ58,AZ57)","v":""},{"$f":"VLOOKUP(BI58,AZ57:BH60,9,FALSE)","v":0},{"$f":"IF(BJ58>=BJ60,BI58,BI60)","v":""},{"$f":"VLOOKUP(BK58,AZ57:BH60,9,FALSE)","v":0},{"$f":"IF(BL58>=BL59,BK58,BK59)","v":""},{"$f":"VLOOKUP(BM58,AZ57:BH60,9,FALSE)","v":0},{"$f":"VLOOKUP(BM58,AZ57:BH60,8,FALSE)","v":0},{"$f":"IF(AND(BN57=BN58,BO58>BO57),BM57,BM58)","v":""},{"$f":"VLOOKUP(BP58,AZ57:BH60,9,FALSE)","v":0},{"$f":"VLOOKUP(BP58,AZ57:BH60,8,FALSE)","v":0},{"$f":"IF(AND(BQ58=BQ60,BR60>BR58),BP60,BP58)","v":""},{"$f":"VLOOKUP(BS58,AZ57:BH60,9,FALSE)","v":0},{"$f":"VLOOKUP(BS58,AZ57:BH60,8,FALSE)","v":0},{"$f":"IF(AND(BT58=BT59,BU59>BU58),BS59,BS58)","v":""},{"$f":"VLOOKUP(BV58,AZ57:BH60,9,FALSE)","v":0},{"$f":"VLOOKUP(BV58,AZ57:BH60,8,FALSE)","v":0},{"$f":"VLOOKUP(BV58,AZ57:BH60,6,FALSE)","v":0},{"$f":"IF(AND(BW57=BW58,BX57=BX58,BY58>BY57),BV57,BV58)","v":""},{"$f":"VLOOKUP(BZ58,AZ57:BH60,9,FALSE)","v":0},{"$f":"VLOOKUP(BZ58,AZ57:BH60,8,FALSE)","v":0},{"$f":"VLOOKUP(BZ58,AZ57:BH60,6,FALSE)","v":0},{"$f":"IF(AND(CA58=CA60,CB58=CB60,CC60>CC58),BZ60,BZ58)","v":""},{"$f":"VLOOKUP(CD58,AZ57:BH60,9,FALSE)","v":0},{"$f":"VLOOKUP(CD58,AZ57:BH60,8,FALSE)","v":0},{"$f":"VLOOKUP(CD58,AZ57:BH60,6,FALSE)","v":0},{"$f":"IF(AND(CE58=CE59,CF58=CF59,CG59>CG58),CD59,CD58)","v":""},{"$f":"VLOOKUP(CH58,AZ57:BH60,9,FALSE)","v":0},{"$f":"VLOOKUP(CH58,AZ57:BH60,8,FALSE)","v":0},{"$f":"VLOOKUP(CH58,AZ57:BH60,6,FALSE)","v":0},null,null,null,{"$f":"CH58","v":""},{"$f":"VLOOKUP(CO58,AZ57:BH60,2,FALSE)","v":0},{"$f":"VLOOKUP(CO58,AZ57:BH60,3,FALSE)","v":6},{"$f":"VLOOKUP(CO58,AZ57:BH60,4,FALSE)","v":-12},{"$f":"VLOOKUP(CO58,AZ57:BH60,5,FALSE)","v":6},{"$f":"VLOOKUP(CO58,AZ57:BH60,6,FALSE)","v":0},{"$f":"VLOOKUP(CO58,AZ57:BH60,7,FALSE)","v":0},{"$f":"VLOOKUP(CO58,AZ57:BH60,8,FALSE)","v":0},{"$f":"VLOOKUP(CO58,AZ57:BH60,9,FALSE)","v":0},null,null,{"$f":"IF(M57<>\"\",IF(M57>M58,I57,IF(M58>M57,I58,\"Empate\")),\"\")","v":""},{"$f":"IF(M57<>\"\",IF(M57<M58,I57,IF(M58<M57,I58,\"Empate\")),\"\")","v":""},null,null,null,null,null,null,null,null,null,null,null,null,null,null,null,7,5,5,23,"Daniela Dias (ACV)","","Beatriz Coelho (ACV)",null,null,null,null,null,null,null,"A",{"$f":"COUNTIF($EQ$58:$EQ$63,CONCATENATE(\">=\",EQ58))","v":5},{"$f":"AL11","v":"3º"},"Iris Rodrigues (ACV)",2,0,0,2,13,44,-31,2,{"$f":"EP58*1000000+(EM58-EN58)*10000+EM58*100+ER58","v":1691306},6]
[null,{"$f":"$A$4","v":"SS-InfB"},{"$f":"AZ59","v":""},null,null,null,{"$f":"IF(ISBLANK(D59),\"\",SUM(IF(D59>D60,1,0)+(IF(E59>E60,1,0)+(IF(F59>F60,1,0)))))","v":""},{"$f":"$A$4","v":"SS-InfB"},{"$f":"AZ60","v":""},null,null,null,{"$f":"IF(ISBLANK(J59),\"\",SUM(IF(J59>J60,1,0)+(IF(K59>K60,1,0)+(IF(L59>L60,1,0)))))","v":""},null,15,{"$f":"IF($DQ$1<=20,LOOKUP(O59,$DT$36:$DT$51,$DU$36:$DU$51),IF(AND($DQ$1>20,$DQ$1<24),LOOKUP(O59,$DT$36:$DT$51,$DV$36:$DV$51),LOOKUP(O59,$DT$36:$DT$51,$DW$36:$DW$51)))","v":"Iara Nascimento (ACV)"},3,0,null,{"$f":"IF(ISBLANK(Q59),\"\",SUM(IF(Q59>Q60,1,0)+(IF(R59>R60,1,0)+(IF(S59>S60,1,0)))))","v":0},null,null,null,null,null,null,null,null,null,null,null,null,null,null,null,null,null,{"$f":"IF(AM59=\"\",\"\",\"3º\")","v":""},{"$f":"CO59","v":""},{"$f":"IF(AM59=\"\",\"\",CP59)","v":""},{"$f":"IF(AM59=\"\",\"\",CQ59)","v":""},{"$f":"IF(AM59=\"\",\"\",CR59)","v":""},{"$f":"IF(AM59=\"\",\"\",CS59)","v":""},{"$f":"IF(AM59=\"\",\"\",CT59)","v":""},{"$f":"IF(AM59=\"\",\"\",CU59)","v":""},{"$f":"IF(AM59=\"\",\"\",CV59)","v":""},{"$f":"IF(AM59=\"\",\"\",CW59)","v":""},{"$f":"IF(AND($DQ$1>=17,$DQ$1<=20),AW59,IF(AND($DQ$1>=21,$DQ$1<=23),AX59,AY59))","v":" "}," "," ",23,{"$f":"IF($DQ$1<=20,\"\",IF(AND($DQ$1>20,$DQ$1<24),\"\",LOOKUP(DR23,$DR$1:$DR$32,$DY$1:$DY$32)))","v":""},{"$f":"COUNT(M55,G58,G59)","v":0},{"$f":"COUNTIF(CZ55:CZ60,AZ59)","v":6},{"$f":"BA59-(BB59+BD59)","v":-12},{"$f":"COUNTIF(DA55:DA60,AZ59)","v":6},{"$f":"SUM(J55:L55,D58:F58,D59:F59)","v":0},{"$f":"SUM(J56:L56,D57:F57,D60:F60)","v":0},{"$f":"BE59-BF59","v":0},{"$f":"IF(BA59=0,0,BB59*2+BD59*1)","v":0},{"$f":"IF(BH59>=BH60,AZ59,AZ60)","v":""},{"$f":"VLOOKUP(BI59,AZ57:BH60,9,FALSE)","v":0},{"$f":"IF(BJ59<=BJ57,BI59,BI57)","v":""},{"$f":"VLOOKUP(BK59,AZ57:BH60,9,FALSE)","v":0},{"$f":"IF(BL59<=BL58,BK59,BK58)","v":""},{"$f":"VLOOKUP(BM59,AZ57:BH60,9,FALSE)","v":0},{"$f":"VLOOKUP(BM59,AZ57:BH60,8,FALSE)","v":0},{"$f":"IF(AND(BN59=BN60,BO60>BO59),BM60,BM59)","v":""},{"$f":"VLOOKUP(BP59,AZ57:BH60,9,FALSE)","v":0},{"$f":"VLOOKUP(BP59,AZ57:BH60,8,FALSE)","v":0},{"$f":"IF(AND(BQ57=BQ59,BR59>BR57),BP57,BP59)","v":""},{"$f":"VLOOKUP(BS59,AZ57:BH60,9,FALSE)","v":0},{"$f":"VLOOKUP(BS59,AZ57:BH60,8,FALSE)","v":0},{"$f":"IF(AND(BT58=BT59,BU59>BU58),BS58,BS59)","v":""},{"$f":"VLOOKUP(BV59,AZ57:BH60,9,FALSE)","v":0},{"$f":"VLOOKUP(BV59,AZ57:BH60,8,FALSE)","v":0},{"$f":"VLOOKUP(BV59,AZ57:BH60,6,FALSE)","v":0},{"$f":"IF(AND(BW59=BW60,BX59=BX60,BY60>BY59),BV60,BV59)","v":""},{"$f":"VLOOKUP(BZ59,AZ57:BH60,9,FALSE)","v":0},{"$f":"VLOOKUP(BZ59,AZ57:BH60,8,FALSE)","v":0},{"$f":"VLOOKUP(BZ59,AZ57:BH60,6,FALSE)","v":0},{"$f":"IF(AND(CA57=CA59,CB57=CB59,CC58>CC57),BZ57,BZ59)","v":""},{"$f":"VLOOKUP(CD59,AZ57:BH60,9,FALSE)","v":0},{"$f":"VLOOKUP(CD59,AZ57:BH60,8,FALSE)","v":0},{"$f":"VLOOKUP(CD59,AZ57:BH60,6,FALSE)","v":0},{"$f":"IF(AND(CE58=CE59,CF58=CF59,CG59>CG58),CD58,CD59)","v":""},{"$f":"VLOOKUP(CH59,AZ57:BH60,9,FALSE)","v":0},{"$f":"VLOOKUP(CH59,AZ57:BH60,8,FALSE)","v":0},{"$f":"VLOOKUP(CH59,AZ57:BH60,6,FALSE)","v":0},null,null,null,{"$f":"CH59","v":""},{"$f":"VLOOKUP(CO59,AZ57:BH60,2,FALSE)","v":0},{"$f":"VLOOKUP(CO59,AZ57:BH60,3,FALSE)","v":6},{"$f":"VLOOKUP(CO59,AZ57:BH60,4,FALSE)","v":-12},{"$f":"VLOOKUP(CO59,AZ57:BH60,5,FALSE)","v":6},{"$f":"VLOOKUP(CO59,AZ57:BH60,6,FALSE)","v":0},{"$f":"VLOOKUP(CO59,AZ57:BH60,7,FALSE)","v":0},{"$f":"VLOOKUP(CO59,AZ57:BH60,8,FALSE)","v":0},{"$f":"VLOOKUP(CO59,AZ57:BH60,9,FALSE)","v":0},null,null,{"$f":"IF(M59<>\"\",IF(M59>M60,I59,IF(M60>M59,I60,\"Empate\")),\"\")","v":""},{"$f":"IF(M59<>\"\",IF(M59<M60,I59,IF(M60<M59,I60,\"Empate\")),\"\")","v":""},null,null,null,null,null,null,null,null,null,null,null,null,null,null,null,8,6,6,24,"Leonor Inácio (ACV)","","Iris Rodrigues (ACV)",null,null,null,null,null,null,null,"B",2,{"$f":"AL19","v":"3º"},"Loredana Junea (DP)",3,1,0,2,64,68,-4,4,3966405,5]
[null,{"$f":"H52+1","v":45},{"$f":"AZ58","v":""},null,null,null,{"$f":"IF(ISBLANK(D59),\"\",SUM(IF(D60>D59,1,0)+(IF(E60>E59,1,0)+(IF(F60>F59,1,0)))))","v":""},{"$f":"B60+1","v":46},{"$f":"IF(I59=\"\",\"\",AZ57)","v":""},null,null,null,{"$f":"IF(ISBLANK(J59),\"\",SUM(IF(J60>J59,1,0)+(IF(K60>K59,1,0)+(IF(L60>L59,1,0)))))","v":""},null,2,{"$f":"IF($DQ$1<=20,LOOKUP(O60,$DT$36:$DT$51,$DU$36:$DU$51),IF(AND($DQ$1>20,$DQ$1<24),LOOKUP(O60,$DT$36:$DT$51,$DV$36:$DV$51),LOOKUP(O60,$DT$36:$DT$51,$DW$36:$DW$51)))","v":"Lara Carvalho (ASA)"},9,9,null,{"$f":"IF(ISBLANK(Q59),\"\",SUM(IF(Q60>Q59,1,0)+(IF(R60>R59,1,0)+(IF(S60>S59,1,0)))))","v":2},null,null,null,null,null,null,null,null,null,null,null,null,null,null,null,null,null,{"$f":"IF(AM60=\"\",\"\",\"4º\")","v":""},{"$f":"CO60","v":""},{"$f":"IF(AM60=\"\",\"\",CP60)","v":""},{"$f":"IF(AM60=\"\",\"\",CQ60)","v":""},{"$f":"IF(AM60=\"\",\"\",CR60)","v":""},{"$f":"IF(AM60=\"\",\"\",CS60)","v":""},{"$f":"IF(AM60=\"\",\"\",CT60)","v":""},{"$f":"IF(AM60=\"\",\"\",CU60)","v":""},{"$f":"IF(AM60=\"\",\"\",CV60)","v":""},{"$f":"IF(AM60=\"\",\"\",CW60)","v":""},{"$f":"IF(AND($DQ$1>=17,$DQ$1<=20),AW60,IF(AND($DQ$1>=21,$DQ$1<=23),AX60,AY60))","v":" "}," "," ",26,{"$f":"IF($DQ$1<=20,\"\",IF(AND($DQ$1>20,$DQ$1<24),\"\",LOOKUP(DR26,$DR$1:$DR$32,$DY$1:$DY$32)))","v":""},{"$f":"COUNT(M56,M57,M59)","v":0},{"$f":"COUNTIF(CZ55:CZ60,AZ60)","v":6},{"$f":"BA60-(BB60+BD60)","v":-12},{"$f":"COUNTIF(DA55:DA60,AZ60)","v":6},{"$f":"SUM(J56:L56,J57:L57,J59:L59)","v":0},{"$f":"SUM(J55:L55,J58:L58,J60:L60)","v":0},{"$f":"BE60-BF60","v":0},{"$f":"IF(BA60=0,0,BB60*2+BD60*1)","v":0},{"$f":"IF(BH60<=BH59,AZ60,AZ59)","v":""},{"$f":"VLOOKUP(BI60,AZ57:BH60,9,FALSE)","v":0},{"$f":"IF(BJ60<=BJ58,BI60,BI58)","v":""},{"$f":"VLOOKUP(BK60,AZ57:BH60,9,FALSE)","v":0},{"$f":"IF(BL60<=BL57,BK60,BK57)","v":""},{"$f":"VLOOKUP(BM60,AZ57:BH60,9,FALSE)","v":0},{"$f":"VLOOKUP(BM60,AZ57:BH60,8,FALSE)","v":0},{"$f":"IF(AND(BN59=BN60,BO60>BO59),BM59,BM60)","v":""},{"$f":"VLOOKUP(BP60,AZ57:BH60,9,FALSE)","v":0},{"$f":"VLOOKUP(BP60,AZ57:BH60,8,FALSE)","v":0},{"$f":"IF(AND(BQ58=BQ60,BR60>BR58),BP58,BP60)","v":""},{"$f":"VLOOKUP(BS60,AZ57:BH60,9,FALSE)","v":0},{"$f":"VLOOKUP(BS60,AZ57:BH60,8,FALSE)","v":0},{"$f":"IF(AND(BT57=BT60,BU60>BU57),BS57,BS60)","v":""},{"$f":"VLOOKUP(BV60,AZ57:BH60,9,FALSE)","v":0},{"$f":"VLOOKUP(BV60,AZ57:BH60,8,FALSE)","v":0},{"$f":"VLOOKUP(BV60,AZ57:BH60,6,FALSE)","v":0},{"$f":"IF(AND(BW59=BW60,BX59=BX60,BY60>BY59),BV59,BV60)","v":""},{"$f":"VLOOKUP(BZ60,AZ57:BH60,9,FALSE)","v":0},{"$f":"VLOOKUP(BZ60,AZ57:BH60,8,FALSE)","v":0},{"$f":"VLOOKUP(BZ60,AZ57:BH60,6,FALSE)","v":0},{"$f":"IF(AND(CA58=CA60,CB58=CB60,CC60>CC58),BZ58,BZ60)","v":""},{"$f":"VLOOKUP(CD60,AZ57:BH60,9,FALSE)","v":0},{"$f":"VLOOKUP(CD60,AZ57:BH60,8,FALSE)","v":0},{"$f":"VLOOKUP(CD60,AZ57:BH60,6,FALSE)","v":0},{"$f":"IF(AND(CE57=CE60,CF57=CF60,CG60>CG57),CD57,CD60)","v":""},{"$f":"VLOOKUP(CH60,AZ57:BH60,9,FALSE)","v":0},{"$f":"VLOOKUP(CH60,AZ57:BH60,8,FALSE)","v":0},{"$f":"VLOOKUP(CH60,AZ57:BH60,6,FALSE)","v":0},null,null,null,{"$f":"CH60","v":""},{"$f":"VLOOKUP(CO60,AZ57:BH60,2,FALSE)","v":0},{"$f":"VLOOKUP(CO60,AZ57:BH60,3,FALSE)","v":6},{"$f":"VLOOKUP(CO60,AZ57:BH60,4,FALSE)","v":-12},{"$f":"VLOOKUP(CO60,AZ57:BH60,5,FALSE)","v":6},{"$f":"VLOOKUP(CO60,AZ57:BH60,6,FALSE)","v":0},{"$f":"VLOOKUP(CO60,AZ57:BH60,7,FALSE)","v":0},{"$f":"VLOOKUP(CO60,AZ57:BH60,8,FALSE)","v":0},{"$f":"VLOOKUP(CO60,AZ57:BH60,9,FALSE)","v":0},null,null,{"$f":"IF(G60<>\"\",IF(G60>G59,C60,IF(G59>G60,C59,\"Empate\")),\"\")","v":""},{"$f":"IF(G60<>\"\",IF(G60<G59,C60,IF(G59<G60,C59,\"Empate\")),\"\")","v":""},null,null,null,null,null,null,null,null,null,null,null,null,null,null,null,9,6,7,25,"Beatriz Coelho (ACV)","","Carina Croitoru (ASA)",null,null,null,null,null,null,null,"C",1,{"$f":"AL27","v":"3º"},"Carolina Rodrigues (ACV)",3,1,0,2,70,56,14,4,4147004,4]
[null,null,null,null,null,null,null,null,null,null,null,null,null,null,null,null,null,null,null,null,null,null,null,null,null,null,null,null,null,null,null,null,null,null,null,null,null,null,null,null,null,null,null,null,null,null,null,null,null,null,null,null,null,null,null,null,null,null,null,null,null,null,null,null,null,null,null,null,null,null,null,null,null,null,null,null,null,null,null,null,null,null,null,null,null,null,null,null,null,null,null,null,null,null,null,null,null,null,null,null,null,null,null,null,null,null,null,null,null,null,null,null,null,null,null,null,null,null,null,null,10,6,8,26,"Iris Rodrigues (ACV)","","",null,null,null,null,null,null,null,"D",4,{"$f":"AL35","v":"3º"},"Beatriz Coelho (ACV)",2,0,0,2,27,44,-17,2,1832703,3]
["Grupo H","NºJ","Jogadores",1,2,3,"R","NºJ","Jogadores",1,2,3,"R",null,null,null,null,null,null,null,null,null,null,null,null,null,null,null,null,null,null,null,null,null,null,null,null,null,null,null,null,null,null,null,null,null,null,null,null,null,null,"Colocar Equipas",null,null,null,null,null,null,null,null,"Ordenar p/ Pts 1",null,"Ordenar p/ Pts 2",null,"Ordenar p/ Pts 3",null,null,"Ordenar p/ DG 1",null,null,"Ordenar p/ DG 2",null,null,"Ordenar p/ DG 3",null,null,null,"Ordenar p/ GM 1",null,null,null,"Ordenar p/ GM 2",null,null,null,"Ordenar p/ GM 3",null,null,null,null,null,null,null,null,null,null,null,null,null,null,null,null,null,"Vencedores","Derrotados",null,null,null,null,null,null,null,null,null,null,null,null,null,null,null,11,null,9,27,"",null,"",null,null,null,null,null,null,null,"E",3,{"$f":"AL43","v":"3º"},"Iara Nascimento (ACV)",3,1,0,2,39,60,-21,4,3793902,2]
[null,{"$f":"$A$4","v":"SS-InfB"},{"$f":"AZ66","v":""},null,null,null,{"$f":"IF(ISBLANK(D63),\"\",SUM(IF(D63>D64,1,0)+(IF(E63>E64,1,0)+(IF(F63>F64,1,0)))))","v":""},{"$f":"$A$4","v":"SS-InfB"},{"$f":"IF(I64=\"\",\"\",AZ67)","v":""},null,null,null,{"$f":"IF(ISBLANK(J63),\"\",SUM(IF(J63>J64,1,0)+(IF(K63>K64,1,0)+(IF(L63>L64,1,0)))))","v":""},null,null,null,null,null,null,null,null,null,null,null,null,null,null,null,null,null,null,null,null,null,null,null,null,null,"Classificação Grupo H",null,null,null,null,null,null,null,null,null,null,null,null,"Grupo H",null,null,null,null,null,null,null,null,null,null,null,null,null,null,null,null,null,null,null,null,null,null,null,null,null,null,null,null,null,null,null,null,null,null,null,null,null,null,null,null,null,null,null,null,null,null,null,null,null,null,null,{"$f":"IF(G64<>\"\",IF(G64>G63,C64,IF(G63>G64,C63,\"Empate\")),\"\")","v":""},{"$f":"IF(G64<>\"\",IF(G64<G63,C64,IF(G63<G64,C63,\"Empate\")),\"\")","v":""},null,null,null,null,null,null,null,null,null,null,null,null,null,null,null,12,null,10,28,"",null,"",null,null,null,null,null,null,null,"F",6,{"$f":"AL51","v":"3º"},"Carina Croitoru (ASA)",2,0,0,2,12,44,-32,2,1681201,1]
[null,{"$f":"H56+1","v":15},{"$f":"AZ65","v":""},null,null,null,{"$f":"IF(ISBLANK(D63),\"\",SUM(IF(D64>D63,1,0)+(IF(E64>E63,1,0)+(IF(F64>F63,1,0)))))","v":""},{"$f":"B64+1","v":16},{"$f":"AZ68","v":""},null,null,null,{"$f":"IF(ISBLANK(J63),\"\",SUM(IF(J64>J63,1,0)+(IF(K64>K63,1,0)+(IF(L64>L63,1,0)))))","v":""},null,null,null,null,null,null,null,null,null,null,null,null,null,null,null,null,null,null,null,null,null,null,null,null,"Cl",{"$f":"AZ64","v":"Jogadores"},"Jg","V","E","D","PM","PS","DP","Pt.",null,null,null,null,"Jogadores","Jg","V","E","D","GM","GS","DG","Pts","Equipas","Pts","Equipas","Pts","Equipas","Pts","DG","Equipas","Pts","DG","Equipas","Pts","DG","Equipas","Pts","DG","GM","Equipas","Pts","DG","GM","Equipas","Pts","DG","GM","Equipas","Pts","DG","GM",null,null,null,"Equipas","Jg","V","D","E","GM","GS","DG","Pts",null,null,{"$f":"IF(M63<>\"\",IF(M63>M64,I63,IF(M64>M63,I64,\"Empate\")),\"\")","v":""},{"$f":"IF(M63<>\"\",IF(M63<M64,I63,IF(M64<M63,I64,\"Empate\")),\"\")","v":""},null,null,null,null,null,null,null,null,null,null,null,null,null,null,null,13,null,null,29,null,null,"",null,null,null,null,null,null,null,"A",{"$f":"COUNTIF($EQ$64:$EQ$69,CONCATENATE(\">=\",EQ64))","v":4},{"$f":"AL12","v":""},"","","","","",{"$f":"IF($EH$64=\"\",-0.1,AR12)","v":-0.1},{"$f":"IF($EH$64=\"\",-0.1,AS12)","v":-0.1},{"$f":"IF($EH$64=\"\",-0.1,AT12)","v":-0.1},{"$f":"IF($EH$64=\"\",-0.1,AU12)","v":-0.1},-100004,6]
[null,{"$f":"$A$4","v":"SS-InfB"},{"$f":"AZ65","v":""},null,null,null,{"$f":"IF(ISBLANK(D65),\"\",SUM(IF(D65>D66,1,0)+(IF(E65>E66,1,0)+(IF(F65>F66,1,0)))))","v":""},{"$f":"$A$4","v":"SS-InfB"},{"$f":"AZ68","v":""},null,null,null,{"$f":"IF(ISBLANK(J65),\"\",SUM(IF(J65>J66,1,0)+(IF(K65>K66,1,0)+(IF(L65>L66,1,0)))))","v":""},null,null,null,null,null,null,null,null,null,null,null,null,null,null,null,null,null,null,null,null,null,null,2,null,{"$f":"IF(AM65=\"\",\"\",\"1º\")","v":""},{"$f":"CO65","v":""},{"$f":"IF(AM65=\"\",\"\",CP65)","v":""},{"$f":"IF(AM65=\"\",\"\",CQ65)","v":""},{"$f":"IF(AM65=\"\",\"\",CR65)","v":""},{"$f":"IF(AM65=\"\",\"\",CS65)","v":""},{"$f":"IF(AM65=\"\",\"\",CT65)","v":""},{"$f":"IF(AM65=\"\",\"\",CU65)","v":""},{"$f":"IF(AM65=\"\",\"\",CV65)","v":""},{"$f":"IF(AM65=\"\",\"\",CW65)","v":""},{"$f":"IF(AND($DQ$1>=17,$DQ$1<=20),AW65,IF(AND($DQ$1>=21,$DQ$1<=23),AX65,AY65))","v":" "}," "," ",2,{"$f":"IF($DQ$1<=20,\"\",IF(AND($DQ$1>20,$DQ$1<24),\"\",LOOKUP(DR2,$DR$1:$DR$32,$DY$1:$DY$32)))","v":""},{"$f":"COUNT(G64,G65,M68)","v":0},{"$f":"COUNTIF(CZ63:CZ68,AZ65)","v":6},{"$f":"BA65-(BB65+BD65)","v":-12},{"$f":"COUNTIF(DA63:DA68,AZ65)","v":6},{"$f":"SUM(D64:F64,D65:F65,J68:L68)","v":0},{"$f":"SUM(D63:F63,D66:F66,J67:L67)","v":0},{"$f":"BE65-BF65","v":0},{"$f":"IF(BA65=0,0,BB65*2+BD65*1)","v":0},{"$f":"IF(BH65>=BH66,AZ65,AZ66)","v":""},{"$f":"VLOOKUP(BI65,AZ65:BH68,9,FALSE)","v":0},{"$f":"IF(BJ65>=BJ67,BI65,BI67)","v":""},{"$f":"VLOOKUP(BK65,AZ65:BH68,9,FALSE)","v":0},{"$f":"IF(BL65>=BL68,BK65,BK68)","v":""},{"$f":"VLOOKUP(BM65,AZ65:BH68,9,FALSE)","v":0},{"$f":"VLOOKUP(BM65,AZ65:BH68,8,FALSE)","v":0},{"$f":"IF(AND(BN65=BN66,BO66>BO65),BM66,BM65)","v":""},{"$f":"VLOOKUP(BP65,AZ65:BH68,9,FALSE)","v":0},{"$f":"VLOOKUP(BP65,AZ65:BH68,8,FALSE)","v":0},{"$f":"IF(AND(BQ65=BQ67,BR67>BR65),BP67,BP65)","v":""},{"$f":"VLOOKUP(BS65,AZ65:BH68,9,FALSE)","v":0},{"$f":"VLOOKUP(BS65,AZ65:BH68,8,FALSE)","v":0},{"$f":"IF(AND(BT65=BT68,BU68>BU65),BS68,BS65)","v":""},{"$f":"VLOOKUP(BV65,AZ65:BH68,9,FALSE)","v":0},{"$f":"VLOOKUP(BV65,AZ65:BH68,8,FALSE)","v":0},{"$f":"VLOOKUP(BV65,AZ65:BH68,6,FALSE)","v":0},{"$f":"IF(AND(BW65=BW66,BX65=BX66,BY66>BY65),BV66,BV65)","v":""},{"$f":"VLOOKUP(BZ65,AZ65:BH68,9,FALSE)","v":0},{"$f":"VLOOKUP(BZ65,AZ65:BH68,8,FALSE)","v":0},{"$f":"VLOOKUP(BZ65,AZ65:BH68,6,FALSE)","v":0},{"$f":"IF(AND(CA65=CA67,CB65=CB67,CC67>CC65),BZ67,BZ65)","v":""},{"$f":"VLOOKUP(CD65,AZ65:BH68,9,FALSE)","v":0},{"$f":"VLOOKUP(CD65,AZ65:BH68,8,FALSE)","v":0},{"$f":"VLOOKUP(CD65,AZ65:BH68,6,FALSE)","v":0},{"$f":"IF(AND(CE65=CE68,CF65=CF68,CG68>CG65),CD68,CD65)","v":""},{"$f":"VLOOKUP(CH65,AZ65:BH68,9,FALSE)","v":0},{"$f":"VLOOKUP(CH65,AZ65:BH68,8,FALSE)","v":0},{"$f":"VLOOKUP(CH65,AZ65:BH68,6,FALSE)","v":0},null,null,null,{"$f":"CH65","v":""},{"$f":"VLOOKUP(CO65,AZ65:BH68,2,FALSE)","v":0},{"$f":"VLOOKUP(CO65,AZ65:BH68,3,FALSE)","v":6},{"$f":"VLOOKUP(CO65,AZ65:BH68,4,FALSE)","v":-12},{"$f":"VLOOKUP(CO65,AZ65:BH68,5,FALSE)","v":6},{"$f":"VLOOKUP(CO65,AZ65:BH68,6,FALSE)","v":0},{"$f":"VLOOKUP(CO65,AZ65:BH68,7,FALSE)","v":0},{"$f":"VLOOKUP(CO65,AZ65:BH68,8,FALSE)","v":0},{"$f":"VLOOKUP(CO65,AZ65:BH68,9,FALSE)","v":0},null,null,{"$f":"IF(G65<>\"\",IF(G65>G66,C65,IF(G66>G65,C66,\"Empate\")),\"\")","v":""},{"$f":"IF(G65<>\"\",IF(G65<G66,C65,IF(G66<G65,C66,\"Empate\")),\"\")","v":""},null,null,null,null,null,null,null,null,null,null,null,null,null,null,null,14,null,null,30,null,null,"",null,null,null,null,null,null,null,"B",3,{"$f":"AL20","v":"4º"},"Leonor Inácio (ACV)",3,0,0,3,{"$f":"IF($EH$65=\"\",-0.1,AR20)","v":30},{"$f":"IF($EH$65=\"\",-0.1,AS20)","v":66},{"$f":"IF($EH$65=\"\",-0.1,AT20)","v":-36},{"$f":"IF($EH$65=\"\",-0.1,AU20)","v":3},2643005,5]
[null,{"$f":"H58+1","v":31},{"$f":"AZ67","v":""},null,null,null,{"$f":"IF(ISBLANK(D65),\"\",SUM(IF(D66>D65,1,0)+(IF(E66>E65,1,0)+(IF(F66>F65,1,0)))))","v":""},{"$f":"B66+1","v":32},{"$f":"IF(I65=\"\",\"\",AZ66)","v":""},null,null,null,{"$f":"IF(ISBLANK(J65),\"\",SUM(IF(J66>J65,1,0)+(IF(K66>K65,1,0)+(IF(L66>L65,1,0)))))","v":""},null,null,null,null,null,null,null,null,null,null,null,null,null,null,null,null,null,null,null,null,null,null,8,null,{"$f":"IF(AM66=\"\",\"\",\"2º\")","v":""},{"$f":"CO66","v":""},{"$f":"IF(AM66=\"\",\"\",CP66)","v":""},{"$f":"IF(AM66=\"\",\"\",CQ66)","v":""},{"$f":"IF(AM66=\"\",\"\",CR66)","v":""},{"$f":"IF(AM66=\"\",\"\",CS66)","v":""},{"$f":"IF(AM66=\"\",\"\",CT66)","v":""},{"$f":"IF(AM66=\"\",\"\",CU66)","v":""},{"$f":"IF(AM66=\"\",\"\",CV66)","v":""},{"$f":"IF(AM66=\"\",\"\",CW66)","v":""},{"$f":"IF(AND($DQ$1>=17,$DQ$1<=20),AW66,IF(AND($DQ$1>=21,$DQ$1<=23),AX66,AY66))","v":" "}," "," ",15,{"$f":"IF($DQ$1<=20,\"\",IF(AND($DQ$1>20,$DQ$1<24),\"\",LOOKUP(DR15,$DR$1:$DR$32,$DY$1:$DY$32)))","v":""},{"$f":"COUNT(G63,M66,G68)","v":0},{"$f":"COUNTIF(CZ63:CZ68,AZ66)","v":6},{"$f":"BA66-(BB66+BD66)","v":-12},{"$f":"COUNTIF(DA63:DA68,AZ66)","v":6},{"$f":"SUM(D63:F63,J66:L66,D68:F68)","v":0},{"$f":"SUM(D64:F64,J65:L65,D67:F67)","v":0},{"$f":"BE66-BF66","v":0},{"$f":"IF(BA66=0,0,BB66*2+BD66*1)","v":0},{"$f":"IF(BH66<=BH65,AZ66,AZ65)","v":""},{"$f":"VLOOKUP(BI66,AZ65:BH68,9,FALSE)","v":0},{"$f":"IF(BJ66>=BJ68,BI66,BI68)","v":""},{"$f":"VLOOKUP(BK66,AZ65:BH68,9,FALSE)","v":0},{"$f":"IF(BL66>=BL67,BK66,BK67)","v":""},{"$f":"VLOOKUP(BM66,AZ65:BH68,9,FALSE)","v":0},{"$f":"VLOOKUP(BM66,AZ65:BH68,8,FALSE)","v":0},{"$f":"IF(AND(BN65=BN66,BO66>BO65),BM65,BM66)","v":""},{"$f":"VLOOKUP(BP66,AZ65:BH68,9,FALSE)","v":0},{"$f":"VLOOKUP(BP66,AZ65:BH68,8,FALSE)","v":0},{"$f":"IF(AND(BQ66=BQ68,BR68>BR66),BP68,BP66)","v":""},{"$f":"VLOOKUP(BS66,AZ65:BH68,9,FALSE)","v":0},{"$f":"VLOOKUP(BS66,AZ65:BH68,8,FALSE)","v":0},{"$f":"IF(AND(BT66=BT67,BU67>BU66),BS67,BS66)","v":""},{"$f":"VLOOKUP(BV66,AZ65:BH68,9,FALSE)","v":0},{"$f":"VLOOKUP(BV66,AZ65:BH68,8,FALSE)","v":0},{"$f":"VLOOKUP(BV66,AZ65:BH68,6,FALSE)","v":0},{"$f":"IF(AND(BW65=BW66,BX65=BX66,BY66>BY65),BV65,BV66)","v":""},{"$f":"VLOOKUP(BZ66,AZ65:BH68,9,FALSE)","v":0},{"$f":"VLOOKUP(BZ66,AZ65:BH68,8,FALSE)","v":0},{"$f":"VLOOKUP(BZ66,AZ65:BH68,6,FALSE)","v":0},{"$f":"IF(AND(CA66=CA68,CB66=CB68,CC68>CC66),BZ68,BZ66)","v":""},{"$f":"VLOOKUP(CD66,AZ65:BH68,9,FALSE)","v":0},{"$f":"VLOOKUP(CD66,AZ65:BH68,8,FALSE)","v":0},{"$f":"VLOOKUP(CD66,AZ65:BH68,6,FALSE)","v":0},{"$f":"IF(AND(CE66=CE67,CF66=CF67,CG67>CG66),CD67,CD66)","v":""},{"$f":"VLOOKUP(CH66,AZ65:BH68,9,FALSE)","v":0},{"$f":"VLOOKUP(CH66,AZ65:BH68,8,FALSE)","v":0},{"$f":"VLOOKUP(CH66,AZ65:BH68,6,FALSE)","v":0},null,null,null,{"$f":"CH66","v":""},{"$f":"VLOOKUP(CO66,AZ65:BH68,2,FALSE)","v":0},{"$f":"VLOOKUP(CO66,AZ65:BH68,3,FALSE)","v":6},{"$f":"VLOOKUP(CO66,AZ65:BH68,4,FALSE)","v":-12},{"$f":"VLOOKUP(CO66,AZ65:BH68,5,FALSE)","v":6},{"$f":"VLOOKUP(CO66,AZ65:BH68,6,FALSE)","v":0},{"$f":"VLOOKUP(CO66,AZ65:BH68,7,FALSE)","v":0},{"$f":"VLOOKUP(CO66,AZ65:BH68,8,FALSE)","v":0},{"$f":"VLOOKUP(CO66,AZ65:BH68,9,FALSE)","v":0},null,null,{"$f":"IF(M65<>\"\",IF(M65>M66,I65,IF(M66>M65,I66,\"Empate\")),\"\")","v":""},{"$f":"IF(M65<>\"\",IF(M65<M66,I65,IF(M66<M65,I66,\"Empate\")),\"\")","v":""},null,null,null,null,null,null,null,null,null,null,null,null,null,null,null,15,null,null,31,null,null,"",null,null,null,null,null,null,null,"C",1,{"$f":"AL28","v":"4º"},"Vitória Coelho (ACV)",3,0,0,3,{"$f":"IF($EH$66=\"\",-0.1,AR28)","v":32},{"$f":"IF($EH$66=\"\",-0.1,AS28)","v":66},{"$f":"IF($EH$66=\"\",-0.1,AT28)","v":-34},{"$f":"IF($EH$66=\"\",-0.1,AU28)","v":3},2663204,4]
[null,{"$f":"$A$4","v":"SS-InfB"},{"$f":"AZ67","v":""},null,null,null,{"$f":"IF(ISBLANK(D67),\"\",SUM(IF(D67>D68,1,0)+(IF(E67>E68,1,0)+(IF(F67>F68,1,0)))))","v":""},{"$f":"$A$4","v":"SS-InfB"},{"$f":"AZ68","v":""},null,null,null,{"$f":"IF(ISBLANK(J67),\"\",SUM(IF(J67>J68,1,0)+(IF(K67>K68,1,0)+(IF(L67>L68,1,0)))))","v":""},null,null,null,null,null,null,null,null,null,null,null,null,null,null,null,null,null,null,null,null,null,null,null,null,{"$f":"IF(AM67=\"\",\"\",\"3º\")","v":""},{"$f":"CO67","v":""},{"$f":"IF(AM67=\"\",\"\",CP67)","v":""},{"$f":"IF(AM67=\"\",\"\",CQ67)","v":""},{"$f":"IF(AM67=\"\",\"\",CR67)","v":""},{"$f":"IF(AM67=\"\",\"\",CS67)","v":""},{"$f":"IF(AM67=\"\",\"\",CT67)","v":""},{"$f":"IF(AM67=\"\",\"\",CU67)","v":""},{"$f":"IF(AM67=\"\",\"\",CV67)","v":""},{"$f":"IF(AM67=\"\",\"\",CW67)","v":""},{"$f":"IF(AND($DQ$1>=17,$DQ$1<=20),AW67,IF(AND($DQ$1>=21,$DQ$1<=23),AX67,AY67))","v":" "}," "," ",18,{"$f":"IF($DQ$1<=20,\"\",IF(AND($DQ$1>20,$DQ$1<24),\"\",LOOKUP(DR18,$DR$1:$DR$32,$DY$1:$DY$32)))","v":""},{"$f":"COUNT(M63,G66,G67)","v":0},{"$f":"COUNTIF(CZ63:CZ68,AZ67)","v":6},{"$f":"BA67-(BB67+BD67)","v":-12},{"$f":"COUNTIF(DA63:DA68,AZ67)","v":6},{"$f":"SUM(J63:L63,D66:F66,D67:F67)","v":0},{"$f":"SUM(J64:L64,D65:F65,D68:F68)","v":0},{"$f":"BE67-BF67","v":0},{"$f":"IF(BA67=0,0,BB67*2+BD67*1)","v":0},{"$f":"IF(BH67>=BH68,AZ67,AZ68)","v":""},{"$f":"VLOOKUP(BI67,AZ65:BH68,9,FALSE)","v":0},{"$f":"IF(BJ67<=BJ65,BI67,BI65)","v":""},{"$f":"VLOOKUP(BK67,AZ65:BH68,9,FALSE)","v":0},{"$f":"IF(BL67<=BL66,BK67,BK66)","v":""},{"$f":"VLOOKUP(BM67,AZ65:BH68,9,FALSE)","v":0},{"$f":"VLOOKUP(BM67,AZ65:BH68,8,FALSE)","v":0},{"$f":"IF(AND(BN67=BN68,BO68>BO67),BM68,BM67)","v":""},{"$f":"VLOOKUP(BP67,AZ65:BH68,9,FALSE)","v":0},{"$f":"VLOOKUP(BP67,AZ65:BH68,8,FALSE)","v":0},{"$f":"IF(AND(BQ65=BQ67,BR67>BR65),BP65,BP67)","v":""},{"$f":"VLOOKUP(BS67,AZ65:BH68,9,FALSE)","v":0},{"$f":"VLOOKUP(BS67,AZ65:BH68,8,FALSE)","v":0},{"$f":"IF(AND(BT66=BT67,BU67>BU66),BS66,BS67)","v":""},{"$f":"VLOOKUP(BV67,AZ65:BH68,9,FALSE)","v":0},{"$f":"VLOOKUP(BV67,AZ65:BH68,8,FALSE)","v":0},{"$f":"VLOOKUP(BV67,AZ65:BH68,6,FALSE)","v":0},{"$f":"IF(AND(BW67=BW68,BX67=BX68,BY68>BY67),BV68,BV67)","v":""},{"$f":"VLOOKUP(BZ67,AZ65:BH68,9,FALSE)","v":0},{"$f":"VLOOKUP(BZ67,AZ65:BH68,8,FALSE)","v":0},{"$f":"VLOOKUP(BZ67,AZ65:BH68,6,FALSE)","v":0},{"$f":"IF(AND(CA65=CA67,CB65=CB67,CC66>CC65),BZ65,BZ67)","v":""},{"$f":"VLOOKUP(CD67,AZ65:BH68,9,FALSE)","v":0},{"$f":"VLOOKUP(CD67,AZ65:BH68,8,FALSE)","v":0},{"$f":"VLOOKUP(CD67,AZ65:BH68,6,FALSE)","v":0},{"$f":"IF(AND(CE66=CE67,CF66=CF67,CG67>CG66),CD66,CD67)","v":""},{"$f":"VLOOKUP(CH67,AZ65:BH68,9,FALSE)","v":0},{"$f":"VLOOKUP(CH67,AZ65:BH68,8,FALSE)","v":0},{"$f":"VLOOKUP(CH67,AZ65:BH68,6,FALSE)","v":0},null,null,null,{"$f":"CH67","v":""},{"$f":"VLOOKUP(CO67,AZ65:BH68,2,FALSE)","v":0},{"$f":"VLOOKUP(CO67,AZ65:BH68,3,FALSE)","v":6},{"$f":"VLOOKUP(CO67,AZ65:BH68,4,FALSE)","v":-12},{"$f":"VLOOKUP(CO67,AZ65:BH68,5,FALSE)","v":6},{"$f":"VLOOKUP(CO67,AZ65:BH68,6,FALSE)","v":0},{"$f":"VLOOKUP(CO67,AZ65:BH68,7,FALSE)","v":0},{"$f":"VLOOKUP(CO67,AZ65:BH68,8,FALSE)","v":0},{"$f":"VLOOKUP(CO67,AZ65:BH68,9,FALSE)","v":0},null,null,{"$f":"IF(M67<>\"\",IF(M67>M68,I67,IF(M68>M67,I68,\"Empate\")),\"\")","v":""},{"$f":"IF(M67<>\"\",IF(M67<M68,I67,IF(M68<M67,I68,\"Empate\")),\"\")","v":""},null,null,null,null,null,null,null,null,null,null,null,null,null,null,null,16,null,null,32,null,null,"",null,null,null,null,null,null,null,"D",5,{"$f":"AL36","v":""},"","","","","",{"$f":"IF($EH$67=\"\",-0.1,AR36)","v":-0.1},{"$f":"IF($EH$67=\"\",-0.1,AS36)","v":-0.1},{"$f":"IF($EH$67=\"\",-0.1,AT36)","v":-0.1},{"$f":"IF($EH$67=\"\",-0.1,AU36)","v":-0.1},-100007,3]
[null,{"$f":"H60+1","v":47},{"$f":"AZ66","v":""},null,null,null,{"$f":"IF(ISBLANK(D67),\"\",SUM(IF(D68>D67,1,0)+(IF(E68>E67,1,0)+(IF(F68>F67,1,0)))))","v":""},{"$f":"B68+1","v":48},{"$f":"IF(I67=\"\",\"\",AZ65)","v":""},null,null,null,{"$f":"IF(ISBLANK(J67),\"\",SUM(IF(J68>J67,1,0)+(IF(K68>K67,1,0)+(IF(L68>L67,1,0)))))","v":""},null,null,null,null,null,null,null,null,null,null,null,null,null,null,null,null,null,null,null,null,null,null,null,null,{"$f":"IF(AM68=\"\",\"\",\"4º\")","v":""},{"$f":"CO68","v":""},{"$f":"IF(AM68=\"\",\"\",CP68)","v":""},{"$f":"IF(AM68=\"\",\"\",CQ68)","v":""},{"$f":"IF(AM68=\"\",\"\",CR68)","v":""},{"$f":"IF(AM68=\"\",\"\",CS68)","v":""},{"$f":"IF(AM68=\"\",\"\",CT68)","v":""},{"$f":"IF(AM68=\"\",\"\",CU68)","v":""},{"$f":"IF(AM68=\"\",\"\",CV68)","v":""},{"$f":"IF(AM68=\"\",\"\",CW68)","v":""},{"$f":"IF(AND($DQ$1>=17,$DQ$1<=20),AW68,IF(AND($DQ$1>=21,$DQ$1<=23),AX68,AY68))","v":" "}," "," ",31,{"$f":"IF($DQ$1<=20,\"\",IF(AND($DQ$1>20,$DQ$1<24),\"\",LOOKUP(DR31,$DR$1:$DR$32,$DY$1:$DY$32)))","v":""},{"$f":"COUNT(M64,M65,M67)","v":0},{"$f":"COUNTIF(CZ63:CZ68,AZ68)","v":6},{"$f":"BA68-(BB68+BD68)","v":-12},{"$f":"COUNTIF(DA63:DA68,AZ68)","v":6},{"$f":"SUM(J64:L64,J65:L65,J67:L67)","v":0},{"$f":"SUM(J63:L63,J66:L66,J68:L68)","v":0},{"$f":"BE68-BF68","v":0},{"$f":"IF(BA68=0,0,BB68*2+BD68*1)","v":0},{"$f":"IF(BH68<=BH67,AZ68,AZ67)","v":""},{"$f":"VLOOKUP(BI68,AZ65:BH68,9,FALSE)","v":0},{"$f":"IF(BJ68<=BJ66,BI68,BI66)","v":""},{"$f":"VLOOKUP(BK68,AZ65:BH68,9,FALSE)","v":0},{"$f":"IF(BL68<=BL65,BK68,BK65)","v":""},{"$f":"VLOOKUP(BM68,AZ65:BH68,9,FALSE)","v":0},{"$f":"VLOOKUP(BM68,AZ65:BH68,8,FALSE)","v":0},{"$f":"IF(AND(BN67=BN68,BO68>BO67),BM67,BM68)","v":""},{"$f":"VLOOKUP(BP68,AZ65:BH68,9,FALSE)","v":0},{"$f":"VLOOKUP(BP68,AZ65:BH68,8,FALSE)","v":0},{"$f":"IF(AND(BQ66=BQ68,BR68>BR66),BP66,BP68)","v":""},{"$f":"VLOOKUP(BS68,AZ65:BH68,9,FALSE)","v":0},{"$f":"VLOOKUP(BS68,AZ65:BH68,8,FALSE)","v":0},{"$f":"IF(AND(BT65=BT68,BU68>BU65),BS65,BS68)","v":""},{"$f":"VLOOKUP(BV68,AZ65:BH68,9,FALSE)","v":0},{"$f":"VLOOKUP(BV68,AZ65:BH68,8,FALSE)","v":0},{"$f":"VLOOKUP(BV68,AZ65:BH68,6,FALSE)","v":0},{"$f":"IF(AND(BW67=BW68,BX67=BX68,BY68>BY67),BV67,BV68)","v":""},{"$f":"VLOOKUP(BZ68,AZ65:BH68,9,FALSE)","v":0},{"$f":"VLOOKUP(BZ68,AZ65:BH68,8,FALSE)","v":0},{"$f":"VLOOKUP(BZ68,AZ65:BH68,6,FALSE)","v":0},{"$f":"IF(AND(CA66=CA68,CB66=CB68,CC68>CC66),BZ66,BZ68)","v":""},{"$f":"VLOOKUP(CD68,AZ65:BH68,9,FALSE)","v":0},{"$f":"VLOOKUP(CD68,AZ65:BH68,8,FALSE)","v":0},{"$f":"VLOOKUP(CD68,AZ65:BH68,6,FALSE)","v":0},{"$f":"IF(AND(CE65=CE68,CF65=CF68,CG68>CG65),CD65,CD68)","v":""},{"$f":"VLOOKUP(CH68,AZ65:BH68,9,FALSE)","v":0},{"$f":"VLOOKUP(CH68,AZ65:BH68,8,FALSE)","v":0},{"$f":"VLOOKUP(CH68,AZ65:BH68,6,FALSE)","v":0},null,null,null,{"$f":"CH68","v":""},{"$f":"VLOOKUP(CO68,AZ65:BH68,2,FALSE)","v":0},{"$f":"VLOOKUP(CO68,AZ65:BH68,3,FALSE)","v":6},{"$f":"VLOOKUP(CO68,AZ65:BH68,4,FALSE)","v":-12},{"$f":"VLOOKUP(CO68,AZ65:BH68,5,FALSE)","v":6},{"$f":"VLOOKUP(CO68,AZ65:BH68,6,FALSE)","v":0},{"$f":"VLOOKUP(CO68,AZ65:BH68,7,FALSE)","v":0},{"$f":"VLOOKUP(CO68,AZ65:BH68,8,FALSE)","v":0},{"$f":"VLOOKUP(CO68,AZ65:BH68,9,FALSE)","v":0},null,null,{"$f":"IF(G68<>\"\",IF(G68>G67,C68,IF(G67>G68,C67,\"Empate\")),\"\")","v":""},{"$f":"IF(G68<>\"\",IF(G68<G67,C68,IF(G67<G68,C67,\"Empate\")),\"\")","v":""},null,null,null,null,null,null,null,null,null,null,null,null,null,null,null,null,null,null,null,null,null,null,null,null,null,null,null,null,null,"E",2,{"$f":"AL44","v":"4º"},"Daniela Dias (ACV)",3,0,0,3,31,66,-35,3,2653102,2]
[null,null,null,null,null,null,null,null,null,null,null,null,null,null,null,null,null,null,null,null,null,null,null,null,null,null,null,null,null,null,null,null,null,null,null,null,null,null,null,null,null,null,null,null,null,null,null,null,null,null,null,null,null,null,null,null,null,null,null,null,null,null,null,null,null,null,null,null,null,null,null,null,null,null,null,null,null,null,null,null,null,null,null,null,null,null,null,null,null,null,null,null,null,null,null,null,null,null,null,null,null,null,null,null,null,null,null,null,null,null,null,null,null,null,null,null,null,null,null,null,null,null,null,null,null,null,null,null,null,null,null,null,null,null,"F",6,{"$f":"AL52","v":""},"","","","","",{"$f":"IF($EH$69=\"\",-0.1,AR52)","v":-0.1},{"$f":"IF($EH$69=\"\",-0.1,AS52)","v":-0.1},{"$f":"IF($EH$69=\"\",-0.1,AT52)","v":-0.1},{"$f":"IF($EH$69=\"\",-0.1,AU52)","v":-0.1},-100009,1]
[]
[null,null,null,null,null,null,null,null,null,null,null,null,null,null,null,"Jogadores",null,null,null,null,null,null,null,null,null,null,null,null,null,"Ranking"]
[null,"Classificações 1ª Fase",null,null,null,null,null,null,null,null,null,null,"#",null,"NºJ","Nome (1º e último)",null,"Escola",null,null,null,null,null,"Abv.",null,null,"NºJ",null,null,"Nome","Pts",null,null,null,null,null,null,null,null,null,null,null,null,null,null,null,null,null,null,null,null,null,null,null,null,null,null,null,null,null,null,null,null,null,null,null,null,null,null,null,null,null,null,null,null,null,null,null,null,null,null,null,null,null,null,null,null,null,null,null,null,null,null,null,null,null,null,null,null,null,null,null,null,null,null,null,null,null,null,null,null,null,null,null,null,null,null,null,null,null,null,null,null,null,null,null,null,null,null,null,null,null,null,null,"GRUPO de 8",null,"3ºs e 4ºs"]
[null,null,null,null,null,null,null,null,null,null,null,null,1,null,{"$f":"IF(DF4=\"\",\"\",DF4)","v":""},{"$f":"IF(DG4=\"\",\"\",IF(DG4=\"Bye\",\"Bye\",CONCATENATE(DG4,\" \",\"(\",DI4,\")\")))","v":"Iris Rodrigues (ACV)"},null,{"$f":"IF(DH4=\"\",\"\",DH4)","v":"ACav.Silva"},null,null,null,null,null,{"$f":"IF(DI4=\"\",\"\",DI4)","v":"ACV"},null,null,"1º",null,null,{"$f":"IF(AD37=\"\",\"\",AD37)","v":"Lara Carvalho (ASA)"},12,null,null,null,null,null,null,null,null,null,null,null,null,null,null,null,null,null,null,null,null,null,null,null,null,null,null,null,null,null,null,null,null,null,null,null,null,null,null,null,null,null,null,null,null,null,null,null,null,null,null,null,null,null,null,null,null,null,null,null,null,null,null,null,null,null,null,null,null,null,null,null,null,null,null,null,null,null,null,null,null,null,null,null,null,null,null,null,null,null,null,null,null,null,null,null,null,null,null,null,null,null,null,null,"24 a 32","Class","Cl","Jogadores","Jg","V","E","D","PM","PS","DP","Pt.","Rank"]
[null,"Grupo A",null,null,null,null,null,"Grupo B",null,null,null,null,2,null,"","Tânia Jesus (ACV)",null,"ACav.Silva",null,null,null,null,null,"ACV",null,null,"2º",null,null,{"$f":"IF(AH34=AH35,\"\",IF(AH34>AH35,AD35,AD34))","v":"Eva Oliveira (ASA)"},11,null,null,null,null,null,null,null,null,null,null,null,null,null,null,null,null,null,null,null,null,null,null,null,null,null,null,null,null,null,null,null,null,null,null,null,null,null,null,null,null,null,null,null,null,null,null,null,null,null,null,null,null,null,null,null,null,null,null,null,null,null,null,null,null,null,null,null,null,null,null,null,null,null,null,null,null,null,null,null,null,null,null,null,null,null,null,null,null,null,null,null,null,null,null,null,null,null,null,null,null,null,null,null,"A",{"$f":"COUNTIF($EQ$74:$EQ$89,CONCATENATE(\">=\",EQ74))","v":8},{"$f":"AL11","v":"3º"},"Iris Rodrigues (ACV)",2,0,0,2,{"$f":"IF($EH$74=\"\",-0.1,AR11)","v":13},{"$f":"IF($EH$74=\"\",-0.1,AS11)","v":44},{"$f":"IF($EH$74=\"\",-0.1,AT11)","v":-31},{"$f":"IF($EH$74=\"\",-0.1,AU11)","v":2},{"$f":"EP74*1000000+(EM74-EN74)*10000+EM74*100+ER74","v":1691316},16]
[null,null,null,null,null,null,null,null,null,null,null,null,3,null,"","Beatriz Coelho (ACV)",null,"ACav.Silva",null,null,null,null,null,"ACV",null,null,"3º",null,null,{"$f":"IF(AH17=AH18,\"\",IF(AH17>AH18,AD18,AD17))","v":"Carolina Lima (ACV)"},10,null,null,null,null,null,null,null,null,null,null,null,null,null,null,null,null,null,null,null,null,null,null,null,null,null,null,null,null,null,null,null,null,null,null,null,null,null,null,null,null,null,null,null,null,null,null,null,null,null,null,null,null,null,null,null,null,null,null,null,null,null,null,null,null,null,null,null,null,null,null,null,null,null,null,null,null,null,null,null,null,null,null,null,null,null,null,null,null,null,null,null,null,null,null,null,null,null,null,null,null,null,null,null,"A",10,"","","","","","",{"$f":"IF($EH$75=\"\",-0.1,AR12)","v":-0.1},{"$f":"IF($EH$75=\"\",-0.1,AS12)","v":-0.1},{"$f":"IF($EH$75=\"\",-0.1,AT12)","v":-0.1},{"$f":"IF($EH$75=\"\",-0.1,AU12)","v":-0.1},-99995,15]
[null,{"$f":"AL8","v":"Cl"},"Jogadores",{"$f":"AU8","v":"Pt."},null,null,null,{"$f":"AL16","v":"Cl"},"Jogadores",{"$f":"AU16","v":"Pt."},null,null,4,null,"","Vitória Coelho (ACV)",null,"ACav.Silva",null,null,null,null,null,"ACV",null,null,"4º",null,null,{"$f":"IF(AH49=AH50,\"\",IF(AH49>AH50,AD50,AD49))","v":"Tânia Jesus (ACV)"},9,null,null,null,null,null,null,null,null,null,null,null,null,null,null,null,null,null,null,null,null,null,null,null,null,null,null,null,null,null,null,null,null,null,null,null,null,null,null,null,null,null,null,null,null,null,null,null,null,null,null,null,null,null,null,null,null,null,null,null,null,null,null,null,null,null,null,null,null,null,null,null,null,null,null,null,null,null,null,null,null,null,null,null,null,null,null,null,null,null,null,null,null,null,null,null,null,null,null,null,null,null,null,null,"B",2,{"$f":"AL19","v":"3º"},"Loredana Junea (DP)",3,1,0,2,{"$f":"IF($EH$76=\"\",-0.1,AR19)","v":64},{"$f":"IF($EH$76=\"\",-0.1,AS19)","v":68},{"$f":"IF($EH$76=\"\",-0.1,AT19)","v":-4},{"$f":"IF($EH$76=\"\",-0.1,AU19)","v":4},3966414,14]
[null,"1º","Jasmine Campbell (ASA)",{"$f":"AU9","v":4},null,null,null,"1º","Lara Carvalho (ASA)",{"$f":"AU17","v":6},null,null,5,null,"","Iara Nascimento (ACV)",null,"ACav.Silva",null,null,null,null,null,"ACV",null,null,"5º",null,null,{"$f":"IF(AA11=AA12,\"\",IF(AA11>AA12,W12,W11))","v":"Jasmine Campbell (ASA)"},8,null,null,null,null,null,null,null,null,null,null,null,null,null,null,null,null,null,null,null,null,null,null,null,null,null,null,null,null,null,null,null,null,null,null,null,null,null,null,null,null,null,null,null,null,null,null,null,null,null,null,null,null,null,null,null,null,null,null,null,null,null,null,null,null,null,null,null,null,null,null,null,null,null,null,null,null,null,null,null,null,null,null,null,null,null,null,null,null,null,null,null,null,null,null,null,null,null,null,null,null,null,null,null,"B",6,"4º","Leonor Inácio (ACV)",3,0,0,3,{"$f":"IF($EH$77=\"\",-0.1,AR20)","v":30},{"$f":"IF($EH$77=\"\",-0.1,AS20)","v":66},{"$f":"IF($EH$77=\"\",-0.1,AT20)","v":-36},{"$f":"IF($EH$77=\"\",-0.1,AU20)","v":3},2643013,13]
[null,"2º","Elena Rafael (DP)",{"$f":"AU10","v":3},null,null,null,"2º","Carolina Lima (ACV)",{"$f":"AU18","v":5},null,null,6,null,"","Carolina Lima (ACV)",null,"ACav.Silva",null,null,null,null,null,"ACV",null,null,"6º",null,null,{"$f":"IF(AA24=AA25,\"\",IF(AA24>AA25,W25,W24))","v":"Cristina Curnic (DP)"},8,null,null,null,null,null,null,null,null,null,null,null,null,null,null,null,null,null,null,null,null,null,null,null,null,null,null,null,null,null,null,null,null,null,null,null,null,null,null,null,null,null,null,null,null,null,null,null,null,null,null,null,null,null,null,null,null,null,null,null,null,null,null,null,null,null,null,null,null,null,null,null,null,null,null,null,null,null,null,null,null,null,null,null,null,null,null,null,null,null,null,null,null,null,null,null,null,null,null,null,null,null,null,null,"C",1,{"$f":"AL27","v":"3º"},"Carolina Rodrigues (ACV)",3,1,0,2,{"$f":"IF($EH$78=\"\",-0.1,AR27)","v":70},{"$f":"IF($EH$78=\"\",-0.1,AS27)","v":56},{"$f":"IF($EH$78=\"\",-0.1,AT27)","v":14},{"$f":"IF($EH$78=\"\",-0.1,AU27)","v":4},4147012,12]
[null,"3º","Iris Rodrigues (ACV)",{"$f":"AU11","v":2},null,null,null,"3º","Loredana Junea (DP)",{"$f":"AU19","v":4},null,null,7,null,"","Leonor Inácio (ACV)",null,"ACav.Silva",null,null,null,null,null,"ACV",null,null,"7º",null,null,{"$f":"IF(AA43=AA44,\"\",IF(AA43>AA44,W44,W43))","v":"Loredana Junea (DP)"},8,null,null,null,null,null,null,null,null,null,null,null,null,null,null,null,null,null,null,null,null,null,null,null,null,null,null,null,null,null,null,null,null,null,null,null,null,null,null,null,null,null,null,null,null,null,null,null,null,null,null,null,null,null,null,null,null,null,null,null,null,null,null,null,null,null,null,null,null,null,null,null,null,null,null,null,null,null,null,null,null,null,null,null,null,null,null,null,null,null,null,null,null,null,null,null,null,null,null,null,null,null,null,null,"C",4,"4º","Vitória Coelho (ACV)",3,0,0,3,{"$f":"IF($EH$79=\"\",-0.1,AR28)","v":32},{"$f":"IF($EH$79=\"\",-0.1,AS28)","v":66},{"$f":"IF($EH$79=\"\",-0.1,AT28)","v":-34},{"$f":"IF($EH$79=\"\",-0.1,AU28)","v":3},2663211,11]
[null,"","",{"$f":"AU12","v":""},null,null,null,"4º","Leonor Inácio (ACV)",{"$f":"AU20","v":3},null,null,8,null,"","Daniela Dias (ACV)",null,"ACav.Silva",null,null,null,null,null,"ACV",null,null,"8º",null,null,{"$f":"IF(AA56=AA57,\"\",IF(AA56>AA57,W57,W56))","v":"Elena Rafael (DP)"},8,null,null,null,null,null,null,null,null,null,null,null,null,null,null,null,null,null,null,null,null,null,null,null,null,null,null,null,null,null,null,null,null,null,null,null,null,null,null,null,null,null,null,null,null,null,null,null,null,null,null,null,null,null,null,null,null,null,null,null,null,null,null,null,null,null,null,null,null,null,null,null,null,null,null,null,null,null,null,null,null,null,null,null,null,null,null,null,null,null,null,null,null,null,null,null,null,null,null,null,null,null,null,null,"D",7,{"$f":"AL35","v":"3º"},"Beatriz Coelho (ACV)",2,0,0,2,{"$f":"IF($EH$80=\"\",-0.1,AR35)","v":27},{"$f":"IF($EH$80=\"\",-0.1,AS35)","v":44},{"$f":"IF($EH$80=\"\",-0.1,AT35)","v":-17},{"$f":"IF($EH$80=\"\",-0.1,AU35)","v":2},1832710,10]
[null,"Grupo C",null,null,null,null,null,"Grupo D",null,null,null,null,9,null,"","Carolina Rodrigues (ACV)",null,"ACav.Silva",null,null,null,null,null,"ACV",null,null,"9º",null,null,{"$f":"IF($DQ$1<=20,VLOOKUP(DT52,$DT$52:$DU$63,2,FALSE),IF(T8=T9,\"\",IF(T8>T9,P9,P8)))","v":"Beatriz Coelho (ACV)"},4,null,null,null,null,null,null,null,null,null,null,null,null,null,null,null,null,null,null,null,null,null,null,null,null,null,null,null,null,null,null,null,null,null,null,null,null,null,null,null,null,null,null,null,null,null,null,null,null,null,null,null,null,null,null,null,null,null,null,null,null,null,null,null,null,null,null,null,null,null,null,null,null,null,null,null,null,null,null,null,null,null,null,null,null,null,null,null,null,null,null,null,null,null,null,null,null,null,null,null,null,null,null,null,"D",11,"","","","","","",{"$f":"IF($EH$81=\"\",-0.1,AR36)","v":-0.1},{"$f":"IF($EH$81=\"\",-0.1,AS36)","v":-0.1},{"$f":"IF($EH$81=\"\",-0.1,AT36)","v":-0.1},{"$f":"IF($EH$81=\"\",-0.1,AU36)","v":-0.1},-100001,9]
[null,null,null,null,null,null,null,null,null,null,null,null,10,null,"","Cristina Curnic (DP)",null,"DPacheco",null,null,null,null,null,"DP",null,null,"10º",null,null,{"$f":"IF($DQ$1<=20,VLOOKUP(DT53,$DT$52:$DU$63,2,FALSE),IF(T14=T15,\"\",IF(T14>T15,P15,P14)))","v":"Laura Gomes (DP)"},4,null,null,null,null,null,null,null,null,null,null,null,null,null,null,null,null,null,null,null,null,null,null,null,null,null,null,null,null,null,null,null,null,null,null,null,null,null,null,null,null,null,null,null,null,null,null,null,null,null,null,null,null,null,null,null,null,null,null,null,null,null,null,null,null,null,null,null,null,null,null,null,null,null,null,null,null,null,null,null,null,null,null,null,null,null,null,null,null,null,null,null,null,null,null,null,null,null,null,null,null,null,null,null,"E",3,{"$f":"AL43","v":"3º"},"Iara Nascimento (ACV)",3,1,0,2,{"$f":"IF($EH$82=\"\",-0.1,AR43)","v":39},{"$f":"IF($EH$82=\"\",-0.1,AS43)","v":60},{"$f":"IF($EH$82=\"\",-0.1,AT43)","v":-21},{"$f":"IF($EH$82=\"\",-0.1,AU43)","v":4},3793908,8]
[null,{"$f":"AL24","v":"Cl"},"Jogadores",{"$f":"AU24","v":"Pt."},null,null,null,{"$f":"AL32","v":"Cl"},"Jogadores",{"$f":"AU32","v":"Pt."},null,null,11,null,"","Bárbara Fernandes (DP)",null,"DPacheco",null,null,null,null,null,"DP",null,null,"11º",null,null,{"$f":"IF($DQ$1<=20,VLOOKUP(DT54,$DT$52:$DU$63,2,FALSE),IF(T21=T22,\"\",IF(T21>T22,P22,P21)))","v":"Bárbara Fernandes (DP)"},4,null,null,null,null,null,null,null,null,null,null,null,null,null,null,null,null,null,null,null,null,null,null,null,null,null,null,null,null,null,null,null,null,null,null,null,null,null,null,null,null,null,null,null,null,null,null,null,null,null,null,null,null,null,null,null,null,null,null,null,null,null,null,null,null,null,null,null,null,null,null,null,null,null,null,null,null,null,null,null,null,null,null,null,null,null,null,null,null,null,null,null,null,null,null,null,null,null,null,null,null,null,null,null,"E",5,"4º","Daniela Dias (ACV)",3,0,0,3,{"$f":"IF($EH$83=\"\",-0.1,AR44)","v":31},{"$f":"IF($EH$83=\"\",-0.1,AS44)","v":66},{"$f":"IF($EH$83=\"\",-0.1,AT44)","v":-35},{"$f":"IF($EH$83=\"\",-0.1,AU44)","v":3},2653107,7]
[null,"1º","Liliam Vogt (ASA)",{"$f":"AU25","v":6},null,null,null,"1º","Cristina Curnic (DP)",{"$f":"AU33","v":4},null,null,12,null,"","Elena Rafael (DP)",null,"DPacheco",null,null,null,null,null,"DP",null,null,"12º",null,null,{"$f":"IF($DQ$1<=20,VLOOKUP(DT55,$DT$52:$DU$63,2,FALSE),IF(T27=T28,\"\",IF(T27>T28,P28,P27)))","v":"Carolina Rodrigues (ACV)"},4,null,null,null,null,null,null,null,null,null,null,null,null,null,null,null,null,null,null,null,null,null,null,null,null,null,null,null,null,null,null,null,null,null,null,null,null,null,null,null,null,null,null,null,null,null,null,null,null,null,null,null,null,null,null,null,null,null,null,null,null,null,null,null,null,null,null,null,null,null,null,null,null,null,null,null,null,null,null,null,null,null,null,null,null,null,null,null,null,null,null,null,null,null,null,null,null,null,null,null,null,null,null,null,"F",9,{"$f":"AL51","v":"3º"},"Carina Croitoru (ASA)",2,0,0,2,{"$f":"IF($EH$84=\"\",-0.1,AR51)","v":12},{"$f":"IF($EH$84=\"\",-0.1,AS51)","v":44},{"$f":"IF($EH$84=\"\",-0.1,AT51)","v":-32},{"$f":"IF($EH$84=\"\",-0.1,AU51)","v":2},1681206,6]
[null,"2º","Laura Gomes (DP)",{"$f":"AU26","v":5},null,null,null,"2º","Paula Tijaro (DP)",{"$f":"AU34","v":3},null,null,13,null,"","Loredana Junea (DP)",null,"DPacheco",null,null,null,null,null,"DP",null,null,"13º",null,null,{"$f":"IF($DQ$1<=20,VLOOKUP(DT56,$DT$52:$DU$63,2,FALSE),IF(T40=T41,\"\",IF(T40>T41,P41,P40)))","v":"Liliam Vogt (ASA)"},4,null,null,null,null,null,null,null,null,null,null,null,null,null,null,null,null,null,null,null,null,null,null,null,null,null,null,null,null,null,null,null,null,null,null,null,null,null,null,null,null,null,null,null,null,null,null,null,null,null,null,null,null,null,null,null,null,null,null,null,null,null,null,null,null,null,null,null,null,null,null,null,null,null,null,null,null,null,null,null,null,null,null,null,null,null,null,null,null,null,null,null,null,null,null,null,null,null,null,null,null,null,null,null,"F",12,"","","","","","",{"$f":"IF($EH$85=\"\",-0.1,AR52)","v":-0.1},{"$f":"IF($EH$85=\"\",-0.1,AS52)","v":-0.1},{"$f":"IF($EH$85=\"\",-0.1,AT52)","v":-0.1},{"$f":"IF($EH$85=\"\",-0.1,AU52)","v":-0.1},-100005,5]
[null,"3º","Carolina Rodrigues (ACV)",{"$f":"AU27","v":4},null,null,null,"3º","Beatriz Coelho (ACV)",{"$f":"AU35","v":2},null,null,14,null,"","Luana Piedade (DP)",null,"DPacheco",null,null,null,null,null,"DP",null,null,"14º",null,null,{"$f":"IF($DQ$1<=20,VLOOKUP(DT57,$DT$52:$DU$63,2,FALSE),IF(T46=T47,\"\",IF(T46>T47,P47,P46)))","v":"Luana Piedade (DP)"},4,null,null,null,null,null,null,null,null,null,null,null,null,null,null,null,null,null,null,null,null,null,null,null,null,null,null,null,null,null,null,null,null,null,null,null,null,null,null,null,null,null,null,null,null,null,null,null,null,null,null,null,null,null,null,null,null,null,null,null,null,null,null,null,null,null,null,null,null,null,null,null,null,null,null,null,null,null,null,null,null,null,null,null,null,null,null,null,null,null,null,null,null,null,null,null,null,null,null,null,null,null,null,null,"G",13,{"$f":"AL59","v":""},"","","","","",{"$f":"IF($EH$86=\"\",-0.1,AR59)","v":-0.1},{"$f":"IF($EH$86=\"\",-0.1,AS59)","v":-0.1},{"$f":"IF($EH$86=\"\",-0.1,AT59)","v":-0.1},{"$f":"IF($EH$86=\"\",-0.1,AU59)","v":-0.1},-100006,4]
[null,"4º","Vitória Coelho (ACV)",{"$f":"AU28","v":3},null,null,null,"","",{"$f":"AU36","v":""},null,null,15,null,"","Paula Tijaro (DP)",null,"DPacheco",null,null,null,null,null,"DP",null,null,"15º",null,null,{"$f":"IF($DQ$1<=20,VLOOKUP(DT58,$DT$52:$DU$63,2,FALSE),IF(T53=T54,\"\",IF(T53>T54,P54,P53)))","v":"Paula Tijaro (DP)"},4,null,null,null,null,null,null,null,null,null,null,null,null,null,null,null,null,null,null,null,null,null,null,null,null,null,null,null,null,null,null,null,null,null,null,null,null,null,null,null,null,null,null,null,null,null,null,null,null,null,null,null,null,null,null,null,null,null,null,null,null,null,null,null,null,null,null,null,null,null,null,null,null,null,null,null,null,null,null,null,null,null,null,null,null,null,null,null,null,null,null,null,null,null,null,null,null,null,null,null,null,null,null,null,"G",14,"","","","","","",{"$f":"IF($EH$87=\"\",-0.1,AR60)","v":-0.1},{"$f":"IF($EH$87=\"\",-0.1,AS60)","v":-0.1},{"$f":"IF($EH$87=\"\",-0.1,AT60)","v":-0.1},{"$f":"IF($EH$87=\"\",-0.1,AU60)","v":-0.1},-100007,3]
[null,"Grupo E",null,null,null,null,null,"Grupo F",null,null,null,null,16,null,"","Laura Gomes (DP)",null,"DPacheco",null,null,null,null,null,"DP",null,null,"16º",null,null,{"$f":"IF($DQ$1<=20,VLOOKUP(DT59,$DT$52:$DU$63,2,FALSE),IF(T59=T60,\"\",IF(T59>T60,P60,P59)))","v":"Iara Nascimento (ACV)"},4,null,null,null,null,null,null,null,null,null,null,null,null,null,null,null,null,null,null,null,null,null,null,null,null,null,null,null,null,null,null,null,null,null,null,null,null,null,null,null,null,null,null,null,null,null,null,null,null,null,null,null,null,null,null,null,null,null,null,null,null,null,null,null,null,null,null,null,null,null,null,null,null,null,null,null,null,null,null,null,null,null,null,null,null,null,null,null,null,null,null,null,null,null,null,null,null,null,null,null,null,null,null,null,"H",15,{"$f":"AL67","v":""},"","","","","",{"$f":"IF($EH$88=\"\",-0.1,AR67)","v":-0.1},{"$f":"IF($EH$88=\"\",-0.1,AS67)","v":-0.1},{"$f":"IF($EH$88=\"\",-0.1,AT67)","v":-0.1},{"$f":"IF($EH$88=\"\",-0.1,AU67)","v":-0.1},-100008,2]
[null,null,null,null,null,null,null,null,null,null,null,null,17,null,"","Carina Croitoru (ASA)",null,"ASAgostinho",null,null,null,null,null,"ASA",null,null,"17º",null,null,{"$f":"IF($DQ$1<=20,VLOOKUP(DT60,$DT$52:$DU$63,2,FALSE),IF(AND($DQ$1>20,$DQ$1<24),VLOOKUP(DT52,$DT$52:$DV$59,3,FALSE),VLOOKUP(DT52,$DT$52:$DW$67,4,FALSE)))","v":"Iris Rodrigues (ACV)"},2,null,null,null,null,null,null,null,null,null,null,null,null,null,null,null,null,null,null,null,null,null,null,null,null,null,null,null,null,null,null,null,null,null,null,null,null,null,null,null,null,null,null,null,null,null,null,null,null,null,null,null,null,null,null,null,null,null,null,null,null,null,null,null,null,null,null,null,null,null,null,null,null,null,null,null,null,null,null,null,null,null,null,null,null,null,null,null,null,null,null,null,null,null,null,null,null,null,null,null,null,null,null,null,"H",16,"","","","","","",{"$f":"IF($EH$89=\"\",-0.1,AR68)","v":-0.1},{"$f":"IF($EH$89=\"\",-0.1,AS68)","v":-0.1},{"$f":"IF($EH$89=\"\",-0.1,AT68)","v":-0.1},{"$f":"IF($EH$89=\"\",-0.1,AU68)","v":-0.1},-100009,1]
[null,{"$f":"AL40","v":"Cl"},"Jogadores",{"$f":"AU40","v":"Pt."},null,null,null,{"$f":"AL48","v":"Cl"},"Jogadores",{"$f":"AU48","v":"Pt."},null,null,18,null,"","Jasmine Campbell (ASA)",null,"ASAgostinho",null,null,null,null,null,"ASA",null,null,"18º",null,null,{"$f":"IF($DQ$1<=20,VLOOKUP(DT61,$DT$52:$DU$63,2,FALSE),IF(AND($DQ$1>20,$DQ$1<24),VLOOKUP(DT53,$DT$52:$DV$59,3,FALSE),VLOOKUP(DT53,$DT$52:$DW$67,4,FALSE)))","v":"Carina Croitoru (ASA)"},2]
[null,"1º","Eva Oliveira (ASA)",{"$f":"AU41","v":6},null,null,null,"1º","Tânia Jesus (ACV)",{"$f":"AU49","v":4},null,null,19,null,"","Eva Oliveira (ASA)",null,"ASAgostinho",null,null,null,null,null,"ASA",null,null,"19º",null,null,{"$f":"IF($DQ$1<=20,VLOOKUP(DT62,$DT$52:$DU$63,2,FALSE),IF(AND($DQ$1>20,$DQ$1<24),VLOOKUP(DT54,$DT$52:$DV$59,3,FALSE),VLOOKUP(DT54,$DT$52:$DW$67,4,FALSE)))","v":"Vitória Coelho (ACV)"},2]
[null,"2º","Luana Piedade (DP)",{"$f":"AU42","v":5},null,null,null,"2º","Bárbara Fernandes (DP)",{"$f":"AU50","v":3},null,null,20,null,"","Lara Carvalho (ASA)",null,"ASAgostinho",null,null,null,null,null,"ASA",null,null,"20º",null,null,{"$f":"IF($DQ$1<=20,VLOOKUP(DT63,$DT$52:$DU$63,2,FALSE),IF(AND($DQ$1>20,$DQ$1<24),VLOOKUP(DT55,$DT$52:$DV$59,3,FALSE),VLOOKUP(DT55,$DT$52:$DW$67,4,FALSE)))","v":"Daniela Dias (ACV)"},2]
[null,"3º","Iara Nascimento (ACV)",{"$f":"AU43","v":4},null,null,null,"3º","Carina Croitoru (ASA)",{"$f":"AU51","v":2},null,null,21,null,"","Liliam Vogt (ASA)",null,"ASAgostinho",null,null,null,null,null,"ASA",null,null,"21º",null,null,{"$f":"IF($DQ$1<=20,\"\",IF(AND($DQ$1>20,$DQ$1<24),VLOOKUP(DT56,$DT$52:$DV$59,3,FALSE),VLOOKUP(DT56,$DT$52:$DW$67,4,FALSE)))","v":"Leonor Inácio (ACV)"},2]
[null,"4º","Daniela Dias (ACV)",{"$f":"AU44","v":3},null,null,null,"","",{"$f":"AU52","v":""},null,null,22,null,"","",null,"",null,null,null,null,null,"",null,null,"22º",null,null,{"$f":"IF($DQ$1<=20,\"\",IF(AND($DQ$1>20,$DQ$1<24),VLOOKUP(DT57,$DT$52:$DV$59,3,FALSE),VLOOKUP(DT57,$DT$52:$DW$67,4,FALSE)))","v":""},2]
[null,"Grupo G",null,null,null,null,null,"Grupo H",null,null,null,null,23,null,"","",null,"",null,null,null,null,null,"",null,null,"23º",null,null,{"$f":"IF($DQ$1<=20,\"\",IF(AND($DQ$1>20,$DQ$1<24),VLOOKUP(DT58,$DT$52:$DV$59,3,FALSE),VLOOKUP(DT58,$DT$52:$DW$67,4,FALSE)))","v":""},2]
[null,null,null,null,null,null,null,null,null,null,null,null,24,null,"","",null,"",null,null,null,null,null,"",null,null,"24º",null,null,{"$f":"IF($DQ$1<=20,\"\",IF(AND($DQ$1>20,$DQ$1<24),VLOOKUP(DT59,$DT$52:$DV$59,3,FALSE),VLOOKUP(DT59,$DT$52:$DW$67,4,FALSE)))","v":""},2]
[null,{"$f":"AL56","v":"Cl"},"Jogadores",{"$f":"AU56","v":"Pt."},null,null,null,{"$f":"AL64","v":"Cl"},"Jogadores",{"$f":"AU64","v":"Pt."},null,null,25,null,"","",null,"",null,null,null,null,null,"",null,null,"25º",null,null,{"$f":"IF($DQ$1<=20,\"\",IF(AND($DQ$1>20,$DQ$1<24),\"\",VLOOKUP(DT60,$DT$52:$DW$67,4,FALSE)))","v":""},1]
[null,"","",{"$f":"AU57","v":""},null,null,null,"","",{"$f":"AU65","v":""},null,null,26,null,"","",null,"",null,null,null,null,null,"",null,null,"26º",null,null,{"$f":"IF($DQ$1<=20,\"\",IF(AND($DQ$1>20,$DQ$1<24),\"\",VLOOKUP(DT61,$DT$52:$DW$67,4,FALSE)))","v":""},1]
[null,"","",{"$f":"AU58","v":""},null,null,null,"","",{"$f":"AU66","v":""},null,null,27,null,"","",null,"",null,null,null,null,null,"",null,null,"27º",null,null,{"$f":"IF($DQ$1<=20,\"\",IF(AND($DQ$1>20,$DQ$1<24),\"\",VLOOKUP(DT62,$DT$52:$DW$67,4,FALSE)))","v":""},1]
[null,"","",{"$f":"AU59","v":""},null,null,null,"","",{"$f":"AU67","v":""},null,null,28,null,"","",null,"",null,null,null,null,null,"",null,null,"28º",null,null,{"$f":"VLOOKUP(DT63,$DT$52:$DW$67,4,FALSE)","v":""},1]
[null,"","",{"$f":"AU60","v":""},null,null,null,"","",{"$f":"AU68","v":""},null,null,29,null,"","",null,"",null,null,null,null,null,"",null,null,"29º",null,null,{"$f":"VLOOKUP(DT64,$DT$52:$DW$67,4,FALSE)","v":""},1]
[null,null,null,null,null,null,null,null,null,null,null,null,30,null,"","",null,"",null,null,null,null,null,"",null,null,"30º",null,null,{"$f":"VLOOKUP(DT65,$DT$52:$DW$67,4,FALSE)","v":""},1]
[null,null,null,null,null,null,null,null,null,null,null,null,31,null,"","",null,"",null,null,null,null,null,"",null,null,"31º",null,null,{"$f":"VLOOKUP(DT66,$DT$52:$DW$67,4,FALSE)","v":""},1]
[null,null,null,null,null,null,null,null,null,null,null,null,32,null,"","",null,"",null,null,null,null,null,"",null,null,"32º",null,null,{"$f":"VLOOKUP(DT67,$DT$52:$DW$67,4,FALSE)","v":""},1]
[]
[]
[null,null,null,null,null,null,null,null,null,null,null,null,null,null,null,null,null,null,null,null,null,null,null,null,null,null,null,null,null,null,null,null,null,null,null,null,null,null,null,null,null,null,null,null,null,null,null,null,null,null,null,null,null,null,null,null,null,null,null,null,null,null,null,null,null,null,null,null,null,null,null,null,null,null,null,null,null,null,null,null,null,null,null,null,null,null,null,null,null,null,null,null,null,null,null,null,null,null,null,null,null,null,null,null,null,null,null,null,"Por favor indicar nas observações os alunos com falta de comparência"]
[null,null,null,null,null,null,null,null,null,null,null,null,null,null,null,null,null,null,null,null,null,null,null,null,null,null,null,null,null,null,null,null,null,null,null,null,null,null,null,null,null,null,null,null,null,null,null,null,null,null,null,null,null,null,null,null,null,null,null,null,null,null,null,null,null,null,null,null,null,null,null,null,null,null,null,null,null,null,null,null,null,null,null,null,null,null,null,null,null,null,null,null,null,null,null,null,null,null,null,null,null,null,null,null,null,null,null,null,"Cl.","Nº J","Ranking","Pt."]
[null,null,null,null,null,null,null,null,null,null,null,null,null,null,null,null,null,null,null,null,null,null,null,null,null,null,null,null,null,null,null,null,null,null,null,null,null,null,null,null,null,null,null,null,null,null,null,null,null,null,null,null,null,null,null,null,null,null,null,null,null,null,null,null,null,null,null,null,null,null,null,null,null,null,null,null,null,null,null,null,null,null,null,null,null,null,null,null,null,null,null,null,null,null,null,null,null,null,null,null,null,null,null,null,null,null,null,null,"1º",null,{"$f":"IF(AH17=AH18,\"\",IF(AH17>AH18,AD17,AD18))","v":"Eva Oliveira (ASA)"},12]
[null,null,null,null,null,null,null,null,null,null,null,null,null,null,null,null,null,null,null,null,null,null,null,null,null,null,null,null,null,null,null,null,null,null,null,null,null,null,null,null,null,null,null,null,null,null,null,null,null,null,null,null,null,null,null,null,null,null,null,null,null,null,null,null,null,null,null,null,null,null,null,null,null,null,null,null,null,null,null,null,null,null,null,null,null,null,null,null,null,null,null,null,null,null,null,null,null,null,null,null,null,null,null,null,null,null,null,null,"2º",null,{"$f":"IF(AH17=AH18,\"\",IF(AH17<AH18,AD17,AD18))","v":"Carolina Lima (ACV)"},11]
[null,null,null,null,null,null,null,null,null,null,null,null,null,null,null,null,null,null,null,null,null,null,null,null,null,null,null,null,null,null,null,null,null,null,null,null,null,null,null,null,null,null,null,null,null,null,null,null,null,null,null,null,null,null,null,null,null,null,null,null,null,null,null,null,null,null,null,null,null,null,null,null,null,null,null,null,null,null,null,null,null,null,null,null,null,null,null,null,null,null,null,null,null,null,null,null,null,null,null,null,null,null,null,null,null,null,null,null,"3º",null,{"$f":"IF(AA11=AA12,\"\",IF(AA11<AA12,W11,W12))","v":"Jasmine Campbell (ASA)"},10]
[null,null,null,null,null,null,null,null,null,null,null,null,null,null,null,null,null,null,null,null,null,null,null,null,null,null,null,null,null,null,null,null,null,null,null,null,null,null,null,null,null,null,null,null,null,null,null,null,null,null,null,null,null,null,null,null,null,null,null,null,null,null,null,null,null,null,null,null,null,null,null,null,null,null,null,null,null,null,null,null,null,null,null,null,null,null,null,null,null,null,null,null,null,null,null,null,null,null,null,null,null,null,null,null,null,null,null,null,null,null,{"$f":"IF(AA24=AA25,\"\",IF(AA24<AA25,W24,W25))","v":"Cristina Curnic (DP)"},10]
[null,null,null,null,null,null,null,null,null,null,null,null,null,null,null,null,null,null,null,null,null,null,null,null,null,null,null,null,null,null,null,null,null,null,null,null,null,null,null,null,null,null,null,null,null,null,null,null,null,null,null,null,null,null,null,null,null,null,null,null,null,null,null,null,null,null,null,null,null,null,null,null,null,null,null,null,null,null,null,null,null,null,null,null,null,null,null,null,null,null,null,null,null,null,null,null,null,null,null,null,null,null,null,null,null,null,null,null,"5ºs",null,{"$f":"IF(T8=T9,\"\",IF(T8<T9,P8,P9))","v":"Beatriz Coelho (ACV)"},8]
[null,null,null,null,null,null,null,null,null,null,null,null,null,null,null,null,null,null,null,null,null,null,null,null,null,null,null,null,null,null,null,null,null,null,null,null,null,null,null,null,null,null,null,null,null,null,null,null,null,null,null,null,null,null,null,null,null,null,null,null,null,null,null,null,null,null,null,null,null,null,null,null,null,null,null,null,null,null,null,null,null,null,null,null,null,null,null,null,null,null,null,null,null,null,null,null,null,null,null,null,null,null,null,null,null,null,null,null,null,null,{"$f":"IF(T14=T15,\"\",IF(T14<T15,P14,P15))","v":"Laura Gomes (DP)"},8]
[null,null,null,null,null,null,null,null,null,null,null,null,null,null,null,null,null,null,null,null,null,null,null,null,null,null,null,null,null,null,null,null,null,null,null,null,null,null,null,null,null,null,null,null,null,null,null,null,null,null,null,null,null,null,null,null,null,null,null,null,null,null,null,null,null,null,null,null,null,null,null,null,null,null,null,null,null,null,null,null,null,null,null,null,null,null,null,null,null,null,null,null,null,null,null,null,null,null,null,null,null,null,null,null,null,null,null,null,null,null,{"$f":"IF(T21=T22,\"\",IF(T21<T22,P21,P22))","v":"Bárbara Fernandes (DP)"},8]
[null,null,null,null,null,null,null,null,null,null,null,null,null,null,null,null,null,null,null,null,null,null,null,null,null,null,null,null,null,null,null,null,null,null,null,null,null,null,null,null,null,null,null,null,null,null,null,null,null,null,null,null,null,null,null,null,null,null,null,null,null,null,null,null,null,null,null,null,null,null,null,null,null,null,null,null,null,null,null,null,null,null,null,null,null,null,null,null,null,null,null,null,null,null,null,null,null,null,null,null,null,null,null,null,null,null,null,null,null,null,{"$f":"IF(T27=T28,\"\",IF(T27<T28,P27,P28))","v":"Carolina Rodrigues (ACV)"},8]
[null,null,null,null,null,null,null,null,null,null,null,null,null,null,null,null,null,null,null,null,null,null,null,null,null,null,null,null,null,null,null,null,null,null,null,null,null,null,null,null,null,null,null,null,null,null,null,null,null,null,null,null,null,null,null,null,null,null,null,null,null,null,null,null,null,null,null,null,null,null,null,null,null,null,null,null,null,null,null,null,null,null,null,null,null,null,null,null,null,null,null,null,null,null,null,null,null,null,null,null,null,null,null,null,null,null,null,null,"9ºs",null,{"$f":"IF($DQ$1<11,DU44,IF($DQ$1=11,DV44,DW48))","v":"Laura Gomes (DP)"},4]
[null,null,null,null,null,null,null,null,null,null,null,null,null,null,null,null,null,null,null,null,null,null,null,null,null,null,null,null,null,null,null,null,null,null,null,null,null,null,null,null,null,null,null,null,null,null,null,null,null,null,null,null,null,null,null,null,null,null,null,null,null,null,null,null,null,null,null,null,null,null,null,null,null,null,null,null,null,null,null,null,null,null,null,null,null,null,null,null,null,null,null,null,null,null,null,null,null,null,null,null,null,null,null,null,null,null,null,null,null,null,{"$f":"IF($DQ$1<11,DU45,IF($DQ$1=11,DV45,DW49))","v":"Paula Tijaro (DP)"},4]
[null,null,null,null,null,null,null,null,null,null,null,null,null,null,null,null,null,null,null,null,null,null,null,null,null,null,null,null,null,null,null,null,null,null,null,null,null,null,null,null,null,null,null,null,null,null,null,null,null,null,null,null,null,null,null,null,null,null,null,null,null,null,null,null,null,null,null,null,null,null,null,null,null,null,null,null,null,null,null,null,null,null,null,null,null,null,null,null,null,null,null,null,null,null,null,null,null,null,null,null,null,null,null,null,null,null,null,null,null,null,{"$f":"IF($DQ$1<11,DU46,IF($DQ$1=11,DV46,DW46))","v":"Luana Piedade (DP)"},4]
[null,null,null,null,null,null,null,null,null,null,null,null,null,null,null,null,null,null,null,null,null,null,null,null,null,null,null,null,null,null,null,null,null,null,null,null,null,null,null,null,null,null,null,null,null,null,null,null,null,null,null,null,null,null,null,null,null,null,null,null,null,null,null,null,null,null,null,null,null,null,null,null,null,null,null,null,null,null,null,null,null,null,null,null,null,null,null,null,null,null,null,null,null,null,null,null,null,null,null,null,null,null,null,null,null,null,null,null,null,null,{"$f":"IF($DQ$1<11,DU47,IF($DQ$1=11,DV47,DW47))","v":"Bárbara Fernandes (DP)"},4]
[null,null,null,null,null,null,null,null,null,null,null,null,null,null,null,null,null,null,null,null,null,null,null,null,null,null,null,null,null,null,null,null,null,null,null,null,null,null,null,null,null,null,null,null,null,null,null,null,null,null,null,null,null,null,null,null,null,null,null,null,null,null,null,null,null,null,null,null,null,null,null,null,null,null,null,null,null,null,null,null,null,null,null,null,null,null,null,null,null,null,null,null,null,null,null,null,null,null,null,null,null,null,null,null,null,null,null,null,"13º",null,{"$f":"IF($DQ$1<11,DU48,IF($DQ$1=11,DV48,#REF!))","v":{"$error":"#REF!"}},2]
[null,null,null,null,null,null,null,null,null,null,null,null,null,null,null,null,null,null,null,null,null,null,null,null,null,null,null,null,null,null,null,null,null,null,null,null,null,null,null,null,null,null,null,null,null,null,null,null,null,null,null,null,null,null,null,null,null,null,null,null,null,null,null,null,null,null,null,null,null,null,null,null,null,null,null,null,null,null,null,null,null,null,null,null,null,null,null,null,null,null,null,null,null,null,null,null,null,null,null,null,null,null,null,null,null,null,null,null,null,null,{"$f":"IF($DQ$1<11,DU49,IF($DQ$1=11,DV49,#REF!))","v":{"$error":"#REF!"}},2]
[null,null,null,null,null,null,null,null,null,null,null,null,null,null,null,null,null,null,null,null,null,null,null,null,null,null,null,null,null,null,null,null,null,null,null,null,null,null,null,null,null,null,null,null,null,null,null,null,null,null,null,null,null,null,null,null,null,null,null,null,null,null,null,null,null,null,null,null,null,null,null,null,null,null,null,null,null,null,null,null,null,null,null,null,null,null,null,null,null,null,null,null,null,null,null,null,null,null,null,null,null,null,null,null,null,null,null,null,null,null,{"$f":"IF($DQ$1<11,DU50,IF($DQ$1=11,DV50,DW44))","v":"2º Grupo G"},2]
[null,null,null,null,null,null,null,null,null,null,null,null,null,null,null,null,null,null,null,null,null,null,null,null,null,null,null,null,null,null,null,null,null,null,null,null,null,null,null,null,null,null,null,null,null,null,null,null,null,null,null,null,null,null,null,null,null,null,null,null,null,null,null,null,null,null,null,null,null,null,null,null,null,null,null,null,null,null,null,null,null,null,null,null,null,null,null,null,null,null,null,null,null,null,null,null,null,null,null,null,null,null,null,null,null,null,null,null,null,null,{"$f":"IF($DQ$1<11,DU51,IF($DQ$1=11,DV51,DW45))","v":"2º Grupo H"},2]

{"sheet":"SS-Ini","index":11,"n_rows":86,"n_cols":88,"rows_kept":86,"cut":false,"hidden":false,"merged":[[8,34,9,54],[9,74,10,76],[10,1,10,6],[10,8,10,26],[12,74,13,76],[14,14,14,40],[0,11,1,42],[1,73,1,83],[2,12,2,41],[2,82,2,83],[3,13,5,41],[6,0,7,28],[6,39,7,54],[18,14,18,15],[18,16,18,40],[19,14,19,15],[19,16,19,40],[23,1,23,2],[23,3,23,7],[23,8,23,38],[23,39,23,41],[15,14,15,15],[15,16,15,40],[16,14,16,15],[16,16,16,40],[17,14,17,15],[17,16,17,40],[23,42,23,44],[23,45,23,47],[23,48,23,52],[23,53,23,54],[23,57,23,59],[24,1,24,2],[24,3,24,7],[24,8,24,22],[24,24,24,38],[24,48,24,49],[24,51,24,52],[24,53,24,54],[25,1,25,2],[25,3,25,7],[25,8,25,22],[25,24,25,38],[25,48,25,49],[25,51,25,52],[25,53,25,54],[26,53,26,54],[27,1,27,2],[27,3,27,7],[27,8,27,22],[27,24,27,38],[27,48,27,49],[27,51,27,52],[27,53,27,54],[26,1,26,2],[26,3,26,7],[26,8,26,22],[26,24,26,38],[26,48,26,49],[26,51,26,52],[28,53,28,54],[29,1,29,2],[29,3,29,7],[29,8,29,22],[29,24,29,38],[29,48,29,49],[29,51,29,52],[29,53,29,54],[28,1,28,2],[28,3,28,7],[28,8,28,22],[28,24,28,38],[28,48,28,49],[28,51,28,52],[30,53,30,54],[31,1,31,2],[31,3,31,7],[31,8,31,22],[31,24,31,38],[31,48,31,49],[31,51,31,52],[31,53,31,54],[30,1,30,2],[30,3,30,7],[30,8,30,22],[30,24,30,38],[30,48,30,49],[30,51,30,52],[33,1,33,2],[33,3,33,7],[33,8,33,22],[33,24,33,38],[33,48,33,49],[33,51,33,52],[33,53,33,54],[32,1,32,2],[32,3,32,7],[32,8,32,22],[32,24,32,38],[32,48,32,49],[32,51,32,52],[35,51,36,53],[37,8,37,9],[37,10,37,33],[37,34,37,36],[37,37,37,39],[37,40,37,44],[37,45,37,47],[37,51,37,53],[32,53,32,54],[38,45,38,47],[38,51,38,53],[39,8,39,9],[39,10,39,33],[39,34,39,36],[39,37,39,39],[39,40,39,41],[39,43,39,44],[39,45,39,47],[39,51,39,53],[38,8,38,9],[38,10,38,33],[38,34,38,36],[38,37,38,39],[38,40,38,41],[38,43,38,44],[42,45,42,47],[42,51,42,53],[42,8,42,9],[42,10,42,33],[42,34,42,36],[42,37,42,39],[42,40,42,41],[42,43,42,44],[40,45,40,47],[40,51,40,53],[41,8,41,9],[41,10,41,33],[41,34,41,36],[41,37,41,39],[41,40,41,41],[41,43,41,44],[41,45,41,47],[41,51,41,53],[40,8,40,9],[40,10,40,33],[40,34,40,36],[40,37,40,39],[40,40,40,41],[40,43,40,44]]}
[null,null,null,null,null,null,null,null,null,null,null,"Direcção Regional de Educação do Algarve"]
[null,null,null,null,null,null,null,null,null,null,null,null,null,null,null,null,null,null,null,null,null,null,null,null,null,null,null,null,null,null,null,null,null,null,null,null,null,null,null,null,null,null,null,null,null,null,null,null,null,null,null,null,null,null,null,null,null,null,null,null,null,null,null,null,null,null,null,null,null,null,null,null,null,"Lista de Participantes"]
[null,null,null,null,null,null,null,null,null,null,null,null,{"$f":"\"Ano Lectivo \"&Apoio!F10","v":"Ano Lectivo 2017/2018"},null,null,null,null,null,null,null,null,null,null,null,null,null,null,null,null,null,null,null,null,null,null,null,null,null,null,null,null,null,null,null,null,null,null,null,null,null,null,null,null,null,null,null,null,null,null,null,null,null,null,null,null,null,null,null,null,null,null,null,null,"Ordem","Nº","Nome (1º e último)","Escola","Abv.","Ano Nasc.","Escalão","Sexo","Observações","Insc. Prova",null,"Pontos Rank"]
[null,null,null,null,null,null,null,null,null,null,null,null,null,"Badminton",null,null,null,null,null,null,null,null,null,null,null,null,null,null,null,null,null,null,null,null,null,null,null,null,null,null,null,null,null,null,null,null,null,null,null,null,null,null,null,null,null,null,null,null,null,null,null,null,null,null,null,null,null,null,null,null,null,null,null,1,null,"Catarina Perruca","ACav.Silva","ACV",2004,"Iniciados","F",null,"SS",null,null,{"$f":"BX4&\" (\"&BZ4&\")\"","v":"Catarina Perruca (ACV)"},{"$f":"K39","v":"Lia Teixeira (ASA)"},{"$f":"AZ39","v":12}]
[null,null,null,null,null,null,null,null,null,null,null,null,null,null,null,null,null,null,null,null,null,null,null,null,null,null,null,null,null,null,null,null,null,null,null,null,null,null,null,null,null,null,null,null,null,null,null,null,null,null,null,null,null,null,null,null,null,null,null,null,null,null,null,null,null,null,null,null,null,null,null,null,null,2,null,"Inês Matos","ACav.Silva","ACV",2004,"Iniciados","F",null,"SS",null,null,{"$f":"BX5&\" (\"&BZ5&\")\"","v":"Inês Matos (ACV)"},{"$f":"K40","v":"Lucineia Sanches (ASA)"},{"$f":"AZ40","v":10}]
[null,null,null,null,null,null,null,null,null,null,null,null,null,null,null,null,null,null,null,null,null,null,null,null,null,null,null,null,null,null,null,null,null,null,null,null,null,null,null,null,null,null,null,null,null,null,null,null,null,null,null,null,null,null,null,null,null,null,null,null,null,null,null,null,null,null,null,null,null,null,null,null,null,3,null,"Jasmin Clarke","ACav.Silva","ACV",2003,"Iniciados","F",null,"SS",null,null,{"$f":"BX6&\" (\"&BZ6&\")\"","v":"Jasmin Clarke (ACV)"},{"$f":"K41","v":"Jasmin Clarke (ACV)"},{"$f":"AZ41","v":8}]
[{"$f":"\"Escola: \"&'Ficha de Inscrição'!$D$4","v":"Escola: ACav.Silva"},null,null,null,null,null,null,null,null,null,null,null,null,null,null,null,null,null,null,null,null,null,null,null,null,null,null,null,null,null,null,null,null,null,null,null,null,null,null,{"$f":"'Ficha de Inscrição'!$A$5","v":"Torneio Nº 4"},null,null,null,null,null,null,null,null,null,null,null,null,null,null,null,null,null,null,null,null,null,null,null,null,null,null,null,null,null,null,null,null,null,4,null,"Lia Teixeira","ASAgostinho","ASA",2004,"Iniciados","F",null,"SS",null,null,{"$f":"BX7&\" (\"&BZ7&\")\"","v":"Lia Teixeira (ASA)"},{"$f":"K42","v":"Inês Matos (ACV)"},{"$f":"AZ42","v":6}]
[null,null,null,null,null,null,null,null,null,null,null,null,null,null,null,null,null,null,null,null,null,null,null,null,null,null,null,null,null,null,null,null,null,null,null,null,null,null,null,null,null,null,null,null,null,null,null,null,null,null,null,null,null,null,null,null,null,null,null,null,null,null,null,null,null,null,null,null,null,null,null,null,null,5,null,"Lucineia Sanches","ASAgostinho","ASA",2004,"Iniciados","F",null,"SS",null,null,{"$f":"BX8&\" (\"&BZ8&\")\"","v":"Lucineia Sanches (ASA)"},{"$f":"K43","v":"Catarina Perruca (ACV)"},{"$f":"AZ43","v":4}]
[null,null,null,null,null,null,null,null,null,null,null,null,null,null,null,null,null,null,null,null,null,null,null,null,null,null,null,null,null,null,null,null,null,null,{"$f":"'Ficha de Inscrição'!$J$4","v":"2018-01-17"}]
[null,null,null,null,null,null,null,null,null,null,null,null,null,null,null,null,null,null,null,null,null,null,null,null,null,null,null,null,null,null,null,null,null,null,null,null,null,null,null,null,null,null,null,null,null,null,null,null,null,null,null,null,null,null,null,null,null,null,null,null,null,null,null,null,null,null,null,null,null,null,null,null,null,null,"Se pretender efectuar altrerações apague, e volte a introduzir os jogadores que pretender nos espaços disponíveis."]
[null,"SS-Ini",null,null,null,null,null,null,{"$f":"LOOKUP(B11,Apoio!N9:N39,Apoio!O9:O39)","v":"Singulares Senhoras - Iniciados"}]
[]
[null,"I. Lista de Participantes",null,null,null,null,null,null,null,null,null,null,null,null,null,null,null,null,null,null,null,null,null,null,null,null,null,null,null,null,null,null,null,null,null,null,null,null,null,null,null,null,null,null,null,null,null,null,null,null,null,null,null,null,null,null,null,null,null,null,null,null,null,null,null,null,null,null,null,null,null,null,null,null,"Para efectuar alterações à de colocações nos grupos dos jogadores, altere a coluna \"ORDEM\" dando uma nova ordem de nºs e depois clique em Ordenar."]
[]
[null,null,null,null,null,null,null,null,null,null,null,null,null,null,"Participantes"]
[null,null,null,null,null,null,null,null,null,null,null,null,null,null,"1.",null,{"$f":"IF(BX4=\"\",\"\",CONCATENATE(BX4,\" \",\"(\",BZ4,\")\"))","v":"Catarina Perruca (ACV)"}]
[null,null,null,null,null,null,null,null,null,null,null,null,null,null,"2.",null,{"$f":"IF(BX5=\"\",\"\",CONCATENATE(BX5,\" \",\"(\",BZ5,\")\"))","v":"Inês Matos (ACV)"}]
[null,null,null,null,null,null,null,null,null,null,null,null,null,null,"3.",null,{"$f":"IF(BX6=\"\",\"\",CONCATENATE(BX6,\" \",\"(\",BZ6,\")\"))","v":"Jasmin Clarke (ACV)"}]
[null,null,null,null,null,null,null,null,null,null,null,null,null,null,"4.",null,{"$f":"IF(BX7=\"\",\"\",CONCATENATE(BX7,\" \",\"(\",BZ7,\")\"))","v":"Lia Teixeira (ASA)"}]
[null,null,null,null,null,null,null,null,null,null,null,null,null,null,"5.",null,{"$f":"IF(BX8=\"\",\"\",CONCATENATE(BX8,\" \",\"(\",BZ8,\")\"))","v":"Lucineia Sanches (ASA)"}]
[]
[null,"II. Calendário de Jogos"]
[]
[null,"Nr.",null,"Nº Jogo",null,null,null,null,"Calendário",null,null,null,null,null,null,null,null,null,null,null,null,null,null,null,null,null,null,null,null,null,null,null,null,null,null,null,null,null,null,"1º Set",null,null,"2º Set",null,null,"3º Set",null,null,"Resultado",null,null,null,null,null,null,null,null,"Pontos"]
[null,1,null,{"$f":"CONCATENATE($B$11,\" \",B25)","v":"SS-Ini 1"},null,null,null,null,{"$f":"$Q$16","v":"Catarina Perruca (ACV)"},null,null,null,null,null,null,null,null,null,null,null,null,null,null,"vs",{"$f":"$Q$17","v":"Inês Matos (ACV)"},null,null,null,null,null,null,null,null,null,null,null,null,null,null,11,"-",4,11,"-",5,null,"-",null,{"$f":"IF(ISBLANK(AN25),\"0\",SUM(IF(AN25>AP25,1,0)+(IF(AQ25>AS25,1,0)+(IF(AT25>AV25,1,0)))))","v":2},null,":",{"$f":"IF(ISBLANK(AN25),\"0\",SUM(IF(AN25<AP25,1,0)+(IF(AQ25<AS25,1,0)+(IF(AT25<AV25,1,0)))))","v":0},null,null,null,null,null,{"$f":"IF(ISBLANK(AW25),\"0\",IF(AW25>AZ25,2,IF(AW25=AZ25,0,1)))","v":2},":",{"$f":"IF(ISBLANK(AZ25),\"0\",IF(AZ25>AW25,2,IF(AZ25=AW25,0,1)))","v":1}]
[null,2,null,"SS-Ini 2",null,null,null,null,{"$f":"$Q$18","v":"Jasmin Clarke (ACV)"},null,null,null,null,null,null,null,null,null,null,null,null,null,null,"vs",{"$f":"$Q$19","v":"Lia Teixeira (ASA)"},null,null,null,null,null,null,null,null,null,null,null,null,null,null,6,"-",11,3,"-",11,null,"-",null,0,null,":",2,null,null,null,null,null,1,":",2]
[null,3,null,"SS-Ini 3",null,null,null,null,{"$f":"$Q$16","v":"Catarina Perruca (ACV)"},null,null,null,null,null,null,null,null,null,null,null,null,null,null,"vs",{"$f":"$Q$18","v":"Jasmin Clarke (ACV)"},null,null,null,null,null,null,null,null,null,null,null,null,null,null,10,"-",11,9,"-",11,null,"-",null,0,null,":",2,null,null,null,null,null,1,":",2]
[null,4,null,"SS-Ini 4",null,null,null,null,{"$f":"$Q$17","v":"Inês Matos (ACV)"},null,null,null,null,null,null,null,null,null,null,null,null,null,null,"vs",{"$f":"$Q$20","v":"Lucineia Sanches (ASA)"},null,null,null,null,null,null,null,null,null,null,null,null,null,null,11,"-",5,8,"-",11,4,"-",9,1,null,":",2,null,null,null,null,null,1,":",2]
[null,5,null,"SS-Ini 5",null,null,null,null,{"$f":"$Q$20","v":"Lucineia Sanches (ASA)"},null,null,null,null,null,null,null,null,null,null,null,null,null,null,"vs",{"$f":"$Q$16","v":"Catarina Perruca (ACV)"},null,null,null,null,null,null,null,null,null,null,null,null,null,null,11,"-",5,11,"-",2,null,"-",null,2,null,":",0,null,null,null,null,null,2,":",1]
[null,6,null,"SS-Ini 6",null,null,null,null,{"$f":"$Q$17","v":"Inês Matos (ACV)"},null,null,null,null,null,null,null,null,null,null,null,null,null,null,"vs",{"$f":"$Q$19","v":"Lia Teixeira (ASA)"},null,null,null,null,null,null,null,null,null,null,null,null,null,null,7,"-",11,3,"-",11,null,"-",null,0,null,":",2,null,null,null,null,null,1,":",2]
[null,7,null,"SS-Ini 7",null,null,null,null,{"$f":"$Q$16","v":"Catarina Perruca (ACV)"},null,null,null,null,null,null,null,null,null,null,null,null,null,null,"vs",{"$f":"$Q$19","v":"Lia Teixeira (ASA)"},null,null,null,null,null,null,null,null,null,null,null,null,null,null,7,"-",11,6,"-",11,null,"-",null,0,null,":",2,null,null,null,null,null,1,":",2]
[null,8,null,"SS-Ini 8",null,null,null,null,{"$f":"$Q$18","v":"Jasmin Clarke (ACV)"},null,null,null,null,null,null,null,null,null,null,null,null,null,null,"vs",{"$f":"$Q$20","v":"Lucineia Sanches (ASA)"},null,null,null,null,null,null,null,null,null,null,null,null,null,null,9,"-",11,11,"-",10,9,"-",8,2,null,":",1,null,null,null,null,null,2,":",1]
[null,9,null,"SS-Ini 9",null,null,null,null,{"$f":"$Q$17","v":"Inês Matos (ACV)"},null,null,null,null,null,null,null,null,null,null,null,null,null,null,"vs",{"$f":"$Q$18","v":"Jasmin Clarke (ACV)"},null,null,null,null,null,null,null,null,null,null,null,null,null,null,11,"-",9,11,"-",7,null,"-",null,2,null,":",0,null,null,null,null,null,2,":",1]
[null,10,null,"SS-Ini 10",null,null,null,null,{"$f":"$Q$19","v":"Lia Teixeira (ASA)"},null,null,null,null,null,null,null,null,null,null,null,null,null,null,"vs",{"$f":"$Q$20","v":"Lucineia Sanches (ASA)"},null,null,null,null,null,null,null,null,null,null,null,null,null,null,11,"-",5,11,"-",7,null,"-",null,2,null,":",0,null,null,null,null,null,2,":",1]
[]
[null,null,"III. Classificação",null,null,null,null,null,null,null,null,null,null,null,null,null,null,null,null,null,null,null,null,null,null,null,null,null,null,null,null,null,null,null,null,null,null,null,null,null,null,null,null,null,null,null,null,null,null,null,null,"Rank"]
[]
[null,null,null,null,null,null,null,null,null,null,"Classificação",null,null,null,null,null,null,null,null,null,null,null,null,null,null,null,null,null,null,null,null,null,null,null,"Jogos",null,null,"Pont.",null,null,"Set's",null,null,null,null,"Dif.",null,null,null,null,null,"Pts",null,null,null,null,null,null,null,null,null,null,null,null,null,"J","Pts","M",null,"S","Dif"]
[null,null,null,null,null,null,null,null,{"$f":"I38+1","v":1},null,{"$f":"VLOOKUP($I39,$BL$39:$BS$43,2,FALSE)","v":"Lia Teixeira (ASA)"},null,null,null,null,null,null,null,null,null,null,null,null,null,null,null,null,null,null,null,null,null,null,null,{"$f":"VLOOKUP($I39,$BL$39:$BS$43,3,FALSE)","v":4},null,null,{"$f":"VLOOKUP($I39,$BL$39:$BS$43,4,FALSE)","v":8},null,null,{"$f":"VLOOKUP($I39,$BL$39:$BS$43,5,FALSE)","v":8},null,":",{"$f":"VLOOKUP($I39,$BL$39:$BS$43,7,FALSE)","v":0},null,{"$f":"VLOOKUP($I39,$BL$39:$BS$43,8,FALSE)","v":8},null,null,null,null,null,12,null,null,null,null,null,null,null,null,null,null,null,{"$f":"COUNTIF($BT$39:$BT$43,CONCATENATE(\">=\",BT39))","v":4},{"$f":"Q17","v":"Inês Matos (ACV)"},{"$f":"COUNT($AZ$25,$AW$28,$AW$30,$AW$33)","v":4},{"$f":"SUM($BH$25+$BF$28+$BF$30+$BF$33)","v":5},{"$f":"SUM($AZ$25+$AW$28+$AW$30+$AW$33)","v":3},":",{"$f":"SUM($AW$25+$AZ$28+$AZ$30+$AZ$33)","v":6},{"$f":"SUM(BP39-BR39)","v":-3},{"$f":"BO39*1000000+(BP39-BR39)*10000+BP39*100+BU39","v":4970305},5]
[null,null,null,null,null,null,null,null,{"$f":"I39+1","v":2},null,{"$f":"VLOOKUP($I40,$BL$39:$BS$43,2,FALSE)","v":"Lucineia Sanches (ASA)"},null,null,null,null,null,null,null,null,null,null,null,null,null,null,null,null,null,null,null,null,null,null,null,{"$f":"VLOOKUP($I40,$BL$39:$BS$43,3,FALSE)","v":4},null,null,{"$f":"VLOOKUP($I40,$BL$39:$BS$43,4,FALSE)","v":6},null,null,{"$f":"VLOOKUP($I40,$BL$39:$BS$43,5,FALSE)","v":5},null,":",{"$f":"VLOOKUP($I40,$BL$39:$BS$43,7,FALSE)","v":5},null,{"$f":"VLOOKUP($I40,$BL$39:$BS$43,8,FALSE)","v":0},null,null,null,null,null,10,null,null,null,null,null,null,null,null,null,null,null,{"$f":"COUNTIF($BT$39:$BT$43,CONCATENATE(\">=\",BT40))","v":3},{"$f":"$Q$18","v":"Jasmin Clarke (ACV)"},{"$f":"COUNT($AW$26,$AZ$27,$AW$32,$AZ$33)","v":4},{"$f":"SUM($BF$26+$BH$27+$BF$32+$BH$33)","v":6},{"$f":"SUM($AW$26+$AZ$27+$AW$32+$AZ$33)","v":4},":",{"$f":"SUM($AZ$26+$AW$27+$AZ$32+$AW$33)","v":5},{"$f":"SUM(BP40-BR40)","v":-1},{"$f":"BO40*1000000+(BP40-BR40)*10000+BP40*100+BU40","v":5990404},4]
[null,null,null,null,null,null,null,null,{"$f":"I40+1","v":3},null,{"$f":"VLOOKUP($I41,$BL$39:$BS$43,2,FALSE)","v":"Jasmin Clarke (ACV)"},null,null,null,null,null,null,null,null,null,null,null,null,null,null,null,null,null,null,null,null,null,null,null,{"$f":"VLOOKUP($I41,$BL$39:$BS$43,3,FALSE)","v":4},null,null,{"$f":"VLOOKUP($I41,$BL$39:$BS$43,4,FALSE)","v":6},null,null,{"$f":"VLOOKUP($I41,$BL$39:$BS$43,5,FALSE)","v":4},null,":",{"$f":"VLOOKUP($I41,$BL$39:$BS$43,7,FALSE)","v":5},null,{"$f":"VLOOKUP($I41,$BL$39:$BS$43,8,FALSE)","v":-1},null,null,null,null,null,8,null,null,null,null,null,null,null,null,null,null,null,{"$f":"COUNTIF($BT$39:$BT$43,CONCATENATE(\">=\",BT41))","v":1},{"$f":"$Q$19","v":"Lia Teixeira (ASA)"},{"$f":"COUNT($AZ$26,$AZ$30,$AZ$31,$AW$34)","v":4},{"$f":"SUM($BH$26+$BH$30+$BH$31+$BF$34)","v":8},{"$f":"SUM($AZ$26+$AZ$30+$AZ$31+$AW$34)","v":8},":",{"$f":"SUM($AW$26+$AW$30+$AW$31+$AZ$34)","v":0},{"$f":"SUM(BP41-BR41)","v":8},{"$f":"BO41*1000000+(BP41-BR41)*10000+BP41*100+BU41","v":8080803},3]
[null,null,null,null,null,null,null,null,{"$f":"I41+1","v":4},null,{"$f":"VLOOKUP($I42,$BL$39:$BS$43,2,FALSE)","v":"Inês Matos (ACV)"},null,null,null,null,null,null,null,null,null,null,null,null,null,null,null,null,null,null,null,null,null,null,null,{"$f":"VLOOKUP($I42,$BL$39:$BS$43,3,FALSE)","v":4},null,null,{"$f":"VLOOKUP($I42,$BL$39:$BS$43,4,FALSE)","v":5},null,null,{"$f":"VLOOKUP($I42,$BL$39:$BS$43,5,FALSE)","v":3},null,":",{"$f":"VLOOKUP($I42,$BL$39:$BS$43,7,FALSE)","v":6},null,{"$f":"VLOOKUP($I42,$BL$39:$BS$43,8,FALSE)","v":-3},null,null,null,null,null,6,null,null,null,null,null,null,null,null,null,null,null,{"$f":"COUNTIF($BT$39:$BT$43,CONCATENATE(\">=\",BT42))","v":5},{"$f":"$Q$16","v":"Catarina Perruca (ACV)"},{"$f":"COUNT($AW$25,$AW$27,$AZ$29,$AW$31)","v":4},{"$f":"SUM($BF$25+$BF$27+$BH$29+$BF$31)","v":5},{"$f":"SUM($AW$25+$AW$27+$AZ$29+$AW$31)","v":2},":",{"$f":"SUM($AZ$25+$AZ$27+$AW$29+$AZ$31)","v":6},{"$f":"SUM(BP42-BR42)","v":-4},{"$f":"BO42*1000000+(BP42-BR42)*10000+BP42*100+BU42","v":4960202},2]
[null,null,null,null,null,null,null,null,{"$f":"I42+1","v":5},null,{"$f":"VLOOKUP($I43,$BL$39:$BS$43,2,FALSE)","v":"Catarina Perruca (ACV)"},null,null,null,null,null,null,null,null,null,null,null,null,null,null,null,null,null,null,null,null,null,null,null,{"$f":"VLOOKUP($I43,$BL$39:$BS$43,3,FALSE)","v":4},null,null,{"$f":"VLOOKUP($I43,$BL$39:$BS$43,4,FALSE)","v":5},null,null,{"$f":"VLOOKUP($I43,$BL$39:$BS$43,5,FALSE)","v":2},null,":",{"$f":"VLOOKUP($I43,$BL$39:$BS$43,7,FALSE)","v":6},null,{"$f":"VLOOKUP($I43,$BL$39:$BS$43,8,FALSE)","v":-4},null,null,null,null,null,4,null,null,null,null,null,null,null,null,null,null,null,{"$f":"COUNTIF($BT$39:$BT$43,CONCATENATE(\">=\",BT43))","v":2},{"$f":"$Q$20","v":"Lucineia Sanches (ASA)"},{"$f":"COUNT($AZ$28,$AW$29,$AZ$32,$AZ$34)","v":4},{"$f":"SUM($BH$28+$BF$29+$BH$32+$BH$34)","v":6},{"$f":"SUM($AZ$28+$AW$29+$AZ$32+$AZ$34)","v":5},":",{"$f":"SUM(+$AW$28+$AZ$29+$AW$32+$AW$34)","v":5},{"$f":"SUM(BP43-BR43)","v":0},{"$f":"BO43*1000000+(BP43-BR43)*10000+BP43*100+BU43","v":6000501},1]
[]
[]
[]
[]
[]
[]
[]
[]
[]
["ABV","Nome",null,null,null,null,null,null,null,null,null,null,null,null,null,null,null,null,null,"Lista "]
["EM-Juv","Equipas Mistas - Juvenis",null,null,null,null,null,null,null,null,null,null,null,null,null,null,null,null,null,0]
["PH-InfA","Pares Homens - Infantis A",null,null,null,null,null,null,null,null,null,null,null,null,null,null,null,null,null,1]
["PH-InfB","Pares Homens - Infantis B",null,null,null,null,null,null,null,null,null,null,null,null,null,null,null,null,null,2]
["PH-Ini","Pares Homens - Iniciados",null,null,null,null,null,null,null,null,null,null,null,null,null,null,null,null,null,3]
["PH-Jun","Pares Homens - Juniores",null,null,null,null,null,null,null,null,null,null,null,null,null,null,null,null,null,4]
["PH-Juv","Pares Homens - Juvenis",null,null,null,null,null,null,null,null,null,null,null,null,null,null,null,null,null,5]
["PM-Ini","Pares Mistos - Iniciados",null,null,null,null,null,null,null,null,null,null,null,null,null,null,null,null,null,6]
["PS-InfA","Pares Senhoras - Infantis A",null,null,null,null,null,null,null,null,null,null,null,null,null,null,null,null,null,7]
["PS-InfB","Pares Senhoras - Infantis B",null,null,null,null,null,null,null,null,null,null,null,null,null,null,null,null,null,8]
["PS-Ini","Pares Senhoras - Iniciados",null,null,null,null,null,null,null,null,null,null,null,null,null,null,null,null,null,9]
["PS-Jun","Pares Senhoras - Juniores",null,null,null,null,null,null,null,null,null,null,null,null,null,null,null,null,null,10]
["PS-Juv","Pares Senhoras - Juvenis",null,null,null,null,null,null,null,null,null,null,null,null,null,null,null,null,null,11]
["SH-InfA","Singulares Homens - Infantis A",null,null,null,null,null,null,null,null,null,null,null,null,null,null,null,null,null,12]
["SH-InfB","Singulares Homens - Infantis B",null,null,null,null,null,null,null,null,null,null,null,null,null,null,null,null,null,13]
["SH-Ini","Singulares Homens - Iniciados",null,null,null,null,null,null,null,null,null,null,null,null,null,null,null,null,null,14]
["SH-Jun","Singulares Homens - Juniores",null,null,null,null,null,null,null,null,null,null,null,null,null,null,null,null,null,15]
["SH-Juv","Singulares Homens - Juvenis",null,null,null,null,null,null,null,null,null,null,null,null,null,null,null,null,null,16]
["SS-InfA","Singulares Senhoras - Infantis A",null,null,null,null,null,null,null,null,null,null,null,null,null,null,null,null,null,17]
["SS-InfB","Singulares Senhoras - Infantis B",null,null,null,null,null,null,null,null,null,null,null,null,null,null,null,null,null,18]
["SS-Ini","Singulares Senhoras - Iniciados",null,null,null,null,null,null,null,null,null,null,null,null,null,null,null,null,null,19]
["SS-Jun","Singulares Senhoras - Juniores",null,null,null,null,null,null,null,null,null,null,null,null,null,null,null,null,null,20]
["SS-Juv","Singulares Senhoras - Juvenis",null,null,null,null,null,null,null,null,null,null,null,null,null,null,null,null,null,21]
[null,null,null,null,null,null,null,null,null,null,null,null,null,null,null,null,null,null,null,22]
[null,null,null,null,null,null,null,null,null,null,null,null,null,null,null,null,null,null,null,23]
[null,null,null,null,null,null,null,null,null,null,null,null,null,null,null,null,null,null,null,24]
[null,null,null,null,null,null,null,null,null,null,null,null,null,null,null,null,null,null,null,25]
[null,null,null,null,null,null,null,null,null,null,null,null,null,null,null,null,null,null,null,26]
[null,null,null,null,null,null,null,null,null,null,null,null,null,null,null,null,null,null,null,27]
[null,null,null,null,null,null,null,null,null,null,null,null,null,null,null,null,null,null,null,28]
[null,null,null,null,null,null,null,null,null,null,null,null,null,null,null,null,null,null,null,29]
[null,null,null,null,null,null,null,null,null,null,null,null,null,null,null,null,null,null,null,30]
[null,null,null,null,null,null,null,null,null,null,null,null,null,null,null,null,null,null,null,"fc"]
[null,null,null,null,null,null,null,null,null,null,null,null,null,null,null,null,null,null,null,"v"]

{"sheet":"SH-Ini","index":12,"n_rows":105,"n_cols":120,"rows_kept":105,"cut":false,"hidden":false,"merged":[[23,108,24,110],[25,16,25,19],[13,0,19,0],[15,30,15,33],[18,22,18,26],[19,16,19,19],[19,22,20,26],[0,14,2,28],[0,38,0,43],[20,108,21,110],[0,107,0,110],[1,3,1,12],[1,107,1,117],[2,116,2,117],[3,0,3,1],[28,29,29,33],[29,0,35,0],[37,1,38,10],[37,17,37,22],[37,23,37,24],[37,26,37,28],[37,30,37,31],[38,17,38,22],[38,23,38,24],[38,26,38,28],[21,0,27,0],[22,23,22,26],[3,2,3,7],[3,8,3,12],[3,15,3,22],[3,23,3,33],[4,3,4,5],[4,9,4,11],[27,29,27,33],[5,0,11,0],[6,16,6,19],[9,23,9,26],[12,16,12,19],[40,30,40,31],[41,3,41,4],[41,9,41,10],[41,17,41,22],[41,23,41,24],[41,26,41,28],[41,30,41,31],[38,30,38,31],[39,1,40,4],[39,7,40,10],[39,17,39,22],[39,23,39,24],[39,26,39,28],[39,30,39,31],[40,17,40,22],[40,23,40,24],[40,26,40,28],[43,3,43,4],[43,9,43,10],[43,17,43,22],[43,23,43,24],[43,26,43,28],[43,30,43,31],[42,3,42,4],[42,9,42,10],[42,17,42,22],[42,23,42,24],[42,26,42,28],[42,30,42,31],[45,3,45,4],[45,9,45,10],[45,17,45,22],[45,23,45,24],[45,26,45,28],[45,30,45,31],[44,3,44,4],[44,9,44,10],[44,17,44,22],[44,23,44,24],[44,26,44,28],[44,30,44,31],[46,17,46,22],[46,23,46,24],[46,26,46,28],[46,30,46,31],[47,1,48,4],[47,7,48,10],[47,17,47,22],[47,23,47,24],[47,26,47,28],[47,30,47,31],[48,17,48,22],[48,23,48,24],[48,26,48,28],[48,30,48,31],[49,3,49,4],[49,9,49,10],[49,17,49,22],[49,23,49,24],[49,26,49,28],[49,30,49,31],[51,3,51,4],[51,9,51,10],[51,17,51,22],[51,23,51,24],[51,26,51,28],[51,30,51,31],[50,3,50,4],[50,9,50,10],[50,17,50,22],[50,23,50,24],[50,26,50,28],[50,30,50,31],[53,3,53,4],[53,9,53,10],[53,17,53,22],[53,23,53,24],[53,26,53,28],[53,30,53,31],[52,3,52,4],[52,9,52,10],[52,17,52,22],[52,23,52,24],[52,26,52,28],[52,30,52,31]]}
[null,null,null,"Direcção Regional de Educação do Algarve",null,null,null,null,null,null,null,null,null,null,"Badminton",null,null,null,null,null,null,null,null,null,null,null,null,null,null,null,null,null,null,null,null,null,null,null,{"$f":"$C$4","v":"Singulares Homens - Iniciados"},null,null,null,null,null,null,null,null,null,null,null,null,null,null,null,null,null,null,null,null,null,null,null,null,null,null,null,null,null,null,null,null,null,null,null,null,null,null,null,null,null,null,null,null,null,null,null,null,null,null,null,null,null,null,null,null,null,null,null,null,null,null,null,null,{"$f":"COUNTA(DF4:DF19)","v":10},null,null,"ERRO de prenchimento da Lista de participantes",{"$f":"IF(DC2>0,DC1,\"\")","v":""},null,null,null,"Quadro para 9 a 16 Jogadores"]
[null,null,null,{"$f":"\"Ano Lectivo \"&Apoio!F10","v":"Ano Lectivo 2017/2018"},null,null,null,null,null,null,null,null,null,null,null,null,null,null,null,null,null,null,null,null,null,null,null,null,null,null,null,null,null,null,null,null,null,null,null,null,null,null,null,null,null,null,null,null,null,null,null,null,null,null,null,null,null,null,null,null,null,null,null,null,null,null,null,null,null,null,null,null,null,null,null,null,null,null,null,null,null,null,null,null,null,null,null,null,null,null,null,null,null,null,null,null,null,null,null,null,null,null,null,null,null,null,{"$f":"SUM(DC4:DC19)","v":0},{"$f":"IF(DC2>0,\"ERRO DE PREENCHIMENTO\",\"Lista de Participantes\")","v":"Lista de Participantes"}]
[null,null,null,null,null,null,null,null,null,null,null,null,null,null,null,null,null,null,null,null,null,null,null,null,null,null,null,null,null,null,null,null,null,null,null,null,null,null,null,null,null,null,null,null,null,null,null,null,null,null,null,null,null,null,null,null,null,null,null,null,null,null,null,null,null,null,null,null,null,null,null,null,null,null,null,null,null,null,null,null,null,null,null,null,null,null,null,null,null,null,null,null,null,null,null,null,null,null,null,null,null,null,null,null,null,null,{"$f":"SUM(DC4:DC19)","v":0},"Ordem","Nº","Nome (1º e último)","Escola","Abv.","Ano Nasc.","Escalão","Sexo","Observações","Insc. Prova",null,"Pontos Rank"]
["SH-Ini",null,{"$f":"LOOKUP(A4,Apoio!N9:N39,Apoio!O9:O39)","v":"Singulares Homens - Iniciados"},null,null,null,null,null,{"$f":"'Ficha de Inscrição'!$A$5","v":"Torneio Nº 4"},null,null,null,null,null,null,{"$f":"\"Escola: \"&'Ficha de Inscrição'!$D$4","v":"Escola: ACav.Silva"},null,null,null,null,null,null,null,{"$f":"'Ficha de Inscrição'!$J$4","v":"2018-01-17"},null,null,null,null,null,null,null,null,null,null,null,null,null,null,null,null,null,null,null,null,null,null,null,null,null,null,null,null,null,null,null,null,null,null,null,null,null,null,null,null,null,null,null,null,null,null,null,null,null,null,null,null,null,null,null,null,null,null,null,null,null,null,null,null,null,null,null,null,null,null,null,null,null,null,null,null,null,null,null,null,null,null,{"$f":"IF(ISBLANK(DF4),COUNTA(DF5:$DG$19),0)","v":0},1,null,"Rafael Gonçalves","ACav.Silva","ACV",2004,"Iniciados","M",null,"SH",null,null,{"$f":"DF4&\" (\"&DH4&\")\"","v":"Rafael Gonçalves (ACV)"}]
[null,"1ª FASE",null,"Set's",null,null,null,null,null,"Set's",null,null,null,null,null,"2ª FASE",null,null,null,null,null,null,null,null,null,null,null,null,null,null,null,null,null,null,null,null,null,null,"Classificação 1ª Fase",null,null,null,null,null,null,null,null,null,null,null,null,null,null,null,null,null,null,null,null,null,null,null,null,null,null,null,null,null,null,null,null,null,null,null,null,null,null,null,null,null,null,null,null,null,null,null,null,null,null,null,null,null,null,null,null,null,null,null,null,null,null,null,null,null,null,null,{"$f":"IF(ISBLANK(DF5),COUNTA(DF6:$DG$19),0)","v":0},2,null,"Daniel Pop","ACav.Silva","ACV",2004,"Iniciados","M",null,"SH",null,null,{"$f":"DF5&\" (\"&DH5&\")\"","v":"Daniel Pop (ACV)"}]
["Grupo A","NºJ","Jogadores",1,2,3,"R","NºJ","Jogadores",1,2,3,"R",null,null,"1/4 Final",null,null,null,null,null,null,"1/2 Final",null,null,null,null,null,null,"Final",null,null,null,null,null,null,null,null,null,null,null,null,null,null,null,null,null,null,null,null,"Colocar Equipas",null,null,null,null,null,null,null,null,"Ordenar p/ Pts 1",null,"Ordenar p/ Pts 2",null,"Ordenar p/ Pts 3",null,null,"Ordenar p/ DG 1",null,null,"Ordenar p/ DG 2",null,null,"Ordenar p/ DG 3",null,null,null,"Ordenar p/ GM 1",null,null,null,"Ordenar p/ GM 2",null,null,null,"Ordenar p/ GM 3",null,null,null,null,null,null,null,null,null,null,null,null,null,null,null,null,null,"Vencedores","Derrotados",null,null,{"$f":"IF(ISBLANK(DF6),COUNTA(DF7:$DG$19),0)","v":0},3,null,"Renato Sobreira","ACav.Silva","ACV",2004,"Iniciados","M",null,"SH",null,null,"Renato Sobreira (ACV)"]
[null,{"$f":"$A$4","v":"SH-Ini"},{"$f":"AY10","v":"Simão Dias (ACV)"},8,11,5,{"$f":"IF(ISBLANK(D7),\"\",SUM(IF(D7>D8,1,0)+(IF(E7>E8,1,0)+(IF(F7>F8,1,0)))))","v":1},{"$f":"$A$4","v":"SH-Ini"},{"$f":"IF(I8=\"\",\"\",AY11)","v":"Daniel Espadinha (DP)"},11,11,null,{"$f":"IF(ISBLANK(J7),\"\",SUM(IF(J7>J8,1,0)+(IF(K7>K8,1,0)+(IF(L7>L8,1,0)))))","v":2},1,null,"Jogo Nº",{"$f":"CONCATENATE($A$4,\" \",SUM($H$36+1))","v":"SH-Ini 25"},null,null,null,null,null,null,null,null,null,null,null,null,null,null,null,null,null,null,null,null,null,"Classificação Grupo A",null,null,null,null,null,null,null,null,null,"<9",">9","Grupo A",null,null,null,null,null,null,null,null,null,null,null,null,null,null,null,null,null,null,null,null,null,null,null,null,null,null,null,null,null,null,null,null,null,null,null,null,null,null,null,null,null,null,null,null,null,null,null,null,null,null,null,{"$f":"IF(G8<>\"\",IF(G8>G7,C8,IF(G7>G8,C7,\"Empate\")),\"\")","v":"Rafael Gonçalves (ACV)"},{"$f":"IF(G8<>\"\",IF(G8<G7,C8,IF(G7<G8,C7,\"Empate\")),\"\")","v":"Simão Dias (ACV)"},null,null,{"$f":"IF(ISBLANK(DF7),COUNTA(DF8:$DG$19),0)","v":0},4,null,"Simão Dias","ACav.Silva","ACV",2004,"Iniciados","M",null,"SH",null,null,"Simão Dias (ACV)"]
[null,1,{"$f":"AY9","v":"Rafael Gonçalves (ACV)"},11,9,9,{"$f":"IF(ISBLANK(D7),\"\",SUM(IF(D8>D7,1,0)+(IF(E8>E7,1,0)+(IF(F8>F7,1,0)))))","v":2},{"$f":"B8+1","v":2},{"$f":"AY12","v":"Adilson Cruz (ASA)"},6,8,null,{"$f":"IF(ISBLANK(J7),\"\",SUM(IF(J8>J7,1,0)+(IF(K8>K7,1,0)+(IF(L8>L7,1,0)))))","v":0},16,1,{"$f":"IF($AY$53<11,VLOOKUP(O8,AX56:BA63,2,FALSE),IF($AY$53=11,VLOOKUP(O8,AX56:BA63,3,FALSE),VLOOKUP(O8,AX56:BA63,4,FALSE)))","v":"Rafael Gonçalves (ACV)"},9,9,null,{"$f":"IF(ISBLANK(Q8),\"\",SUM(IF(Q8>Q9,1,0)+(IF(R8>R9,1,0)+(IF(S8>S9,1,0)))))","v":2},null,null,null,null,null,null,null,null,null,null,null,null,null,null,null,null,null,"Cl",{"$f":"AY8","v":"Jogadores"},"Jg","V","E","D","PM","PS","DP","Pt.",null,null,null,"Jogadores","Jg","V","E","D","GM","GS","DG","Pts","Equipas","Pts","Equipas","Pts","Equipas","Pts","DG","Equipas","Pts","DG","Equipas","Pts","DG","Equipas","Pts","DG","GM","Equipas","Pts","DG","GM","Equipas","Pts","DG","GM","Equipas","Pts","DG","GM",null,null,null,"Equipas","Jg","V","D","E","GM","GS","DG","Pts",null,null,{"$f":"IF(M7<>\"\",IF(M7>M8,I7,IF(M8>M7,I8,\"Empate\")),\"\")","v":"Daniel Espadinha (DP)"},{"$f":"IF(M7<>\"\",IF(M7<M8,I7,IF(M8<M7,I8,\"Empate\")),\"\")","v":"Adilson Cruz (ASA)"},null,null,{"$f":"IF(ISBLANK(DF8),COUNTA(DF9:$DG$19),0)","v":0},5,null,"Miguel Santos","ACav.Silva","ACV",2003,"Iniciados","M",null,"SH",null,null,"Miguel Santos (ACV)"]
[null,{"$f":"$A$4","v":"SH-Ini"},{"$f":"AY9","v":"Rafael Gonçalves (ACV)"},11,11,null,{"$f":"IF(ISBLANK(D9),\"\",SUM(IF(D9>D10,1,0)+(IF(E9>E10,1,0)+(IF(F9>F10,1,0)))))","v":2},{"$f":"$A$4","v":"SH-Ini"},{"$f":"AY12","v":"Adilson Cruz (ASA)"},5,11,9,{"$f":"IF(ISBLANK(J9),\"\",SUM(IF(J9>J10,1,0)+(IF(K9>K10,1,0)+(IF(L9>L10,1,0)))))","v":2},null,8,{"$f":"IF($AY$53<11,VLOOKUP(O9,AX56:BA63,2,FALSE),IF($AY$53=11,VLOOKUP(O9,AX56:BA63,3,FALSE),VLOOKUP(O9,AX56:BA63,4,FALSE)))","v":"Adilson Cruz (ASA)"},1,7,null,{"$f":"IF(ISBLANK(Q8),\"\",SUM(IF(Q9>Q8,1,0)+(IF(R9>R8,1,0)+(IF(S9>S8,1,0)))))","v":0},null,null,null,null,null,null,null,null,null,null,null,null,null,null,null,null,null,{"$f":"IF(AM9=\"\",\"\",\"1º\")","v":"1º"},{"$f":"CN9","v":"Rafael Gonçalves (ACV)"},{"$f":"IF(AM9=\"\",\"\",CO9)","v":3},{"$f":"IF(AM9=\"\",\"\",CP9)","v":3},{"$f":"CQ9","v":0},{"$f":"IF(AM9=\"\",\"\",CR9)","v":0},{"$f":"IF(AM9=\"\",\"\",CS9)","v":73},{"$f":"IF(AM9=\"\",\"\",CT9)","v":48},{"$f":"IF(AM9=\"\",\"\",CU9)","v":25},{"$f":"IF(AM9=\"\",\"\",CV9)","v":6},{"$f":"IF($CZ$1<=11,AW9,AX9)","v":1},1,1,{"$f":"IF(AY39=\"\",BA39,AY39)","v":"Rafael Gonçalves (ACV)"},{"$f":"COUNT(G8,G9,M12)","v":3},{"$f":"COUNTIF(CY7:CY12,AY9)","v":3},{"$f":"AZ9-(BA9+BC9)","v":0},{"$f":"COUNTIF(CZ7:CZ12,AY9)","v":0},{"$f":"SUM(D8:F8,D9:F9,J12:L12)","v":73},{"$f":"SUM(D7:F7,D10:F10,J11:L11)","v":48},{"$f":"BD9-BE9","v":25},{"$f":"IF(AZ9=0,0,BA9*2+BC9*1)","v":6},{"$f":"IF(BG9>=BG10,AY9,AY10)","v":"Rafael Gonçalves (ACV)"},{"$f":"VLOOKUP(BH9,AY9:BG12,9,FALSE)","v":6},{"$f":"IF(BI9>=BI11,BH9,BH11)","v":"Rafael Gonçalves (ACV)"},{"$f":"VLOOKUP(BJ9,AY9:BG12,9,FALSE)","v":6},{"$f":"IF(BK9>=BK12,BJ9,BJ12)","v":"Rafael Gonçalves (ACV)"},{"$f":"VLOOKUP(BL9,AY9:BG12,9,FALSE)","v":6},{"$f":"VLOOKUP(BL9,AY9:BG12,8,FALSE)","v":25},{"$f":"IF(AND(BM9=BM10,BN10>BN9),BL10,BL9)","v":"Rafael Gonçalves (ACV)"},{"$f":"VLOOKUP(BO9,AY9:BG12,9,FALSE)","v":6},{"$f":"VLOOKUP(BO9,AY9:BG12,8,FALSE)","v":25},{"$f":"IF(AND(BP9=BP11,BQ11>BQ9),BO11,BO9)","v":"Rafael Gonçalves (ACV)"},{"$f":"VLOOKUP(BR9,AY9:BG12,9,FALSE)","v":6},{"$f":"VLOOKUP(BR9,AY9:BG12,8,FALSE)","v":25},{"$f":"IF(AND(BS9=BS12,BT12>BT9),BR12,BR9)","v":"Rafael Gonçalves (ACV)"},{"$f":"VLOOKUP(BU9,AY9:BG12,9,FALSE)","v":6},{"$f":"VLOOKUP(BU9,AY9:BG12,8,FALSE)","v":25},{"$f":"VLOOKUP(BU9,AY9:BG12,6,FALSE)","v":73},{"$f":"IF(AND(BV9=BV10,BW9=BW10,BX10>BX9),BU10,BU9)","v":"Rafael Gonçalves (ACV)"},{"$f":"VLOOKUP(BY9,AY9:BG12,9,FALSE)","v":6},{"$f":"VLOOKUP(BY9,AY9:BG12,8,FALSE)","v":25},{"$f":"VLOOKUP(BY9,AY9:BG12,6,FALSE)","v":73},{"$f":"IF(AND(BZ9=BZ11,CA9=CA11,CB11>CB9),BY11,BY9)","v":"Rafael Gonçalves (ACV)"},{"$f":"VLOOKUP(CC9,AY9:BG12,9,FALSE)","v":6},{"$f":"VLOOKUP(CC9,AY9:BG12,8,FALSE)","v":25},{"$f":"VLOOKUP(CC9,AY9:BG12,6,FALSE)","v":73},{"$f":"IF(AND(CD9=CD12,CE9=CE12,CF12>CF9),CC12,CC9)","v":"Rafael Gonçalves (ACV)"},{"$f":"VLOOKUP(CG9,AY9:BG12,9,FALSE)","v":6},{"$f":"VLOOKUP(CG9,AY9:BG12,8,FALSE)","v":25},{"$f":"VLOOKUP(CG9,AY9:BG12,6,FALSE)","v":73},null,null,null,{"$f":"CG9","v":"Rafael Gonçalves (ACV)"},{"$f":"VLOOKUP(CN9,AY9:BG12,2,FALSE)","v":3},{"$f":"VLOOKUP(CN9,AY9:BG12,3,FALSE)","v":3},{"$f":"VLOOKUP(CN9,AY9:BG12,4,FALSE)","v":0},{"$f":"VLOOKUP(CN9,AY9:BG12,5,FALSE)","v":0},{"$f":"VLOOKUP(CN9,AY9:BG12,6,FALSE)","v":73},{"$f":"VLOOKUP(CN9,AY9:BG12,7,FALSE)","v":48},{"$f":"VLOOKUP(CN9,AY9:BG12,8,FALSE)","v":25},{"$f":"VLOOKUP(CN9,AY9:BG12,9,FALSE)","v":6},null,null,{"$f":"IF(G9<>\"\",IF(G9>G10,C9,IF(G10>G9,C10,\"Empate\")),\"\")","v":"Rafael Gonçalves (ACV)"},{"$f":"IF(G9<>\"\",IF(G9<G10,C9,IF(G10<G9,C10,\"Empate\")),\"\")","v":"Daniel Espadinha (DP)"},null,null,{"$f":"IF(ISBLANK(DF9),COUNTA(DF10:$DG$19),0)","v":0},6,null,"Mário Silveira","DPacheco","DP",2004,"Iniciados","M",null,"SH",null,null,"Mário Silveira (DP)"]
[null,{"$f":"H32+1","v":9},{"$f":"AY11","v":"Daniel Espadinha (DP)"},6,9,null,{"$f":"IF(ISBLANK(D9),\"\",SUM(IF(D10>D9,1,0)+(IF(E10>E9,1,0)+(IF(F10>F9,1,0)))))","v":0},{"$f":"B10+1","v":10},{"$f":"IF(I9=\"\",\"\",AY10)","v":"Simão Dias (ACV)"},11,9,7,{"$f":"IF(ISBLANK(J9),\"\",SUM(IF(J10>J9,1,0)+(IF(K10>K9,1,0)+(IF(L10>L9,1,0)))))","v":1},9,null,null,null,null,null,null,null,null,"Jogo Nº",{"$f":"CONCATENATE($A$4,\" \",SUM($H$36+5))","v":"SH-Ini 29"},null,null,null,null,null,null,null,null,null,null,null,null,null,{"$f":"IF(AM10=\"\",\"\",\"2º\")","v":"2º"},{"$f":"CN10","v":"Daniel Espadinha (DP)"},{"$f":"IF(AM10=\"\",\"\",CO10)","v":3},{"$f":"IF(AM10=\"\",\"\",CP10)","v":2},{"$f":"CQ10","v":0},{"$f":"IF(AM10=\"\",\"\",CR10)","v":1},{"$f":"IF(AM10=\"\",\"\",CS10)","v":59},{"$f":"IF(AM10=\"\",\"\",CT10)","v":47},{"$f":"IF(AM10=\"\",\"\",CU10)","v":12},{"$f":"IF(AM10=\"\",\"\",CV10)","v":5},{"$f":"IF($CZ$1<=11,AW10,AX10)","v":4},4,8,{"$f":"IF(AY42=\"\",BA46,AY42)","v":"Simão Dias (ACV)"},{"$f":"COUNT(G7,M10,G12)","v":3},{"$f":"COUNTIF(CY7:CY12,AY10)","v":0},{"$f":"AZ10-(BA10+BC10)","v":0},{"$f":"COUNTIF(CZ7:CZ12,AY10)","v":3},{"$f":"SUM(D7:F7,J10:L10,D12:F12)","v":62},{"$f":"SUM(D8:F8,J9:L9,D11:F11)","v":76},{"$f":"BD10-BE10","v":-14},{"$f":"IF(AZ10=0,0,BA10*2+BC10*1)","v":3},{"$f":"IF(BG10<=BG9,AY10,AY9)","v":"Simão Dias (ACV)"},{"$f":"VLOOKUP(BH10,AY9:BG12,9,FALSE)","v":3},{"$f":"IF(BI10>=BI12,BH10,BH12)","v":"Adilson Cruz (ASA)"},{"$f":"VLOOKUP(BJ10,AY9:BG12,9,FALSE)","v":4},{"$f":"IF(BK10>=BK11,BJ10,BJ11)","v":"Daniel Espadinha (DP)"},{"$f":"VLOOKUP(BL10,AY9:BG12,9,FALSE)","v":5},{"$f":"VLOOKUP(BL10,AY9:BG12,8,FALSE)","v":12},{"$f":"IF(AND(BM9=BM10,BN10>BN9),BL9,BL10)","v":"Daniel Espadinha (DP)"},{"$f":"VLOOKUP(BO10,AY9:BG12,9,FALSE)","v":5},{"$f":"VLOOKUP(BO10,AY9:BG12,8,FALSE)","v":12},{"$f":"IF(AND(BP10=BP12,BQ12>BQ10),BO12,BO10)","v":"Daniel Espadinha (DP)"},{"$f":"VLOOKUP(BR10,AY9:BG12,9,FALSE)","v":5},{"$f":"VLOOKUP(BR10,AY9:BG12,8,FALSE)","v":12},{"$f":"IF(AND(BS10=BS11,BT11>BT10),BR11,BR10)","v":"Daniel Espadinha (DP)"},{"$f":"VLOOKUP(BU10,AY9:BG12,9,FALSE)","v":5},{"$f":"VLOOKUP(BU10,AY9:BG12,8,FALSE)","v":12},{"$f":"VLOOKUP(BU10,AY9:BG12,6,FALSE)","v":59},{"$f":"IF(AND(BV9=BV10,BW9=BW10,BX10>BX9),BU9,BU10)","v":"Daniel Espadinha (DP)"},{"$f":"VLOOKUP(BY10,AY9:BG12,9,FALSE)","v":5},{"$f":"VLOOKUP(BY10,AY9:BG12,8,FALSE)","v":12},{"$f":"VLOOKUP(BY10,AY9:BG12,6,FALSE)","v":59},{"$f":"IF(AND(BZ10=BZ12,CA10=CA12,CB12>CB10),BY12,BY10)","v":"Daniel Espadinha (DP)"},{"$f":"VLOOKUP(CC10,AY9:BG12,9,FALSE)","v":5},{"$f":"VLOOKUP(CC10,AY9:BG12,8,FALSE)","v":12},{"$f":"VLOOKUP(CC10,AY9:BG12,6,FALSE)","v":59},{"$f":"IF(AND(CD10=CD11,CE10=CE11,CF11>CF10),CC11,CC10)","v":"Daniel Espadinha (DP)"},{"$f":"VLOOKUP(CG10,AY9:BG12,9,FALSE)","v":5},{"$f":"VLOOKUP(CG10,AY9:BG12,8,FALSE)","v":12},{"$f":"VLOOKUP(CG10,AY9:BG12,6,FALSE)","v":59},null,null,null,{"$f":"CG10","v":"Daniel Espadinha (DP)"},{"$f":"VLOOKUP(CN10,AY9:BG12,2,FALSE)","v":3},{"$f":"VLOOKUP(CN10,AY9:BG12,3,FALSE)","v":2},{"$f":"VLOOKUP(CN10,AY9:BG12,4,FALSE)","v":0},{"$f":"VLOOKUP(CN10,AY9:BG12,5,FALSE)","v":1},{"$f":"VLOOKUP(CN10,AY9:BG12,6,FALSE)","v":59},{"$f":"VLOOKUP(CN10,AY9:BG12,7,FALSE)","v":47},{"$f":"VLOOKUP(CN10,AY9:BG12,8,FALSE)","v":12},{"$f":"VLOOKUP(CN10,AY9:BG12,9,FALSE)","v":5},null,null,{"$f":"IF(M9<>\"\",IF(M9>M10,I9,IF(M10>M9,I10,\"Empate\")),\"\")","v":"Adilson Cruz (ASA)"},{"$f":"IF(M9<>\"\",IF(M9<M10,I9,IF(M10<M9,I10,\"Empate\")),\"\")","v":"Simão Dias (ACV)"},null,null,{"$f":"IF(ISBLANK(DF10),COUNTA(DF11:$DG$19),0)","v":0},7,null,"Daniel Espadinha","DPacheco","DP",2004,"Iniciados","M",null,"SH",null,null,"Daniel Espadinha (DP)"]
[null,{"$f":"$A$4","v":"SH-Ini"},{"$f":"AY11","v":"Daniel Espadinha (DP)"},11,11,null,{"$f":"IF(ISBLANK(D11),\"\",SUM(IF(D11>D12,1,0)+(IF(E11>E12,1,0)+(IF(F11>F12,1,0)))))","v":2},{"$f":"$A$4","v":"SH-Ini"},{"$f":"AY12","v":"Adilson Cruz (ASA)"},0,9,null,{"$f":"IF(ISBLANK(J11),\"\",SUM(IF(J11>J12,1,0)+(IF(K11>K12,1,0)+(IF(L11>L12,1,0)))))","v":0},8,null,null,null,null,null,null,null,null,{"$f":"IF(T8=T9,\"\",IF(T8>T9,P8,P9))","v":"Rafael Gonçalves (ACV)"},9,9,null,{"$f":"IF(ISBLANK(X11),\"\",SUM(IF(X11>X12,1,0)+(IF(Y11>Y12,1,0)+(IF(Z11>Z12,1,0)))))","v":2},null,null,null,null,null,null,null,null,null,null,{"$f":"IF(AM11=\"\",\"\",\"3º\")","v":"3º"},{"$f":"CN11","v":"Adilson Cruz (ASA)"},{"$f":"IF(AM11=\"\",\"\",CO11)","v":3},{"$f":"IF(AM11=\"\",\"\",CP11)","v":1},{"$f":"CQ11","v":0},{"$f":"IF(AM11=\"\",\"\",CR11)","v":2},{"$f":"IF(AM11=\"\",\"\",CS11)","v":48},{"$f":"IF(AM11=\"\",\"\",CT11)","v":71},{"$f":"IF(AM11=\"\",\"\",CU11)","v":-23},{"$f":"IF(AM11=\"\",\"\",CV11)","v":4},{"$f":"IF($CZ$1<=11,AW11,AX11)","v":7},7,9,{"$f":"IF(AY45=\"\",BA47,AY45)","v":"Daniel Espadinha (DP)"},{"$f":"COUNT(M7,G10,G11)","v":3},{"$f":"COUNTIF(CY7:CY12,AY11)","v":2},{"$f":"AZ11-(BA11+BC11)","v":0},{"$f":"COUNTIF(CZ7:CZ12,AY11)","v":1},{"$f":"SUM(J7:L7,D10:F10,D11:F11)","v":59},{"$f":"SUM(J8:L8,D9:F9,D12:F12)","v":47},{"$f":"BD11-BE11","v":12},{"$f":"IF(AZ11=0,0,BA11*2+BC11*1)","v":5},{"$f":"IF(BG11>=BG12,AY11,AY12)","v":"Daniel Espadinha (DP)"},{"$f":"VLOOKUP(BH11,AY9:BG12,9,FALSE)","v":5},{"$f":"IF(BI11<=BI9,BH11,BH9)","v":"Daniel Espadinha (DP)"},{"$f":"VLOOKUP(BJ11,AY9:BG12,9,FALSE)","v":5},{"$f":"IF(BK11<=BK10,BJ11,BJ10)","v":"Adilson Cruz (ASA)"},{"$f":"VLOOKUP(BL11,AY9:BG12,9,FALSE)","v":4},{"$f":"VLOOKUP(BL11,AY9:BG12,8,FALSE)","v":-23},{"$f":"IF(AND(BM11=BM12,BN12>BN11),BL12,BL11)","v":"Adilson Cruz (ASA)"},{"$f":"VLOOKUP(BO11,AY9:BG12,9,FALSE)","v":4},{"$f":"VLOOKUP(BO11,AY9:BG12,8,FALSE)","v":-23},{"$f":"IF(AND(BP9=BP11,BQ11>BQ9),BO9,BO11)","v":"Adilson Cruz (ASA)"},{"$f":"VLOOKUP(BR11,AY9:BG12,9,FALSE)","v":4},{"$f":"VLOOKUP(BR11,AY9:BG12,8,FALSE)","v":-23},{"$f":"IF(AND(BS10=BS11,BT11>BT10),BR10,BR11)","v":"Adilson Cruz (ASA)"},{"$f":"VLOOKUP(BU11,AY9:BG12,9,FALSE)","v":4},{"$f":"VLOOKUP(BU11,AY9:BG12,8,FALSE)","v":-23},{"$f":"VLOOKUP(BU11,AY9:BG12,6,FALSE)","v":48},{"$f":"IF(AND(BV11=BV12,BW11=BW12,BX12>BX11),BU12,BU11)","v":"Adilson Cruz (ASA)"},{"$f":"VLOOKUP(BY11,AY9:BG12,9,FALSE)","v":4},{"$f":"VLOOKUP(BY11,AY9:BG12,8,FALSE)","v":-23},{"$f":"VLOOKUP(BY11,AY9:BG12,6,FALSE)","v":48},{"$f":"IF(AND(BZ9=BZ11,CA9=CA11,CB10>CB9),BY9,BY11)","v":"Adilson Cruz (ASA)"},{"$f":"VLOOKUP(CC11,AY9:BG12,9,FALSE)","v":4},{"$f":"VLOOKUP(CC11,AY9:BG12,8,FALSE)","v":-23},{"$f":"VLOOKUP(CC11,AY9:BG12,6,FALSE)","v":48},{"$f":"IF(AND(CD10=CD11,CE10=CE11,CF11>CF10),CC10,CC11)","v":"Adilson Cruz (ASA)"},{"$f":"VLOOKUP(CG11,AY9:BG12,9,FALSE)","v":4},{"$f":"VLOOKUP(CG11,AY9:BG12,8,FALSE)","v":-23},{"$f":"VLOOKUP(CG11,AY9:BG12,6,FALSE)","v":48},null,null,null,{"$f":"CG11","v":"Adilson Cruz (ASA)"},{"$f":"VLOOKUP(CN11,AY9:BG12,2,FALSE)","v":3},{"$f":"VLOOKUP(CN11,AY9:BG12,3,FALSE)","v":1},{"$f":"VLOOKUP(CN11,AY9:BG12,4,FALSE)","v":0},{"$f":"VLOOKUP(CN11,AY9:BG12,5,FALSE)","v":2},{"$f":"VLOOKUP(CN11,AY9:BG12,6,FALSE)","v":48},{"$f":"VLOOKUP(CN11,AY9:BG12,7,FALSE)","v":71},{"$f":"VLOOKUP(CN11,AY9:BG12,8,FALSE)","v":-23},{"$f":"VLOOKUP(CN11,AY9:BG12,9,FALSE)","v":4},null,null,{"$f":"IF(M11<>\"\",IF(M11>M12,I11,IF(M12>M11,I12,\"Empate\")),\"\")","v":"Rafael Gonçalves (ACV)"},{"$f":"IF(M11<>\"\",IF(M11<M12,I11,IF(M12<M11,I12,\"Empate\")),\"\")","v":"Adilson Cruz (ASA)"},null,null,{"$f":"IF(ISBLANK(DF11),COUNTA(DF12:$DG$19),0)","v":0},8,null,"Alexandre Guerreiro","DPacheco","DP",2003,"Iniciados","M",null,"SH",null,null,"Alexandre Guerreiro (DP)"]
[null,{"$f":"H34+1","v":17},{"$f":"AY10","v":"Simão Dias (ACV)"},3,8,null,{"$f":"IF(ISBLANK(D11),\"\",SUM(IF(D12>D11,1,0)+(IF(E12>E11,1,0)+(IF(F12>F11,1,0)))))","v":0},{"$f":"B12+1","v":18},{"$f":"IF(I11=\"\",\"\",AY9)","v":"Rafael Gonçalves (ACV)"},11,11,null,{"$f":"IF(ISBLANK(J11),\"\",SUM(IF(J12>J11,1,0)+(IF(K12>K11,1,0)+(IF(L12>L11,1,0)))))","v":2},null,null,null,null,null,null,null,null,null,{"$f":"IF(T14=T15,\"\",IF(T14>T15,P14,P15))","v":"Alexandre Guerreiro (DP)"},5,0,null,{"$f":"IF(ISBLANK(X11),\"\",SUM(IF(X12>X11,1,0)+(IF(Y12>Y11,1,0)+(IF(Z12>Z11,1,0)))))","v":0},null,null,null,null,null,null,null,null,null,null,{"$f":"IF(AM12=\"\",\"\",\"4º\")","v":"4º"},{"$f":"CN12","v":"Simão Dias (ACV)"},{"$f":"IF(AM12=\"\",\"\",CO12)","v":3},{"$f":"IF(AM12=\"\",\"\",CP12)","v":0},{"$f":"CQ12","v":0},{"$f":"IF(AM12=\"\",\"\",CR12)","v":3},{"$f":"IF(AM12=\"\",\"\",CS12)","v":62},{"$f":"IF(AM12=\"\",\"\",CT12)","v":76},{"$f":"IF(AM12=\"\",\"\",CU12)","v":-14},{"$f":"IF(AM12=\"\",\"\",CV12)","v":3},{"$f":"IF($CZ$1<=11,AW12,AX12)","v":10},{"$f":"IF(AM12=\"\",\"\",10)","v":10},{"$f":"IF(AM12=\"\",\"\",16)","v":16},{"$f":"IF(AY48=\"\",BA54,AY48)","v":"Adilson Cruz (ASA)"},{"$f":"COUNT(M8,M9,M11)","v":3},{"$f":"COUNTIF(CY7:CY12,AY12)","v":1},{"$f":"AZ12-(BA12+BC12)","v":0},{"$f":"COUNTIF(CZ7:CZ12,AY12)","v":2},{"$f":"SUM(J8:L8,J9:L9,J11:L11)","v":48},{"$f":"SUM(J7:L7,J10:L10,J12:L12)","v":71},{"$f":"BD12-BE12","v":-23},{"$f":"IF(AZ12=0,0,BA12*2+BC12*1)","v":4},{"$f":"IF(BG12<=BG11,AY12,AY11)","v":"Adilson Cruz (ASA)"},{"$f":"VLOOKUP(BH12,AY9:BG12,9,FALSE)","v":4},{"$f":"IF(BI12<=BI10,BH12,BH10)","v":"Simão Dias (ACV)"},{"$f":"VLOOKUP(BJ12,AY9:BG12,9,FALSE)","v":3},{"$f":"IF(BK12<=BK9,BJ12,BJ9)","v":"Simão Dias (ACV)"},{"$f":"VLOOKUP(BL12,AY9:BG12,9,FALSE)","v":3},{"$f":"VLOOKUP(BL12,AY9:BG12,8,FALSE)","v":-14},{"$f":"IF(AND(BM11=BM12,BN12>BN11),BL11,BL12)","v":"Simão Dias (ACV)"},{"$f":"VLOOKUP(BO12,AY9:BG12,9,FALSE)","v":3},{"$f":"VLOOKUP(BO12,AY9:BG12,8,FALSE)","v":-14},{"$f":"IF(AND(BP10=BP12,BQ12>BQ10),BO10,BO12)","v":"Simão Dias (ACV)"},{"$f":"VLOOKUP(BR12,AY9:BG12,9,FALSE)","v":3},{"$f":"VLOOKUP(BR12,AY9:BG12,8,FALSE)","v":-14},{"$f":"IF(AND(BS9=BS12,BT12>BT9),BR9,BR12)","v":"Simão Dias (ACV)"},{"$f":"VLOOKUP(BU12,AY9:BG12,9,FALSE)","v":3},{"$f":"VLOOKUP(BU12,AY9:BG12,8,FALSE)","v":-14},{"$f":"VLOOKUP(BU12,AY9:BG12,6,FALSE)","v":62},{"$f":"IF(AND(BV11=BV12,BW11=BW12,BX12>BX11),BU11,BU12)","v":"Simão Dias (ACV)"},{"$f":"VLOOKUP(BY12,AY9:BG12,9,FALSE)","v":3},{"$f":"VLOOKUP(BY12,AY9:BG12,8,FALSE)","v":-14},{"$f":"VLOOKUP(BY12,AY9:BG12,6,FALSE)","v":62},{"$f":"IF(AND(BZ10=BZ12,CA10=CA12,CB12>CB10),BY10,BY12)","v":"Simão Dias (ACV)"},{"$f":"VLOOKUP(CC12,AY9:BG12,9,FALSE)","v":3},{"$f":"VLOOKUP(CC12,AY9:BG12,8,FALSE)","v":-14},{"$f":"VLOOKUP(CC12,AY9:BG12,6,FALSE)","v":62},{"$f":"IF(AND(CD9=CD12,CE9=CE12,CF12>CF9),CC9,CC12)","v":"Simão Dias (ACV)"},{"$f":"VLOOKUP(CG12,AY9:BG12,9,FALSE)","v":3},{"$f":"VLOOKUP(CG12,AY9:BG12,8,FALSE)","v":-14},{"$f":"VLOOKUP(CG12,AY9:BG12,6,FALSE)","v":62},null,null,null,{"$f":"CG12","v":"Simão Dias (ACV)"},{"$f":"VLOOKUP(CN12,AY9:BG12,2,FALSE)","v":3},{"$f":"VLOOKUP(CN12,AY9:BG12,3,FALSE)","v":0},{"$f":"VLOOKUP(CN12,AY9:BG12,4,FALSE)","v":0},{"$f":"VLOOKUP(CN12,AY9:BG12,5,FALSE)","v":3},{"$f":"VLOOKUP(CN12,AY9:BG12,6,FALSE)","v":62},{"$f":"VLOOKUP(CN12,AY9:BG12,7,FALSE)","v":76},{"$f":"VLOOKUP(CN12,AY9:BG12,8,FALSE)","v":-14},{"$f":"VLOOKUP(CN12,AY9:BG12,9,FALSE)","v":3},null,null,{"$f":"IF(G12<>\"\",IF(G12>G11,C12,IF(G11>G12,C11,\"Empate\")),\"\")","v":"Daniel Espadinha (DP)"},{"$f":"IF(G12<>\"\",IF(G12<G11,C12,IF(G11<G12,C11,\"Empate\")),\"\")","v":"Simão Dias (ACV)"},null,null,{"$f":"IF(ISBLANK(DF12),COUNTA(DF13:$DG$19),0)","v":0},9,null,"Eduardo Contreras","ASAgostinho","ASA",2004,"Iniciados","M",null,"SH",null,null,"Eduardo Contreras (ASA)"]
[null,null,null,null,null,null,null,null,null,null,null,null,null,5,null,"Jogo Nº",{"$f":"CONCATENATE($A$4,\" \",SUM($H$36+2))","v":"SH-Ini 26"},null,null,null,null,null,null,null,null,null,null,null,null,null,null,null,null,null,null,null,null,null,null,null,null,null,null,null,null,null,null,null,null,null,null,null,null,null,null,null,null,null,null,null,null,null,null,null,null,null,null,null,null,null,null,null,null,null,null,null,null,null,null,null,null,null,null,null,null,null,null,null,null,null,null,null,null,null,null,null,null,null,null,null,null,null,null,null,null,null,{"$f":"IF(ISBLANK(DF13),COUNTA(DF14:$DG$19),0)","v":0},10,null,"Adilson Cruz","ASAgostinho","ASA",2004,"Iniciados","M",null,"SH",null,null,"Adilson Cruz (ASA)"]
["Grupo B","NºJ","Jogadores",1,2,3,"R","NºJ","Jogadores",1,2,3,"R",12,5,{"$f":"IF($AY$53<11,VLOOKUP(O14,AX56:BA63,2,FALSE),IF($AY$53=11,VLOOKUP(O14,AX56:BA63,3,FALSE),VLOOKUP(O14,AX56:BA63,4,FALSE)))","v":"Alexandre Guerreiro (DP)"},9,9,null,{"$f":"IF(ISBLANK(Q14),\"\",SUM(IF(Q14>Q15,1,0)+(IF(R14>R15,1,0)+(IF(S14>S15,1,0)))))","v":2},null,null,null,null,null,null,null,null,null,null,null,null,null,null,null,null,null,null,"Classificação Grupo B",null,null,null,null,null,null,null,null,null,null,null,"Colocar Equipas",null,null,null,null,null,null,null,null,"Ordenar p/ Pts 1",null,"Ordenar p/ Pts 2",null,"Ordenar p/ Pts 3",null,null,"Ordenar p/ DG 1",null,null,"Ordenar p/ DG 2",null,null,"Ordenar p/ DG 3",null,null,null,"Ordenar p/ GM 1",null,null,null,"Ordenar p/ GM 2",null,null,null,"Ordenar p/ GM 3",null,null,null,null,null,null,null,null,null,null,null,null,null,null,null,null,null,"Vencedores","Derrotados",null,null,{"$f":"IF(ISBLANK(DF14),COUNTA(DF15:$DG$19),0)","v":0},11,null,null,null,null,null,null,null,null,null,null,null," ()"]
[null,{"$f":"$A$4","v":"SH-Ini"},{"$f":"AY18","v":"Miguel Santos (ACV)"},11,11,null,{"$f":"IF(ISBLANK(D15),\"\",SUM(IF(D15>D16,1,0)+(IF(E15>E16,1,0)+(IF(F15>F16,1,0)))))","v":2},{"$f":"$A$4","v":"SH-Ini"},{"$f":"IF(I16=\"\",\"\",AY19)","v":""},null,null,null,{"$f":"IF(ISBLANK(J15),\"\",SUM(IF(J15>J16,1,0)+(IF(K15>K16,1,0)+(IF(L15>L16,1,0)))))","v":""},null,4,{"$f":"IF($AY$53<11,VLOOKUP(O15,AX56:BA63,2,FALSE),IF($AY$53=11,VLOOKUP(O15,AX56:BA63,3,FALSE),VLOOKUP(O15,AX56:BA63,4,FALSE)))","v":"Mário Silveira (DP)"},5,8,null,{"$f":"IF(ISBLANK(Q14),\"\",SUM(IF(Q15>Q14,1,0)+(IF(R15>R14,1,0)+(IF(S15>S14,1,0)))))","v":0},null,null,null,null,null,null,null,null,null,null,null,null,null,null,null,null,null,"Cl",{"$f":"AY16","v":"Jogadores"},"Jg","V","E","D","PM","PS","DP","Pt.",null,null,null,"Grupo B",null,null,null,null,null,null,null,null,null,null,null,null,null,null,null,null,null,null,null,null,null,null,null,null,null,null,null,null,null,null,null,null,null,null,null,null,null,null,null,null,null,null,null,null,null,null,null,null,null,null,null,{"$f":"IF(G16<>\"\",IF(G16>G15,C16,IF(G15>G16,C15,\"Empate\")),\"\")","v":"Miguel Santos (ACV)"},{"$f":"IF(G16<>\"\",IF(G16<G15,C16,IF(G15<G16,C15,\"Empate\")),\"\")","v":"Daniel Pop (ACV)"},null,null,{"$f":"IF(ISBLANK(DF15),COUNTA(DF16:$DG$19),0)","v":0},12,null,null,null,null,null,null,null,null,null,null,null," ()"]
[null,{"$f":"H8+1","v":3},{"$f":"AY17","v":"Daniel Pop (ACV)"},3,5,null,{"$f":"IF(ISBLANK(D15),\"\",SUM(IF(D16>D15,1,0)+(IF(E16>E15,1,0)+(IF(F16>F15,1,0)))))","v":0},{"$f":"B16+1","v":4},{"$f":"AY20","v":""},null,null,null,{"$f":"IF(ISBLANK(J15),\"\",SUM(IF(J16>J15,1,0)+(IF(K16>K15,1,0)+(IF(L16>L15,1,0)))))","v":""},13,null,null,null,null,null,null,null,null,null,null,null,null,null,null,null,"Jogo Nº",{"$f":"CONCATENATE($A$4,\" \",SUM($H$36+7))","v":"SH-Ini 31"},null,null,null,null,null,null,{"$f":"IF(AM16=\"\",\"\",\"1º\")","v":"1º"},{"$f":"CN17","v":"Miguel Santos (ACV)"},{"$f":"IF(AM16=\"\",\"\",CO17)","v":2},{"$f":"IF(AM16=\"\",\"\",CP17)","v":2},{"$f":"CQ17","v":0},{"$f":"IF(AM16=\"\",\"\",CR17)","v":0},{"$f":"IF(AM16=\"\",\"\",CS17)","v":50},{"$f":"IF(AM16=\"\",\"\",CT17)","v":28},{"$f":"IF(AM16=\"\",\"\",CU17)","v":22},{"$f":"IF(AM16=\"\",\"\",CV17)","v":4},{"$f":"IF($CZ$1<=11,AW16,AX16)","v":2},2,4,"Jogadores","Jg","V","E","D","GM","GS","DG","Pts","Equipas","Pts","Equipas","Pts","Equipas","Pts","DG","Equipas","Pts","DG","Equipas","Pts","DG","Equipas","Pts","DG","GM","Equipas","Pts","DG","GM","Equipas","Pts","DG","GM","Equipas","Pts","DG","GM",null,null,null,"Equipas","Jg","V","D","E","GM","GS","DG","Pts",null,null,{"$f":"IF(M15<>\"\",IF(M15>M16,I15,IF(M16>M15,I16,\"Empate\")),\"\")","v":""},{"$f":"IF(M15<>\"\",IF(M15<M16,I15,IF(M16<M15,I16,\"Empate\")),\"\")","v":""},null,null,{"$f":"IF(ISBLANK(DF16),COUNTA(DF17:$DG$19),0)","v":0},13,null,null,null,null,null,null,null,null,null,null,null," ()"]
[null,{"$f":"$A$4","v":"SH-Ini"},{"$f":"AY17","v":"Daniel Pop (ACV)"},3,7,null,{"$f":"IF(ISBLANK(D17),\"\",SUM(IF(D17>D18,1,0)+(IF(E17>E18,1,0)+(IF(F17>F18,1,0)))))","v":0},{"$f":"$A$4","v":"SH-Ini"},{"$f":"AY20","v":""},null,null,null,{"$f":"IF(ISBLANK(J17),\"\",SUM(IF(J17>J18,1,0)+(IF(K17>K18,1,0)+(IF(L17>L18,1,0)))))","v":""},4,null,null,null,null,null,null,null,null,{"$f":"IF(AA11=AA12,\"\",IF(AA11<AA12,W11,W12))","v":"Alexandre Guerreiro (DP)"},9,null,null,{"$f":"IF(ISBLANK(X17),\"\",SUM(IF(X17>X18,1,0)+(IF(Y17>Y18,1,0)+(IF(Z17>Z18,1,0)))))","v":0},null,null,{"$f":"IF(AA11=AA12,\"\",IF(AA11>AA12,W11,W12))","v":"Rafael Gonçalves (ACV)"},9,9,null,{"$f":"IF(ISBLANK(AE17),\"\",SUM(IF(AE17>AE18,1,0)+(IF(AF17>AF18,1,0)+(IF(AG17>AG18,1,0)))))","v":2},null,null,null,{"$f":"IF(AM17=\"\",\"\",\"2º\")","v":"2º"},{"$f":"CN18","v":"Alexandre Guerreiro (DP)"},{"$f":"IF(AM17=\"\",\"\",CO18)","v":2},{"$f":"IF(AM17=\"\",\"\",CP18)","v":1},{"$f":"CQ18","v":0},{"$f":"IF(AM17=\"\",\"\",CR18)","v":1},{"$f":"IF(AM17=\"\",\"\",CS18)","v":42},{"$f":"IF(AM17=\"\",\"\",CT18)","v":38},{"$f":"IF(AM17=\"\",\"\",CU18)","v":4},{"$f":"IF(AM17=\"\",\"\",CV18)","v":3},{"$f":"IF($CZ$1<=11,AW17,AX17)","v":5},5,5,{"$f":"IF(AY40=\"\",BA42,AY40)","v":"Daniel Pop (ACV)"},{"$f":"COUNT(G16,G17,M20)","v":2},{"$f":"COUNTIF(CY15:CY20,AY17)","v":0},{"$f":"AZ17-(BA17+BC17)","v":0},{"$f":"COUNTIF(CZ15:CZ20,AY17)","v":2},{"$f":"SUM(D16:F16,D17:F17,J20:L20)","v":18},{"$f":"SUM(D15:F15,D18:F18,J19:L19)","v":44},{"$f":"BD17-BE17","v":-26},{"$f":"IF(AZ17=0,0,BA17*2+BC17*1)","v":2},{"$f":"IF(BG17>=BG18,AY17,AY18)","v":"Miguel Santos (ACV)"},{"$f":"VLOOKUP(BH17,AY17:BG20,9,FALSE)","v":4},{"$f":"IF(BI17>=BI19,BH17,BH19)","v":"Miguel Santos (ACV)"},{"$f":"VLOOKUP(BJ17,AY17:BG20,9,FALSE)","v":4},{"$f":"IF(BK17>=BK20,BJ17,BJ20)","v":"Miguel Santos (ACV)"},{"$f":"VLOOKUP(BL17,AY17:BG20,9,FALSE)","v":4},{"$f":"VLOOKUP(BL17,AY17:BG20,8,FALSE)","v":22},{"$f":"IF(AND(BM17=BM18,BN18>BN17),BL18,BL17)","v":"Miguel Santos (ACV)"},{"$f":"VLOOKUP(BO17,AY17:BG20,9,FALSE)","v":4},{"$f":"VLOOKUP(BO17,AY17:BG20,8,FALSE)","v":22},{"$f":"IF(AND(BP17=BP19,BQ19>BQ17),BO19,BO17)","v":"Miguel Santos (ACV)"},{"$f":"VLOOKUP(BR17,AY17:BG20,9,FALSE)","v":4},{"$f":"VLOOKUP(BR17,AY17:BG20,8,FALSE)","v":22},{"$f":"IF(AND(BS17=BS20,BT20>BT17),BR20,BR17)","v":"Miguel Santos (ACV)"},{"$f":"VLOOKUP(BU17,AY17:BG20,9,FALSE)","v":4},{"$f":"VLOOKUP(BU17,AY17:BG20,8,FALSE)","v":22},{"$f":"VLOOKUP(BU17,AY17:BG20,6,FALSE)","v":50},{"$f":"IF(AND(BV17=BV18,BW17=BW18,BX18>BX17),BU18,BU17)","v":"Miguel Santos (ACV)"},{"$f":"VLOOKUP(BY17,AY17:BG20,9,FALSE)","v":4},{"$f":"VLOOKUP(BY17,AY17:BG20,8,FALSE)","v":22},{"$f":"VLOOKUP(BY17,AY17:BG20,6,FALSE)","v":50},{"$f":"IF(AND(BZ17=BZ19,CA17=CA19,CB19>CB17),BY19,BY17)","v":"Miguel Santos (ACV)"},{"$f":"VLOOKUP(CC17,AY17:BG20,9,FALSE)","v":4},{"$f":"VLOOKUP(CC17,AY17:BG20,8,FALSE)","v":22},{"$f":"VLOOKUP(CC17,AY17:BG20,6,FALSE)","v":50},{"$f":"IF(AND(CD17=CD20,CE17=CE20,CF20>CF17),CC20,CC17)","v":"Miguel Santos (ACV)"},{"$f":"VLOOKUP(CG17,AY17:BG20,9,FALSE)","v":4},{"$f":"VLOOKUP(CG17,AY17:BG20,8,FALSE)","v":22},{"$f":"VLOOKUP(CG17,AY17:BG20,6,FALSE)","v":50},null,null,null,{"$f":"CG17","v":"Miguel Santos (ACV)"},{"$f":"VLOOKUP(CN17,AY17:BG20,2,FALSE)","v":2},{"$f":"VLOOKUP(CN17,AY17:BG20,3,FALSE)","v":2},{"$f":"VLOOKUP(CN17,AY17:BG20,4,FALSE)","v":0},{"$f":"VLOOKUP(CN17,AY17:BG20,5,FALSE)","v":0},{"$f":"VLOOKUP(CN17,AY17:BG20,6,FALSE)","v":50},{"$f":"VLOOKUP(CN17,AY17:BG20,7,FALSE)","v":28},{"$f":"VLOOKUP(CN17,AY17:BG20,8,FALSE)","v":22},{"$f":"VLOOKUP(CN17,AY17:BG20,9,FALSE)","v":4},null,null,{"$f":"IF(G17<>\"\",IF(G17>G18,C17,IF(G18>G17,C18,\"Empate\")),\"\")","v":"Alexandre Guerreiro (DP)"},{"$f":"IF(G17<>\"\",IF(G17<G18,C17,IF(G18<G17,C18,\"Empate\")),\"\")","v":"Daniel Pop (ACV)"},null,null,{"$f":"IF(ISBLANK(DF17),COUNTA(DF18:$DG$19),0)","v":0},14,null,null,null,null,null,null,null,null,null,null,null," ()"]
[null,{"$f":"H10+1","v":11},{"$f":"AY19","v":"Alexandre Guerreiro (DP)"},11,11,null,{"$f":"IF(ISBLANK(D17),\"\",SUM(IF(D18>D17,1,0)+(IF(E18>E17,1,0)+(IF(F18>F17,1,0)))))","v":2},{"$f":"B18+1","v":12},{"$f":"IF(I17=\"\",\"\",AY18)","v":""},null,null,null,{"$f":"IF(ISBLANK(J17),\"\",SUM(IF(J18>J17,1,0)+(IF(K18>K17,1,0)+(IF(L18>L17,1,0)))))","v":""},null,null,null,null,null,null,null,null,null,{"$f":"IF(AA24=AA25,\"\",IF(AA24<AA25,W24,W25))","v":"Miguel Santos (ACV)"},11,null,null,{"$f":"IF(ISBLANK(X17),\"\",SUM(IF(X18>X17,1,0)+(IF(Y18>Y17,1,0)+(IF(Z18>Z17,1,0)))))","v":1},null,null,{"$f":"IF(AA24=AA25,\"\",IF(AA24>AA25,W24,W25))","v":"Daniel Espadinha (DP)"},4,8,null,{"$f":"IF(ISBLANK(AE17),\"\",SUM(IF(AE18>AE17,1,0)+(IF(AF18>AF17,1,0)+(IF(AG18>AG17,1,0)))))","v":0},null,null,null,{"$f":"IF(AM18=\"\",\"\",\"3º\")","v":"3º"},{"$f":"CN19","v":"Daniel Pop (ACV)"},{"$f":"IF(AM18=\"\",\"\",CO19)","v":2},{"$f":"IF(AM18=\"\",\"\",CP19)","v":0},{"$f":"CQ19","v":0},{"$f":"IF(AM18=\"\",\"\",CR19)","v":2},{"$f":"IF(AM18=\"\",\"\",CS19)","v":18},{"$f":"IF(AM18=\"\",\"\",CT19)","v":44},{"$f":"IF(AM18=\"\",\"\",CU19)","v":-26},{"$f":"IF(AM18=\"\",\"\",CV19)","v":2},{"$f":"IF($CZ$1<=11,AW18,AX18)","v":8},8,12,{"$f":"IF(AY43=\"\",BA43,AY43)","v":"Miguel Santos (ACV)"},{"$f":"COUNT(G15,M18,G20)","v":2},{"$f":"COUNTIF(CY15:CY20,AY18)","v":2},{"$f":"AZ18-(BA18+BC18)","v":0},{"$f":"COUNTIF(CZ15:CZ20,AY18)","v":0},{"$f":"SUM(D15:F15,J18:L18,D20:F20)","v":50},{"$f":"SUM(D16:F16,J17:L17,D19:F19)","v":28},{"$f":"BD18-BE18","v":22},{"$f":"IF(AZ18=0,0,BA18*2+BC18*1)","v":4},{"$f":"IF(BG18<=BG17,AY18,AY17)","v":"Daniel Pop (ACV)"},{"$f":"VLOOKUP(BH18,AY17:BG20,9,FALSE)","v":2},{"$f":"IF(BI18>=BI20,BH18,BH20)","v":"Daniel Pop (ACV)"},{"$f":"VLOOKUP(BJ18,AY17:BG20,9,FALSE)","v":2},{"$f":"IF(BK18>=BK19,BJ18,BJ19)","v":"Alexandre Guerreiro (DP)"},{"$f":"VLOOKUP(BL18,AY17:BG20,9,FALSE)","v":3},{"$f":"VLOOKUP(BL18,AY17:BG20,8,FALSE)","v":4},{"$f":"IF(AND(BM17=BM18,BN18>BN17),BL17,BL18)","v":"Alexandre Guerreiro (DP)"},{"$f":"VLOOKUP(BO18,AY17:BG20,9,FALSE)","v":3},{"$f":"VLOOKUP(BO18,AY17:BG20,8,FALSE)","v":4},{"$f":"IF(AND(BP18=BP20,BQ20>BQ18),BO20,BO18)","v":"Alexandre Guerreiro (DP)"},{"$f":"VLOOKUP(BR18,AY17:BG20,9,FALSE)","v":3},{"$f":"VLOOKUP(BR18,AY17:BG20,8,FALSE)","v":4},{"$f":"IF(AND(BS18=BS19,BT19>BT18),BR19,BR18)","v":"Alexandre Guerreiro (DP)"},{"$f":"VLOOKUP(BU18,AY17:BG20,9,FALSE)","v":3},{"$f":"VLOOKUP(BU18,AY17:BG20,8,FALSE)","v":4},{"$f":"VLOOKUP(BU18,AY17:BG20,6,FALSE)","v":42},{"$f":"IF(AND(BV17=BV18,BW17=BW18,BX18>BX17),BU17,BU18)","v":"Alexandre Guerreiro (DP)"},{"$f":"VLOOKUP(BY18,AY17:BG20,9,FALSE)","v":3},{"$f":"VLOOKUP(BY18,AY17:BG20,8,FALSE)","v":4},{"$f":"VLOOKUP(BY18,AY17:BG20,6,FALSE)","v":42},{"$f":"IF(AND(BZ18=BZ20,CA18=CA20,CB20>CB18),BY20,BY18)","v":"Alexandre Guerreiro (DP)"},{"$f":"VLOOKUP(CC18,AY17:BG20,9,FALSE)","v":3},{"$f":"VLOOKUP(CC18,AY17:BG20,8,FALSE)","v":4},{"$f":"VLOOKUP(CC18,AY17:BG20,6,FALSE)","v":42},{"$f":"IF(AND(CD18=CD19,CE18=CE19,CF19>CF18),CC19,CC18)","v":"Alexandre Guerreiro (DP)"},{"$f":"VLOOKUP(CG18,AY17:BG20,9,FALSE)","v":3},{"$f":"VLOOKUP(CG18,AY17:BG20,8,FALSE)","v":4},{"$f":"VLOOKUP(CG18,AY17:BG20,6,FALSE)","v":42},null,null,null,{"$f":"CG18","v":"Alexandre Guerreiro (DP)"},{"$f":"VLOOKUP(CN18,AY17:BG20,2,FALSE)","v":2},{"$f":"VLOOKUP(CN18,AY17:BG20,3,FALSE)","v":1},{"$f":"VLOOKUP(CN18,AY17:BG20,4,FALSE)","v":0},{"$f":"VLOOKUP(CN18,AY17:BG20,5,FALSE)","v":1},{"$f":"VLOOKUP(CN18,AY17:BG20,6,FALSE)","v":42},{"$f":"VLOOKUP(CN18,AY17:BG20,7,FALSE)","v":38},{"$f":"VLOOKUP(CN18,AY17:BG20,8,FALSE)","v":4},{"$f":"VLOOKUP(CN18,AY17:BG20,9,FALSE)","v":3},null,null,{"$f":"IF(M17<>\"\",IF(M17>M18,I17,IF(M18>M17,I18,\"Empate\")),\"\")","v":""},{"$f":"IF(M17<>\"\",IF(M17<M18,I17,IF(M18<M17,I18,\"Empate\")),\"\")","v":""},null,null,{"$f":"IF(ISBLANK(DF18),COUNTA(DF19:$DG$19),0)","v":0},15,null,null,null,null,null,null,null,null,null,null,null," ()"]
[null,{"$f":"$A$4","v":"SH-Ini"},{"$f":"AY19","v":"Alexandre Guerreiro (DP)"},11,2,7,{"$f":"IF(ISBLANK(D19),\"\",SUM(IF(D19>D20,1,0)+(IF(E19>E20,1,0)+(IF(F19>F20,1,0)))))","v":1},{"$f":"$A$4","v":"SH-Ini"},{"$f":"AY20","v":""},null,null,null,{"$f":"IF(ISBLANK(J19),\"\",SUM(IF(J19>J20,1,0)+(IF(K19>K20,1,0)+(IF(L19>L20,1,0)))))","v":""},3,null,null,null,null,null,null,null,null,"3º/4º",null,null,null,null,null,null,null,null,null,null,null,null,null,null,{"$f":"IF(AM19=\"\",\"\",\"4º\")","v":""},{"$f":"CN20","v":""},{"$f":"IF(AM19=\"\",\"\",CO20)","v":""},{"$f":"IF(AM19=\"\",\"\",CP20)","v":""},{"$f":"CQ20","v":-6},{"$f":"IF(AM19=\"\",\"\",CR20)","v":""},{"$f":"IF(AM19=\"\",\"\",CS20)","v":""},{"$f":"IF(AM19=\"\",\"\",CT20)","v":""},{"$f":"IF(AM19=\"\",\"\",CU20)","v":""},{"$f":"IF(AM19=\"\",\"\",CV20)","v":""},{"$f":"IF($CZ$1<=11,AW19,AX19)","v":""},{"$f":"IF(AM19=\"\",\"\",11)","v":""},{"$f":"IF(AM19=\"\",\"\",13)","v":""},{"$f":"IF(AY46=\"\",BA50,AY46)","v":"Alexandre Guerreiro (DP)"},{"$f":"COUNT(M15,G18,G19)","v":2},{"$f":"COUNTIF(CY15:CY20,AY19)","v":1},{"$f":"AZ19-(BA19+BC19)","v":0},{"$f":"COUNTIF(CZ15:CZ20,AY19)","v":1},{"$f":"SUM(J15:L15,D18:F18,D19:F19)","v":42},{"$f":"SUM(J16:L16,D17:F17,D20:F20)","v":38},{"$f":"BD19-BE19","v":4},{"$f":"IF(AZ19=0,0,BA19*2+BC19*1)","v":3},{"$f":"IF(BG19>=BG20,AY19,AY20)","v":"Alexandre Guerreiro (DP)"},{"$f":"VLOOKUP(BH19,AY17:BG20,9,FALSE)","v":3},{"$f":"IF(BI19<=BI17,BH19,BH17)","v":"Alexandre Guerreiro (DP)"},{"$f":"VLOOKUP(BJ19,AY17:BG20,9,FALSE)","v":3},{"$f":"IF(BK19<=BK18,BJ19,BJ18)","v":"Daniel Pop (ACV)"},{"$f":"VLOOKUP(BL19,AY17:BG20,9,FALSE)","v":2},{"$f":"VLOOKUP(BL19,AY17:BG20,8,FALSE)","v":-26},{"$f":"IF(AND(BM19=BM20,BN20>BN19),BL20,BL19)","v":"Daniel Pop (ACV)"},{"$f":"VLOOKUP(BO19,AY17:BG20,9,FALSE)","v":2},{"$f":"VLOOKUP(BO19,AY17:BG20,8,FALSE)","v":-26},{"$f":"IF(AND(BP17=BP19,BQ19>BQ17),BO17,BO19)","v":"Daniel Pop (ACV)"},{"$f":"VLOOKUP(BR19,AY17:BG20,9,FALSE)","v":2},{"$f":"VLOOKUP(BR19,AY17:BG20,8,FALSE)","v":-26},{"$f":"IF(AND(BS18=BS19,BT19>BT18),BR18,BR19)","v":"Daniel Pop (ACV)"},{"$f":"VLOOKUP(BU19,AY17:BG20,9,FALSE)","v":2},{"$f":"VLOOKUP(BU19,AY17:BG20,8,FALSE)","v":-26},{"$f":"VLOOKUP(BU19,AY17:BG20,6,FALSE)","v":18},{"$f":"IF(AND(BV19=BV20,BW19=BW20,BX20>BX19),BU20,BU19)","v":"Daniel Pop (ACV)"},{"$f":"VLOOKUP(BY19,AY17:BG20,9,FALSE)","v":2},{"$f":"VLOOKUP(BY19,AY17:BG20,8,FALSE)","v":-26},{"$f":"VLOOKUP(BY19,AY17:BG20,6,FALSE)","v":18},{"$f":"IF(AND(BZ17=BZ19,CA17=CA19,CB18>CB17),BY17,BY19)","v":"Daniel Pop (ACV)"},{"$f":"VLOOKUP(CC19,AY17:BG20,9,FALSE)","v":2},{"$f":"VLOOKUP(CC19,AY17:BG20,8,FALSE)","v":-26},{"$f":"VLOOKUP(CC19,AY17:BG20,6,FALSE)","v":18},{"$f":"IF(AND(CD18=CD19,CE18=CE19,CF19>CF18),CC18,CC19)","v":"Daniel Pop (ACV)"},{"$f":"VLOOKUP(CG19,AY17:BG20,9,FALSE)","v":2},{"$f":"VLOOKUP(CG19,AY17:BG20,8,FALSE)","v":-26},{"$f":"VLOOKUP(CG19,AY17:BG20,6,FALSE)","v":18},null,null,null,{"$f":"CG19","v":"Daniel Pop (ACV)"},{"$f":"VLOOKUP(CN19,AY17:BG20,2,FALSE)","v":2},{"$f":"VLOOKUP(CN19,AY17:BG20,3,FALSE)","v":0},{"$f":"VLOOKUP(CN19,AY17:BG20,4,FALSE)","v":0},{"$f":"VLOOKUP(CN19,AY17:BG20,5,FALSE)","v":2},{"$f":"VLOOKUP(CN19,AY17:BG20,6,FALSE)","v":18},{"$f":"VLOOKUP(CN19,AY17:BG20,7,FALSE)","v":44},{"$f":"VLOOKUP(CN19,AY17:BG20,8,FALSE)","v":-26},{"$f":"VLOOKUP(CN19,AY17:BG20,9,FALSE)","v":2},null,null,{"$f":"IF(M19<>\"\",IF(M19>M20,I19,IF(M20>M19,I20,\"Empate\")),\"\")","v":""},{"$f":"IF(M19<>\"\",IF(M19<M20,I19,IF(M20<M19,I20,\"Empate\")),\"\")","v":""},null,null,{"$f":"IF(ISBLANK(DF19),COUNTA(DF$19:$DG20),0)","v":0},16,null,null,null,null,null,null,null,null,null,null,null," ()"]
[null,{"$f":"H12+1","v":19},{"$f":"AY18","v":"Miguel Santos (ACV)"},8,11,9,{"$f":"IF(ISBLANK(D19),\"\",SUM(IF(D20>D19,1,0)+(IF(E20>E19,1,0)+(IF(F20>F19,1,0)))))","v":2},{"$f":"B20+1","v":20},{"$f":"IF(I19=\"\",\"\",AY17)","v":""},null,null,null,{"$f":"IF(ISBLANK(J19),\"\",SUM(IF(J20>J19,1,0)+(IF(K20>K19,1,0)+(IF(L20>L19,1,0)))))","v":""},14,null,"Jogo Nº",{"$f":"CONCATENATE($A$4,\" \",SUM($H$36+3))","v":"SH-Ini 27"},null,null,null,null,null,{"$f":"IF(AA17=AA18,\"\",IF(AA17>AA18,W17,W18))","v":"Miguel Santos (ACV)"},null,null,null,null,null,null,null,null,null,null,null,null,null,null,null,null,null,null,null,null,null,null,null,null,null,null,null,{"$f":"IF(AY49=\"\",BA51,AY49)","v":""},{"$f":"COUNT(M16,M17,M19)","v":0},{"$f":"COUNTIF(CY15:CY20,AY20)","v":3},{"$f":"AZ20-(BA20+BC20)","v":-6},{"$f":"COUNTIF(CZ15:CZ20,AY20)","v":3},{"$f":"SUM(J16:L16,J17:L17,J19:L19)","v":0},{"$f":"SUM(J15:L15,J18:L18,J20:L20)","v":0},{"$f":"BD20-BE20","v":0},{"$f":"IF(AZ20=0,0,BA20*2+BC20*1)","v":0},{"$f":"IF(BG20<=BG19,AY20,AY19)","v":""},{"$f":"VLOOKUP(BH20,AY17:BG20,9,FALSE)","v":0},{"$f":"IF(BI20<=BI18,BH20,BH18)","v":""},{"$f":"VLOOKUP(BJ20,AY17:BG20,9,FALSE)","v":0},{"$f":"IF(BK20<=BK17,BJ20,BJ17)","v":""},{"$f":"VLOOKUP(BL20,AY17:BG20,9,FALSE)","v":0},{"$f":"VLOOKUP(BL20,AY17:BG20,8,FALSE)","v":0},{"$f":"IF(AND(BM19=BM20,BN20>BN19),BL19,BL20)","v":""},{"$f":"VLOOKUP(BO20,AY17:BG20,9,FALSE)","v":0},{"$f":"VLOOKUP(BO20,AY17:BG20,8,FALSE)","v":0},{"$f":"IF(AND(BP18=BP20,BQ20>BQ18),BO18,BO20)","v":""},{"$f":"VLOOKUP(BR20,AY17:BG20,9,FALSE)","v":0},{"$f":"VLOOKUP(BR20,AY17:BG20,8,FALSE)","v":0},{"$f":"IF(AND(BS17=BS20,BT20>BT17),BR17,BR20)","v":""},{"$f":"VLOOKUP(BU20,AY17:BG20,9,FALSE)","v":0},{"$f":"VLOOKUP(BU20,AY17:BG20,8,FALSE)","v":0},{"$f":"VLOOKUP(BU20,AY17:BG20,6,FALSE)","v":0},{"$f":"IF(AND(BV19=BV20,BW19=BW20,BX20>BX19),BU19,BU20)","v":""},{"$f":"VLOOKUP(BY20,AY17:BG20,9,FALSE)","v":0},{"$f":"VLOOKUP(BY20,AY17:BG20,8,FALSE)","v":0},{"$f":"VLOOKUP(BY20,AY17:BG20,6,FALSE)","v":0},{"$f":"IF(AND(BZ18=BZ20,CA18=CA20,CB20>CB18),BY18,BY20)","v":""},{"$f":"VLOOKUP(CC20,AY17:BG20,9,FALSE)","v":0},{"$f":"VLOOKUP(CC20,AY17:BG20,8,FALSE)","v":0},{"$f":"VLOOKUP(CC20,AY17:BG20,6,FALSE)","v":0},{"$f":"IF(AND(CD17=CD20,CE17=CE20,CF20>CF17),CC17,CC20)","v":""},{"$f":"VLOOKUP(CG20,AY17:BG20,9,FALSE)","v":0},{"$f":"VLOOKUP(CG20,AY17:BG20,8,FALSE)","v":0},{"$f":"VLOOKUP(CG20,AY17:BG20,6,FALSE)","v":0},null,null,null,{"$f":"CG20","v":""},{"$f":"VLOOKUP(CN20,AY17:BG20,2,FALSE)","v":0},{"$f":"VLOOKUP(CN20,AY17:BG20,3,FALSE)","v":3},{"$f":"VLOOKUP(CN20,AY17:BG20,4,FALSE)","v":-6},{"$f":"VLOOKUP(CN20,AY17:BG20,5,FALSE)","v":3},{"$f":"VLOOKUP(CN20,AY17:BG20,6,FALSE)","v":0},{"$f":"VLOOKUP(CN20,AY17:BG20,7,FALSE)","v":0},{"$f":"VLOOKUP(CN20,AY17:BG20,8,FALSE)","v":0},{"$f":"VLOOKUP(CN20,AY17:BG20,9,FALSE)","v":0},null,null,{"$f":"IF(G20<>\"\",IF(G20>G19,C20,IF(G19>G20,C19,\"Empate\")),\"\")","v":"Miguel Santos (ACV)"},{"$f":"IF(G20<>\"\",IF(G20<G19,C20,IF(G19<G20,C19,\"Empate\")),\"\")","v":"Alexandre Guerreiro (DP)"}]
[null,null,null,null,null,null,null,null,null,null,null,null,null,null,3,{"$f":"IF($AY$53<11,VLOOKUP(O21,AX56:BA63,2,FALSE),IF($AY$53=11,VLOOKUP(O21,AX56:BA63,3,FALSE),VLOOKUP(O21,AX56:BA63,4,FALSE)))","v":"Renato Sobreira (ACV)"},8,6,null,{"$f":"IF(ISBLANK(Q21),\"\",SUM(IF(Q21>Q22,1,0)+(IF(R21>R22,1,0)+(IF(S21>S22,1,0)))))","v":0},null,null,null,null,null,null,null,null,null,null,null,null,null,null,null,null,null,null,"Classificação Grupo C",null,null,null,null,null,null,null,null,null,null,null,null,null,null,null,null,null,null,null,null,null,null,null,null,null,null,null,null,null,null,null,null,null,null,null,null,null,null,null,null,null,null,null,null,null,null,null,null,null,null,null,null,null,null,null,null,null,null,null,null,null,null,null,null,null,null,null,null,null,"Se pretender efectuar altrerações apague, e volte a introduzir os jogadores que pretender nos espaços disponíveis."]
["Grupo C","NºJ","Jogadores",1,2,3,"R","NºJ","Jogadores",1,2,3,"R",11,6,{"$f":"IF($AY$53<11,VLOOKUP(O22,AX56:BA63,2,FALSE),IF($AY$53=11,VLOOKUP(O22,AX56:BA63,3,FALSE),VLOOKUP(O22,AX56:BA63,4,FALSE)))","v":"Daniel Espadinha (DP)"},9,9,null,{"$f":"IF(ISBLANK(Q21),\"\",SUM(IF(Q22>Q21,1,0)+(IF(R22>R21,1,0)+(IF(S22>S21,1,0)))))","v":2},null,null,null,null,null,null,null,null,null,null,null,null,null,null,null,null,null,"Cl",{"$f":"AY24","v":"Jogadores"},"Jg","V","E","D","PM","PS","DP","Pt.",null,null,null,"Colocar Equipas",null,null,null,null,null,null,null,null,"Ordenar p/ Pts 1",null,"Ordenar p/ Pts 2",null,"Ordenar p/ Pts 3",null,null,"Ordenar p/ DG 1",null,null,"Ordenar p/ DG 2",null,null,"Ordenar p/ DG 3",null,null,null,"Ordenar p/ GM 1",null,null,null,"Ordenar p/ GM 2",null,null,null,"Ordenar p/ GM 3",null,null,null,null,null,null,null,null,null,null,null,null,null,null,null,null,null,"Vencedores","Derrotados"]
[null,{"$f":"$A$4","v":"SH-Ini"},{"$f":"AY26","v":"Mário Silveira (DP)"},4,10,null,{"$f":"IF(ISBLANK(D23),\"\",SUM(IF(D23>D24,1,0)+(IF(E23>E24,1,0)+(IF(F23>F24,1,0)))))","v":0},{"$f":"$A$4","v":"SH-Ini"},{"$f":"IF(I24=\"\",\"\",AY27)","v":""},null,null,null,{"$f":"IF(ISBLANK(J23),\"\",SUM(IF(J23>J24,1,0)+(IF(K23>K24,1,0)+(IF(L23>L24,1,0)))))","v":""},6,null,null,null,null,null,null,null,null,"Jogo Nº",{"$f":"CONCATENATE($A$4,\" \",SUM($H$36+6))","v":"SH-Ini 30"},null,null,null,null,null,null,null,null,null,null,null,null,null,{"$f":"IF(AM23=\"\",\"\",\"1º\")","v":"1º"},{"$f":"CN25","v":"Renato Sobreira (ACV)"},{"$f":"IF(AM23=\"\",\"\",CO25)","v":2},{"$f":"IF(AM23=\"\",\"\",CP25)","v":2},{"$f":"CQ25","v":0},{"$f":"IF(AM23=\"\",\"\",CR25)","v":0},{"$f":"IF(AM23=\"\",\"\",CS25)","v":51},{"$f":"IF(AM23=\"\",\"\",CT25)","v":40},{"$f":"IF(AM23=\"\",\"\",CU25)","v":11},{"$f":"IF(AM23=\"\",\"\",CV25)","v":4},{"$f":"IF($CZ$1<=11,AW23,AX23)","v":3},3,3,"Grupo C",null,null,null,null,null,null,null,null,null,null,null,null,null,null,null,null,null,null,null,null,null,null,null,null,null,null,null,null,null,null,null,null,null,null,null,null,null,null,null,null,null,null,null,null,null,null,null,null,null,null,null,{"$f":"IF(G24<>\"\",IF(G24>G23,C24,IF(G23>G24,C23,\"Empate\")),\"\")","v":"Renato Sobreira (ACV)"},{"$f":"IF(G24<>\"\",IF(G24<G23,C24,IF(G23<G24,C23,\"Empate\")),\"\")","v":"Mário Silveira (DP)"}]
[null,{"$f":"H16+1","v":5},{"$f":"AY25","v":"Renato Sobreira (ACV)"},11,11,null,{"$f":"IF(ISBLANK(D23),\"\",SUM(IF(D24>D23,1,0)+(IF(E24>E23,1,0)+(IF(F24>F23,1,0)))))","v":2},{"$f":"B24+1","v":6},{"$f":"AY28","v":""},null,null,null,{"$f":"IF(ISBLANK(J23),\"\",SUM(IF(J24>J23,1,0)+(IF(K24>K23,1,0)+(IF(L24>L23,1,0)))))","v":""},null,null,null,null,null,null,null,null,null,{"$f":"IF(T21=T22,\"\",IF(T21>T22,P21,P22))","v":"Daniel Espadinha (DP)"},6,9,9,{"$f":"IF(ISBLANK(X24),\"\",SUM(IF(X24>X25,1,0)+(IF(Y24>Y25,1,0)+(IF(Z24>Z25,1,0)))))","v":2},null,null,null,null,null,null,null,null,null,null,{"$f":"IF(AM24=\"\",\"\",\"2º\")","v":"2º"},{"$f":"CN26","v":"Mário Silveira (DP)"},{"$f":"IF(AM24=\"\",\"\",CO26)","v":2},{"$f":"IF(AM24=\"\",\"\",CP26)","v":1},{"$f":"CQ26","v":0},{"$f":"IF(AM24=\"\",\"\",CR26)","v":1},{"$f":"IF(AM24=\"\",\"\",CS26)","v":36},{"$f":"IF(AM24=\"\",\"\",CT26)","v":38},{"$f":"IF(AM24=\"\",\"\",CU26)","v":-2},{"$f":"IF(AM24=\"\",\"\",CV26)","v":3},{"$f":"IF($CZ$1<=11,AW24,AX24)","v":6},6,6,"Jogadores","Jg","V","E","D","GM","GS","DG","Pts","Equipas","Pts","Equipas","Pts","Equipas","Pts","DG","Equipas","Pts","DG","Equipas","Pts","DG","Equipas","Pts","DG","GM","Equipas","Pts","DG","GM","Equipas","Pts","DG","GM","Equipas","Pts","DG","GM",null,null,null,"Equipas","Jg","V","D","E","GM","GS","DG","Pts",null,null,{"$f":"IF(M23<>\"\",IF(M23>M24,I23,IF(M24>M23,I24,\"Empate\")),\"\")","v":""},{"$f":"IF(M23<>\"\",IF(M23<M24,I23,IF(M24<M23,I24,\"Empate\")),\"\")","v":""},null,null,null,null,"Para efectuar alterações à de colocações nos grupos dos jogadores, altere a coluna \"ORDEM\" dando uma nova ordem de nºs e depois clique em Ordenar."]
[null,{"$f":"$A$4","v":"SH-Ini"},{"$f":"AY25","v":"Renato Sobreira (ACV)"},11,9,9,{"$f":"IF(ISBLANK(D25),\"\",SUM(IF(D25>D26,1,0)+(IF(E25>E26,1,0)+(IF(F25>F26,1,0)))))","v":2},{"$f":"$A$4","v":"SH-Ini"},{"$f":"AY28","v":""},null,null,null,{"$f":"IF(ISBLANK(J25),\"\",SUM(IF(J25>J26,1,0)+(IF(K25>K26,1,0)+(IF(L25>L26,1,0)))))","v":""},7,null,null,null,null,null,null,null,null,{"$f":"IF(T27=T28,\"\",IF(T27>T28,P27,P28))","v":"Miguel Santos (ACV)"},9,0,8,{"$f":"IF(ISBLANK(X24),\"\",SUM(IF(X25>X24,1,0)+(IF(Y25>Y24,1,0)+(IF(Z25>Z24,1,0)))))","v":1},null,null,null,null,null,null,null,null,null,null,{"$f":"IF(AM25=\"\",\"\",\"3º\")","v":"3º"},{"$f":"CN27","v":"Eduardo Contreras (ASA)"},{"$f":"IF(AM25=\"\",\"\",CO27)","v":2},{"$f":"IF(AM25=\"\",\"\",CP27)","v":0},{"$f":"CQ27","v":0},{"$f":"IF(AM25=\"\",\"\",CR27)","v":2},{"$f":"IF(AM25=\"\",\"\",CS27)","v":42},{"$f":"IF(AM25=\"\",\"\",CT27)","v":51},{"$f":"IF(AM25=\"\",\"\",CU27)","v":-9},{"$f":"IF(AM25=\"\",\"\",CV27)","v":2},{"$f":"IF($CZ$1<=11,AW25,AX25)","v":9},9,11,{"$f":"IF(AY41=\"\",BA41,AY41)","v":"Renato Sobreira (ACV)"},{"$f":"COUNT(G24,G25,M28)","v":2},{"$f":"COUNTIF(CY23:CY28,AY25)","v":2},{"$f":"AZ25-(BA25+BC25)","v":0},{"$f":"COUNTIF(CZ23:CZ28,AY25)","v":0},{"$f":"SUM(D24:F24,D25:F25,J28:L28)","v":51},{"$f":"SUM(D23:F23,D26:F26,J27:L27)","v":40},{"$f":"BD25-BE25","v":11},{"$f":"IF(AZ25=0,0,BA25*2+BC25*1)","v":4},{"$f":"IF(BG25>=BG26,AY25,AY26)","v":"Renato Sobreira (ACV)"},{"$f":"VLOOKUP(BH25,AY25:BG28,9,FALSE)","v":4},{"$f":"IF(BI25>=BI27,BH25,BH27)","v":"Renato Sobreira (ACV)"},{"$f":"VLOOKUP(BJ25,AY25:BG28,9,FALSE)","v":4},{"$f":"IF(BK25>=BK28,BJ25,BJ28)","v":"Renato Sobreira (ACV)"},{"$f":"VLOOKUP(BL25,AY25:BG28,9,FALSE)","v":4},{"$f":"VLOOKUP(BL25,AY25:BG28,8,FALSE)","v":11},{"$f":"IF(AND(BM25=BM26,BN26>BN25),BL26,BL25)","v":"Renato Sobreira (ACV)"},{"$f":"VLOOKUP(BO25,AY25:BG28,9,FALSE)","v":4},{"$f":"VLOOKUP(BO25,AY25:BG28,8,FALSE)","v":11},{"$f":"IF(AND(BP25=BP27,BQ27>BQ25),BO27,BO25)","v":"Renato Sobreira (ACV)"},{"$f":"VLOOKUP(BR25,AY25:BG28,9,FALSE)","v":4},{"$f":"VLOOKUP(BR25,AY25:BG28,8,FALSE)","v":11},{"$f":"IF(AND(BS25=BS28,BT28>BT25),BR28,BR25)","v":"Renato Sobreira (ACV)"},{"$f":"VLOOKUP(BU25,AY25:BG28,9,FALSE)","v":4},{"$f":"VLOOKUP(BU25,AY25:BG28,8,FALSE)","v":11},{"$f":"VLOOKUP(BU25,AY25:BG28,6,FALSE)","v":51},{"$f":"IF(AND(BV25=BV26,BW25=BW26,BX26>BX25),BU26,BU25)","v":"Renato Sobreira (ACV)"},{"$f":"VLOOKUP(BY25,AY25:BG28,9,FALSE)","v":4},{"$f":"VLOOKUP(BY25,AY25:BG28,8,FALSE)","v":11},{"$f":"VLOOKUP(BY25,AY25:BG28,6,FALSE)","v":51},{"$f":"IF(AND(BZ25=BZ27,CA25=CA27,CB27>CB25),BY27,BY25)","v":"Renato Sobreira (ACV)"},{"$f":"VLOOKUP(CC25,AY25:BG28,9,FALSE)","v":4},{"$f":"VLOOKUP(CC25,AY25:BG28,8,FALSE)","v":11},{"$f":"VLOOKUP(CC25,AY25:BG28,6,FALSE)","v":51},{"$f":"IF(AND(CD25=CD28,CE25=CE28,CF28>CF25),CC28,CC25)","v":"Renato Sobreira (ACV)"},{"$f":"VLOOKUP(CG25,AY25:BG28,9,FALSE)","v":4},{"$f":"VLOOKUP(CG25,AY25:BG28,8,FALSE)","v":11},{"$f":"VLOOKUP(CG25,AY25:BG28,6,FALSE)","v":51},null,null,null,{"$f":"CG25","v":"Renato Sobreira (ACV)"},{"$f":"VLOOKUP(CN25,AY25:BG28,2,FALSE)","v":2},{"$f":"VLOOKUP(CN25,AY25:BG28,3,FALSE)","v":2},{"$f":"VLOOKUP(CN25,AY25:BG28,4,FALSE)","v":0},{"$f":"VLOOKUP(CN25,AY25:BG28,5,FALSE)","v":0},{"$f":"VLOOKUP(CN25,AY25:BG28,6,FALSE)","v":51},{"$f":"VLOOKUP(CN25,AY25:BG28,7,FALSE)","v":40},{"$f":"VLOOKUP(CN25,AY25:BG28,8,FALSE)","v":11},{"$f":"VLOOKUP(CN25,AY25:BG28,9,FALSE)","v":4},null,null,{"$f":"IF(G25<>\"\",IF(G25>G26,C25,IF(G26>G25,C26,\"Empate\")),\"\")","v":"Renato Sobreira (ACV)"},{"$f":"IF(G25<>\"\",IF(G25<G26,C25,IF(G26<G25,C26,\"Empate\")),\"\")","v":"Eduardo Contreras (ASA)"}]
[null,{"$f":"H18+1","v":13},{"$f":"AY27","v":"Eduardo Contreras (ASA)"},9,11,6,{"$f":"IF(ISBLANK(D25),\"\",SUM(IF(D26>D25,1,0)+(IF(E26>E25,1,0)+(IF(F26>F25,1,0)))))","v":1},{"$f":"B26+1","v":14},{"$f":"IF(I25=\"\",\"\",AY26)","v":""},null,null,null,{"$f":"IF(ISBLANK(J25),\"\",SUM(IF(J26>J25,1,0)+(IF(K26>K25,1,0)+(IF(L26>L25,1,0)))))","v":""},10,null,"Jogo Nº",{"$f":"CONCATENATE($A$4,\" \",SUM($H$36+4))","v":"SH-Ini 28"},null,null,null,null,null,null,null,null,null,null,null,null,null,null,null,null,null,null,null,null,{"$f":"IF(AM26=\"\",\"\",\"4º\")","v":""},{"$f":"CN28","v":""},{"$f":"IF(AM26=\"\",\"\",CO28)","v":""},{"$f":"IF(AM26=\"\",\"\",CP28)","v":""},{"$f":"CQ28","v":-6},{"$f":"IF(AM26=\"\",\"\",CR28)","v":""},{"$f":"IF(AM26=\"\",\"\",CS28)","v":""},{"$f":"IF(AM26=\"\",\"\",CT28)","v":""},{"$f":"IF(AM26=\"\",\"\",CU28)","v":""},{"$f":"IF(AM26=\"\",\"\",CV28)","v":""},{"$f":"IF($CZ$1<=11,AW26,AX26)","v":" "}," ",{"$f":"IF(AM26=\"\",\"\",14)","v":""},{"$f":"IF(AY44=\"\",BA44,AY44)","v":"Mário Silveira (DP)"},{"$f":"COUNT(G23,M26,G28)","v":2},{"$f":"COUNTIF(CY23:CY28,AY26)","v":1},{"$f":"AZ26-(BA26+BC26)","v":0},{"$f":"COUNTIF(CZ23:CZ28,AY26)","v":1},{"$f":"SUM(D23:F23,J26:L26,D28:F28)","v":36},{"$f":"SUM(D24:F24,J25:L25,D27:F27)","v":38},{"$f":"BD26-BE26","v":-2},{"$f":"IF(AZ26=0,0,BA26*2+BC26*1)","v":3},{"$f":"IF(BG26<=BG25,AY26,AY25)","v":"Mário Silveira (DP)"},{"$f":"VLOOKUP(BH26,AY25:BG28,9,FALSE)","v":3},{"$f":"IF(BI26>=BI28,BH26,BH28)","v":"Mário Silveira (DP)"},{"$f":"VLOOKUP(BJ26,AY25:BG28,9,FALSE)","v":3},{"$f":"IF(BK26>=BK27,BJ26,BJ27)","v":"Mário Silveira (DP)"},{"$f":"VLOOKUP(BL26,AY25:BG28,9,FALSE)","v":3},{"$f":"VLOOKUP(BL26,AY25:BG28,8,FALSE)","v":-2},{"$f":"IF(AND(BM25=BM26,BN26>BN25),BL25,BL26)","v":"Mário Silveira (DP)"},{"$f":"VLOOKUP(BO26,AY25:BG28,9,FALSE)","v":3},{"$f":"VLOOKUP(BO26,AY25:BG28,8,FALSE)","v":-2},{"$f":"IF(AND(BP26=BP28,BQ28>BQ26),BO28,BO26)","v":"Mário Silveira (DP)"},{"$f":"VLOOKUP(BR26,AY25:BG28,9,FALSE)","v":3},{"$f":"VLOOKUP(BR26,AY25:BG28,8,FALSE)","v":-2},{"$f":"IF(AND(BS26=BS27,BT27>BT26),BR27,BR26)","v":"Mário Silveira (DP)"},{"$f":"VLOOKUP(BU26,AY25:BG28,9,FALSE)","v":3},{"$f":"VLOOKUP(BU26,AY25:BG28,8,FALSE)","v":-2},{"$f":"VLOOKUP(BU26,AY25:BG28,6,FALSE)","v":36},{"$f":"IF(AND(BV25=BV26,BW25=BW26,BX26>BX25),BU25,BU26)","v":"Mário Silveira (DP)"},{"$f":"VLOOKUP(BY26,AY25:BG28,9,FALSE)","v":3},{"$f":"VLOOKUP(BY26,AY25:BG28,8,FALSE)","v":-2},{"$f":"VLOOKUP(BY26,AY25:BG28,6,FALSE)","v":36},{"$f":"IF(AND(BZ26=BZ28,CA26=CA28,CB28>CB26),BY28,BY26)","v":"Mário Silveira (DP)"},{"$f":"VLOOKUP(CC26,AY25:BG28,9,FALSE)","v":3},{"$f":"VLOOKUP(CC26,AY25:BG28,8,FALSE)","v":-2},{"$f":"VLOOKUP(CC26,AY25:BG28,6,FALSE)","v":36},{"$f":"IF(AND(CD26=CD27,CE26=CE27,CF27>CF26),CC27,CC26)","v":"Mário Silveira (DP)"},{"$f":"VLOOKUP(CG26,AY25:BG28,9,FALSE)","v":3},{"$f":"VLOOKUP(CG26,AY25:BG28,8,FALSE)","v":-2},{"$f":"VLOOKUP(CG26,AY25:BG28,6,FALSE)","v":36},null,null,null,{"$f":"CG26","v":"Mário Silveira (DP)"},{"$f":"VLOOKUP(CN26,AY25:BG28,2,FALSE)","v":2},{"$f":"VLOOKUP(CN26,AY25:BG28,3,FALSE)","v":1},{"$f":"VLOOKUP(CN26,AY25:BG28,4,FALSE)","v":0},{"$f":"VLOOKUP(CN26,AY25:BG28,5,FALSE)","v":1},{"$f":"VLOOKUP(CN26,AY25:BG28,6,FALSE)","v":36},{"$f":"VLOOKUP(CN26,AY25:BG28,7,FALSE)","v":38},{"$f":"VLOOKUP(CN26,AY25:BG28,8,FALSE)","v":-2},{"$f":"VLOOKUP(CN26,AY25:BG28,9,FALSE)","v":3},null,null,{"$f":"IF(M25<>\"\",IF(M25>M26,I25,IF(M26>M25,I26,\"Empate\")),\"\")","v":""},{"$f":"IF(M25<>\"\",IF(M25<M26,I25,IF(M26<M25,I26,\"Empate\")),\"\")","v":""}]
[null,{"$f":"$A$4","v":"SH-Ini"},{"$f":"AY27","v":"Eduardo Contreras (ASA)"},7,9,null,{"$f":"IF(ISBLANK(D27),\"\",SUM(IF(D27>D28,1,0)+(IF(E27>E28,1,0)+(IF(F27>F28,1,0)))))","v":0},{"$f":"$A$4","v":"SH-Ini"},{"$f":"AY28","v":""},null,null,null,{"$f":"IF(ISBLANK(J27),\"\",SUM(IF(J27>J28,1,0)+(IF(K27>K28,1,0)+(IF(L27>L28,1,0)))))","v":""},null,7,{"$f":"IF($AY$53<11,VLOOKUP(O27,AX56:BA63,2,FALSE),IF($AY$53=11,VLOOKUP(O27,AX56:BA63,3,FALSE),VLOOKUP(O27,AX56:BA63,4,FALSE)))","v":"Eduardo Contreras (ASA)"},2,4,null,{"$f":"IF(ISBLANK(Q27),\"\",SUM(IF(Q27>Q28,1,0)+(IF(R27>R28,1,0)+(IF(S27>S28,1,0)))))","v":0},null,null,null,null,null,null,null,null,null,null,null,null,null,null,null,null,null,null,null,null,null,null,null,null,null,null,null,null,null,null,{"$f":"IF(AY47=\"\",BA49,AY47)","v":"Eduardo Contreras (ASA)"},{"$f":"COUNT(M23,G26,G27)","v":2},{"$f":"COUNTIF(CY23:CY28,AY27)","v":0},{"$f":"AZ27-(BA27+BC27)","v":0},{"$f":"COUNTIF(CZ23:CZ28,AY27)","v":2},{"$f":"SUM(J23:L23,D26:F26,D27:F27)","v":42},{"$f":"SUM(J24:L24,D25:F25,D28:F28)","v":51},{"$f":"BD27-BE27","v":-9},{"$f":"IF(AZ27=0,0,BA27*2+BC27*1)","v":2},{"$f":"IF(BG27>=BG28,AY27,AY28)","v":"Eduardo Contreras (ASA)"},{"$f":"VLOOKUP(BH27,AY25:BG28,9,FALSE)","v":2},{"$f":"IF(BI27<=BI25,BH27,BH25)","v":"Eduardo Contreras (ASA)"},{"$f":"VLOOKUP(BJ27,AY25:BG28,9,FALSE)","v":2},{"$f":"IF(BK27<=BK26,BJ27,BJ26)","v":"Eduardo Contreras (ASA)"},{"$f":"VLOOKUP(BL27,AY25:BG28,9,FALSE)","v":2},{"$f":"VLOOKUP(BL27,AY25:BG28,8,FALSE)","v":-9},{"$f":"IF(AND(BM27=BM28,BN28>BN27),BL28,BL27)","v":"Eduardo Contreras (ASA)"},{"$f":"VLOOKUP(BO27,AY25:BG28,9,FALSE)","v":2},{"$f":"VLOOKUP(BO27,AY25:BG28,8,FALSE)","v":-9},{"$f":"IF(AND(BP25=BP27,BQ27>BQ25),BO25,BO27)","v":"Eduardo Contreras (ASA)"},{"$f":"VLOOKUP(BR27,AY25:BG28,9,FALSE)","v":2},{"$f":"VLOOKUP(BR27,AY25:BG28,8,FALSE)","v":-9},{"$f":"IF(AND(BS26=BS27,BT27>BT26),BR26,BR27)","v":"Eduardo Contreras (ASA)"},{"$f":"VLOOKUP(BU27,AY25:BG28,9,FALSE)","v":2},{"$f":"VLOOKUP(BU27,AY25:BG28,8,FALSE)","v":-9},{"$f":"VLOOKUP(BU27,AY25:BG28,6,FALSE)","v":42},{"$f":"IF(AND(BV27=BV28,BW27=BW28,BX28>BX27),BU28,BU27)","v":"Eduardo Contreras (ASA)"},{"$f":"VLOOKUP(BY27,AY25:BG28,9,FALSE)","v":2},{"$f":"VLOOKUP(BY27,AY25:BG28,8,FALSE)","v":-9},{"$f":"VLOOKUP(BY27,AY25:BG28,6,FALSE)","v":42},{"$f":"IF(AND(BZ25=BZ27,CA25=CA27,CB26>CB25),BY25,BY27)","v":"Eduardo Contreras (ASA)"},{"$f":"VLOOKUP(CC27,AY25:BG28,9,FALSE)","v":2},{"$f":"VLOOKUP(CC27,AY25:BG28,8,FALSE)","v":-9},{"$f":"VLOOKUP(CC27,AY25:BG28,6,FALSE)","v":42},{"$f":"IF(AND(CD26=CD27,CE26=CE27,CF27>CF26),CC26,CC27)","v":"Eduardo Contreras (ASA)"},{"$f":"VLOOKUP(CG27,AY25:BG28,9,FALSE)","v":2},{"$f":"VLOOKUP(CG27,AY25:BG28,8,FALSE)","v":-9},{"$f":"VLOOKUP(CG27,AY25:BG28,6,FALSE)","v":42},null,null,null,{"$f":"CG27","v":"Eduardo Contreras (ASA)"},{"$f":"VLOOKUP(CN27,AY25:BG28,2,FALSE)","v":2},{"$f":"VLOOKUP(CN27,AY25:BG28,3,FALSE)","v":0},{"$f":"VLOOKUP(CN27,AY25:BG28,4,FALSE)","v":0},{"$f":"VLOOKUP(CN27,AY25:BG28,5,FALSE)","v":2},{"$f":"VLOOKUP(CN27,AY25:BG28,6,FALSE)","v":42},{"$f":"VLOOKUP(CN27,AY25:BG28,7,FALSE)","v":51},{"$f":"VLOOKUP(CN27,AY25:BG28,8,FALSE)","v":-9},{"$f":"VLOOKUP(CN27,AY25:BG28,9,FALSE)","v":2},null,null,{"$f":"IF(M27<>\"\",IF(M27>M28,I27,IF(M28>M27,I28,\"Empate\")),\"\")","v":""},{"$f":"IF(M27<>\"\",IF(M27<M28,I27,IF(M28<M27,I28,\"Empate\")),\"\")","v":""}]
[null,{"$f":"H20+1","v":21},{"$f":"AY26","v":"Mário Silveira (DP)"},11,11,null,{"$f":"IF(ISBLANK(D27),\"\",SUM(IF(D28>D27,1,0)+(IF(E28>E27,1,0)+(IF(F28>F27,1,0)))))","v":2},{"$f":"B28+1","v":22},{"$f":"IF(I27=\"\",\"\",AY25)","v":""},null,null,null,{"$f":"IF(ISBLANK(J27),\"\",SUM(IF(J28>J27,1,0)+(IF(K28>K27,1,0)+(IF(L28>L27,1,0)))))","v":""},15,2,{"$f":"IF($AY$53<11,VLOOKUP(O28,AX56:BA63,2,FALSE),IF($AY$53=11,VLOOKUP(O28,AX56:BA63,3,FALSE),VLOOKUP(O28,AX56:BA63,4,FALSE)))","v":"Miguel Santos (ACV)"},9,9,null,{"$f":"IF(ISBLANK(Q27),\"\",SUM(IF(Q28>Q27,1,0)+(IF(R28>R27,1,0)+(IF(S28>S27,1,0)))))","v":2},null,null,null,null,null,null,null,null,null,"Vencedor",null,null,null,null,null,null,null,null,"Classificação Grupo D",null,null,null,null,null,null,null,null,null,null,null,{"$f":"IF(BA52=\"\",\"\",BA52)","v":""},{"$f":"COUNT(M24,M25,M27)","v":0},{"$f":"COUNTIF(CY23:CY28,AY28)","v":3},{"$f":"AZ28-(BA28+BC28)","v":-6},{"$f":"COUNTIF(CZ23:CZ28,AY28)","v":3},{"$f":"SUM(J24:L24,J25:L25,J27:L27)","v":0},{"$f":"SUM(J23:L23,J26:L26,J28:L28)","v":0},{"$f":"BD28-BE28","v":0},{"$f":"IF(AZ28=0,0,BA28*2+BC28*1)","v":0},{"$f":"IF(BG28<=BG27,AY28,AY27)","v":""},{"$f":"VLOOKUP(BH28,AY25:BG28,9,FALSE)","v":0},{"$f":"IF(BI28<=BI26,BH28,BH26)","v":""},{"$f":"VLOOKUP(BJ28,AY25:BG28,9,FALSE)","v":0},{"$f":"IF(BK28<=BK25,BJ28,BJ25)","v":""},{"$f":"VLOOKUP(BL28,AY25:BG28,9,FALSE)","v":0},{"$f":"VLOOKUP(BL28,AY25:BG28,8,FALSE)","v":0},{"$f":"IF(AND(BM27=BM28,BN28>BN27),BL27,BL28)","v":""},{"$f":"VLOOKUP(BO28,AY25:BG28,9,FALSE)","v":0},{"$f":"VLOOKUP(BO28,AY25:BG28,8,FALSE)","v":0},{"$f":"IF(AND(BP26=BP28,BQ28>BQ26),BO26,BO28)","v":""},{"$f":"VLOOKUP(BR28,AY25:BG28,9,FALSE)","v":0},{"$f":"VLOOKUP(BR28,AY25:BG28,8,FALSE)","v":0},{"$f":"IF(AND(BS25=BS28,BT28>BT25),BR25,BR28)","v":""},{"$f":"VLOOKUP(BU28,AY25:BG28,9,FALSE)","v":0},{"$f":"VLOOKUP(BU28,AY25:BG28,8,FALSE)","v":0},{"$f":"VLOOKUP(BU28,AY25:BG28,6,FALSE)","v":0},{"$f":"IF(AND(BV27=BV28,BW27=BW28,BX28>BX27),BU27,BU28)","v":""},{"$f":"VLOOKUP(BY28,AY25:BG28,9,FALSE)","v":0},{"$f":"VLOOKUP(BY28,AY25:BG28,8,FALSE)","v":0},{"$f":"VLOOKUP(BY28,AY25:BG28,6,FALSE)","v":0},{"$f":"IF(AND(BZ26=BZ28,CA26=CA28,CB28>CB26),BY26,BY28)","v":""},{"$f":"VLOOKUP(CC28,AY25:BG28,9,FALSE)","v":0},{"$f":"VLOOKUP(CC28,AY25:BG28,8,FALSE)","v":0},{"$f":"VLOOKUP(CC28,AY25:BG28,6,FALSE)","v":0},{"$f":"IF(AND(CD25=CD28,CE25=CE28,CF28>CF25),CC25,CC28)","v":""},{"$f":"VLOOKUP(CG28,AY25:BG28,9,FALSE)","v":0},{"$f":"VLOOKUP(CG28,AY25:BG28,8,FALSE)","v":0},{"$f":"VLOOKUP(CG28,AY25:BG28,6,FALSE)","v":0},null,null,null,{"$f":"CG28","v":""},{"$f":"VLOOKUP(CN28,AY25:BG28,2,FALSE)","v":0},{"$f":"VLOOKUP(CN28,AY25:BG28,3,FALSE)","v":3},{"$f":"VLOOKUP(CN28,AY25:BG28,4,FALSE)","v":-6},{"$f":"VLOOKUP(CN28,AY25:BG28,5,FALSE)","v":3},{"$f":"VLOOKUP(CN28,AY25:BG28,6,FALSE)","v":0},{"$f":"VLOOKUP(CN28,AY25:BG28,7,FALSE)","v":0},{"$f":"VLOOKUP(CN28,AY25:BG28,8,FALSE)","v":0},{"$f":"VLOOKUP(CN28,AY25:BG28,9,FALSE)","v":0},null,null,{"$f":"IF(G28<>\"\",IF(G28>G27,C28,IF(G27>G28,C27,\"Empate\")),\"\")","v":"Mário Silveira (DP)"},{"$f":"IF(G28<>\"\",IF(G28<G27,C28,IF(G27<G28,C27,\"Empate\")),\"\")","v":"Eduardo Contreras (ASA)"}]
[null,null,null,null,null,null,null,null,null,null,null,null,null,2,null,null,null,null,null,null,null,null,null,null,null,null,null,null,null,{"$f":"IF(AH17=AH18,\"\",IF(AH17>AH18,AD17,AD18))","v":"Rafael Gonçalves (ACV)"},null,null,null,null,null,null,null,"Cl",{"$f":"AY32","v":"Jogadores"},"Jg","V","E","D","PM","PS","DP","Pt."]
["Grupo D","NºJ","Jogadores",1,2,3,"R","NºJ","Jogadores",1,2,3,"R",null,null,null,null,null,null,null,null,null,null,null,null,null,null,null,null,null,null,null,null,null,null,null,null,{"$f":"IF(AM30=\"\",\"\",\"1º\")","v":""},{"$f":"CN33","v":""},{"$f":"IF(AM30=\"\",\"\",CO33)","v":""},{"$f":"IF(AM30=\"\",\"\",CP33)","v":""},{"$f":"CQ33","v":-12},{"$f":"IF(AM30=\"\",\"\",CR33)","v":""},{"$f":"IF(AM30=\"\",\"\",CS33)","v":""},{"$f":"IF(AM30=\"\",\"\",CT33)","v":""},{"$f":"IF(AM30=\"\",\"\",CU33)","v":""},{"$f":"IF(AM30=\"\",\"\",CV33)","v":""},{"$f":"IF($CZ$1<=11,AW30,AX30)","v":" "}," ",2,"Colocar Equipas",null,null,null,null,null,null,null,null,"Ordenar p/ Pts 1",null,"Ordenar p/ Pts 2",null,"Ordenar p/ Pts 3",null,null,"Ordenar p/ DG 1",null,null,"Ordenar p/ DG 2",null,null,"Ordenar p/ DG 3",null,null,null,"Ordenar p/ GM 1",null,null,null,"Ordenar p/ GM 2",null,null,null,"Ordenar p/ GM 3",null,null,null,null,null,null,null,null,null,null,null,null,null,null,null,null,null,"Vencedores","Derrotados"]
[null,{"$f":"$A$4","v":"SH-Ini"},{"$f":"AY34","v":""},null,null,null,{"$f":"IF(ISBLANK(D31),\"\",SUM(IF(D31>D32,1,0)+(IF(E31>E32,1,0)+(IF(F31>F32,1,0)))))","v":""},{"$f":"$A$4","v":"SH-Ini"},{"$f":"IF(I32=\"\",\"\",AY35)","v":""},null,null,null,{"$f":"IF(ISBLANK(J31),\"\",SUM(IF(J31>J32,1,0)+(IF(K31>K32,1,0)+(IF(L31>L32,1,0)))))","v":""},null,null,null,null,null,null,null,null,null,null,null,null,null,null,null,null,null,null,null,null,null,null,null,null,{"$f":"IF(AM31=\"\",\"\",\"2º\")","v":""},{"$f":"CN34","v":""},{"$f":"IF(AM31=\"\",\"\",CO34)","v":""},{"$f":"IF(AM31=\"\",\"\",CP34)","v":""},{"$f":"CQ34","v":-12},{"$f":"IF(AM31=\"\",\"\",CR34)","v":""},{"$f":"IF(AM31=\"\",\"\",CS34)","v":""},{"$f":"IF(AM31=\"\",\"\",CT34)","v":""},{"$f":"IF(AM31=\"\",\"\",CU34)","v":""},{"$f":"IF(AM31=\"\",\"\",CV34)","v":""},{"$f":"IF($CZ$1<=11,AW31,AX31)","v":" "}," ",7,"Grupo D",null,null,null,null,null,null,null,null,null,null,null,null,null,null,null,null,null,null,null,null,null,null,null,null,null,null,null,null,null,null,null,null,null,null,null,null,null,null,null,null,null,null,null,null,null,null,null,null,null,null,null,{"$f":"IF(G32<>\"\",IF(G32>G31,C32,IF(G31>G32,C31,\"Empate\")),\"\")","v":""},{"$f":"IF(G32<>\"\",IF(G32<G31,C32,IF(G31<G32,C31,\"Empate\")),\"\")","v":""}]
[null,{"$f":"H24+1","v":7},{"$f":"AY33","v":""},null,null,null,{"$f":"IF(ISBLANK(D31),\"\",SUM(IF(D32>D31,1,0)+(IF(E32>E31,1,0)+(IF(F32>F31,1,0)))))","v":""},{"$f":"B32+1","v":8},{"$f":"AY36","v":""},null,null,null,{"$f":"IF(ISBLANK(J31),\"\",SUM(IF(J32>J31,1,0)+(IF(K32>K31,1,0)+(IF(L32>L31,1,0)))))","v":""},null,null,null,null,null,null,null,null,null,null,null,null,null,null,null,null,null,null,null,null,null,null,null,null,{"$f":"IF(AM32=\"\",\"\",\"3º\")","v":""},{"$f":"CN35","v":""},{"$f":"IF(AM32=\"\",\"\",CO35)","v":""},{"$f":"IF(AM32=\"\",\"\",CP35)","v":""},{"$f":"CQ35","v":-12},{"$f":"IF(AM32=\"\",\"\",CR35)","v":""},{"$f":"IF(AM32=\"\",\"\",CS35)","v":""},{"$f":"IF(AM32=\"\",\"\",CT35)","v":""},{"$f":"IF(AM32=\"\",\"\",CU35)","v":""},{"$f":"IF(AM32=\"\",\"\",CV35)","v":""},{"$f":"IF($CZ$1<=11,AW32,AX32)","v":" "}," ",10,"Jogadores","Jg","V","E","D","GM","GS","DG","Pts","Equipas","Pts","Equipas","Pts","Equipas","Pts","DG","Equipas","Pts","DG","Equipas","Pts","DG","Equipas","Pts","DG","GM","Equipas","Pts","DG","GM","Equipas","Pts","DG","GM","Equipas","Pts","DG","GM",null,null,null,"Equipas","Jg","V","D","E","GM","GS","DG","Pts",null,null,{"$f":"IF(M31<>\"\",IF(M31>M32,I31,IF(M32>M31,I32,\"Empate\")),\"\")","v":""},{"$f":"IF(M31<>\"\",IF(M31<M32,I31,IF(M32<M31,I32,\"Empate\")),\"\")","v":""}]
[null,{"$f":"$A$4","v":"SH-Ini"},{"$f":"AY33","v":""},null,null,null,{"$f":"IF(ISBLANK(D33),\"\",SUM(IF(D33>D34,1,0)+(IF(E33>E34,1,0)+(IF(F33>F34,1,0)))))","v":""},{"$f":"$A$4","v":"SH-Ini"},{"$f":"AY36","v":""},null,null,null,{"$f":"IF(ISBLANK(J33),\"\",SUM(IF(J33>J34,1,0)+(IF(K33>K34,1,0)+(IF(L33>L34,1,0)))))","v":""},null,null,null,null,null,null,null,null,null,null,null,null,null,null,null,null,null,null,null,null,null,null,null,null,{"$f":"IF(AM33=\"\",\"\",\"4º\")","v":""},{"$f":"CN36","v":""},{"$f":"IF(AM33=\"\",\"\",CO36)","v":""},{"$f":"IF(AM33=\"\",\"\",CP36)","v":""},{"$f":"CQ36","v":-12},{"$f":"IF(AM33=\"\",\"\",CR36)","v":""},{"$f":"IF(AM33=\"\",\"\",CS36)","v":""},{"$f":"IF(AM33=\"\",\"\",CT36)","v":""},{"$f":"IF(AM33=\"\",\"\",CU36)","v":""},{"$f":"IF(AM33=\"\",\"\",CV36)","v":""},{"$f":"IF($CZ$1<=11,AW33,AX33)","v":" "}," ",{"$f":"IF(AM33=\"\",\"\",15)","v":""},{"$f":"IF(BA39=\"\",\"\",BA40)","v":""},{"$f":"COUNT(G32,G33,M36)","v":0},{"$f":"COUNTIF(CY31:CY36,AY33)","v":6},{"$f":"AZ33-(BA33+BC33)","v":-12},{"$f":"COUNTIF(CZ31:CZ36,AY33)","v":6},{"$f":"SUM(D32:F32,D33:F33,J36:L36)","v":0},{"$f":"SUM(D31:F31,D34:F34,J35:L35)","v":0},{"$f":"BD33-BE33","v":0},{"$f":"IF(AZ33=0,0,BA33*2+BC33*1)","v":0},{"$f":"IF(BG33>=BG34,AY33,AY34)","v":""},{"$f":"VLOOKUP(BH33,AY33:BG36,9,FALSE)","v":0},{"$f":"IF(BI33>=BI35,BH33,BH35)","v":""},{"$f":"VLOOKUP(BJ33,AY33:BG36,9,FALSE)","v":0},{"$f":"IF(BK33>=BK36,BJ33,BJ36)","v":""},{"$f":"VLOOKUP(BL33,AY33:BG36,9,FALSE)","v":0},{"$f":"VLOOKUP(BL33,AY33:BG36,8,FALSE)","v":0},{"$f":"IF(AND(BM33=BM34,BN34>BN33),BL34,BL33)","v":""},{"$f":"VLOOKUP(BO33,AY33:BG36,9,FALSE)","v":0},{"$f":"VLOOKUP(BO33,AY33:BG36,8,FALSE)","v":0},{"$f":"IF(AND(BP33=BP35,BQ35>BQ33),BO35,BO33)","v":""},{"$f":"VLOOKUP(BR33,AY33:BG36,9,FALSE)","v":0},{"$f":"VLOOKUP(BR33,AY33:BG36,8,FALSE)","v":0},{"$f":"IF(AND(BS33=BS36,BT36>BT33),BR36,BR33)","v":""},{"$f":"VLOOKUP(BU33,AY33:BG36,9,FALSE)","v":0},{"$f":"VLOOKUP(BU33,AY33:BG36,8,FALSE)","v":0},{"$f":"VLOOKUP(BU33,AY33:BG36,6,FALSE)","v":0},{"$f":"IF(AND(BV33=BV34,BW33=BW34,BX34>BX33),BU34,BU33)","v":""},{"$f":"VLOOKUP(BY33,AY33:BG36,9,FALSE)","v":0},{"$f":"VLOOKUP(BY33,AY33:BG36,8,FALSE)","v":0},{"$f":"VLOOKUP(BY33,AY33:BG36,6,FALSE)","v":0},{"$f":"IF(AND(BZ33=BZ35,CA33=CA35,CB35>CB33),BY35,BY33)","v":""},{"$f":"VLOOKUP(CC33,AY33:BG36,9,FALSE)","v":0},{"$f":"VLOOKUP(CC33,AY33:BG36,8,FALSE)","v":0},{"$f":"VLOOKUP(CC33,AY33:BG36,6,FALSE)","v":0},{"$f":"IF(AND(CD33=CD36,CE33=CE36,CF36>CF33),CC36,CC33)","v":""},{"$f":"VLOOKUP(CG33,AY33:BG36,9,FALSE)","v":0},{"$f":"VLOOKUP(CG33,AY33:BG36,8,FALSE)","v":0},{"$f":"VLOOKUP(CG33,AY33:BG36,6,FALSE)","v":0},null,null,null,{"$f":"CG33","v":""},{"$f":"VLOOKUP(CN33,AY33:BG36,2,FALSE)","v":0},{"$f":"VLOOKUP(CN33,AY33:BG36,3,FALSE)","v":6},{"$f":"VLOOKUP(CN33,AY33:BG36,4,FALSE)","v":-12},{"$f":"VLOOKUP(CN33,AY33:BG36,5,FALSE)","v":6},{"$f":"VLOOKUP(CN33,AY33:BG36,6,FALSE)","v":0},{"$f":"VLOOKUP(CN33,AY33:BG36,7,FALSE)","v":0},{"$f":"VLOOKUP(CN33,AY33:BG36,8,FALSE)","v":0},{"$f":"VLOOKUP(CN33,AY33:BG36,9,FALSE)","v":0},null,null,{"$f":"IF(G33<>\"\",IF(G33>G34,C33,IF(G34>G33,C34,\"Empate\")),\"\")","v":""},{"$f":"IF(G33<>\"\",IF(G33<G34,C33,IF(G34<G33,C34,\"Empate\")),\"\")","v":""}]
[null,{"$f":"H26+1","v":15},{"$f":"AY35","v":""},null,null,null,{"$f":"IF(ISBLANK(D33),\"\",SUM(IF(D34>D33,1,0)+(IF(E34>E33,1,0)+(IF(F34>F33,1,0)))))","v":""},{"$f":"B34+1","v":16},{"$f":"IF(I33=\"\",\"\",AY34)","v":""},null,null,null,{"$f":"IF(ISBLANK(J33),\"\",SUM(IF(J34>J33,1,0)+(IF(K34>K33,1,0)+(IF(L34>L33,1,0)))))","v":""},null,null,null,null,null,null,null,null,null,null,null,null,null,null,null,null,null,null,null,null,null,null,null,null,null,null,null,null,null,null,null,null,null,null,null,null,null,{"$f":"IF(BA39=\"\",\"\",BA45)","v":""},{"$f":"COUNT(G31,M34,G36)","v":0},{"$f":"COUNTIF(CY31:CY36,AY34)","v":6},{"$f":"AZ34-(BA34+BC34)","v":-12},{"$f":"COUNTIF(CZ31:CZ36,AY34)","v":6},{"$f":"SUM(D31:F31,J34:L34,D36:F36)","v":0},{"$f":"SUM(D32:F32,J33:L33,D35:F35)","v":0},{"$f":"BD34-BE34","v":0},{"$f":"IF(AZ34=0,0,BA34*2+BC34*1)","v":0},{"$f":"IF(BG34<=BG33,AY34,AY33)","v":""},{"$f":"VLOOKUP(BH34,AY33:BG36,9,FALSE)","v":0},{"$f":"IF(BI34>=BI36,BH34,BH36)","v":""},{"$f":"VLOOKUP(BJ34,AY33:BG36,9,FALSE)","v":0},{"$f":"IF(BK34>=BK35,BJ34,BJ35)","v":""},{"$f":"VLOOKUP(BL34,AY33:BG36,9,FALSE)","v":0},{"$f":"VLOOKUP(BL34,AY33:BG36,8,FALSE)","v":0},{"$f":"IF(AND(BM33=BM34,BN34>BN33),BL33,BL34)","v":""},{"$f":"VLOOKUP(BO34,AY33:BG36,9,FALSE)","v":0},{"$f":"VLOOKUP(BO34,AY33:BG36,8,FALSE)","v":0},{"$f":"IF(AND(BP34=BP36,BQ36>BQ34),BO36,BO34)","v":""},{"$f":"VLOOKUP(BR34,AY33:BG36,9,FALSE)","v":0},{"$f":"VLOOKUP(BR34,AY33:BG36,8,FALSE)","v":0},{"$f":"IF(AND(BS34=BS35,BT35>BT34),BR35,BR34)","v":""},{"$f":"VLOOKUP(BU34,AY33:BG36,9,FALSE)","v":0},{"$f":"VLOOKUP(BU34,AY33:BG36,8,FALSE)","v":0},{"$f":"VLOOKUP(BU34,AY33:BG36,6,FALSE)","v":0},{"$f":"IF(AND(BV33=BV34,BW33=BW34,BX34>BX33),BU33,BU34)","v":""},{"$f":"VLOOKUP(BY34,AY33:BG36,9,FALSE)","v":0},{"$f":"VLOOKUP(BY34,AY33:BG36,8,FALSE)","v":0},{"$f":"VLOOKUP(BY34,AY33:BG36,6,FALSE)","v":0},{"$f":"IF(AND(BZ34=BZ36,CA34=CA36,CB36>CB34),BY36,BY34)","v":""},{"$f":"VLOOKUP(CC34,AY33:BG36,9,FALSE)","v":0},{"$f":"VLOOKUP(CC34,AY33:BG36,8,FALSE)","v":0},{"$f":"VLOOKUP(CC34,AY33:BG36,6,FALSE)","v":0},{"$f":"IF(AND(CD34=CD35,CE34=CE35,CF35>CF34),CC35,CC34)","v":""},{"$f":"VLOOKUP(CG34,AY33:BG36,9,FALSE)","v":0},{"$f":"VLOOKUP(CG34,AY33:BG36,8,FALSE)","v":0},{"$f":"VLOOKUP(CG34,AY33:BG36,6,FALSE)","v":0},null,null,null,{"$f":"CG34","v":""},{"$f":"VLOOKUP(CN34,AY33:BG36,2,FALSE)","v":0},{"$f":"VLOOKUP(CN34,AY33:BG36,3,FALSE)","v":6},{"$f":"VLOOKUP(CN34,AY33:BG36,4,FALSE)","v":-12},{"$f":"VLOOKUP(CN34,AY33:BG36,5,FALSE)","v":6},{"$f":"VLOOKUP(CN34,AY33:BG36,6,FALSE)","v":0},{"$f":"VLOOKUP(CN34,AY33:BG36,7,FALSE)","v":0},{"$f":"VLOOKUP(CN34,AY33:BG36,8,FALSE)","v":0},{"$f":"VLOOKUP(CN34,AY33:BG36,9,FALSE)","v":0},null,null,{"$f":"IF(M33<>\"\",IF(M33>M34,I33,IF(M34>M33,I34,\"Empate\")),\"\")","v":""},{"$f":"IF(M33<>\"\",IF(M33<M34,I33,IF(M34<M33,I34,\"Empate\")),\"\")","v":""}]
[null,{"$f":"$A$4","v":"SH-Ini"},{"$f":"AY35","v":""},null,null,null,{"$f":"IF(ISBLANK(D35),\"\",SUM(IF(D35>D36,1,0)+(IF(E35>E36,1,0)+(IF(F35>F36,1,0)))))","v":""},{"$f":"$A$4","v":"SH-Ini"},{"$f":"AY36","v":""},null,null,null,{"$f":"IF(ISBLANK(J35),\"\",SUM(IF(J35>J36,1,0)+(IF(K35>K36,1,0)+(IF(L35>L36,1,0)))))","v":""},null,null,null,null,null,null,null,null,null,null,null,null,null,null,null,null,null,null,null,null,null,null,null,null,null,null,null,null,null,null,null,null,null,null,null,null,null,{"$f":"IF(BA39=\"\",\"\",BA48)","v":""},{"$f":"COUNT(M31,G34,G35)","v":0},{"$f":"COUNTIF(CY31:CY36,AY35)","v":6},{"$f":"AZ35-(BA35+BC35)","v":-12},{"$f":"COUNTIF(CZ31:CZ36,AY35)","v":6},{"$f":"SUM(J31:L31,D34:F34,D35:F35)","v":0},{"$f":"SUM(J32:L32,D33:F33,D36:F36)","v":0},{"$f":"BD35-BE35","v":0},{"$f":"IF(AZ35=0,0,BA35*2+BC35*1)","v":0},{"$f":"IF(BG35>=BG36,AY35,AY36)","v":""},{"$f":"VLOOKUP(BH35,AY33:BG36,9,FALSE)","v":0},{"$f":"IF(BI35<=BI33,BH35,BH33)","v":""},{"$f":"VLOOKUP(BJ35,AY33:BG36,9,FALSE)","v":0},{"$f":"IF(BK35<=BK34,BJ35,BJ34)","v":""},{"$f":"VLOOKUP(BL35,AY33:BG36,9,FALSE)","v":0},{"$f":"VLOOKUP(BL35,AY33:BG36,8,FALSE)","v":0},{"$f":"IF(AND(BM35=BM36,BN36>BN35),BL36,BL35)","v":""},{"$f":"VLOOKUP(BO35,AY33:BG36,9,FALSE)","v":0},{"$f":"VLOOKUP(BO35,AY33:BG36,8,FALSE)","v":0},{"$f":"IF(AND(BP33=BP35,BQ35>BQ33),BO33,BO35)","v":""},{"$f":"VLOOKUP(BR35,AY33:BG36,9,FALSE)","v":0},{"$f":"VLOOKUP(BR35,AY33:BG36,8,FALSE)","v":0},{"$f":"IF(AND(BS34=BS35,BT35>BT34),BR34,BR35)","v":""},{"$f":"VLOOKUP(BU35,AY33:BG36,9,FALSE)","v":0},{"$f":"VLOOKUP(BU35,AY33:BG36,8,FALSE)","v":0},{"$f":"VLOOKUP(BU35,AY33:BG36,6,FALSE)","v":0},{"$f":"IF(AND(BV35=BV36,BW35=BW36,BX36>BX35),BU36,BU35)","v":""},{"$f":"VLOOKUP(BY35,AY33:BG36,9,FALSE)","v":0},{"$f":"VLOOKUP(BY35,AY33:BG36,8,FALSE)","v":0},{"$f":"VLOOKUP(BY35,AY33:BG36,6,FALSE)","v":0},{"$f":"IF(AND(BZ33=BZ35,CA33=CA35,CB34>CB33),BY33,BY35)","v":""},{"$f":"VLOOKUP(CC35,AY33:BG36,9,FALSE)","v":0},{"$f":"VLOOKUP(CC35,AY33:BG36,8,FALSE)","v":0},{"$f":"VLOOKUP(CC35,AY33:BG36,6,FALSE)","v":0},{"$f":"IF(AND(CD34=CD35,CE34=CE35,CF35>CF34),CC34,CC35)","v":""},{"$f":"VLOOKUP(CG35,AY33:BG36,9,FALSE)","v":0},{"$f":"VLOOKUP(CG35,AY33:BG36,8,FALSE)","v":0},{"$f":"VLOOKUP(CG35,AY33:BG36,6,FALSE)","v":0},null,null,null,{"$f":"CG35","v":""},{"$f":"VLOOKUP(CN35,AY33:BG36,2,FALSE)","v":0},{"$f":"VLOOKUP(CN35,AY33:BG36,3,FALSE)","v":6},{"$f":"VLOOKUP(CN35,AY33:BG36,4,FALSE)","v":-12},{"$f":"VLOOKUP(CN35,AY33:BG36,5,FALSE)","v":6},{"$f":"VLOOKUP(CN35,AY33:BG36,6,FALSE)","v":0},{"$f":"VLOOKUP(CN35,AY33:BG36,7,FALSE)","v":0},{"$f":"VLOOKUP(CN35,AY33:BG36,8,FALSE)","v":0},{"$f":"VLOOKUP(CN35,AY33:BG36,9,FALSE)","v":0},null,null,{"$f":"IF(M35<>\"\",IF(M35>M36,I35,IF(M36>M35,I36,\"Empate\")),\"\")","v":""},{"$f":"IF(M35<>\"\",IF(M35<M36,I35,IF(M36<M35,I36,\"Empate\")),\"\")","v":""}]
[null,{"$f":"H28+1","v":23},{"$f":"AY34","v":""},null,null,null,{"$f":"IF(ISBLANK(D35),\"\",SUM(IF(D36>D35,1,0)+(IF(E36>E35,1,0)+(IF(F36>F35,1,0)))))","v":""},{"$f":"B36+1","v":24},{"$f":"IF(I35=\"\",\"\",AY33)","v":""},null,null,null,{"$f":"IF(ISBLANK(J35),\"\",SUM(IF(J36>J35,1,0)+(IF(K36>K35,1,0)+(IF(L36>L35,1,0)))))","v":""},null,null,null,null,null,null,null,null,null,null,null,null,null,null,null,null,null,null,null,null,null,null,null,null,null,null,null,null,null,null,null,null,null,null,null,null,null,{"$f":"IF(BA39=\"\",\"\",BA53)","v":""},{"$f":"COUNT(M32,M33,M35)","v":0},{"$f":"COUNTIF(CY31:CY36,AY36)","v":6},{"$f":"AZ36-(BA36+BC36)","v":-12},{"$f":"COUNTIF(CZ31:CZ36,AY36)","v":6},{"$f":"SUM(J32:L32,J33:L33,J35:L35)","v":0},{"$f":"SUM(J31:L31,J34:L34,J36:L36)","v":0},{"$f":"BD36-BE36","v":0},{"$f":"IF(AZ36=0,0,BA36*2+BC36*1)","v":0},{"$f":"IF(BG36<=BG35,AY36,AY35)","v":""},{"$f":"VLOOKUP(BH36,AY33:BG36,9,FALSE)","v":0},{"$f":"IF(BI36<=BI34,BH36,BH34)","v":""},{"$f":"VLOOKUP(BJ36,AY33:BG36,9,FALSE)","v":0},{"$f":"IF(BK36<=BK33,BJ36,BJ33)","v":""},{"$f":"VLOOKUP(BL36,AY33:BG36,9,FALSE)","v":0},{"$f":"VLOOKUP(BL36,AY33:BG36,8,FALSE)","v":0},{"$f":"IF(AND(BM35=BM36,BN36>BN35),BL35,BL36)","v":""},{"$f":"VLOOKUP(BO36,AY33:BG36,9,FALSE)","v":0},{"$f":"VLOOKUP(BO36,AY33:BG36,8,FALSE)","v":0},{"$f":"IF(AND(BP34=BP36,BQ36>BQ34),BO34,BO36)","v":""},{"$f":"VLOOKUP(BR36,AY33:BG36,9,FALSE)","v":0},{"$f":"VLOOKUP(BR36,AY33:BG36,8,FALSE)","v":0},{"$f":"IF(AND(BS33=BS36,BT36>BT33),BR33,BR36)","v":""},{"$f":"VLOOKUP(BU36,AY33:BG36,9,FALSE)","v":0},{"$f":"VLOOKUP(BU36,AY33:BG36,8,FALSE)","v":0},{"$f":"VLOOKUP(BU36,AY33:BG36,6,FALSE)","v":0},{"$f":"IF(AND(BV35=BV36,BW35=BW36,BX36>BX35),BU35,BU36)","v":""},{"$f":"VLOOKUP(BY36,AY33:BG36,9,FALSE)","v":0},{"$f":"VLOOKUP(BY36,AY33:BG36,8,FALSE)","v":0},{"$f":"VLOOKUP(BY36,AY33:BG36,6,FALSE)","v":0},{"$f":"IF(AND(BZ34=BZ36,CA34=CA36,CB36>CB34),BY34,BY36)","v":""},{"$f":"VLOOKUP(CC36,AY33:BG36,9,FALSE)","v":0},{"$f":"VLOOKUP(CC36,AY33:BG36,8,FALSE)","v":0},{"$f":"VLOOKUP(CC36,AY33:BG36,6,FALSE)","v":0},{"$f":"IF(AND(CD33=CD36,CE33=CE36,CF36>CF33),CC33,CC36)","v":""},{"$f":"VLOOKUP(CG36,AY33:BG36,9,FALSE)","v":0},{"$f":"VLOOKUP(CG36,AY33:BG36,8,FALSE)","v":0},{"$f":"VLOOKUP(CG36,AY33:BG36,6,FALSE)","v":0},null,null,null,{"$f":"CG36","v":""},{"$f":"VLOOKUP(CN36,AY33:BG36,2,FALSE)","v":0},{"$f":"VLOOKUP(CN36,AY33:BG36,3,FALSE)","v":6},{"$f":"VLOOKUP(CN36,AY33:BG36,4,FALSE)","v":-12},{"$f":"VLOOKUP(CN36,AY33:BG36,5,FALSE)","v":6},{"$f":"VLOOKUP(CN36,AY33:BG36,6,FALSE)","v":0},{"$f":"VLOOKUP(CN36,AY33:BG36,7,FALSE)","v":0},{"$f":"VLOOKUP(CN36,AY33:BG36,8,FALSE)","v":0},{"$f":"VLOOKUP(CN36,AY33:BG36,9,FALSE)","v":0},null,null,{"$f":"IF(G36<>\"\",IF(G36>G35,C36,IF(G35>G36,C35,\"Empate\")),\"\")","v":""},{"$f":"IF(G36<>\"\",IF(G36<G35,C36,IF(G35<G36,C35,\"Empate\")),\"\")","v":""}]
[null,null,null,null,null,null,null,null,null,null,null,null,null,null,null,"Jogadores",null,null,null,null,null,null,null,null,null,null,null,null,null,"Ranking"]
[null,"Classificações 1ª Fase",null,null,null,null,null,null,null,null,null,null,"#",null,"NºJ","Nome (1º e último)",null,"Escola",null,null,null,null,null,"Abv.",null,null,"NºJ",null,null,"Nome","Pts",null,null,null,null,null,null,"Cl.","Nº J","Ranking","Pt.",null,null,null,null,null,null,null,null,null,"3 Grupos 9 a 11",null,"4 Grupos 12 a 16"]
[null,null,null,null,null,null,null,null,null,null,null,null,1,null,{"$f":"IF(DE4=\"\",\"\",DE4)","v":""},{"$f":"IF(DF4=\"\",\"\",IF(DF4=\"Bye\",\"Bye\",CONCATENATE(DF4,\" \",\"(\",DH4,\")\")))","v":"Rafael Gonçalves (ACV)"},null,{"$f":"IF(DG4=\"\",\"\",DG4)","v":"ACav.Silva"},null,null,null,null,null,{"$f":"IF(DH4=\"\",\"\",DH4)","v":"ACV"},null,null,"1º",null,null,{"$f":"IF(AN39=\"\",\"\",AN39)","v":"Rafael Gonçalves (ACV)"},12,null,null,null,null,null,null,"1º",null,{"$f":"IF(AH17=AH18,\"\",IF(AH17>AH18,AD17,AD18))","v":"Rafael Gonçalves (ACV)"},12,null,null,null,null,null,null,null,1,"A1",{"$f":"IF(DF4=\"\",\"\",IF($DF$15=\"\",CONCATENATE(DF4,\"\",\" (\",DH4,\")\"),\"\"))","v":"Rafael Gonçalves (ACV)"},"A1",{"$f":"IF(DF4=\"\",\"\",IF($DF$15=\"\",\"\",CONCATENATE(DF4,\"\",\" (\",DH4,\")\")))","v":""}]
[null,"Grupo A",null,null,null,null,null,"Grupo B",null,null,null,null,2,null,"","Daniel Pop (ACV)",null,"ACav.Silva",null,null,null,null,null,"ACV",2004,null,"2º",null,null,{"$f":"IF(AN40=\"\",\"\",AN40)","v":"Daniel Espadinha (DP)"},11,null,null,null,null,null,null,"2º",null,{"$f":"IF(AH17=AH18,\"\",IF(AH17<AH18,AD17,AD18))","v":"Daniel Espadinha (DP)"},11,null,null,null,null,null,null,null,2,"B1","Daniel Pop (ACV)","D1",""]
[null,null,null,null,null,null,null,null,null,null,null,null,3,null,"","Renato Sobreira (ACV)",null,"ACav.Silva",null,null,null,null,null,"ACV",2004,null,"3º",null,null,"Miguel Santos (ACV)",10,null,null,null,null,null,null,"3º",null,{"$f":"IF(AA17=AA18,\"\",IF(AA17<AA18,W18,W17))","v":"Miguel Santos (ACV)"},10,null,null,null,null,null,null,null,3,"C1","Renato Sobreira (ACV)","C1",""]
[null,{"$f":"AL8","v":"Cl"},"Jogadores",{"$f":"AU8","v":"Pt."},null,null,null,{"$f":"AL15","v":"Cl"},"Jogadores",{"$f":"AU15","v":"Pt."},null,null,4,null,"","Simão Dias (ACV)",null,"ACav.Silva",null,null,null,null,null,"ACV",2004,null,"4º",null,null,"Alexandre Guerreiro (DP)",10,null,null,null,null,null,null,"4º",null,{"$f":"IF(AA17=AA18,\"\",IF(AA17<AA18,W17,W18))","v":"Alexandre Guerreiro (DP)"},10,null,null,null,null,null,null,null,4,"A2","Simão Dias (ACV)","B1",""]
[null,"1º","Rafael Gonçalves (ACV)",{"$f":"AU9","v":6},null,null,null,"1º","Miguel Santos (ACV)",{"$f":"AU16","v":4},null,null,5,null,"","Miguel Santos (ACV)",null,"ACav.Silva",null,null,null,null,null,"ACV",2003,null,"5º",null,null,"Adilson Cruz (ASA)",8,null,null,null,null,null,null,"5º",null,{"$f":"IF(T8=T9,\"\",IF(T8<T9,P8,P9))","v":"Adilson Cruz (ASA)"},8,null,null,null,null,null,null,null,5,"B2","Miguel Santos (ACV)","B2",""]
[null,"2º","Daniel Espadinha (DP)",{"$f":"AU10","v":5},null,null,null,"2º","Alexandre Guerreiro (DP)",{"$f":"AU17","v":3},null,null,6,null,"","Mário Silveira (DP)",null,"DPacheco",null,null,null,null,null,"DP",2004,null,"6º",null,null,"Mário Silveira (DP)",8,null,null,null,null,null,null,"6º",null,{"$f":"IF(T14=T15,\"\",IF(T14<T15,P14,P15))","v":"Mário Silveira (DP)"},8,null,null,null,null,null,null,null,6,"C2","Mário Silveira (DP)","C2",""]
[null,"3º","Adilson Cruz (ASA)",{"$f":"AU11","v":4},null,null,null,"3º","Daniel Pop (ACV)",{"$f":"AU18","v":2},null,null,7,null,"","Daniel Espadinha (DP)",null,"DPacheco",null,null,null,null,null,"DP",2004,null,"7º",null,null,"Renato Sobreira (ACV)",8,null,null,null,null,null,null,"7º",null,{"$f":"IF(T21=T22,\"\",IF(T21<T22,P21,P22))","v":"Renato Sobreira (ACV)"},8,null,null,null,null,null,null,null,7,"A3","Daniel Espadinha (DP)","D2",""]
[null,"4º","Simão Dias (ACV)",{"$f":"AU12","v":3},null,null,null,"","",{"$f":"AU19","v":""},null,null,8,null,"","Alexandre Guerreiro (DP)",null,"DPacheco",null,null,null,null,null,"DP",2003,null,"8º",null,null,"Eduardo Contreras (ASA)",8,null,null,null,null,null,null,"8º",null,{"$f":"IF(T27=T28,\"\",IF(T27<T28,P27,P28))","v":"Eduardo Contreras (ASA)"},8,null,null,null,null,null,null,null,8,"B3","Alexandre Guerreiro (DP)","A2",""]
[null,null,null,null,null,null,null,null,null,null,null,null,9,null,"","Eduardo Contreras (ASA)",null,"ASAgostinho",null,null,null,null,null,"ASA",2004,null,"9º",null,null,"Daniel Pop (ACV)",4,null,null,null,null,null,null,"9º",null,{"$f":"IF($AY$53<11,AY64,IF($AY$53=11,AZ64,BA64))","v":"Daniel Pop (ACV)"},4,null,null,null,null,null,null,null,9,"C3","Eduardo Contreras (ASA)","A3",""]
[null,"Grupo C",null,null,null,null,null,"Grupo D",null,null,null,null,10,null,"","Adilson Cruz (ASA)",null,"ASAgostinho",null,null,null,null,null,"ASA",2004,null,"10º",null,null,"Simão Dias (ACV)",4,null,null,null,null,null,null,"10º",null,"Simão Dias (ACV)",4,null,null,null,null,null,null,null,10,"A4","Adilson Cruz (ASA)","D3",""]
[null,null,null,null,null,null,null,null,null,null,null,null,11,null,"","",null,"",null,null,null,null,null,"","",null,"11º",null,null," ",4,null,null,null,null,null,null,"11º",null," ",4,null,null,null,null,null,null,null,11,"B4","","C3",""]
[null,{"$f":"AL22","v":"Cl"},"Jogadores",{"$f":"AU22","v":"Pt."},null,null,null,{"$f":"AL29","v":"Cl"},"Jogadores",{"$f":"AU29","v":"Pt."},null,null,12,null,"","",null,"",null,null,null,null,null,"","",null,"12º",null,null," ",4,null,null,null,null,null,null,"12º",null," ",4,null,null,null,null,null,null,null,null,null,null,"B3",""]
[null,"1º","Renato Sobreira (ACV)",{"$f":"AU23","v":4},null,null,null,"","",{"$f":"AU30","v":""},null,null,13,null,"","",null,"",null,null,null,null,null,"","",null,"13º",null,null," ",2,null,null,null,null,null,null,"13º",null," ",2,null,null,null,null,null,null,null,null,null,null,"B4",""]
[null,"2º","Mário Silveira (DP)",{"$f":"AU24","v":3},null,null,null,"","",{"$f":"AU31","v":""},null,null,14,null,"","",null,"",null,null,null,null,null,"","",null,"14º",null,null," ",2,null,null,null,null,null,null,"14º",null," ",2,null,null,null,null,null,null,null,null,null,null,"C4",""]
[null,"3º","Eduardo Contreras (ASA)",{"$f":"AU25","v":2},null,null,null,"","",{"$f":"AU32","v":""},null,null,15,null,"","",null,"",null,null,null,null,null,"","",null,"15º",null,null," ",2,null,null,null,null,null,null,"15º",null," ",2,null,null,null,null,null,null,null,null,null,{"$f":"COUNTA(DF4:DF19)","v":10},"D4","","ABV","Nome"]
[null,"","",{"$f":"AU26","v":""},null,null,null,"","",{"$f":"AU33","v":""},null,null,16,null,"","",null,"",null,null,null,null,null,"","",null,"16º",null,null," ",2,null,null,null,null,null,null,"16º",null," ",2,null,null,null,null,null,null,null,null,null,null,"A4","","EM-Juv","Equipas Mistas - Juvenis"]
[null,null,null,null,null,null,null,null,null,null,null,null,null,null,null,null,null,null,null,null,null,null,null,null,null,null,null,null,null,null,null,null,null,null,null,null,null,null,null,null,null,null,null,null,null,null,null,null,null,"Nº","Class 9 e 10","Class 11","Class 12 a 16","PH-InfA","Pares Homens - Infantis A"]
[null,null,null,null,null,null,null,null,null,null,null,null,null,null,null,null,null,null,null,null,null,null,null,null,null,null,null,null,null,null,null,null,null,null,null,null,null,null,null,null,null,null,null,null,null,null,null,null,null,1,{"$f":"IF(D27=\"\",\"1º Grupo A\",AM9)","v":"Rafael Gonçalves (ACV)"},{"$f":"AY56","v":"Rafael Gonçalves (ACV)"},{"$f":"IF($D$35=\"\",\"1º Grupo A\",AM9)","v":"1º Grupo A"},"PH-InfB","Pares Homens - Infantis B"]
[null,null,null,null,null,null,null,null,null,null,null,null,null,null,null,null,null,null,null,null,null,null,null,null,null,null,null,null,null,null,null,null,null,null,null,null,null,null,null,null,null,null,null,null,null,null,null,null,null,2,{"$f":"IF(D27=\"\",\"1º Grupo B\",AM16)","v":"Miguel Santos (ACV)"},"Miguel Santos (ACV)",{"$f":"IF($D$35=\"\",\"1º Grupo D\",AM30)","v":"1º Grupo D"},"PH-Ini","Pares Homens - Iniciados"]
[null,"Tabela para 8 a 16 Jogadores",null,null,null,null,null,null,null,null,null,null,null,null,null,null,null,null,null,null,null,null,null,null,null,null,null,null,null,null,null,null,null,null,null,null,null,null,null,null,null,null,null,null,null,null,null,null,null,3,{"$f":"IF(D27=\"\",\"1º Grupo C\",AM23)","v":"Renato Sobreira (ACV)"},"Renato Sobreira (ACV)",{"$f":"IF($D$35=\"\",\"1º Grupo C\",AM23)","v":"1º Grupo C"},"PH-Jun","Pares Homens - Juniores"]
[null,"Nº Jog","Grupos","Apurados 2ª Fase",null,null,null,null,null,null,null,null,null,null,null,null,null,null,null,null,null,null,null,null,null,null,null,null,null,null,null,null,null,null,null,null,null,null,null,null,null,null,null,null,null,null,null,"8º",null,4,{"$f":"IF(D27=\"\",\"2º Grupo C\",AM24)","v":"Mário Silveira (DP)"},"Mário Silveira (DP)",{"$f":"IF($D$35=\"\",\"1º Grupo B\",AM16)","v":"1º Grupo B"},"PH-Juv","Pares Homens - Juvenis"]
[null,9,"3 Grupos: 3+3+3","2 Primeiros + 2 melhores 3º",null,null,null,null,null,null,null,null,null,null,null,null,null,null,null,null,null,null,null,null,null,null,null,null,null,null,null,null,null,null,null,null,null,null,null,null,null,null,null,null,null,null,null,"A",{"$f":"IF(AY62<>AM11,IF(AND(AT11<AT18,AT11<AT25),\"\",AM11),\"\")","v":"Adilson Cruz (ASA)"},5,{"$f":"IF(D27=\"\",\"2º Grupo B\",AM17)","v":"Alexandre Guerreiro (DP)"},"Alexandre Guerreiro (DP)",{"$f":"IF($D$35=\"\",\"2º Grupo C\",AM24)","v":"2º Grupo C"},"PM-Ini","Pares Mistos - Iniciados"]
[null,10,"3 Grupos: 4+3+3","2 Primeiros + 2 melhores 3º",null,null,null,null,null,null,null,null,null,null,null,null,null,null,null,null,null,null,null,null,null,null,null,null,null,null,null,null,null,null,null,null,null,null,null,null,null,null,null,null,null,null,null,"B",{"$f":"IF(AY62<>AM18,IF(AND(AT18<AT11,AT18<AT25),\"\",AM18),\"\")","v":""},6,{"$f":"IF(D27=\"\",\"2º Grupo A\",AM10)","v":"Daniel Espadinha (DP)"},"Daniel Espadinha (DP)",{"$f":"IF($D$35=\"\",\"2º Grupo B\",AM17)","v":"2º Grupo B"},"PS-InfA","Pares Senhoras - Infantis A"]
[null,11,"3 Grupos: 4+4+3","2 Primeiros + 3º grupos de 4",null,null,null,null,null,null,null,null,null,null,null,null,null,null,null,null,null,null,null,null,null,null,null,null,null,null,null,null,null,null,null,null,null,null,null,null,null,null,null,null,null,null,null,"C",{"$f":"IF(AY62<>AM25,IF(AND(AT25<AT11,AT25<AT18),\"\",AM25),\"\")","v":""},7,{"$f":"IF(D27=\"\",\"1º Melhor 3º\",IF(AND(AT11>AT18,AT11>AT25),AM11,IF(AND(AT18>AT11,AT18>AT25),AM18,AM25)))","v":"Eduardo Contreras (ASA)"},{"$f":"IF(D27=\"\",\"3º Grupo A\",AM11)","v":"Adilson Cruz (ASA)"},{"$f":"IF($D$35=\"\",\"2º Grupo A\",AM10)","v":"2º Grupo A"},"PS-InfB","Pares Senhoras - Infantis B"]
[null,12,"4 Grupos: 3+3+3+3","2 Primeiros de cada Grupo",null,null,null,null,null,null,null,null,null,null,null,null,null,null,null,null,null,null,null,null,null,null,null,null,null,null,null,null,null,null,null,null,null,null,null,null,null,null,null,null,null,null,null,"9º",null,8,{"$f":"IF(D27=\"\",\"2º Melhor 3º\",IF(AW60<>\"\",AW60,IF(AW61<>\"\",AW61,AW62)))","v":"Adilson Cruz (ASA)"},{"$f":"IF(D27=\"\",\"3º Grupo B\",AM18)","v":"Daniel Pop (ACV)"},{"$f":"IF($D$35=\"\",\"2º Grupo D\",AM31)","v":"2º Grupo D"},"PS-Ini","Pares Senhoras - Iniciados"]
[null,13,"4 Grupos: 4+3+3+3","2 Primeiros de cada Grupo",null,null,null,null,null,null,null,null,null,null,null,null,null,null,null,null,null,null,null,null,null,null,null,null,null,null,null,null,null,null,null,null,null,null,null,null,null,null,null,null,null,null,null,"A",{"$f":"IF(AY62<>AM11,IF(AND(AT11<AT18,AT11<AT25),AM11,\"\"),\"\")","v":""},"9º",{"$f":"IF(D27=\"\",\"\",IF(AW64<>\"\",AW64,IF(AW65<>\"\",AW65,AW66)))","v":"Daniel Pop (ACV)"},{"$f":"IF(D27=\"\",\"\",AM25)","v":"Eduardo Contreras (ASA)"},{"$f":"IF($D$35=\"\",\"\",AM11)","v":""},"PS-Jun","Pares Senhoras - Juniores"]
[null,14,"4 Grupos: 4+4+3+3","2 Primeiros de cada Grupo",null,null,null,null,null,null,null,null,null,null,null,null,null,null,null,null,null,null,null,null,null,null,null,null,null,null,null,null,null,null,null,null,null,null,null,null,null,null,null,null,null,null,null,"B",{"$f":"IF(AY62<>AM18,IF(AND(AT18<AT11,AT18<AT25),AM18,\"\"),\"\")","v":"Daniel Pop (ACV)"},"10º",{"$f":"IF(D27=\"\",\"\",AM12)","v":"Simão Dias (ACV)"},{"$f":"IF(D27=\"\",\"\",AM12)","v":"Simão Dias (ACV)"},{"$f":"IF($D$35=\"\",\"\",AM18)","v":""},"PS-Juv","Pares Senhoras - Juvenis"]
[null,15,"4 Grupos: 4+4+4+3","2 Primeiros de cada Grupo",null,null,null,null,null,null,null,null,null,null,null,null,null,null,null,null,null,null,null,null,null,null,null,null,null,null,null,null,null,null,null,null,null,null,null,null,null,null,null,null,null,null,null,"C",{"$f":"IF(AY62<>AM25,IF(AND(AT25<AT11,AT25<AT18),AM25,\"\"),\"\")","v":""},"11º"," ",{"$f":"IF(D27=\"\",\"\",AM19)","v":""},{"$f":"IF($D$35=\"\",\"\",AM25)","v":""},"SH-InfA","Singulares Homens - Infantis A"]
[null,16,"4 Grupos: 4+4+4+4","2 Primeiros de cada Grupo",null,null,null,null,null,null,null,null,null,null,null,null,null,null,null,null,null,null,null,null,null,null,null,null,null,null,null,null,null,null,null,null,null,null,null,null,null,null,null,null,null,null,null,null,null,"12º"," "," ",{"$f":"IF($D$35=\"\",\"\",AM32)","v":""},"SH-InfB","Singulares Homens - Infantis B"]
[null,null,null,null,null,null,null,null,null,null,null,null,null,null,null,null,null,null,null,null,null,null,null,null,null,null,null,null,null,null,null,null,null,null,null,null,null,null,null,null,null,null,null,null,null,null,null,null,null,"13º"," "," ",{"$f":"IF($D$35=\"\",\"\",AM19)","v":""},"SH-Ini","Singulares Homens - Iniciados"]
[null,null,null,null,null,null,null,null,null,null,null,null,null,null,null,null,null,null,null,null,null,null,null,null,null,null,null,null,null,null,null,null,null,null,null,null,null,null,null,null,null,null,null,null,null,null,null,null,null,"14º"," "," ",{"$f":"IF($D$35=\"\",\"\",AM26)","v":""},"SH-Jun","Singulares Homens - Juniores"]
[null,null,null,null,null,null,null,null,null,null,null,null,null,null,null,null,null,null,null,null,null,null,null,null,null,null,null,null,null,null,null,null,null,null,null,null,null,null,null,null,null,null,null,null,null,null,null,null,null,"15º"," "," ",{"$f":"IF($D$35=\"\",\"\",AM33)","v":""},"SH-Juv","Singulares Homens - Juvenis"]
[null,null,null,null,null,null,null,null,null,null,null,null,null,null,null,null,null,null,null,null,null,null,null,null,null,null,null,null,null,null,null,null,null,null,null,null,null,null,null,null,null,null,null,null,null,null,null,null,null,"16º"," "," ",{"$f":"IF($D$35=\"\",\"\",AM12)","v":""},"SS-InfA","Singulares Senhoras - Infantis A"]
[null,null,null,null,null,null,null,null,null,null,null,null,null,null,null,null,null,null,null,null,null,null,null,null,null,null,null,null,null,null,null,null,null,null,null,null,null,null,null,null,null,null,null,null,null,null,null,null,null,null,"Lista ",null,null,"SS-InfB","Singulares Senhoras - Infantis B"]
[null,null,null,null,null,null,null,null,null,null,null,null,null,null,null,null,null,null,null,null,null,null,null,null,null,null,null,null,null,null,null,null,null,null,null,null,null,null,null,null,null,null,null,null,null,null,null,null,null,null,0,null,null,"SS-Ini","Singulares Senhoras - Iniciados"]
[null,null,null,null,null,null,null,null,null,null,null,null,null,null,null,null,null,null,null,null,null,null,null,null,null,null,null,null,null,null,null,null,null,null,null,null,null,null,null,null,null,null,null,null,null,null,null,null,null,null,1,null,null,"SS-Jun","Singulares Senhoras - Juniores"]
[null,null,null,null,null,null,null,null,null,null,null,null,null,null,null,null,null,null,null,null,null,null,null,null,null,null,null,null,null,null,null,null,null,null,null,null,null,null,null,null,null,null,null,null,null,null,null,null,null,null,2,null,null,"SS-Juv","Singulares Senhoras - Juvenis"]
[null,null,null,null,null,null,null,null,null,null,null,null,null,null,null,null,null,null,null,null,null,null,null,null,null,null,null,null,null,null,null,null,null,null,null,null,null,null,null,null,null,null,null,null,null,null,null,null,null,null,3]
[null,null,null,null,null,null,null,null,null,null,null,null,null,null,null,null,null,null,null,null,null,null,null,null,null,null,null,null,null,null,null,null,null,null,null,null,null,null,null,null,null,null,null,null,null,null,null,null,null,null,4]
[null,null,null,null,null,null,null,null,null,null,null,null,null,null,null,null,null,null,null,null,null,null,null,null,null,null,null,null,null,null,null,null,null,null,null,null,null,null,null,null,null,null,null,null,null,null,null,null,null,null,5]
[null,null,null,null,null,null,null,null,null,null,null,null,null,null,null,null,null,null,null,null,null,null,null,null,null,null,null,null,null,null,null,null,null,null,null,null,null,null,null,null,null,null,null,null,null,null,null,null,null,null,6]
[null,null,null,null,null,null,null,null,null,null,null,null,null,null,null,null,null,null,null,null,null,null,null,null,null,null,null,null,null,null,null,null,null,null,null,null,null,null,null,null,null,null,null,null,null,null,null,null,null,null,7]
[null,null,null,null,null,null,null,null,null,null,null,null,null,null,null,null,null,null,null,null,null,null,null,null,null,null,null,null,null,null,null,null,null,null,null,null,null,null,null,null,null,null,null,null,null,null,null,null,null,null,8]
[null,null,null,null,null,null,null,null,null,null,null,null,null,null,null,null,null,null,null,null,null,null,null,null,null,null,null,null,null,null,null,null,null,null,null,null,null,null,null,null,null,null,null,null,null,null,null,null,null,null,9]
[null,null,null,null,null,null,null,null,null,null,null,null,null,null,null,null,null,null,null,null,null,null,null,null,null,null,null,null,null,null,null,null,null,null,null,null,null,null,null,null,null,null,null,null,null,null,null,null,null,null,10]
[null,null,null,null,null,null,null,null,null,null,null,null,null,null,null,null,null,null,null,null,null,null,null,null,null,null,null,null,null,null,null,null,null,null,null,null,null,null,null,null,null,null,null,null,null,null,null,null,null,null,11]
[null,null,null,null,null,null,null,null,null,null,null,null,null,null,null,null,null,null,null,null,null,null,null,null,null,null,null,null,null,null,null,null,null,null,null,null,null,null,null,null,null,null,null,null,null,null,null,null,null,null,12]
[null,null,null,null,null,null,null,null,null,null,null,null,null,null,null,null,null,null,null,null,null,null,null,null,null,null,null,null,null,null,null,null,null,null,null,null,null,null,null,null,null,null,null,null,null,null,null,null,null,null,13]
[null,null,null,null,null,null,null,null,null,null,null,null,null,null,null,null,null,null,null,null,null,null,null,null,null,null,null,null,null,null,null,null,null,null,null,null,null,null,null,null,null,null,null,null,null,null,null,null,null,null,14]
[null,null,null,null,null,null,null,null,null,null,null,null,null,null,null,null,null,null,null,null,null,null,null,null,null,null,null,null,null,null,null,null,null,null,null,null,null,null,null,null,null,null,null,null,null,null,null,null,null,null,15]
[null,null,null,null,null,null,null,null,null,null,null,null,null,null,null,null,null,null,null,null,null,null,null,null,null,null,null,null,null,null,null,null,null,null,null,null,null,null,null,null,null,null,null,null,null,null,null,null,null,null,16]
[null,null,null,null,null,null,null,null,null,null,null,null,null,null,null,null,null,null,null,null,null,null,null,null,null,null,null,null,null,null,null,null,null,null,null,null,null,null,null,null,null,null,null,null,null,null,null,null,null,null,17]
[null,null,null,null,null,null,null,null,null,null,null,null,null,null,null,null,null,null,null,null,null,null,null,null,null,null,null,null,null,null,null,null,null,null,null,null,null,null,null,null,null,null,null,null,null,null,null,null,null,null,18]
[null,null,null,null,null,null,null,null,null,null,null,null,null,null,null,null,null,null,null,null,null,null,null,null,null,null,null,null,null,null,null,null,null,null,null,null,null,null,null,null,null,null,null,null,null,null,null,null,null,null,19]
[null,null,null,null,null,null,null,null,null,null,null,null,null,null,null,null,null,null,null,null,null,null,null,null,null,null,null,null,null,null,null,null,null,null,null,null,null,null,null,null,null,null,null,null,null,null,null,null,null,null,20]
[null,null,null,null,null,null,null,null,null,null,null,null,null,null,null,null,null,null,null,null,null,null,null,null,null,null,null,null,null,null,null,null,null,null,null,null,null,null,null,null,null,null,null,null,null,null,null,null,null,null,21]
[null,null,null,null,null,null,null,null,null,null,null,null,null,null,null,null,null,null,null,null,null,null,null,null,null,null,null,null,null,null,null,null,null,null,null,null,null,null,null,null,null,null,null,null,null,null,null,null,null,null,22]
[null,null,null,null,null,null,null,null,null,null,null,null,null,null,null,null,null,null,null,null,null,null,null,null,null,null,null,null,null,null,null,null,null,null,null,null,null,null,null,null,null,null,null,null,null,null,null,null,null,null,23]
[null,null,null,null,null,null,null,null,null,null,null,null,null,null,null,null,null,null,null,null,null,null,null,null,null,null,null,null,null,null,null,null,null,null,null,null,null,null,null,null,null,null,null,null,null,null,null,null,null,null,24]
[null,null,null,null,null,null,null,null,null,null,null,null,null,null,null,null,null,null,null,null,null,null,null,null,null,null,null,null,null,null,null,null,null,null,null,null,null,null,null,null,null,null,null,null,null,null,null,null,null,null,25]
[null,null,null,null,null,null,null,null,null,null,null,null,null,null,null,null,null,null,null,null,null,null,null,null,null,null,null,null,null,null,null,null,null,null,null,null,null,null,null,null,null,null,null,null,null,null,null,null,null,null,26]
[null,null,null,null,null,null,null,null,null,null,null,null,null,null,null,null,null,null,null,null,null,null,null,null,null,null,null,null,null,null,null,null,null,null,null,null,null,null,null,null,null,null,null,null,null,null,null,null,null,null,27]
[null,null,null,null,null,null,null,null,null,null,null,null,null,null,null,null,null,null,null,null,null,null,null,null,null,null,null,null,null,null,null,null,null,null,null,null,null,null,null,null,null,null,null,null,null,null,null,null,null,null,28]
[null,null,null,null,null,null,null,null,null,null,null,null,null,null,null,null,null,null,null,null,null,null,null,null,null,null,null,null,null,null,null,null,null,null,null,null,null,null,null,null,null,null,null,null,null,null,null,null,null,null,29]
[null,null,null,null,null,null,null,null,null,null,null,null,null,null,null,null,null,null,null,null,null,null,null,null,null,null,null,null,null,null,null,null,null,null,null,null,null,null,null,null,null,null,null,null,null,null,null,null,null,null,30]
[null,null,null,null,null,null,null,null,null,null,null,null,null,null,null,null,null,null,null,null,null,null,null,null,null,null,null,null,null,null,null,null,null,null,null,null,null,null,null,null,null,null,null,null,null,null,null,null,null,null,"fc"]
[null,null,null,null,null,null,null,null,null,null,null,null,null,null,null,null,null,null,null,null,null,null,null,null,null,null,null,null,null,null,null,null,null,null,null,null,null,null,null,null,null,null,null,null,null,null,null,null,null,null,"v"]

{"sheet":"SH-InfB","index":13,"n_rows":105,"n_cols":120,"rows_kept":105,"cut":false,"hidden":false,"merged":[[23,108,24,110],[25,16,25,19],[13,0,19,0],[15,30,15,33],[18,22,18,26],[19,16,19,19],[19,22,20,26],[0,14,2,28],[0,38,0,43],[20,108,21,110],[0,107,0,110],[1,3,1,12],[1,107,1,117],[2,116,2,117],[3,0,3,1],[28,29,29,33],[29,0,35,0],[37,1,38,10],[37,17,37,22],[37,23,37,24],[37,26,37,28],[37,30,37,31],[38,17,38,22],[38,23,38,24],[38,26,38,28],[21,0,27,0],[22,23,22,26],[3,2,3,7],[3,8,3,12],[3,15,3,22],[3,23,3,33],[4,3,4,5],[4,9,4,11],[27,29,27,33],[5,0,11,0],[6,16,6,19],[9,23,9,26],[12,16,12,19],[40,30,40,31],[41,3,41,4],[41,9,41,10],[41,17,41,22],[41,23,41,24],[41,26,41,28],[41,30,41,31],[38,30,38,31],[39,1,40,4],[39,7,40,10],[39,17,39,22],[39,23,39,24],[39,26,39,28],[39,30,39,31],[40,17,40,22],[40,23,40,24],[40,26,40,28],[43,3,43,4],[43,9,43,10],[43,17,43,22],[43,23,43,24],[43,26,43,28],[43,30,43,31],[42,3,42,4],[42,9,42,10],[42,17,42,22],[42,23,42,24],[42,26,42,28],[42,30,42,31],[45,3,45,4],[45,9,45,10],[45,17,45,22],[45,23,45,24],[45,26,45,28],[45,30,45,31],[44,3,44,4],[44,9,44,10],[44,17,44,22],[44,23,44,24],[44,26,44,28],[44,30,44,31],[46,17,46,22],[46,23,46,24],[46,26,46,28],[46,30,46,31],[47,1,48,4],[47,7,48,10],[47,17,47,22],[47,23,47,24],[47,26,47,28],[47,30,47,31],[48,17,48,22],[48,23,48,24],[48,26,48,28],[48,30,48,31],[49,3,49,4],[49,9,49,10],[49,17,49,22],[49,23,49,24],[49,26,49,28],[49,30,49,31],[51,3,51,4],[51,9,51,10],[51,17,51,22],[51,23,51,24],[51,26,51,28],[51,30,51,31],[50,3,50,4],[50,9,50,10],[50,17,50,22],[50,23,50,24],[50,26,50,28],[50,30,50,31],[53,3,53,4],[53,9,53,10],[53,17,53,22],[53,23,53,24],[53,26,53,28],[53,30,53,31],[52,3,52,4],[52,9,52,10],[52,17,52,22],[52,23,52,24],[52,26,52,28],[52,30,52,31]]}
[null,null,null,"Direcção Regional de Educação do Algarve",null,null,null,null,null,null,null,null,null,null,"Badminton",null,null,null,null,null,null,null,null,null,null,null,null,null,null,null,null,null,null,null,null,null,null,null,{"$f":"$C$4","v":"Singulares Homens - Infantis B"},null,null,null,null,null,null,null,null,null,null,null,null,null,null,null,null,null,null,null,null,null,null,null,null,null,null,null,null,null,null,null,null,null,null,null,null,null,null,null,null,null,null,null,null,null,null,null,null,null,null,null,null,null,null,null,null,null,null,null,null,null,null,null,null,{"$f":"COUNTA(DF4:DF19)","v":16},null,null,"ERRO de prenchimento da Lista de participantes",{"$f":"IF(DC2>0,DC1,\"\")","v":""},null,null,null,"Quadro para 9 a 16 Jogadores"]
[null,null,null,{"$f":"\"Ano Lectivo \"&Apoio!F10","v":"Ano Lectivo 2017/2018"},null,null,null,null,null,null,null,null,null,null,null,null,null,null,null,null,null,null,null,null,null,null,null,null,null,null,null,null,null,null,null,null,null,null,null,null,null,null,null,null,null,null,null,null,null,null,null,null,null,null,null,null,null,null,null,null,null,null,null,null,null,null,null,null,null,null,null,null,null,null,null,null,null,null,null,null,null,null,null,null,null,null,null,null,null,null,null,null,null,null,null,null,null,null,null,null,null,null,null,null,null,null,{"$f":"SUM(DC4:DC19)","v":0},{"$f":"IF(DC2>0,\"ERRO DE PREENCHIMENTO\",\"Lista de Participantes\")","v":"Lista de Participantes"}]
[null,null,null,null,null,null,null,null,null,null,null,null,null,null,null,null,null,null,null,null,null,null,null,null,null,null,null,null,null,null,null,null,null,null,null,null,null,null,null,null,null,null,null,null,null,null,null,null,null,null,null,null,null,null,null,null,null,null,null,null,null,null,null,null,null,null,null,null,null,null,null,null,null,null,null,null,null,null,null,null,null,null,null,null,null,null,null,null,null,null,null,null,null,null,null,null,null,null,null,null,null,null,null,null,null,null,{"$f":"SUM(DC4:DC19)","v":0},"Ordem","Nº","Nome (1º e último)","Escola","Abv.","Ano Nasc.","Escalão","Sexo","Observações","Insc. Prova",null,"Pontos Rank"]
["SH-InfB",null,{"$f":"LOOKUP(A4,Apoio!N9:N39,Apoio!O9:O39)","v":"Singulares Homens - Infantis B"},null,null,null,null,null,{"$f":"'Ficha de Inscrição'!$A$5","v":"Torneio Nº 4"},null,null,null,null,null,null,{"$f":"\"Escola: \"&'Ficha de Inscrição'!$D$4","v":"Escola: ACav.Silva"},null,null,null,null,null,null,null,{"$f":"'Ficha de Inscrição'!$J$4","v":"2018-01-17"},null,null,null,null,null,null,null,null,null,null,null,null,null,null,null,null,null,null,null,null,null,null,null,null,null,null,null,null,null,null,null,null,null,null,null,null,null,null,null,null,null,null,null,null,null,null,null,null,null,null,null,null,null,null,null,null,null,null,null,null,null,null,null,null,null,null,null,null,null,null,null,null,null,null,null,null,null,null,null,null,null,null,{"$f":"IF(ISBLANK(DF4),COUNTA(DF5:$DG$19),0)","v":0},1,null,"Sandro Revez","DPacheco","DP",2005,"Infantis B","M",null,"SH",null,null,{"$f":"DF4&\" (\"&DH4&\")\"","v":"Sandro Revez (DP)"}]
[null,"1ª FASE",null,"Set's",null,null,null,null,null,"Set's",null,null,null,null,null,"2ª FASE",null,null,null,null,null,null,null,null,null,null,null,null,null,null,null,null,null,null,null,null,null,null,"Classificação 1ª Fase",null,null,null,null,null,null,null,null,null,null,null,null,null,null,null,null,null,null,null,null,null,null,null,null,null,null,null,null,null,null,null,null,null,null,null,null,null,null,null,null,null,null,null,null,null,null,null,null,null,null,null,null,null,null,null,null,null,null,null,null,null,null,null,null,null,null,null,{"$f":"IF(ISBLANK(DF5),COUNTA(DF6:$DG$19),0)","v":0},2,null,"Francisco Carvalho","DPacheco","DP",2006,"Infantis B","M",null,"SH",null,null,{"$f":"DF5&\" (\"&DH5&\")\"","v":"Francisco Carvalho (DP)"}]
["Grupo A","NºJ","Jogadores",1,2,3,"R","NºJ","Jogadores",1,2,3,"R",null,null,"1/4 Final",null,null,null,null,null,null,"1/2 Final",null,null,null,null,null,null,"Final",null,null,null,null,null,null,null,null,null,null,null,null,null,null,null,null,null,null,null,null,"Colocar Equipas",null,null,null,null,null,null,null,null,"Ordenar p/ Pts 1",null,"Ordenar p/ Pts 2",null,"Ordenar p/ Pts 3",null,null,"Ordenar p/ DG 1",null,null,"Ordenar p/ DG 2",null,null,"Ordenar p/ DG 3",null,null,null,"Ordenar p/ GM 1",null,null,null,"Ordenar p/ GM 2",null,null,null,"Ordenar p/ GM 3",null,null,null,null,null,null,null,null,null,null,null,null,null,null,null,null,null,"Vencedores","Derrotados",null,null,{"$f":"IF(ISBLANK(DF6),COUNTA(DF7:$DG$19),0)","v":0},3,null,"Alexandre Malveiro","DPacheco","DP",2006,"Infantis B","M",null,"SH",null,null,"Alexandre Malveiro (DP)"]
[null,{"$f":"$A$4","v":"SH-InfB"},{"$f":"AY10","v":"Rui Bernardo (DP)"},10,1,null,{"$f":"IF(ISBLANK(D7),\"\",SUM(IF(D7>D8,1,0)+(IF(E7>E8,1,0)+(IF(F7>F8,1,0)))))","v":0},{"$f":"$A$4","v":"SH-InfB"},{"$f":"IF(I8=\"\",\"\",AY11)","v":"João Alexandre (DP)"},0,0,null,{"$f":"IF(ISBLANK(J7),\"\",SUM(IF(J7>J8,1,0)+(IF(K7>K8,1,0)+(IF(L7>L8,1,0)))))","v":0},1,null,"Jogo Nº",{"$f":"CONCATENATE($A$4,\" \",SUM($H$36+1))","v":"SH-InfB 25"},null,null,null,null,null,null,null,null,null,null,null,null,null,null,null,null,null,null,null,null,null,"Classificação Grupo A",null,null,null,null,null,null,null,null,null,"<9",">9","Grupo A",null,null,null,null,null,null,null,null,null,null,null,null,null,null,null,null,null,null,null,null,null,null,null,null,null,null,null,null,null,null,null,null,null,null,null,null,null,null,null,null,null,null,null,null,null,null,null,null,null,null,null,{"$f":"IF(G8<>\"\",IF(G8>G7,C8,IF(G7>G8,C7,\"Empate\")),\"\")","v":"Sandro Revez (DP)"},{"$f":"IF(G8<>\"\",IF(G8<G7,C8,IF(G7<G8,C7,\"Empate\")),\"\")","v":"Rui Bernardo (DP)"},null,null,{"$f":"IF(ISBLANK(DF7),COUNTA(DF8:$DG$19),0)","v":0},4,null,"Afonso Brito","DPacheco","DP",2006,"Infantis B","M",null,"SH",null,null,"Afonso Brito (DP)"]
[null,1,{"$f":"AY9","v":"Sandro Revez (DP)"},11,11,null,{"$f":"IF(ISBLANK(D7),\"\",SUM(IF(D8>D7,1,0)+(IF(E8>E7,1,0)+(IF(F8>F7,1,0)))))","v":2},{"$f":"B8+1","v":2},{"$f":"AY12","v":"Tomás Guerreiro (DP)"},11,11,null,{"$f":"IF(ISBLANK(J7),\"\",SUM(IF(J8>J7,1,0)+(IF(K8>K7,1,0)+(IF(L8>L7,1,0)))))","v":2},16,1,{"$f":"IF($AY$53<11,VLOOKUP(O8,AX56:BA63,2,FALSE),IF($AY$53=11,VLOOKUP(O8,AX56:BA63,3,FALSE),VLOOKUP(O8,AX56:BA63,4,FALSE)))","v":"Sandro Revez (DP)"},9,9,null,{"$f":"IF(ISBLANK(Q8),\"\",SUM(IF(Q8>Q9,1,0)+(IF(R8>R9,1,0)+(IF(S8>S9,1,0)))))","v":2},null,null,null,null,null,null,null,null,null,null,null,null,null,null,null,null,null,"Cl",{"$f":"AY8","v":"Jogadores"},"Jg","V","E","D","PM","PS","DP","Pt.",null,null,null,"Jogadores","Jg","V","E","D","GM","GS","DG","Pts","Equipas","Pts","Equipas","Pts","Equipas","Pts","DG","Equipas","Pts","DG","Equipas","Pts","DG","Equipas","Pts","DG","GM","Equipas","Pts","DG","GM","Equipas","Pts","DG","GM","Equipas","Pts","DG","GM",null,null,null,"Equipas","Jg","V","D","E","GM","GS","DG","Pts",null,null,{"$f":"IF(M7<>\"\",IF(M7>M8,I7,IF(M8>M7,I8,\"Empate\")),\"\")","v":"Tomás Guerreiro (DP)"},{"$f":"IF(M7<>\"\",IF(M7<M8,I7,IF(M8<M7,I8,\"Empate\")),\"\")","v":"João Alexandre (DP)"},null,null,{"$f":"IF(ISBLANK(DF8),COUNTA(DF9:$DG$19),0)","v":0},5,null,"Valentim Boros","DPacheco","DP",2006,"Infantis B","M",null,"SH",null,null,"Valentim Boros (DP)"]
[null,{"$f":"$A$4","v":"SH-InfB"},{"$f":"AY9","v":"Sandro Revez (DP)"},11,11,null,{"$f":"IF(ISBLANK(D9),\"\",SUM(IF(D9>D10,1,0)+(IF(E9>E10,1,0)+(IF(F9>F10,1,0)))))","v":2},{"$f":"$A$4","v":"SH-InfB"},{"$f":"AY12","v":"Tomás Guerreiro (DP)"},7,11,9,{"$f":"IF(ISBLANK(J9),\"\",SUM(IF(J9>J10,1,0)+(IF(K9>K10,1,0)+(IF(L9>L10,1,0)))))","v":1},null,8,{"$f":"IF($AY$53<11,VLOOKUP(O9,AX56:BA63,2,FALSE),IF($AY$53=11,VLOOKUP(O9,AX56:BA63,3,FALSE),VLOOKUP(O9,AX56:BA63,4,FALSE)))","v":"Mário Delgado (ASA)"},5,5,null,{"$f":"IF(ISBLANK(Q8),\"\",SUM(IF(Q9>Q8,1,0)+(IF(R9>R8,1,0)+(IF(S9>S8,1,0)))))","v":0},null,null,null,null,null,null,null,null,null,null,null,null,null,null,null,null,null,{"$f":"IF(AM9=\"\",\"\",\"1º\")","v":"1º"},{"$f":"CN9","v":"Sandro Revez (DP)"},{"$f":"IF(AM9=\"\",\"\",CO9)","v":3},{"$f":"IF(AM9=\"\",\"\",CP9)","v":3},{"$f":"CQ9","v":0},{"$f":"IF(AM9=\"\",\"\",CR9)","v":0},{"$f":"IF(AM9=\"\",\"\",CS9)","v":72},{"$f":"IF(AM9=\"\",\"\",CT9)","v":34},{"$f":"IF(AM9=\"\",\"\",CU9)","v":38},{"$f":"IF(AM9=\"\",\"\",CV9)","v":6},{"$f":"IF($CZ$1<=11,AW9,AX9)","v":1},1,1,{"$f":"IF(AY39=\"\",BA39,AY39)","v":"Sandro Revez (DP)"},{"$f":"COUNT(G8,G9,M12)","v":3},{"$f":"COUNTIF(CY7:CY12,AY9)","v":3},{"$f":"AZ9-(BA9+BC9)","v":0},{"$f":"COUNTIF(CZ7:CZ12,AY9)","v":0},{"$f":"SUM(D8:F8,D9:F9,J12:L12)","v":72},{"$f":"SUM(D7:F7,D10:F10,J11:L11)","v":34},{"$f":"BD9-BE9","v":38},{"$f":"IF(AZ9=0,0,BA9*2+BC9*1)","v":6},{"$f":"IF(BG9>=BG10,AY9,AY10)","v":"Sandro Revez (DP)"},{"$f":"VLOOKUP(BH9,AY9:BG12,9,FALSE)","v":6},{"$f":"IF(BI9>=BI11,BH9,BH11)","v":"Sandro Revez (DP)"},{"$f":"VLOOKUP(BJ9,AY9:BG12,9,FALSE)","v":6},{"$f":"IF(BK9>=BK12,BJ9,BJ12)","v":"Sandro Revez (DP)"},{"$f":"VLOOKUP(BL9,AY9:BG12,9,FALSE)","v":6},{"$f":"VLOOKUP(BL9,AY9:BG12,8,FALSE)","v":38},{"$f":"IF(AND(BM9=BM10,BN10>BN9),BL10,BL9)","v":"Sandro Revez (DP)"},{"$f":"VLOOKUP(BO9,AY9:BG12,9,FALSE)","v":6},{"$f":"VLOOKUP(BO9,AY9:BG12,8,FALSE)","v":38},{"$f":"IF(AND(BP9=BP11,BQ11>BQ9),BO11,BO9)","v":"Sandro Revez (DP)"},{"$f":"VLOOKUP(BR9,AY9:BG12,9,FALSE)","v":6},{"$f":"VLOOKUP(BR9,AY9:BG12,8,FALSE)","v":38},{"$f":"IF(AND(BS9=BS12,BT12>BT9),BR12,BR9)","v":"Sandro Revez (DP)"},{"$f":"VLOOKUP(BU9,AY9:BG12,9,FALSE)","v":6},{"$f":"VLOOKUP(BU9,AY9:BG12,8,FALSE)","v":38},{"$f":"VLOOKUP(BU9,AY9:BG12,6,FALSE)","v":72},{"$f":"IF(AND(BV9=BV10,BW9=BW10,BX10>BX9),BU10,BU9)","v":"Sandro Revez (DP)"},{"$f":"VLOOKUP(BY9,AY9:BG12,9,FALSE)","v":6},{"$f":"VLOOKUP(BY9,AY9:BG12,8,FALSE)","v":38},{"$f":"VLOOKUP(BY9,AY9:BG12,6,FALSE)","v":72},{"$f":"IF(AND(BZ9=BZ11,CA9=CA11,CB11>CB9),BY11,BY9)","v":"Sandro Revez (DP)"},{"$f":"VLOOKUP(CC9,AY9:BG12,9,FALSE)","v":6},{"$f":"VLOOKUP(CC9,AY9:BG12,8,FALSE)","v":38},{"$f":"VLOOKUP(CC9,AY9:BG12,6,FALSE)","v":72},{"$f":"IF(AND(CD9=CD12,CE9=CE12,CF12>CF9),CC12,CC9)","v":"Sandro Revez (DP)"},{"$f":"VLOOKUP(CG9,AY9:BG12,9,FALSE)","v":6},{"$f":"VLOOKUP(CG9,AY9:BG12,8,FALSE)","v":38},{"$f":"VLOOKUP(CG9,AY9:BG12,6,FALSE)","v":72},null,null,null,{"$f":"CG9","v":"Sandro Revez (DP)"},{"$f":"VLOOKUP(CN9,AY9:BG12,2,FALSE)","v":3},{"$f":"VLOOKUP(CN9,AY9:BG12,3,FALSE)","v":3},{"$f":"VLOOKUP(CN9,AY9:BG12,4,FALSE)","v":0},{"$f":"VLOOKUP(CN9,AY9:BG12,5,FALSE)","v":0},{"$f":"VLOOKUP(CN9,AY9:BG12,6,FALSE)","v":72},{"$f":"VLOOKUP(CN9,AY9:BG12,7,FALSE)","v":34},{"$f":"VLOOKUP(CN9,AY9:BG12,8,FALSE)","v":38},{"$f":"VLOOKUP(CN9,AY9:BG12,9,FALSE)","v":6},null,null,{"$f":"IF(G9<>\"\",IF(G9>G10,C9,IF(G10>G9,C10,\"Empate\")),\"\")","v":"Sandro Revez (DP)"},{"$f":"IF(G9<>\"\",IF(G9<G10,C9,IF(G10<G9,C10,\"Empate\")),\"\")","v":"João Alexandre (DP)"},null,null,{"$f":"IF(ISBLANK(DF9),COUNTA(DF10:$DG$19),0)","v":0},6,null,"Pedro Trindade","DPacheco","DP",2006,"Infantis A","M",null,"SH",null,null,"Pedro Trindade (DP)"]
[null,{"$f":"H32+1","v":9},{"$f":"AY11","v":"João Alexandre (DP)"},0,0,null,{"$f":"IF(ISBLANK(D9),\"\",SUM(IF(D10>D9,1,0)+(IF(E10>E9,1,0)+(IF(F10>F9,1,0)))))","v":0},{"$f":"B10+1","v":10},{"$f":"IF(I9=\"\",\"\",AY10)","v":"Rui Bernardo (DP)"},11,8,11,{"$f":"IF(ISBLANK(J9),\"\",SUM(IF(J10>J9,1,0)+(IF(K10>K9,1,0)+(IF(L10>L9,1,0)))))","v":2},9,null,null,null,null,null,null,null,null,"Jogo Nº",{"$f":"CONCATENATE($A$4,\" \",SUM($H$36+5))","v":"SH-InfB 29"},null,null,null,null,null,null,null,null,null,null,null,null,null,{"$f":"IF(AM10=\"\",\"\",\"2º\")","v":"2º"},{"$f":"CN10","v":"Rui Bernardo (DP)"},{"$f":"IF(AM10=\"\",\"\",CO10)","v":3},{"$f":"IF(AM10=\"\",\"\",CP10)","v":2},{"$f":"CQ10","v":0},{"$f":"IF(AM10=\"\",\"\",CR10)","v":1},{"$f":"IF(AM10=\"\",\"\",CS10)","v":63},{"$f":"IF(AM10=\"\",\"\",CT10)","v":49},{"$f":"IF(AM10=\"\",\"\",CU10)","v":14},{"$f":"IF(AM10=\"\",\"\",CV10)","v":5},{"$f":"IF($CZ$1<=11,AW10,AX10)","v":8},4,8,{"$f":"IF(AY42=\"\",BA46,AY42)","v":"Rui Bernardo (DP)"},{"$f":"COUNT(G7,M10,G12)","v":3},{"$f":"COUNTIF(CY7:CY12,AY10)","v":2},{"$f":"AZ10-(BA10+BC10)","v":0},{"$f":"COUNTIF(CZ7:CZ12,AY10)","v":1},{"$f":"SUM(D7:F7,J10:L10,D12:F12)","v":63},{"$f":"SUM(D8:F8,J9:L9,D11:F11)","v":49},{"$f":"BD10-BE10","v":14},{"$f":"IF(AZ10=0,0,BA10*2+BC10*1)","v":5},{"$f":"IF(BG10<=BG9,AY10,AY9)","v":"Rui Bernardo (DP)"},{"$f":"VLOOKUP(BH10,AY9:BG12,9,FALSE)","v":5},{"$f":"IF(BI10>=BI12,BH10,BH12)","v":"Rui Bernardo (DP)"},{"$f":"VLOOKUP(BJ10,AY9:BG12,9,FALSE)","v":5},{"$f":"IF(BK10>=BK11,BJ10,BJ11)","v":"Rui Bernardo (DP)"},{"$f":"VLOOKUP(BL10,AY9:BG12,9,FALSE)","v":5},{"$f":"VLOOKUP(BL10,AY9:BG12,8,FALSE)","v":14},{"$f":"IF(AND(BM9=BM10,BN10>BN9),BL9,BL10)","v":"Rui Bernardo (DP)"},{"$f":"VLOOKUP(BO10,AY9:BG12,9,FALSE)","v":5},{"$f":"VLOOKUP(BO10,AY9:BG12,8,FALSE)","v":14},{"$f":"IF(AND(BP10=BP12,BQ12>BQ10),BO12,BO10)","v":"Rui Bernardo (DP)"},{"$f":"VLOOKUP(BR10,AY9:BG12,9,FALSE)","v":5},{"$f":"VLOOKUP(BR10,AY9:BG12,8,FALSE)","v":14},{"$f":"IF(AND(BS10=BS11,BT11>BT10),BR11,BR10)","v":"Rui Bernardo (DP)"},{"$f":"VLOOKUP(BU10,AY9:BG12,9,FALSE)","v":5},{"$f":"VLOOKUP(BU10,AY9:BG12,8,FALSE)","v":14},{"$f":"VLOOKUP(BU10,AY9:BG12,6,FALSE)","v":63},{"$f":"IF(AND(BV9=BV10,BW9=BW10,BX10>BX9),BU9,BU10)","v":"Rui Bernardo (DP)"},{"$f":"VLOOKUP(BY10,AY9:BG12,9,FALSE)","v":5},{"$f":"VLOOKUP(BY10,AY9:BG12,8,FALSE)","v":14},{"$f":"VLOOKUP(BY10,AY9:BG12,6,FALSE)","v":63},{"$f":"IF(AND(BZ10=BZ12,CA10=CA12,CB12>CB10),BY12,BY10)","v":"Rui Bernardo (DP)"},{"$f":"VLOOKUP(CC10,AY9:BG12,9,FALSE)","v":5},{"$f":"VLOOKUP(CC10,AY9:BG12,8,FALSE)","v":14},{"$f":"VLOOKUP(CC10,AY9:BG12,6,FALSE)","v":63},{"$f":"IF(AND(CD10=CD11,CE10=CE11,CF11>CF10),CC11,CC10)","v":"Rui Bernardo (DP)"},{"$f":"VLOOKUP(CG10,AY9:BG12,9,FALSE)","v":5},{"$f":"VLOOKUP(CG10,AY9:BG12,8,FALSE)","v":14},{"$f":"VLOOKUP(CG10,AY9:BG12,6,FALSE)","v":63},null,null,null,{"$f":"CG10","v":"Rui Bernardo (DP)"},{"$f":"VLOOKUP(CN10,AY9:BG12,2,FALSE)","v":3},{"$f":"VLOOKUP(CN10,AY9:BG12,3,FALSE)","v":2},{"$f":"VLOOKUP(CN10,AY9:BG12,4,FALSE)","v":0},{"$f":"VLOOKUP(CN10,AY9:BG12,5,FALSE)","v":1},{"$f":"VLOOKUP(CN10,AY9:BG12,6,FALSE)","v":63},{"$f":"VLOOKUP(CN10,AY9:BG12,7,FALSE)","v":49},{"$f":"VLOOKUP(CN10,AY9:BG12,8,FALSE)","v":14},{"$f":"VLOOKUP(CN10,AY9:BG12,9,FALSE)","v":5},null,null,{"$f":"IF(M9<>\"\",IF(M9>M10,I9,IF(M10>M9,I10,\"Empate\")),\"\")","v":"Rui Bernardo (DP)"},{"$f":"IF(M9<>\"\",IF(M9<M10,I9,IF(M10<M9,I10,\"Empate\")),\"\")","v":"Tomás Guerreiro (DP)"},null,null,{"$f":"IF(ISBLANK(DF10),COUNTA(DF11:$DG$19),0)","v":0},7,null,"Guilherme Ponte","DPacheco","DP",2006,"Infantis B","M",null,"SH",null,null,"Guilherme Ponte (DP)"]
[null,{"$f":"$A$4","v":"SH-InfB"},{"$f":"AY11","v":"João Alexandre (DP)"},0,0,null,{"$f":"IF(ISBLANK(D11),\"\",SUM(IF(D11>D12,1,0)+(IF(E11>E12,1,0)+(IF(F11>F12,1,0)))))","v":0},{"$f":"$A$4","v":"SH-InfB"},{"$f":"AY12","v":"Tomás Guerreiro (DP)"},6,11,6,{"$f":"IF(ISBLANK(J11),\"\",SUM(IF(J11>J12,1,0)+(IF(K11>K12,1,0)+(IF(L11>L12,1,0)))))","v":1},8,null,null,null,null,null,null,null,null,{"$f":"IF(T8=T9,\"\",IF(T8>T9,P8,P9))","v":"Sandro Revez (DP)"},4,3,null,{"$f":"IF(ISBLANK(X11),\"\",SUM(IF(X11>X12,1,0)+(IF(Y11>Y12,1,0)+(IF(Z11>Z12,1,0)))))","v":0},null,null,null,null,null,null,null,null,null,null,{"$f":"IF(AM11=\"\",\"\",\"3º\")","v":"3º"},{"$f":"CN11","v":"Tomás Guerreiro (DP)"},{"$f":"IF(AM11=\"\",\"\",CO11)","v":3},{"$f":"IF(AM11=\"\",\"\",CP11)","v":1},{"$f":"CQ11","v":0},{"$f":"IF(AM11=\"\",\"\",CR11)","v":2},{"$f":"IF(AM11=\"\",\"\",CS11)","v":72},{"$f":"IF(AM11=\"\",\"\",CT11)","v":58},{"$f":"IF(AM11=\"\",\"\",CU11)","v":14},{"$f":"IF(AM11=\"\",\"\",CV11)","v":4},{"$f":"IF($CZ$1<=11,AW11,AX11)","v":9},7,9,{"$f":"IF(AY45=\"\",BA47,AY45)","v":"João Alexandre (DP)"},{"$f":"COUNT(M7,G10,G11)","v":3},{"$f":"COUNTIF(CY7:CY12,AY11)","v":0},{"$f":"AZ11-(BA11+BC11)","v":0},{"$f":"COUNTIF(CZ7:CZ12,AY11)","v":3},{"$f":"SUM(J7:L7,D10:F10,D11:F11)","v":0},{"$f":"SUM(J8:L8,D9:F9,D12:F12)","v":66},{"$f":"BD11-BE11","v":-66},{"$f":"IF(AZ11=0,0,BA11*2+BC11*1)","v":3},{"$f":"IF(BG11>=BG12,AY11,AY12)","v":"Tomás Guerreiro (DP)"},{"$f":"VLOOKUP(BH11,AY9:BG12,9,FALSE)","v":4},{"$f":"IF(BI11<=BI9,BH11,BH9)","v":"Tomás Guerreiro (DP)"},{"$f":"VLOOKUP(BJ11,AY9:BG12,9,FALSE)","v":4},{"$f":"IF(BK11<=BK10,BJ11,BJ10)","v":"Tomás Guerreiro (DP)"},{"$f":"VLOOKUP(BL11,AY9:BG12,9,FALSE)","v":4},{"$f":"VLOOKUP(BL11,AY9:BG12,8,FALSE)","v":14},{"$f":"IF(AND(BM11=BM12,BN12>BN11),BL12,BL11)","v":"Tomás Guerreiro (DP)"},{"$f":"VLOOKUP(BO11,AY9:BG12,9,FALSE)","v":4},{"$f":"VLOOKUP(BO11,AY9:BG12,8,FALSE)","v":14},{"$f":"IF(AND(BP9=BP11,BQ11>BQ9),BO9,BO11)","v":"Tomás Guerreiro (DP)"},{"$f":"VLOOKUP(BR11,AY9:BG12,9,FALSE)","v":4},{"$f":"VLOOKUP(BR11,AY9:BG12,8,FALSE)","v":14},{"$f":"IF(AND(BS10=BS11,BT11>BT10),BR10,BR11)","v":"Tomás Guerreiro (DP)"},{"$f":"VLOOKUP(BU11,AY9:BG12,9,FALSE)","v":4},{"$f":"VLOOKUP(BU11,AY9:BG12,8,FALSE)","v":14},{"$f":"VLOOKUP(BU11,AY9:BG12,6,FALSE)","v":72},{"$f":"IF(AND(BV11=BV12,BW11=BW12,BX12>BX11),BU12,BU11)","v":"Tomás Guerreiro (DP)"},{"$f":"VLOOKUP(BY11,AY9:BG12,9,FALSE)","v":4},{"$f":"VLOOKUP(BY11,AY9:BG12,8,FALSE)","v":14},{"$f":"VLOOKUP(BY11,AY9:BG12,6,FALSE)","v":72},{"$f":"IF(AND(BZ9=BZ11,CA9=CA11,CB10>CB9),BY9,BY11)","v":"Tomás Guerreiro (DP)"},{"$f":"VLOOKUP(CC11,AY9:BG12,9,FALSE)","v":4},{"$f":"VLOOKUP(CC11,AY9:BG12,8,FALSE)","v":14},{"$f":"VLOOKUP(CC11,AY9:BG12,6,FALSE)","v":72},{"$f":"IF(AND(CD10=CD11,CE10=CE11,CF11>CF10),CC10,CC11)","v":"Tomás Guerreiro (DP)"},{"$f":"VLOOKUP(CG11,AY9:BG12,9,FALSE)","v":4},{"$f":"VLOOKUP(CG11,AY9:BG12,8,FALSE)","v":14},{"$f":"VLOOKUP(CG11,AY9:BG12,6,FALSE)","v":72},null,null,null,{"$f":"CG11","v":"Tomás Guerreiro (DP)"},{"$f":"VLOOKUP(CN11,AY9:BG12,2,FALSE)","v":3},{"$f":"VLOOKUP(CN11,AY9:BG12,3,FALSE)","v":1},{"$f":"VLOOKUP(CN11,AY9:BG12,4,FALSE)","v":0},{"$f":"VLOOKUP(CN11,AY9:BG12,5,FALSE)","v":2},{"$f":"VLOOKUP(CN11,AY9:BG12,6,FALSE)","v":72},{"$f":"VLOOKUP(CN11,AY9:BG12,7,FALSE)","v":58},{"$f":"VLOOKUP(CN11,AY9:BG12,8,FALSE)","v":14},{"$f":"VLOOKUP(CN11,AY9:BG12,9,FALSE)","v":4},null,null,{"$f":"IF(M11<>\"\",IF(M11>M12,I11,IF(M12>M11,I12,\"Empate\")),\"\")","v":"Sandro Revez (DP)"},{"$f":"IF(M11<>\"\",IF(M11<M12,I11,IF(M12<M11,I12,\"Empate\")),\"\")","v":"Tomás Guerreiro (DP)"},null,null,{"$f":"IF(ISBLANK(DF11),COUNTA(DF12:$DG$19),0)","v":0},8,null,"Rui Bernardo","DPacheco","DP",2005,"Infantis B","M",null,"SH",null,null,"Rui Bernardo (DP)"]
[null,{"$f":"H34+1","v":17},{"$f":"AY10","v":"Rui Bernardo (DP)"},11,11,null,{"$f":"IF(ISBLANK(D11),\"\",SUM(IF(D12>D11,1,0)+(IF(E12>E11,1,0)+(IF(F12>F11,1,0)))))","v":2},{"$f":"B12+1","v":18},{"$f":"IF(I11=\"\",\"\",AY9)","v":"Sandro Revez (DP)"},11,6,11,{"$f":"IF(ISBLANK(J11),\"\",SUM(IF(J12>J11,1,0)+(IF(K12>K11,1,0)+(IF(L12>L11,1,0)))))","v":2},null,null,null,null,null,null,null,null,null,{"$f":"IF(T14=T15,\"\",IF(T14>T15,P14,P15))","v":"António Correia (ASA)"},9,9,null,{"$f":"IF(ISBLANK(X11),\"\",SUM(IF(X12>X11,1,0)+(IF(Y12>Y11,1,0)+(IF(Z12>Z11,1,0)))))","v":2},null,null,null,null,null,null,null,null,null,null,{"$f":"IF(AM12=\"\",\"\",\"4º\")","v":"4º"},{"$f":"CN12","v":"João Alexandre (DP)"},{"$f":"IF(AM12=\"\",\"\",CO12)","v":3},{"$f":"IF(AM12=\"\",\"\",CP12)","v":0},{"$f":"CQ12","v":0},{"$f":"IF(AM12=\"\",\"\",CR12)","v":3},{"$f":"IF(AM12=\"\",\"\",CS12)","v":0},{"$f":"IF(AM12=\"\",\"\",CT12)","v":66},{"$f":"IF(AM12=\"\",\"\",CU12)","v":-66},{"$f":"IF(AM12=\"\",\"\",CV12)","v":3},{"$f":"IF($CZ$1<=11,AW12,AX12)","v":16},{"$f":"IF(AM12=\"\",\"\",10)","v":10},{"$f":"IF(AM12=\"\",\"\",16)","v":16},{"$f":"IF(AY48=\"\",BA54,AY48)","v":"Tomás Guerreiro (DP)"},{"$f":"COUNT(M8,M9,M11)","v":3},{"$f":"COUNTIF(CY7:CY12,AY12)","v":1},{"$f":"AZ12-(BA12+BC12)","v":0},{"$f":"COUNTIF(CZ7:CZ12,AY12)","v":2},{"$f":"SUM(J8:L8,J9:L9,J11:L11)","v":72},{"$f":"SUM(J7:L7,J10:L10,J12:L12)","v":58},{"$f":"BD12-BE12","v":14},{"$f":"IF(AZ12=0,0,BA12*2+BC12*1)","v":4},{"$f":"IF(BG12<=BG11,AY12,AY11)","v":"João Alexandre (DP)"},{"$f":"VLOOKUP(BH12,AY9:BG12,9,FALSE)","v":3},{"$f":"IF(BI12<=BI10,BH12,BH10)","v":"João Alexandre (DP)"},{"$f":"VLOOKUP(BJ12,AY9:BG12,9,FALSE)","v":3},{"$f":"IF(BK12<=BK9,BJ12,BJ9)","v":"João Alexandre (DP)"},{"$f":"VLOOKUP(BL12,AY9:BG12,9,FALSE)","v":3},{"$f":"VLOOKUP(BL12,AY9:BG12,8,FALSE)","v":-66},{"$f":"IF(AND(BM11=BM12,BN12>BN11),BL11,BL12)","v":"João Alexandre (DP)"},{"$f":"VLOOKUP(BO12,AY9:BG12,9,FALSE)","v":3},{"$f":"VLOOKUP(BO12,AY9:BG12,8,FALSE)","v":-66},{"$f":"IF(AND(BP10=BP12,BQ12>BQ10),BO10,BO12)","v":"João Alexandre (DP)"},{"$f":"VLOOKUP(BR12,AY9:BG12,9,FALSE)","v":3},{"$f":"VLOOKUP(BR12,AY9:BG12,8,FALSE)","v":-66},{"$f":"IF(AND(BS9=BS12,BT12>BT9),BR9,BR12)","v":"João Alexandre (DP)"},{"$f":"VLOOKUP(BU12,AY9:BG12,9,FALSE)","v":3},{"$f":"VLOOKUP(BU12,AY9:BG12,8,FALSE)","v":-66},{"$f":"VLOOKUP(BU12,AY9:BG12,6,FALSE)","v":0},{"$f":"IF(AND(BV11=BV12,BW11=BW12,BX12>BX11),BU11,BU12)","v":"João Alexandre (DP)"},{"$f":"VLOOKUP(BY12,AY9:BG12,9,FALSE)","v":3},{"$f":"VLOOKUP(BY12,AY9:BG12,8,FALSE)","v":-66},{"$f":"VLOOKUP(BY12,AY9:BG12,6,FALSE)","v":0},{"$f":"IF(AND(BZ10=BZ12,CA10=CA12,CB12>CB10),BY10,BY12)","v":"João Alexandre (DP)"},{"$f":"VLOOKUP(CC12,AY9:BG12,9,FALSE)","v":3},{"$f":"VLOOKUP(CC12,AY9:BG12,8,FALSE)","v":-66},{"$f":"VLOOKUP(CC12,AY9:BG12,6,FALSE)","v":0},{"$f":"IF(AND(CD9=CD12,CE9=CE12,CF12>CF9),CC9,CC12)","v":"João Alexandre (DP)"},{"$f":"VLOOKUP(CG12,AY9:BG12,9,FALSE)","v":3},{"$f":"VLOOKUP(CG12,AY9:BG12,8,FALSE)","v":-66},{"$f":"VLOOKUP(CG12,AY9:BG12,6,FALSE)","v":0},null,null,null,{"$f":"CG12","v":"João Alexandre (DP)"},{"$f":"VLOOKUP(CN12,AY9:BG12,2,FALSE)","v":3},{"$f":"VLOOKUP(CN12,AY9:BG12,3,FALSE)","v":0},{"$f":"VLOOKUP(CN12,AY9:BG12,4,FALSE)","v":0},{"$f":"VLOOKUP(CN12,AY9:BG12,5,FALSE)","v":3},{"$f":"VLOOKUP(CN12,AY9:BG12,6,FALSE)","v":0},{"$f":"VLOOKUP(CN12,AY9:BG12,7,FALSE)","v":66},{"$f":"VLOOKUP(CN12,AY9:BG12,8,FALSE)","v":-66},{"$f":"VLOOKUP(CN12,AY9:BG12,9,FALSE)","v":3},null,null,{"$f":"IF(G12<>\"\",IF(G12>G11,C12,IF(G11>G12,C11,\"Empate\")),\"\")","v":"Rui Bernardo (DP)"},{"$f":"IF(G12<>\"\",IF(G12<G11,C12,IF(G11<G12,C11,\"Empate\")),\"\")","v":"João Alexandre (DP)"},null,null,{"$f":"IF(ISBLANK(DF12),COUNTA(DF13:$DG$19),0)","v":0},9,null,"João Alexandre","DPacheco","DP",2005,"Infantis B","M",null,"SH",null,null,"João Alexandre (DP)"]
[null,null,null,null,null,null,null,null,null,null,null,null,null,5,null,"Jogo Nº",{"$f":"CONCATENATE($A$4,\" \",SUM($H$36+2))","v":"SH-InfB 26"},null,null,null,null,null,null,null,null,null,null,null,null,null,null,null,null,null,null,null,null,null,null,null,null,null,null,null,null,null,null,null,null,null,null,null,null,null,null,null,null,null,null,null,null,null,null,null,null,null,null,null,null,null,null,null,null,null,null,null,null,null,null,null,null,null,null,null,null,null,null,null,null,null,null,null,null,null,null,null,null,null,null,null,null,null,null,null,null,null,{"$f":"IF(ISBLANK(DF13),COUNTA(DF14:$DG$19),0)","v":0},10,null,"Mário Delgado","ASAgostinho","ASA",2006,"Infantis B","M",null,"SH",null,null,"Mário Delgado (ASA)"]
["Grupo B","NºJ","Jogadores",1,2,3,"R","NºJ","Jogadores",1,2,3,"R",12,5,{"$f":"IF($AY$53<11,VLOOKUP(O14,AX56:BA63,2,FALSE),IF($AY$53=11,VLOOKUP(O14,AX56:BA63,3,FALSE),VLOOKUP(O14,AX56:BA63,4,FALSE)))","v":"Gustavo Estevão (ASA)"},4,3,null,{"$f":"IF(ISBLANK(Q14),\"\",SUM(IF(Q14>Q15,1,0)+(IF(R14>R15,1,0)+(IF(S14>S15,1,0)))))","v":0},null,null,null,null,null,null,null,null,null,null,null,null,null,null,null,null,null,null,"Classificação Grupo B",null,null,null,null,null,null,null,null,null,null,null,"Colocar Equipas",null,null,null,null,null,null,null,null,"Ordenar p/ Pts 1",null,"Ordenar p/ Pts 2",null,"Ordenar p/ Pts 3",null,null,"Ordenar p/ DG 1",null,null,"Ordenar p/ DG 2",null,null,"Ordenar p/ DG 3",null,null,null,"Ordenar p/ GM 1",null,null,null,"Ordenar p/ GM 2",null,null,null,"Ordenar p/ GM 3",null,null,null,null,null,null,null,null,null,null,null,null,null,null,null,null,null,"Vencedores","Derrotados",null,null,{"$f":"IF(ISBLANK(DF14),COUNTA(DF15:$DG$19),0)","v":0},11,null,"Pedro Dionísio","ASAgostinho","ASA",2006,"Infantis B","M",null,"SH",null,null,"Pedro Dionísio (ASA)"]
[null,{"$f":"$A$4","v":"SH-InfB"},{"$f":"AY18","v":"Valentim Boros (DP)"},11,11,null,{"$f":"IF(ISBLANK(D15),\"\",SUM(IF(D15>D16,1,0)+(IF(E15>E16,1,0)+(IF(F15>F16,1,0)))))","v":2},{"$f":"$A$4","v":"SH-InfB"},{"$f":"IF(I16=\"\",\"\",AY19)","v":"António Correia (ASA)"},11,11,null,{"$f":"IF(ISBLANK(J15),\"\",SUM(IF(J15>J16,1,0)+(IF(K15>K16,1,0)+(IF(L15>L16,1,0)))))","v":2},null,4,{"$f":"IF($AY$53<11,VLOOKUP(O15,AX56:BA63,2,FALSE),IF($AY$53=11,VLOOKUP(O15,AX56:BA63,3,FALSE),VLOOKUP(O15,AX56:BA63,4,FALSE)))","v":"António Correia (ASA)"},9,9,null,{"$f":"IF(ISBLANK(Q14),\"\",SUM(IF(Q15>Q14,1,0)+(IF(R15>R14,1,0)+(IF(S15>S14,1,0)))))","v":2},null,null,null,null,null,null,null,null,null,null,null,null,null,null,null,null,null,"Cl",{"$f":"AY16","v":"Jogadores"},"Jg","V","E","D","PM","PS","DP","Pt.",null,null,null,"Grupo B",null,null,null,null,null,null,null,null,null,null,null,null,null,null,null,null,null,null,null,null,null,null,null,null,null,null,null,null,null,null,null,null,null,null,null,null,null,null,null,null,null,null,null,null,null,null,null,null,null,null,null,{"$f":"IF(G16<>\"\",IF(G16>G15,C16,IF(G15>G16,C15,\"Empate\")),\"\")","v":"Valentim Boros (DP)"},{"$f":"IF(G16<>\"\",IF(G16<G15,C16,IF(G15<G16,C15,\"Empate\")),\"\")","v":"Afonso Brito (DP)"},null,null,{"$f":"IF(ISBLANK(DF15),COUNTA(DF16:$DG$19),0)","v":0},12,null,"António Correia","ASAgostinho","ASA",2006,"Infantis B","M",null,"SH",null,null,"António Correia (ASA)"]
[null,{"$f":"H8+1","v":3},{"$f":"AY17","v":"Afonso Brito (DP)"},3,6,null,{"$f":"IF(ISBLANK(D15),\"\",SUM(IF(D16>D15,1,0)+(IF(E16>E15,1,0)+(IF(F16>F15,1,0)))))","v":0},{"$f":"B16+1","v":4},{"$f":"AY20","v":"Jayden Fortes (ASA)"},5,4,null,{"$f":"IF(ISBLANK(J15),\"\",SUM(IF(J16>J15,1,0)+(IF(K16>K15,1,0)+(IF(L16>L15,1,0)))))","v":0},13,null,null,null,null,null,null,null,null,null,null,null,null,null,null,null,"Jogo Nº",{"$f":"CONCATENATE($A$4,\" \",SUM($H$36+7))","v":"SH-InfB 31"},null,null,null,null,null,null,{"$f":"IF(AM16=\"\",\"\",\"1º\")","v":"1º"},{"$f":"CN17","v":"António Correia (ASA)"},{"$f":"IF(AM16=\"\",\"\",CO17)","v":3},{"$f":"IF(AM16=\"\",\"\",CP17)","v":3},{"$f":"CQ17","v":0},{"$f":"IF(AM16=\"\",\"\",CR17)","v":0},{"$f":"IF(AM16=\"\",\"\",CS17)","v":66},{"$f":"IF(AM16=\"\",\"\",CT17)","v":24},{"$f":"IF(AM16=\"\",\"\",CU17)","v":42},{"$f":"IF(AM16=\"\",\"\",CV17)","v":6},{"$f":"IF($CZ$1<=11,AW16,AX16)","v":4},2,4,"Jogadores","Jg","V","E","D","GM","GS","DG","Pts","Equipas","Pts","Equipas","Pts","Equipas","Pts","DG","Equipas","Pts","DG","Equipas","Pts","DG","Equipas","Pts","DG","GM","Equipas","Pts","DG","GM","Equipas","Pts","DG","GM","Equipas","Pts","DG","GM",null,null,null,"Equipas","Jg","V","D","E","GM","GS","DG","Pts",null,null,{"$f":"IF(M15<>\"\",IF(M15>M16,I15,IF(M16>M15,I16,\"Empate\")),\"\")","v":"António Correia (ASA)"},{"$f":"IF(M15<>\"\",IF(M15<M16,I15,IF(M16<M15,I16,\"Empate\")),\"\")","v":"Jayden Fortes (ASA)"},null,null,{"$f":"IF(ISBLANK(DF16),COUNTA(DF17:$DG$19),0)","v":0},13,null,"Jayden Fortes","ASAgostinho","ASA",2005,"Infantis B","M",null,"SH",null,null,"Jayden Fortes (ASA)"]
[null,{"$f":"$A$4","v":"SH-InfB"},{"$f":"AY17","v":"Afonso Brito (DP)"},4,3,null,{"$f":"IF(ISBLANK(D17),\"\",SUM(IF(D17>D18,1,0)+(IF(E17>E18,1,0)+(IF(F17>F18,1,0)))))","v":0},{"$f":"$A$4","v":"SH-InfB"},{"$f":"AY20","v":"Jayden Fortes (ASA)"},11,11,null,{"$f":"IF(ISBLANK(J17),\"\",SUM(IF(J17>J18,1,0)+(IF(K17>K18,1,0)+(IF(L17>L18,1,0)))))","v":2},4,null,null,null,null,null,null,null,null,{"$f":"IF(AA11=AA12,\"\",IF(AA11<AA12,W11,W12))","v":"Sandro Revez (DP)"},8,9,5,{"$f":"IF(ISBLANK(X17),\"\",SUM(IF(X17>X18,1,0)+(IF(Y17>Y18,1,0)+(IF(Z17>Z18,1,0)))))","v":1},null,null,{"$f":"IF(AA11=AA12,\"\",IF(AA11>AA12,W11,W12))","v":"António Correia (ASA)"},9,9,null,{"$f":"IF(ISBLANK(AE17),\"\",SUM(IF(AE17>AE18,1,0)+(IF(AF17>AF18,1,0)+(IF(AG17>AG18,1,0)))))","v":2},null,null,null,{"$f":"IF(AM17=\"\",\"\",\"2º\")","v":"2º"},{"$f":"CN18","v":"Jayden Fortes (ASA)"},{"$f":"IF(AM17=\"\",\"\",CO18)","v":3},{"$f":"IF(AM17=\"\",\"\",CP18)","v":2},{"$f":"CQ18","v":0},{"$f":"IF(AM17=\"\",\"\",CR18)","v":1},{"$f":"IF(AM17=\"\",\"\",CS18)","v":53},{"$f":"IF(AM17=\"\",\"\",CT18)","v":50},{"$f":"IF(AM17=\"\",\"\",CU18)","v":3},{"$f":"IF(AM17=\"\",\"\",CV18)","v":5},{"$f":"IF($CZ$1<=11,AW17,AX17)","v":5},5,5,{"$f":"IF(AY40=\"\",BA42,AY40)","v":"Afonso Brito (DP)"},{"$f":"COUNT(G16,G17,M20)","v":3},{"$f":"COUNTIF(CY15:CY20,AY17)","v":0},{"$f":"AZ17-(BA17+BC17)","v":0},{"$f":"COUNTIF(CZ15:CZ20,AY17)","v":3},{"$f":"SUM(D16:F16,D17:F17,J20:L20)","v":32},{"$f":"SUM(D15:F15,D18:F18,J19:L19)","v":66},{"$f":"BD17-BE17","v":-34},{"$f":"IF(AZ17=0,0,BA17*2+BC17*1)","v":3},{"$f":"IF(BG17>=BG18,AY17,AY18)","v":"Valentim Boros (DP)"},{"$f":"VLOOKUP(BH17,AY17:BG20,9,FALSE)","v":4},{"$f":"IF(BI17>=BI19,BH17,BH19)","v":"António Correia (ASA)"},{"$f":"VLOOKUP(BJ17,AY17:BG20,9,FALSE)","v":6},{"$f":"IF(BK17>=BK20,BJ17,BJ20)","v":"António Correia (ASA)"},{"$f":"VLOOKUP(BL17,AY17:BG20,9,FALSE)","v":6},{"$f":"VLOOKUP(BL17,AY17:BG20,8,FALSE)","v":42},{"$f":"IF(AND(BM17=BM18,BN18>BN17),BL18,BL17)","v":"António Correia (ASA)"},{"$f":"VLOOKUP(BO17,AY17:BG20,9,FALSE)","v":6},{"$f":"VLOOKUP(BO17,AY17:BG20,8,FALSE)","v":42},{"$f":"IF(AND(BP17=BP19,BQ19>BQ17),BO19,BO17)","v":"António Correia (ASA)"},{"$f":"VLOOKUP(BR17,AY17:BG20,9,FALSE)","v":6},{"$f":"VLOOKUP(BR17,AY17:BG20,8,FALSE)","v":42},{"$f":"IF(AND(BS17=BS20,BT20>BT17),BR20,BR17)","v":"António Correia (ASA)"},{"$f":"VLOOKUP(BU17,AY17:BG20,9,FALSE)","v":6},{"$f":"VLOOKUP(BU17,AY17:BG20,8,FALSE)","v":42},{"$f":"VLOOKUP(BU17,AY17:BG20,6,FALSE)","v":66},{"$f":"IF(AND(BV17=BV18,BW17=BW18,BX18>BX17),BU18,BU17)","v":"António Correia (ASA)"},{"$f":"VLOOKUP(BY17,AY17:BG20,9,FALSE)","v":6},{"$f":"VLOOKUP(BY17,AY17:BG20,8,FALSE)","v":42},{"$f":"VLOOKUP(BY17,AY17:BG20,6,FALSE)","v":66},{"$f":"IF(AND(BZ17=BZ19,CA17=CA19,CB19>CB17),BY19,BY17)","v":"António Correia (ASA)"},{"$f":"VLOOKUP(CC17,AY17:BG20,9,FALSE)","v":6},{"$f":"VLOOKUP(CC17,AY17:BG20,8,FALSE)","v":42},{"$f":"VLOOKUP(CC17,AY17:BG20,6,FALSE)","v":66},{"$f":"IF(AND(CD17=CD20,CE17=CE20,CF20>CF17),CC20,CC17)","v":"António Correia (ASA)"},{"$f":"VLOOKUP(CG17,AY17:BG20,9,FALSE)","v":6},{"$f":"VLOOKUP(CG17,AY17:BG20,8,FALSE)","v":42},{"$f":"VLOOKUP(CG17,AY17:BG20,6,FALSE)","v":66},null,null,null,{"$f":"CG17","v":"António Correia (ASA)"},{"$f":"VLOOKUP(CN17,AY17:BG20,2,FALSE)","v":3},{"$f":"VLOOKUP(CN17,AY17:BG20,3,FALSE)","v":3},{"$f":"VLOOKUP(CN17,AY17:BG20,4,FALSE)","v":0},{"$f":"VLOOKUP(CN17,AY17:BG20,5,FALSE)","v":0},{"$f":"VLOOKUP(CN17,AY17:BG20,6,FALSE)","v":66},{"$f":"VLOOKUP(CN17,AY17:BG20,7,FALSE)","v":24},{"$f":"VLOOKUP(CN17,AY17:BG20,8,FALSE)","v":42},{"$f":"VLOOKUP(CN17,AY17:BG20,9,FALSE)","v":6},null,null,{"$f":"IF(G17<>\"\",IF(G17>G18,C17,IF(G18>G17,C18,\"Empate\")),\"\")","v":"António Correia (ASA)"},{"$f":"IF(G17<>\"\",IF(G17<G18,C17,IF(G18<G17,C18,\"Empate\")),\"\")","v":"Afonso Brito (DP)"},null,null,{"$f":"IF(ISBLANK(DF17),COUNTA(DF18:$DG$19),0)","v":0},14,null,"Gustavo Estevão","ASAgostinho","ASA",2005,"Infantis B","M",null,"SH",null,null,"Gustavo Estevão (ASA)"]
[null,{"$f":"H10+1","v":11},{"$f":"AY19","v":"António Correia (ASA)"},11,11,null,{"$f":"IF(ISBLANK(D17),\"\",SUM(IF(D18>D17,1,0)+(IF(E18>E17,1,0)+(IF(F18>F17,1,0)))))","v":2},{"$f":"B18+1","v":12},{"$f":"IF(I17=\"\",\"\",AY18)","v":"Valentim Boros (DP)"},6,6,null,{"$f":"IF(ISBLANK(J17),\"\",SUM(IF(J18>J17,1,0)+(IF(K18>K17,1,0)+(IF(L18>L17,1,0)))))","v":0},null,null,null,null,null,null,null,null,null,{"$f":"IF(AA24=AA25,\"\",IF(AA24<AA25,W24,W25))","v":"Alexandre Malveiro (DP)"},9,8,9,{"$f":"IF(ISBLANK(X17),\"\",SUM(IF(X18>X17,1,0)+(IF(Y18>Y17,1,0)+(IF(Z18>Z17,1,0)))))","v":2},null,null,{"$f":"IF(AA24=AA25,\"\",IF(AA24>AA25,W24,W25))","v":"Francisco Carvalho (DP)"},6,7,null,{"$f":"IF(ISBLANK(AE17),\"\",SUM(IF(AE18>AE17,1,0)+(IF(AF18>AF17,1,0)+(IF(AG18>AG17,1,0)))))","v":0},null,null,null,{"$f":"IF(AM18=\"\",\"\",\"3º\")","v":"3º"},{"$f":"CN19","v":"Valentim Boros (DP)"},{"$f":"IF(AM18=\"\",\"\",CO19)","v":3},{"$f":"IF(AM18=\"\",\"\",CP19)","v":1},{"$f":"CQ19","v":0},{"$f":"IF(AM18=\"\",\"\",CR19)","v":2},{"$f":"IF(AM18=\"\",\"\",CS19)","v":42},{"$f":"IF(AM18=\"\",\"\",CT19)","v":53},{"$f":"IF(AM18=\"\",\"\",CU19)","v":-11},{"$f":"IF(AM18=\"\",\"\",CV19)","v":4},{"$f":"IF($CZ$1<=11,AW18,AX18)","v":12},8,12,{"$f":"IF(AY43=\"\",BA43,AY43)","v":"Valentim Boros (DP)"},{"$f":"COUNT(G15,M18,G20)","v":3},{"$f":"COUNTIF(CY15:CY20,AY18)","v":1},{"$f":"AZ18-(BA18+BC18)","v":0},{"$f":"COUNTIF(CZ15:CZ20,AY18)","v":2},{"$f":"SUM(D15:F15,J18:L18,D20:F20)","v":42},{"$f":"SUM(D16:F16,J17:L17,D19:F19)","v":53},{"$f":"BD18-BE18","v":-11},{"$f":"IF(AZ18=0,0,BA18*2+BC18*1)","v":4},{"$f":"IF(BG18<=BG17,AY18,AY17)","v":"Afonso Brito (DP)"},{"$f":"VLOOKUP(BH18,AY17:BG20,9,FALSE)","v":3},{"$f":"IF(BI18>=BI20,BH18,BH20)","v":"Jayden Fortes (ASA)"},{"$f":"VLOOKUP(BJ18,AY17:BG20,9,FALSE)","v":5},{"$f":"IF(BK18>=BK19,BJ18,BJ19)","v":"Jayden Fortes (ASA)"},{"$f":"VLOOKUP(BL18,AY17:BG20,9,FALSE)","v":5},{"$f":"VLOOKUP(BL18,AY17:BG20,8,FALSE)","v":3},{"$f":"IF(AND(BM17=BM18,BN18>BN17),BL17,BL18)","v":"Jayden Fortes (ASA)"},{"$f":"VLOOKUP(BO18,AY17:BG20,9,FALSE)","v":5},{"$f":"VLOOKUP(BO18,AY17:BG20,8,FALSE)","v":3},{"$f":"IF(AND(BP18=BP20,BQ20>BQ18),BO20,BO18)","v":"Jayden Fortes (ASA)"},{"$f":"VLOOKUP(BR18,AY17:BG20,9,FALSE)","v":5},{"$f":"VLOOKUP(BR18,AY17:BG20,8,FALSE)","v":3},{"$f":"IF(AND(BS18=BS19,BT19>BT18),BR19,BR18)","v":"Jayden Fortes (ASA)"},{"$f":"VLOOKUP(BU18,AY17:BG20,9,FALSE)","v":5},{"$f":"VLOOKUP(BU18,AY17:BG20,8,FALSE)","v":3},{"$f":"VLOOKUP(BU18,AY17:BG20,6,FALSE)","v":53},{"$f":"IF(AND(BV17=BV18,BW17=BW18,BX18>BX17),BU17,BU18)","v":"Jayden Fortes (ASA)"},{"$f":"VLOOKUP(BY18,AY17:BG20,9,FALSE)","v":5},{"$f":"VLOOKUP(BY18,AY17:BG20,8,FALSE)","v":3},{"$f":"VLOOKUP(BY18,AY17:BG20,6,FALSE)","v":53},{"$f":"IF(AND(BZ18=BZ20,CA18=CA20,CB20>CB18),BY20,BY18)","v":"Jayden Fortes (ASA)"},{"$f":"VLOOKUP(CC18,AY17:BG20,9,FALSE)","v":5},{"$f":"VLOOKUP(CC18,AY17:BG20,8,FALSE)","v":3},{"$f":"VLOOKUP(CC18,AY17:BG20,6,FALSE)","v":53},{"$f":"IF(AND(CD18=CD19,CE18=CE19,CF19>CF18),CC19,CC18)","v":"Jayden Fortes (ASA)"},{"$f":"VLOOKUP(CG18,AY17:BG20,9,FALSE)","v":5},{"$f":"VLOOKUP(CG18,AY17:BG20,8,FALSE)","v":3},{"$f":"VLOOKUP(CG18,AY17:BG20,6,FALSE)","v":53},null,null,null,{"$f":"CG18","v":"Jayden Fortes (ASA)"},{"$f":"VLOOKUP(CN18,AY17:BG20,2,FALSE)","v":3},{"$f":"VLOOKUP(CN18,AY17:BG20,3,FALSE)","v":2},{"$f":"VLOOKUP(CN18,AY17:BG20,4,FALSE)","v":0},{"$f":"VLOOKUP(CN18,AY17:BG20,5,FALSE)","v":1},{"$f":"VLOOKUP(CN18,AY17:BG20,6,FALSE)","v":53},{"$f":"VLOOKUP(CN18,AY17:BG20,7,FALSE)","v":50},{"$f":"VLOOKUP(CN18,AY17:BG20,8,FALSE)","v":3},{"$f":"VLOOKUP(CN18,AY17:BG20,9,FALSE)","v":5},null,null,{"$f":"IF(M17<>\"\",IF(M17>M18,I17,IF(M18>M17,I18,\"Empate\")),\"\")","v":"Jayden Fortes (ASA)"},{"$f":"IF(M17<>\"\",IF(M17<M18,I17,IF(M18<M17,I18,\"Empate\")),\"\")","v":"Valentim Boros (DP)"},null,null,{"$f":"IF(ISBLANK(DF18),COUNTA(DF19:$DG$19),0)","v":0},15,null,"Diogo Esteves","ASAgostinho","ASA",2005,"Infantis B","M",null,"SH",null,null,"Diogo Esteves (ASA)"]
[null,{"$f":"$A$4","v":"SH-InfB"},{"$f":"AY19","v":"António Correia (ASA)"},11,11,null,{"$f":"IF(ISBLANK(D19),\"\",SUM(IF(D19>D20,1,0)+(IF(E19>E20,1,0)+(IF(F19>F20,1,0)))))","v":2},{"$f":"$A$4","v":"SH-InfB"},{"$f":"AY20","v":"Jayden Fortes (ASA)"},11,11,null,{"$f":"IF(ISBLANK(J19),\"\",SUM(IF(J19>J20,1,0)+(IF(K19>K20,1,0)+(IF(L19>L20,1,0)))))","v":2},3,null,null,null,null,null,null,null,null,"3º/4º",null,null,null,null,null,null,null,null,null,null,null,null,null,null,{"$f":"IF(AM19=\"\",\"\",\"4º\")","v":"4º"},{"$f":"CN20","v":"Afonso Brito (DP)"},{"$f":"IF(AM19=\"\",\"\",CO20)","v":3},{"$f":"IF(AM19=\"\",\"\",CP20)","v":0},{"$f":"CQ20","v":0},{"$f":"IF(AM19=\"\",\"\",CR20)","v":3},{"$f":"IF(AM19=\"\",\"\",CS20)","v":32},{"$f":"IF(AM19=\"\",\"\",CT20)","v":66},{"$f":"IF(AM19=\"\",\"\",CU20)","v":-34},{"$f":"IF(AM19=\"\",\"\",CV20)","v":3},{"$f":"IF($CZ$1<=11,AW19,AX19)","v":13},{"$f":"IF(AM19=\"\",\"\",11)","v":11},{"$f":"IF(AM19=\"\",\"\",13)","v":13},{"$f":"IF(AY46=\"\",BA50,AY46)","v":"António Correia (ASA)"},{"$f":"COUNT(M15,G18,G19)","v":3},{"$f":"COUNTIF(CY15:CY20,AY19)","v":3},{"$f":"AZ19-(BA19+BC19)","v":0},{"$f":"COUNTIF(CZ15:CZ20,AY19)","v":0},{"$f":"SUM(J15:L15,D18:F18,D19:F19)","v":66},{"$f":"SUM(J16:L16,D17:F17,D20:F20)","v":24},{"$f":"BD19-BE19","v":42},{"$f":"IF(AZ19=0,0,BA19*2+BC19*1)","v":6},{"$f":"IF(BG19>=BG20,AY19,AY20)","v":"António Correia (ASA)"},{"$f":"VLOOKUP(BH19,AY17:BG20,9,FALSE)","v":6},{"$f":"IF(BI19<=BI17,BH19,BH17)","v":"Valentim Boros (DP)"},{"$f":"VLOOKUP(BJ19,AY17:BG20,9,FALSE)","v":4},{"$f":"IF(BK19<=BK18,BJ19,BJ18)","v":"Valentim Boros (DP)"},{"$f":"VLOOKUP(BL19,AY17:BG20,9,FALSE)","v":4},{"$f":"VLOOKUP(BL19,AY17:BG20,8,FALSE)","v":-11},{"$f":"IF(AND(BM19=BM20,BN20>BN19),BL20,BL19)","v":"Valentim Boros (DP)"},{"$f":"VLOOKUP(BO19,AY17:BG20,9,FALSE)","v":4},{"$f":"VLOOKUP(BO19,AY17:BG20,8,FALSE)","v":-11},{"$f":"IF(AND(BP17=BP19,BQ19>BQ17),BO17,BO19)","v":"Valentim Boros (DP)"},{"$f":"VLOOKUP(BR19,AY17:BG20,9,FALSE)","v":4},{"$f":"VLOOKUP(BR19,AY17:BG20,8,FALSE)","v":-11},{"$f":"IF(AND(BS18=BS19,BT19>BT18),BR18,BR19)","v":"Valentim Boros (DP)"},{"$f":"VLOOKUP(BU19,AY17:BG20,9,FALSE)","v":4},{"$f":"VLOOKUP(BU19,AY17:BG20,8,FALSE)","v":-11},{"$f":"VLOOKUP(BU19,AY17:BG20,6,FALSE)","v":42},{"$f":"IF(AND(BV19=BV20,BW19=BW20,BX20>BX19),BU20,BU19)","v":"Valentim Boros (DP)"},{"$f":"VLOOKUP(BY19,AY17:BG20,9,FALSE)","v":4},{"$f":"VLOOKUP(BY19,AY17:BG20,8,FALSE)","v":-11},{"$f":"VLOOKUP(BY19,AY17:BG20,6,FALSE)","v":42},{"$f":"IF(AND(BZ17=BZ19,CA17=CA19,CB18>CB17),BY17,BY19)","v":"Valentim Boros (DP)"},{"$f":"VLOOKUP(CC19,AY17:BG20,9,FALSE)","v":4},{"$f":"VLOOKUP(CC19,AY17:BG20,8,FALSE)","v":-11},{"$f":"VLOOKUP(CC19,AY17:BG20,6,FALSE)","v":42},{"$f":"IF(AND(CD18=CD19,CE18=CE19,CF19>CF18),CC18,CC19)","v":"Valentim Boros (DP)"},{"$f":"VLOOKUP(CG19,AY17:BG20,9,FALSE)","v":4},{"$f":"VLOOKUP(CG19,AY17:BG20,8,FALSE)","v":-11},{"$f":"VLOOKUP(CG19,AY17:BG20,6,FALSE)","v":42},null,null,null,{"$f":"CG19","v":"Valentim Boros (DP)"},{"$f":"VLOOKUP(CN19,AY17:BG20,2,FALSE)","v":3},{"$f":"VLOOKUP(CN19,AY17:BG20,3,FALSE)","v":1},{"$f":"VLOOKUP(CN19,AY17:BG20,4,FALSE)","v":0},{"$f":"VLOOKUP(CN19,AY17:BG20,5,FALSE)","v":2},{"$f":"VLOOKUP(CN19,AY17:BG20,6,FALSE)","v":42},{"$f":"VLOOKUP(CN19,AY17:BG20,7,FALSE)","v":53},{"$f":"VLOOKUP(CN19,AY17:BG20,8,FALSE)","v":-11},{"$f":"VLOOKUP(CN19,AY17:BG20,9,FALSE)","v":4},null,null,{"$f":"IF(M19<>\"\",IF(M19>M20,I19,IF(M20>M19,I20,\"Empate\")),\"\")","v":"Jayden Fortes (ASA)"},{"$f":"IF(M19<>\"\",IF(M19<M20,I19,IF(M20<M19,I20,\"Empate\")),\"\")","v":"Afonso Brito (DP)"},null,null,{"$f":"IF(ISBLANK(DF19),COUNTA(DF$19:$DG20),0)","v":0},16,null,"Tomás Guerreiro","DPacheco","DP",2007,"Infantis A","M","Cass.Independente","SH",null,null,"Tomás Guerreiro (DP)"]
[null,{"$f":"H12+1","v":19},{"$f":"AY18","v":"Valentim Boros (DP)"},5,3,null,{"$f":"IF(ISBLANK(D19),\"\",SUM(IF(D20>D19,1,0)+(IF(E20>E19,1,0)+(IF(F20>F19,1,0)))))","v":0},{"$f":"B20+1","v":20},{"$f":"IF(I19=\"\",\"\",AY17)","v":"Afonso Brito (DP)"},10,6,null,{"$f":"IF(ISBLANK(J19),\"\",SUM(IF(J20>J19,1,0)+(IF(K20>K19,1,0)+(IF(L20>L19,1,0)))))","v":0},14,null,"Jogo Nº",{"$f":"CONCATENATE($A$4,\" \",SUM($H$36+3))","v":"SH-InfB 27"},null,null,null,null,null,{"$f":"IF(AA17=AA18,\"\",IF(AA17>AA18,W17,W18))","v":"Alexandre Malveiro (DP)"},null,null,null,null,null,null,null,null,null,null,null,null,null,null,null,null,null,null,null,null,null,null,null,null,null,null,null,{"$f":"IF(AY49=\"\",BA51,AY49)","v":"Jayden Fortes (ASA)"},{"$f":"COUNT(M16,M17,M19)","v":3},{"$f":"COUNTIF(CY15:CY20,AY20)","v":2},{"$f":"AZ20-(BA20+BC20)","v":0},{"$f":"COUNTIF(CZ15:CZ20,AY20)","v":1},{"$f":"SUM(J16:L16,J17:L17,J19:L19)","v":53},{"$f":"SUM(J15:L15,J18:L18,J20:L20)","v":50},{"$f":"BD20-BE20","v":3},{"$f":"IF(AZ20=0,0,BA20*2+BC20*1)","v":5},{"$f":"IF(BG20<=BG19,AY20,AY19)","v":"Jayden Fortes (ASA)"},{"$f":"VLOOKUP(BH20,AY17:BG20,9,FALSE)","v":5},{"$f":"IF(BI20<=BI18,BH20,BH18)","v":"Afonso Brito (DP)"},{"$f":"VLOOKUP(BJ20,AY17:BG20,9,FALSE)","v":3},{"$f":"IF(BK20<=BK17,BJ20,BJ17)","v":"Afonso Brito (DP)"},{"$f":"VLOOKUP(BL20,AY17:BG20,9,FALSE)","v":3},{"$f":"VLOOKUP(BL20,AY17:BG20,8,FALSE)","v":-34},{"$f":"IF(AND(BM19=BM20,BN20>BN19),BL19,BL20)","v":"Afonso Brito (DP)"},{"$f":"VLOOKUP(BO20,AY17:BG20,9,FALSE)","v":3},{"$f":"VLOOKUP(BO20,AY17:BG20,8,FALSE)","v":-34},{"$f":"IF(AND(BP18=BP20,BQ20>BQ18),BO18,BO20)","v":"Afonso Brito (DP)"},{"$f":"VLOOKUP(BR20,AY17:BG20,9,FALSE)","v":3},{"$f":"VLOOKUP(BR20,AY17:BG20,8,FALSE)","v":-34},{"$f":"IF(AND(BS17=BS20,BT20>BT17),BR17,BR20)","v":"Afonso Brito (DP)"},{"$f":"VLOOKUP(BU20,AY17:BG20,9,FALSE)","v":3},{"$f":"VLOOKUP(BU20,AY17:BG20,8,FALSE)","v":-34},{"$f":"VLOOKUP(BU20,AY17:BG20,6,FALSE)","v":32},{"$f":"IF(AND(BV19=BV20,BW19=BW20,BX20>BX19),BU19,BU20)","v":"Afonso Brito (DP)"},{"$f":"VLOOKUP(BY20,AY17:BG20,9,FALSE)","v":3},{"$f":"VLOOKUP(BY20,AY17:BG20,8,FALSE)","v":-34},{"$f":"VLOOKUP(BY20,AY17:BG20,6,FALSE)","v":32},{"$f":"IF(AND(BZ18=BZ20,CA18=CA20,CB20>CB18),BY18,BY20)","v":"Afonso Brito (DP)"},{"$f":"VLOOKUP(CC20,AY17:BG20,9,FALSE)","v":3},{"$f":"VLOOKUP(CC20,AY17:BG20,8,FALSE)","v":-34},{"$f":"VLOOKUP(CC20,AY17:BG20,6,FALSE)","v":32},{"$f":"IF(AND(CD17=CD20,CE17=CE20,CF20>CF17),CC17,CC20)","v":"Afonso Brito (DP)"},{"$f":"VLOOKUP(CG20,AY17:BG20,9,FALSE)","v":3},{"$f":"VLOOKUP(CG20,AY17:BG20,8,FALSE)","v":-34},{"$f":"VLOOKUP(CG20,AY17:BG20,6,FALSE)","v":32},null,null,null,{"$f":"CG20","v":"Afonso Brito (DP)"},{"$f":"VLOOKUP(CN20,AY17:BG20,2,FALSE)","v":3},{"$f":"VLOOKUP(CN20,AY17:BG20,3,FALSE)","v":0},{"$f":"VLOOKUP(CN20,AY17:BG20,4,FALSE)","v":0},{"$f":"VLOOKUP(CN20,AY17:BG20,5,FALSE)","v":3},{"$f":"VLOOKUP(CN20,AY17:BG20,6,FALSE)","v":32},{"$f":"VLOOKUP(CN20,AY17:BG20,7,FALSE)","v":66},{"$f":"VLOOKUP(CN20,AY17:BG20,8,FALSE)","v":-34},{"$f":"VLOOKUP(CN20,AY17:BG20,9,FALSE)","v":3},null,null,{"$f":"IF(G20<>\"\",IF(G20>G19,C20,IF(G19>G20,C19,\"Empate\")),\"\")","v":"António Correia (ASA)"},{"$f":"IF(G20<>\"\",IF(G20<G19,C20,IF(G19<G20,C19,\"Empate\")),\"\")","v":"Valentim Boros (DP)"}]
[null,null,null,null,null,null,null,null,null,null,null,null,null,null,3,{"$f":"IF($AY$53<11,VLOOKUP(O21,AX56:BA63,2,FALSE),IF($AY$53=11,VLOOKUP(O21,AX56:BA63,3,FALSE),VLOOKUP(O21,AX56:BA63,4,FALSE)))","v":"Alexandre Malveiro (DP)"},9,8,9,{"$f":"IF(ISBLANK(Q21),\"\",SUM(IF(Q21>Q22,1,0)+(IF(R21>R22,1,0)+(IF(S21>S22,1,0)))))","v":2},null,null,null,null,null,null,null,null,null,null,null,null,null,null,null,null,null,null,"Classificação Grupo C",null,null,null,null,null,null,null,null,null,null,null,null,null,null,null,null,null,null,null,null,null,null,null,null,null,null,null,null,null,null,null,null,null,null,null,null,null,null,null,null,null,null,null,null,null,null,null,null,null,null,null,null,null,null,null,null,null,null,null,null,null,null,null,null,null,null,null,null,null,"Se pretender efectuar altrerações apague, e volte a introduzir os jogadores que pretender nos espaços disponíveis."]
["Grupo C","NºJ","Jogadores",1,2,3,"R","NºJ","Jogadores",1,2,3,"R",11,6,{"$f":"IF($AY$53<11,VLOOKUP(O22,AX56:BA63,2,FALSE),IF($AY$53=11,VLOOKUP(O22,AX56:BA63,3,FALSE),VLOOKUP(O22,AX56:BA63,4,FALSE)))","v":"Jayden Fortes (ASA)"},7,9,5,{"$f":"IF(ISBLANK(Q21),\"\",SUM(IF(Q22>Q21,1,0)+(IF(R22>R21,1,0)+(IF(S22>S21,1,0)))))","v":1},null,null,null,null,null,null,null,null,null,null,null,null,null,null,null,null,null,"Cl",{"$f":"AY24","v":"Jogadores"},"Jg","V","E","D","PM","PS","DP","Pt.",null,null,null,"Colocar Equipas",null,null,null,null,null,null,null,null,"Ordenar p/ Pts 1",null,"Ordenar p/ Pts 2",null,"Ordenar p/ Pts 3",null,null,"Ordenar p/ DG 1",null,null,"Ordenar p/ DG 2",null,null,"Ordenar p/ DG 3",null,null,null,"Ordenar p/ GM 1",null,null,null,"Ordenar p/ GM 2",null,null,null,"Ordenar p/ GM 3",null,null,null,null,null,null,null,null,null,null,null,null,null,null,null,null,null,"Vencedores","Derrotados"]
[null,{"$f":"$A$4","v":"SH-InfB"},{"$f":"AY26","v":"Pedro Trindade (DP)"},1,4,null,{"$f":"IF(ISBLANK(D23),\"\",SUM(IF(D23>D24,1,0)+(IF(E23>E24,1,0)+(IF(F23>F24,1,0)))))","v":0},{"$f":"$A$4","v":"SH-InfB"},{"$f":"IF(I24=\"\",\"\",AY27)","v":"Pedro Dionísio (ASA)"},2,9,null,{"$f":"IF(ISBLANK(J23),\"\",SUM(IF(J23>J24,1,0)+(IF(K23>K24,1,0)+(IF(L23>L24,1,0)))))","v":0},6,null,null,null,null,null,null,null,null,"Jogo Nº",{"$f":"CONCATENATE($A$4,\" \",SUM($H$36+6))","v":"SH-InfB 30"},null,null,null,null,null,null,null,null,null,null,null,null,null,{"$f":"IF(AM23=\"\",\"\",\"1º\")","v":"1º"},{"$f":"CN25","v":"Alexandre Malveiro (DP)"},{"$f":"IF(AM23=\"\",\"\",CO25)","v":3},{"$f":"IF(AM23=\"\",\"\",CP25)","v":3},{"$f":"CQ25","v":0},{"$f":"IF(AM23=\"\",\"\",CR25)","v":0},{"$f":"IF(AM23=\"\",\"\",CS25)","v":66},{"$f":"IF(AM23=\"\",\"\",CT25)","v":32},{"$f":"IF(AM23=\"\",\"\",CU25)","v":34},{"$f":"IF(AM23=\"\",\"\",CV25)","v":6},{"$f":"IF($CZ$1<=11,AW23,AX23)","v":3},3,3,"Grupo C",null,null,null,null,null,null,null,null,null,null,null,null,null,null,null,null,null,null,null,null,null,null,null,null,null,null,null,null,null,null,null,null,null,null,null,null,null,null,null,null,null,null,null,null,null,null,null,null,null,null,null,{"$f":"IF(G24<>\"\",IF(G24>G23,C24,IF(G23>G24,C23,\"Empate\")),\"\")","v":"Alexandre Malveiro (DP)"},{"$f":"IF(G24<>\"\",IF(G24<G23,C24,IF(G23<G24,C23,\"Empate\")),\"\")","v":"Pedro Trindade (DP)"}]
[null,{"$f":"H16+1","v":5},{"$f":"AY25","v":"Alexandre Malveiro (DP)"},11,11,null,{"$f":"IF(ISBLANK(D23),\"\",SUM(IF(D24>D23,1,0)+(IF(E24>E23,1,0)+(IF(F24>F23,1,0)))))","v":2},{"$f":"B24+1","v":6},{"$f":"AY28","v":"Gustavo Estevão (ASA)"},11,11,null,{"$f":"IF(ISBLANK(J23),\"\",SUM(IF(J24>J23,1,0)+(IF(K24>K23,1,0)+(IF(L24>L23,1,0)))))","v":2},null,null,null,null,null,null,null,null,null,{"$f":"IF(T21=T22,\"\",IF(T21>T22,P21,P22))","v":"Alexandre Malveiro (DP)"},9,8,7,{"$f":"IF(ISBLANK(X24),\"\",SUM(IF(X24>X25,1,0)+(IF(Y24>Y25,1,0)+(IF(Z24>Z25,1,0)))))","v":1},null,null,null,null,null,null,null,null,null,null,{"$f":"IF(AM24=\"\",\"\",\"2º\")","v":"2º"},{"$f":"CN26","v":"Gustavo Estevão (ASA)"},{"$f":"IF(AM24=\"\",\"\",CO26)","v":3},{"$f":"IF(AM24=\"\",\"\",CP26)","v":2},{"$f":"CQ26","v":0},{"$f":"IF(AM24=\"\",\"\",CR26)","v":1},{"$f":"IF(AM24=\"\",\"\",CS26)","v":58},{"$f":"IF(AM24=\"\",\"\",CT26)","v":36},{"$f":"IF(AM24=\"\",\"\",CU26)","v":22},{"$f":"IF(AM24=\"\",\"\",CV26)","v":5},{"$f":"IF($CZ$1<=11,AW24,AX24)","v":6},6,6,"Jogadores","Jg","V","E","D","GM","GS","DG","Pts","Equipas","Pts","Equipas","Pts","Equipas","Pts","DG","Equipas","Pts","DG","Equipas","Pts","DG","Equipas","Pts","DG","GM","Equipas","Pts","DG","GM","Equipas","Pts","DG","GM","Equipas","Pts","DG","GM",null,null,null,"Equipas","Jg","V","D","E","GM","GS","DG","Pts",null,null,{"$f":"IF(M23<>\"\",IF(M23>M24,I23,IF(M24>M23,I24,\"Empate\")),\"\")","v":"Gustavo Estevão (ASA)"},{"$f":"IF(M23<>\"\",IF(M23<M24,I23,IF(M24<M23,I24,\"Empate\")),\"\")","v":"Pedro Dionísio (ASA)"},null,null,null,null,"Para efectuar alterações à de colocações nos grupos dos jogadores, altere a coluna \"ORDEM\" dando uma nova ordem de nºs e depois clique em Ordenar."]
[null,{"$f":"$A$4","v":"SH-InfB"},{"$f":"AY25","v":"Alexandre Malveiro (DP)"},11,11,null,{"$f":"IF(ISBLANK(D25),\"\",SUM(IF(D25>D26,1,0)+(IF(E25>E26,1,0)+(IF(F25>F26,1,0)))))","v":2},{"$f":"$A$4","v":"SH-InfB"},{"$f":"AY28","v":"Gustavo Estevão (ASA)"},11,11,null,{"$f":"IF(ISBLANK(J25),\"\",SUM(IF(J25>J26,1,0)+(IF(K25>K26,1,0)+(IF(L25>L26,1,0)))))","v":2},7,null,null,null,null,null,null,null,null,{"$f":"IF(T27=T28,\"\",IF(T27>T28,P27,P28))","v":"Francisco Carvalho (DP)"},8,9,9,{"$f":"IF(ISBLANK(X24),\"\",SUM(IF(X25>X24,1,0)+(IF(Y25>Y24,1,0)+(IF(Z25>Z24,1,0)))))","v":2},null,null,null,null,null,null,null,null,null,null,{"$f":"IF(AM25=\"\",\"\",\"3º\")","v":"3º"},{"$f":"CN27","v":"Pedro Dionísio (ASA)"},{"$f":"IF(AM25=\"\",\"\",CO27)","v":3},{"$f":"IF(AM25=\"\",\"\",CP27)","v":1},{"$f":"CQ27","v":0},{"$f":"IF(AM25=\"\",\"\",CR27)","v":2},{"$f":"IF(AM25=\"\",\"\",CS27)","v":46},{"$f":"IF(AM25=\"\",\"\",CT27)","v":54},{"$f":"IF(AM25=\"\",\"\",CU27)","v":-8},{"$f":"IF(AM25=\"\",\"\",CV27)","v":4},{"$f":"IF($CZ$1<=11,AW25,AX25)","v":11},9,11,{"$f":"IF(AY41=\"\",BA41,AY41)","v":"Alexandre Malveiro (DP)"},{"$f":"COUNT(G24,G25,M28)","v":3},{"$f":"COUNTIF(CY23:CY28,AY25)","v":3},{"$f":"AZ25-(BA25+BC25)","v":0},{"$f":"COUNTIF(CZ23:CZ28,AY25)","v":0},{"$f":"SUM(D24:F24,D25:F25,J28:L28)","v":66},{"$f":"SUM(D23:F23,D26:F26,J27:L27)","v":32},{"$f":"BD25-BE25","v":34},{"$f":"IF(AZ25=0,0,BA25*2+BC25*1)","v":6},{"$f":"IF(BG25>=BG26,AY25,AY26)","v":"Alexandre Malveiro (DP)"},{"$f":"VLOOKUP(BH25,AY25:BG28,9,FALSE)","v":6},{"$f":"IF(BI25>=BI27,BH25,BH27)","v":"Alexandre Malveiro (DP)"},{"$f":"VLOOKUP(BJ25,AY25:BG28,9,FALSE)","v":6},{"$f":"IF(BK25>=BK28,BJ25,BJ28)","v":"Alexandre Malveiro (DP)"},{"$f":"VLOOKUP(BL25,AY25:BG28,9,FALSE)","v":6},{"$f":"VLOOKUP(BL25,AY25:BG28,8,FALSE)","v":34},{"$f":"IF(AND(BM25=BM26,BN26>BN25),BL26,BL25)","v":"Alexandre Malveiro (DP)"},{"$f":"VLOOKUP(BO25,AY25:BG28,9,FALSE)","v":6},{"$f":"VLOOKUP(BO25,AY25:BG28,8,FALSE)","v":34},{"$f":"IF(AND(BP25=BP27,BQ27>BQ25),BO27,BO25)","v":"Alexandre Malveiro (DP)"},{"$f":"VLOOKUP(BR25,AY25:BG28,9,FALSE)","v":6},{"$f":"VLOOKUP(BR25,AY25:BG28,8,FALSE)","v":34},{"$f":"IF(AND(BS25=BS28,BT28>BT25),BR28,BR25)","v":"Alexandre Malveiro (DP)"},{"$f":"VLOOKUP(BU25,AY25:BG28,9,FALSE)","v":6},{"$f":"VLOOKUP(BU25,AY25:BG28,8,FALSE)","v":34},{"$f":"VLOOKUP(BU25,AY25:BG28,6,FALSE)","v":66},{"$f":"IF(AND(BV25=BV26,BW25=BW26,BX26>BX25),BU26,BU25)","v":"Alexandre Malveiro (DP)"},{"$f":"VLOOKUP(BY25,AY25:BG28,9,FALSE)","v":6},{"$f":"VLOOKUP(BY25,AY25:BG28,8,FALSE)","v":34},{"$f":"VLOOKUP(BY25,AY25:BG28,6,FALSE)","v":66},{"$f":"IF(AND(BZ25=BZ27,CA25=CA27,CB27>CB25),BY27,BY25)","v":"Alexandre Malveiro (DP)"},{"$f":"VLOOKUP(CC25,AY25:BG28,9,FALSE)","v":6},{"$f":"VLOOKUP(CC25,AY25:BG28,8,FALSE)","v":34},{"$f":"VLOOKUP(CC25,AY25:BG28,6,FALSE)","v":66},{"$f":"IF(AND(CD25=CD28,CE25=CE28,CF28>CF25),CC28,CC25)","v":"Alexandre Malveiro (DP)"},{"$f":"VLOOKUP(CG25,AY25:BG28,9,FALSE)","v":6},{"$f":"VLOOKUP(CG25,AY25:BG28,8,FALSE)","v":34},{"$f":"VLOOKUP(CG25,AY25:BG28,6,FALSE)","v":66},null,null,null,{"$f":"CG25","v":"Alexandre Malveiro (DP)"},{"$f":"VLOOKUP(CN25,AY25:BG28,2,FALSE)","v":3},{"$f":"VLOOKUP(CN25,AY25:BG28,3,FALSE)","v":3},{"$f":"VLOOKUP(CN25,AY25:BG28,4,FALSE)","v":0},{"$f":"VLOOKUP(CN25,AY25:BG28,5,FALSE)","v":0},{"$f":"VLOOKUP(CN25,AY25:BG28,6,FALSE)","v":66},{"$f":"VLOOKUP(CN25,AY25:BG28,7,FALSE)","v":32},{"$f":"VLOOKUP(CN25,AY25:BG28,8,FALSE)","v":34},{"$f":"VLOOKUP(CN25,AY25:BG28,9,FALSE)","v":6},null,null,{"$f":"IF(G25<>\"\",IF(G25>G26,C25,IF(G26>G25,C26,\"Empate\")),\"\")","v":"Alexandre Malveiro (DP)"},{"$f":"IF(G25<>\"\",IF(G25<G26,C25,IF(G26<G25,C26,\"Empate\")),\"\")","v":"Pedro Dionísio (ASA)"}]
[null,{"$f":"H18+1","v":13},{"$f":"AY27","v":"Pedro Dionísio (ASA)"},3,10,null,{"$f":"IF(ISBLANK(D25),\"\",SUM(IF(D26>D25,1,0)+(IF(E26>E25,1,0)+(IF(F26>F25,1,0)))))","v":0},{"$f":"B26+1","v":14},{"$f":"IF(I25=\"\",\"\",AY26)","v":"Pedro Trindade (DP)"},1,2,null,{"$f":"IF(ISBLANK(J25),\"\",SUM(IF(J26>J25,1,0)+(IF(K26>K25,1,0)+(IF(L26>L25,1,0)))))","v":0},10,null,"Jogo Nº",{"$f":"CONCATENATE($A$4,\" \",SUM($H$36+4))","v":"SH-InfB 28"},null,null,null,null,null,null,null,null,null,null,null,null,null,null,null,null,null,null,null,null,{"$f":"IF(AM26=\"\",\"\",\"4º\")","v":"4º"},{"$f":"CN28","v":"Pedro Trindade (DP)"},{"$f":"IF(AM26=\"\",\"\",CO28)","v":3},{"$f":"IF(AM26=\"\",\"\",CP28)","v":0},{"$f":"CQ28","v":0},{"$f":"IF(AM26=\"\",\"\",CR28)","v":3},{"$f":"IF(AM26=\"\",\"\",CS28)","v":18},{"$f":"IF(AM26=\"\",\"\",CT28)","v":66},{"$f":"IF(AM26=\"\",\"\",CU28)","v":-48},{"$f":"IF(AM26=\"\",\"\",CV28)","v":3},{"$f":"IF($CZ$1<=11,AW26,AX26)","v":14}," ",{"$f":"IF(AM26=\"\",\"\",14)","v":14},{"$f":"IF(AY44=\"\",BA44,AY44)","v":"Pedro Trindade (DP)"},{"$f":"COUNT(G23,M26,G28)","v":3},{"$f":"COUNTIF(CY23:CY28,AY26)","v":0},{"$f":"AZ26-(BA26+BC26)","v":0},{"$f":"COUNTIF(CZ23:CZ28,AY26)","v":3},{"$f":"SUM(D23:F23,J26:L26,D28:F28)","v":18},{"$f":"SUM(D24:F24,J25:L25,D27:F27)","v":66},{"$f":"BD26-BE26","v":-48},{"$f":"IF(AZ26=0,0,BA26*2+BC26*1)","v":3},{"$f":"IF(BG26<=BG25,AY26,AY25)","v":"Pedro Trindade (DP)"},{"$f":"VLOOKUP(BH26,AY25:BG28,9,FALSE)","v":3},{"$f":"IF(BI26>=BI28,BH26,BH28)","v":"Pedro Dionísio (ASA)"},{"$f":"VLOOKUP(BJ26,AY25:BG28,9,FALSE)","v":4},{"$f":"IF(BK26>=BK27,BJ26,BJ27)","v":"Gustavo Estevão (ASA)"},{"$f":"VLOOKUP(BL26,AY25:BG28,9,FALSE)","v":5},{"$f":"VLOOKUP(BL26,AY25:BG28,8,FALSE)","v":22},{"$f":"IF(AND(BM25=BM26,BN26>BN25),BL25,BL26)","v":"Gustavo Estevão (ASA)"},{"$f":"VLOOKUP(BO26,AY25:BG28,9,FALSE)","v":5},{"$f":"VLOOKUP(BO26,AY25:BG28,8,FALSE)","v":22},{"$f":"IF(AND(BP26=BP28,BQ28>BQ26),BO28,BO26)","v":"Gustavo Estevão (ASA)"},{"$f":"VLOOKUP(BR26,AY25:BG28,9,FALSE)","v":5},{"$f":"VLOOKUP(BR26,AY25:BG28,8,FALSE)","v":22},{"$f":"IF(AND(BS26=BS27,BT27>BT26),BR27,BR26)","v":"Gustavo Estevão (ASA)"},{"$f":"VLOOKUP(BU26,AY25:BG28,9,FALSE)","v":5},{"$f":"VLOOKUP(BU26,AY25:BG28,8,FALSE)","v":22},{"$f":"VLOOKUP(BU26,AY25:BG28,6,FALSE)","v":58},{"$f":"IF(AND(BV25=BV26,BW25=BW26,BX26>BX25),BU25,BU26)","v":"Gustavo Estevão (ASA)"},{"$f":"VLOOKUP(BY26,AY25:BG28,9,FALSE)","v":5},{"$f":"VLOOKUP(BY26,AY25:BG28,8,FALSE)","v":22},{"$f":"VLOOKUP(BY26,AY25:BG28,6,FALSE)","v":58},{"$f":"IF(AND(BZ26=BZ28,CA26=CA28,CB28>CB26),BY28,BY26)","v":"Gustavo Estevão (ASA)"},{"$f":"VLOOKUP(CC26,AY25:BG28,9,FALSE)","v":5},{"$f":"VLOOKUP(CC26,AY25:BG28,8,FALSE)","v":22},{"$f":"VLOOKUP(CC26,AY25:BG28,6,FALSE)","v":58},{"$f":"IF(AND(CD26=CD27,CE26=CE27,CF27>CF26),CC27,CC26)","v":"Gustavo Estevão (ASA)"},{"$f":"VLOOKUP(CG26,AY25:BG28,9,FALSE)","v":5},{"$f":"VLOOKUP(CG26,AY25:BG28,8,FALSE)","v":22},{"$f":"VLOOKUP(CG26,AY25:BG28,6,FALSE)","v":58},null,null,null,{"$f":"CG26","v":"Gustavo Estevão (ASA)"},{"$f":"VLOOKUP(CN26,AY25:BG28,2,FALSE)","v":3},{"$f":"VLOOKUP(CN26,AY25:BG28,3,FALSE)","v":2},{"$f":"VLOOKUP(CN26,AY25:BG28,4,FALSE)","v":0},{"$f":"VLOOKUP(CN26,AY25:BG28,5,FALSE)","v":1},{"$f":"VLOOKUP(CN26,AY25:BG28,6,FALSE)","v":58},{"$f":"VLOOKUP(CN26,AY25:BG28,7,FALSE)","v":36},{"$f":"VLOOKUP(CN26,AY25:BG28,8,FALSE)","v":22},{"$f":"VLOOKUP(CN26,AY25:BG28,9,FALSE)","v":5},null,null,{"$f":"IF(M25<>\"\",IF(M25>M26,I25,IF(M26>M25,I26,\"Empate\")),\"\")","v":"Gustavo Estevão (ASA)"},{"$f":"IF(M25<>\"\",IF(M25<M26,I25,IF(M26<M25,I26,\"Empate\")),\"\")","v":"Pedro Trindade (DP)"}]
[null,{"$f":"$A$4","v":"SH-InfB"},{"$f":"AY27","v":"Pedro Dionísio (ASA)"},11,11,null,{"$f":"IF(ISBLANK(D27),\"\",SUM(IF(D27>D28,1,0)+(IF(E27>E28,1,0)+(IF(F27>F28,1,0)))))","v":2},{"$f":"$A$4","v":"SH-InfB"},{"$f":"AY28","v":"Gustavo Estevão (ASA)"},4,10,null,{"$f":"IF(ISBLANK(J27),\"\",SUM(IF(J27>J28,1,0)+(IF(K27>K28,1,0)+(IF(L27>L28,1,0)))))","v":0},null,7,{"$f":"IF($AY$53<11,VLOOKUP(O27,AX56:BA63,2,FALSE),IF($AY$53=11,VLOOKUP(O27,AX56:BA63,3,FALSE),VLOOKUP(O27,AX56:BA63,4,FALSE)))","v":"Rui Bernardo (DP)"},7,4,null,{"$f":"IF(ISBLANK(Q27),\"\",SUM(IF(Q27>Q28,1,0)+(IF(R27>R28,1,0)+(IF(S27>S28,1,0)))))","v":0},null,null,null,null,null,null,null,null,null,null,null,null,null,null,null,null,null,null,null,null,null,null,null,null,null,null,null,null,null,null,{"$f":"IF(AY47=\"\",BA49,AY47)","v":"Pedro Dionísio (ASA)"},{"$f":"COUNT(M23,G26,G27)","v":3},{"$f":"COUNTIF(CY23:CY28,AY27)","v":1},{"$f":"AZ27-(BA27+BC27)","v":0},{"$f":"COUNTIF(CZ23:CZ28,AY27)","v":2},{"$f":"SUM(J23:L23,D26:F26,D27:F27)","v":46},{"$f":"SUM(J24:L24,D25:F25,D28:F28)","v":54},{"$f":"BD27-BE27","v":-8},{"$f":"IF(AZ27=0,0,BA27*2+BC27*1)","v":4},{"$f":"IF(BG27>=BG28,AY27,AY28)","v":"Gustavo Estevão (ASA)"},{"$f":"VLOOKUP(BH27,AY25:BG28,9,FALSE)","v":5},{"$f":"IF(BI27<=BI25,BH27,BH25)","v":"Gustavo Estevão (ASA)"},{"$f":"VLOOKUP(BJ27,AY25:BG28,9,FALSE)","v":5},{"$f":"IF(BK27<=BK26,BJ27,BJ26)","v":"Pedro Dionísio (ASA)"},{"$f":"VLOOKUP(BL27,AY25:BG28,9,FALSE)","v":4},{"$f":"VLOOKUP(BL27,AY25:BG28,8,FALSE)","v":-8},{"$f":"IF(AND(BM27=BM28,BN28>BN27),BL28,BL27)","v":"Pedro Dionísio (ASA)"},{"$f":"VLOOKUP(BO27,AY25:BG28,9,FALSE)","v":4},{"$f":"VLOOKUP(BO27,AY25:BG28,8,FALSE)","v":-8},{"$f":"IF(AND(BP25=BP27,BQ27>BQ25),BO25,BO27)","v":"Pedro Dionísio (ASA)"},{"$f":"VLOOKUP(BR27,AY25:BG28,9,FALSE)","v":4},{"$f":"VLOOKUP(BR27,AY25:BG28,8,FALSE)","v":-8},{"$f":"IF(AND(BS26=BS27,BT27>BT26),BR26,BR27)","v":"Pedro Dionísio (ASA)"},{"$f":"VLOOKUP(BU27,AY25:BG28,9,FALSE)","v":4},{"$f":"VLOOKUP(BU27,AY25:BG28,8,FALSE)","v":-8},{"$f":"VLOOKUP(BU27,AY25:BG28,6,FALSE)","v":46},{"$f":"IF(AND(BV27=BV28,BW27=BW28,BX28>BX27),BU28,BU27)","v":"Pedro Dionísio (ASA)"},{"$f":"VLOOKUP(BY27,AY25:BG28,9,FALSE)","v":4},{"$f":"VLOOKUP(BY27,AY25:BG28,8,FALSE)","v":-8},{"$f":"VLOOKUP(BY27,AY25:BG28,6,FALSE)","v":46},{"$f":"IF(AND(BZ25=BZ27,CA25=CA27,CB26>CB25),BY25,BY27)","v":"Pedro Dionísio (ASA)"},{"$f":"VLOOKUP(CC27,AY25:BG28,9,FALSE)","v":4},{"$f":"VLOOKUP(CC27,AY25:BG28,8,FALSE)","v":-8},{"$f":"VLOOKUP(CC27,AY25:BG28,6,FALSE)","v":46},{"$f":"IF(AND(CD26=CD27,CE26=CE27,CF27>CF26),CC26,CC27)","v":"Pedro Dionísio (ASA)"},{"$f":"VLOOKUP(CG27,AY25:BG28,9,FALSE)","v":4},{"$f":"VLOOKUP(CG27,AY25:BG28,8,FALSE)","v":-8},{"$f":"VLOOKUP(CG27,AY25:BG28,6,FALSE)","v":46},null,null,null,{"$f":"CG27","v":"Pedro Dionísio (ASA)"},{"$f":"VLOOKUP(CN27,AY25:BG28,2,FALSE)","v":3},{"$f":"VLOOKUP(CN27,AY25:BG28,3,FALSE)","v":1},{"$f":"VLOOKUP(CN27,AY25:BG28,4,FALSE)","v":0},{"$f":"VLOOKUP(CN27,AY25:BG28,5,FALSE)","v":2},{"$f":"VLOOKUP(CN27,AY25:BG28,6,FALSE)","v":46},{"$f":"VLOOKUP(CN27,AY25:BG28,7,FALSE)","v":54},{"$f":"VLOOKUP(CN27,AY25:BG28,8,FALSE)","v":-8},{"$f":"VLOOKUP(CN27,AY25:BG28,9,FALSE)","v":4},null,null,{"$f":"IF(M27<>\"\",IF(M27>M28,I27,IF(M28>M27,I28,\"Empate\")),\"\")","v":"Alexandre Malveiro (DP)"},{"$f":"IF(M27<>\"\",IF(M27<M28,I27,IF(M28<M27,I28,\"Empate\")),\"\")","v":"Gustavo Estevão (ASA)"}]
[null,{"$f":"H20+1","v":21},{"$f":"AY26","v":"Pedro Trindade (DP)"},5,5,null,{"$f":"IF(ISBLANK(D27),\"\",SUM(IF(D28>D27,1,0)+(IF(E28>E27,1,0)+(IF(F28>F27,1,0)))))","v":0},{"$f":"B28+1","v":22},{"$f":"IF(I27=\"\",\"\",AY25)","v":"Alexandre Malveiro (DP)"},11,11,null,{"$f":"IF(ISBLANK(J27),\"\",SUM(IF(J28>J27,1,0)+(IF(K28>K27,1,0)+(IF(L28>L27,1,0)))))","v":2},15,2,{"$f":"IF($AY$53<11,VLOOKUP(O28,AX56:BA63,2,FALSE),IF($AY$53=11,VLOOKUP(O28,AX56:BA63,3,FALSE),VLOOKUP(O28,AX56:BA63,4,FALSE)))","v":"Francisco Carvalho (DP)"},9,9,null,{"$f":"IF(ISBLANK(Q27),\"\",SUM(IF(Q28>Q27,1,0)+(IF(R28>R27,1,0)+(IF(S28>S27,1,0)))))","v":2},null,null,null,null,null,null,null,null,null,"Vencedor",null,null,null,null,null,null,null,null,"Classificação Grupo D",null,null,null,null,null,null,null,null,null,null,null,{"$f":"IF(BA52=\"\",\"\",BA52)","v":"Gustavo Estevão (ASA)"},{"$f":"COUNT(M24,M25,M27)","v":3},{"$f":"COUNTIF(CY23:CY28,AY28)","v":2},{"$f":"AZ28-(BA28+BC28)","v":0},{"$f":"COUNTIF(CZ23:CZ28,AY28)","v":1},{"$f":"SUM(J24:L24,J25:L25,J27:L27)","v":58},{"$f":"SUM(J23:L23,J26:L26,J28:L28)","v":36},{"$f":"BD28-BE28","v":22},{"$f":"IF(AZ28=0,0,BA28*2+BC28*1)","v":5},{"$f":"IF(BG28<=BG27,AY28,AY27)","v":"Pedro Dionísio (ASA)"},{"$f":"VLOOKUP(BH28,AY25:BG28,9,FALSE)","v":4},{"$f":"IF(BI28<=BI26,BH28,BH26)","v":"Pedro Trindade (DP)"},{"$f":"VLOOKUP(BJ28,AY25:BG28,9,FALSE)","v":3},{"$f":"IF(BK28<=BK25,BJ28,BJ25)","v":"Pedro Trindade (DP)"},{"$f":"VLOOKUP(BL28,AY25:BG28,9,FALSE)","v":3},{"$f":"VLOOKUP(BL28,AY25:BG28,8,FALSE)","v":-48},{"$f":"IF(AND(BM27=BM28,BN28>BN27),BL27,BL28)","v":"Pedro Trindade (DP)"},{"$f":"VLOOKUP(BO28,AY25:BG28,9,FALSE)","v":3},{"$f":"VLOOKUP(BO28,AY25:BG28,8,FALSE)","v":-48},{"$f":"IF(AND(BP26=BP28,BQ28>BQ26),BO26,BO28)","v":"Pedro Trindade (DP)"},{"$f":"VLOOKUP(BR28,AY25:BG28,9,FALSE)","v":3},{"$f":"VLOOKUP(BR28,AY25:BG28,8,FALSE)","v":-48},{"$f":"IF(AND(BS25=BS28,BT28>BT25),BR25,BR28)","v":"Pedro Trindade (DP)"},{"$f":"VLOOKUP(BU28,AY25:BG28,9,FALSE)","v":3},{"$f":"VLOOKUP(BU28,AY25:BG28,8,FALSE)","v":-48},{"$f":"VLOOKUP(BU28,AY25:BG28,6,FALSE)","v":18},{"$f":"IF(AND(BV27=BV28,BW27=BW28,BX28>BX27),BU27,BU28)","v":"Pedro Trindade (DP)"},{"$f":"VLOOKUP(BY28,AY25:BG28,9,FALSE)","v":3},{"$f":"VLOOKUP(BY28,AY25:BG28,8,FALSE)","v":-48},{"$f":"VLOOKUP(BY28,AY25:BG28,6,FALSE)","v":18},{"$f":"IF(AND(BZ26=BZ28,CA26=CA28,CB28>CB26),BY26,BY28)","v":"Pedro Trindade (DP)"},{"$f":"VLOOKUP(CC28,AY25:BG28,9,FALSE)","v":3},{"$f":"VLOOKUP(CC28,AY25:BG28,8,FALSE)","v":-48},{"$f":"VLOOKUP(CC28,AY25:BG28,6,FALSE)","v":18},{"$f":"IF(AND(CD25=CD28,CE25=CE28,CF28>CF25),CC25,CC28)","v":"Pedro Trindade (DP)"},{"$f":"VLOOKUP(CG28,AY25:BG28,9,FALSE)","v":3},{"$f":"VLOOKUP(CG28,AY25:BG28,8,FALSE)","v":-48},{"$f":"VLOOKUP(CG28,AY25:BG28,6,FALSE)","v":18},null,null,null,{"$f":"CG28","v":"Pedro Trindade (DP)"},{"$f":"VLOOKUP(CN28,AY25:BG28,2,FALSE)","v":3},{"$f":"VLOOKUP(CN28,AY25:BG28,3,FALSE)","v":0},{"$f":"VLOOKUP(CN28,AY25:BG28,4,FALSE)","v":0},{"$f":"VLOOKUP(CN28,AY25:BG28,5,FALSE)","v":3},{"$f":"VLOOKUP(CN28,AY25:BG28,6,FALSE)","v":18},{"$f":"VLOOKUP(CN28,AY25:BG28,7,FALSE)","v":66},{"$f":"VLOOKUP(CN28,AY25:BG28,8,FALSE)","v":-48},{"$f":"VLOOKUP(CN28,AY25:BG28,9,FALSE)","v":3},null,null,{"$f":"IF(G28<>\"\",IF(G28>G27,C28,IF(G27>G28,C27,\"Empate\")),\"\")","v":"Pedro Dionísio (ASA)"},{"$f":"IF(G28<>\"\",IF(G28<G27,C28,IF(G27<G28,C27,\"Empate\")),\"\")","v":"Pedro Trindade (DP)"}]
[null,null,null,null,null,null,null,null,null,null,null,null,null,2,null,null,null,null,null,null,null,null,null,null,null,null,null,null,null,{"$f":"IF(AH17=AH18,\"\",IF(AH17>AH18,AD17,AD18))","v":"António Correia (ASA)"},null,null,null,null,null,null,null,"Cl",{"$f":"AY32","v":"Jogadores"},"Jg","V","E","D","PM","PS","DP","Pt."]
["Grupo D","NºJ","Jogadores",1,2,3,"R","NºJ","Jogadores",1,2,3,"R",null,null,null,null,null,null,null,null,null,null,null,null,null,null,null,null,null,null,null,null,null,null,null,null,{"$f":"IF(AM30=\"\",\"\",\"1º\")","v":"1º"},{"$f":"CN33","v":"Francisco Carvalho (DP)"},{"$f":"IF(AM30=\"\",\"\",CO33)","v":3},{"$f":"IF(AM30=\"\",\"\",CP33)","v":3},{"$f":"CQ33","v":0},{"$f":"IF(AM30=\"\",\"\",CR33)","v":0},{"$f":"IF(AM30=\"\",\"\",CS33)","v":66},{"$f":"IF(AM30=\"\",\"\",CT33)","v":42},{"$f":"IF(AM30=\"\",\"\",CU33)","v":24},{"$f":"IF(AM30=\"\",\"\",CV33)","v":6},{"$f":"IF($CZ$1<=11,AW30,AX30)","v":2}," ",2,"Colocar Equipas",null,null,null,null,null,null,null,null,"Ordenar p/ Pts 1",null,"Ordenar p/ Pts 2",null,"Ordenar p/ Pts 3",null,null,"Ordenar p/ DG 1",null,null,"Ordenar p/ DG 2",null,null,"Ordenar p/ DG 3",null,null,null,"Ordenar p/ GM 1",null,null,null,"Ordenar p/ GM 2",null,null,null,"Ordenar p/ GM 3",null,null,null,null,null,null,null,null,null,null,null,null,null,null,null,null,null,"Vencedores","Derrotados"]
[null,{"$f":"$A$4","v":"SH-InfB"},{"$f":"AY34","v":"Guilherme Ponte (DP)"},4,9,null,{"$f":"IF(ISBLANK(D31),\"\",SUM(IF(D31>D32,1,0)+(IF(E31>E32,1,0)+(IF(F31>F32,1,0)))))","v":0},{"$f":"$A$4","v":"SH-InfB"},{"$f":"IF(I32=\"\",\"\",AY35)","v":"Mário Delgado (ASA)"},11,4,11,{"$f":"IF(ISBLANK(J31),\"\",SUM(IF(J31>J32,1,0)+(IF(K31>K32,1,0)+(IF(L31>L32,1,0)))))","v":2},null,null,null,null,null,null,null,null,null,null,null,null,null,null,null,null,null,null,null,null,null,null,null,null,{"$f":"IF(AM31=\"\",\"\",\"2º\")","v":"2º"},{"$f":"CN34","v":"Mário Delgado (ASA)"},{"$f":"IF(AM31=\"\",\"\",CO34)","v":3},{"$f":"IF(AM31=\"\",\"\",CP34)","v":2},{"$f":"CQ34","v":0},{"$f":"IF(AM31=\"\",\"\",CR34)","v":1},{"$f":"IF(AM31=\"\",\"\",CS34)","v":71},{"$f":"IF(AM31=\"\",\"\",CT34)","v":75},{"$f":"IF(AM31=\"\",\"\",CU34)","v":-4},{"$f":"IF(AM31=\"\",\"\",CV34)","v":5},{"$f":"IF($CZ$1<=11,AW31,AX31)","v":7}," ",7,"Grupo D",null,null,null,null,null,null,null,null,null,null,null,null,null,null,null,null,null,null,null,null,null,null,null,null,null,null,null,null,null,null,null,null,null,null,null,null,null,null,null,null,null,null,null,null,null,null,null,null,null,null,null,{"$f":"IF(G32<>\"\",IF(G32>G31,C32,IF(G31>G32,C31,\"Empate\")),\"\")","v":"Francisco Carvalho (DP)"},{"$f":"IF(G32<>\"\",IF(G32<G31,C32,IF(G31<G32,C31,\"Empate\")),\"\")","v":"Guilherme Ponte (DP)"}]
[null,{"$f":"H24+1","v":7},{"$f":"AY33","v":"Francisco Carvalho (DP)"},11,11,null,{"$f":"IF(ISBLANK(D31),\"\",SUM(IF(D32>D31,1,0)+(IF(E32>E31,1,0)+(IF(F32>F31,1,0)))))","v":2},{"$f":"B32+1","v":8},{"$f":"AY36","v":"Diogo Esteves (ASA)"},10,11,9,{"$f":"IF(ISBLANK(J31),\"\",SUM(IF(J32>J31,1,0)+(IF(K32>K31,1,0)+(IF(L32>L31,1,0)))))","v":1},null,null,null,null,null,null,null,null,null,null,null,null,null,null,null,null,null,null,null,null,null,null,null,null,{"$f":"IF(AM32=\"\",\"\",\"3º\")","v":"3º"},{"$f":"CN35","v":"Diogo Esteves (ASA)"},{"$f":"IF(AM32=\"\",\"\",CO35)","v":3},{"$f":"IF(AM32=\"\",\"\",CP35)","v":1},{"$f":"CQ35","v":0},{"$f":"IF(AM32=\"\",\"\",CR35)","v":2},{"$f":"IF(AM32=\"\",\"\",CS35)","v":65},{"$f":"IF(AM32=\"\",\"\",CT35)","v":61},{"$f":"IF(AM32=\"\",\"\",CU35)","v":4},{"$f":"IF(AM32=\"\",\"\",CV35)","v":4},{"$f":"IF($CZ$1<=11,AW32,AX32)","v":10}," ",10,"Jogadores","Jg","V","E","D","GM","GS","DG","Pts","Equipas","Pts","Equipas","Pts","Equipas","Pts","DG","Equipas","Pts","DG","Equipas","Pts","DG","Equipas","Pts","DG","GM","Equipas","Pts","DG","GM","Equipas","Pts","DG","GM","Equipas","Pts","DG","GM",null,null,null,"Equipas","Jg","V","D","E","GM","GS","DG","Pts",null,null,{"$f":"IF(M31<>\"\",IF(M31>M32,I31,IF(M32>M31,I32,\"Empate\")),\"\")","v":"Mário Delgado (ASA)"},{"$f":"IF(M31<>\"\",IF(M31<M32,I31,IF(M32<M31,I32,\"Empate\")),\"\")","v":"Diogo Esteves (ASA)"}]
[null,{"$f":"$A$4","v":"SH-InfB"},{"$f":"AY33","v":"Francisco Carvalho (DP)"},11,11,null,{"$f":"IF(ISBLANK(D33),\"\",SUM(IF(D33>D34,1,0)+(IF(E33>E34,1,0)+(IF(F33>F34,1,0)))))","v":2},{"$f":"$A$4","v":"SH-InfB"},{"$f":"AY36","v":"Diogo Esteves (ASA)"},11,11,null,{"$f":"IF(ISBLANK(J33),\"\",SUM(IF(J33>J34,1,0)+(IF(K33>K34,1,0)+(IF(L33>L34,1,0)))))","v":2},null,null,null,null,null,null,null,null,null,null,null,null,null,null,null,null,null,null,null,null,null,null,null,null,{"$f":"IF(AM33=\"\",\"\",\"4º\")","v":"4º"},{"$f":"CN36","v":"Guilherme Ponte (DP)"},{"$f":"IF(AM33=\"\",\"\",CO36)","v":3},{"$f":"IF(AM33=\"\",\"\",CP36)","v":0},{"$f":"CQ36","v":0},{"$f":"IF(AM33=\"\",\"\",CR36)","v":3},{"$f":"IF(AM33=\"\",\"\",CS36)","v":49},{"$f":"IF(AM33=\"\",\"\",CT36)","v":73},{"$f":"IF(AM33=\"\",\"\",CU36)","v":-24},{"$f":"IF(AM33=\"\",\"\",CV36)","v":3},{"$f":"IF($CZ$1<=11,AW33,AX33)","v":15}," ",{"$f":"IF(AM33=\"\",\"\",15)","v":15},{"$f":"IF(BA39=\"\",\"\",BA40)","v":"Francisco Carvalho (DP)"},{"$f":"COUNT(G32,G33,M36)","v":3},{"$f":"COUNTIF(CY31:CY36,AY33)","v":3},{"$f":"AZ33-(BA33+BC33)","v":0},{"$f":"COUNTIF(CZ31:CZ36,AY33)","v":0},{"$f":"SUM(D32:F32,D33:F33,J36:L36)","v":66},{"$f":"SUM(D31:F31,D34:F34,J35:L35)","v":42},{"$f":"BD33-BE33","v":24},{"$f":"IF(AZ33=0,0,BA33*2+BC33*1)","v":6},{"$f":"IF(BG33>=BG34,AY33,AY34)","v":"Francisco Carvalho (DP)"},{"$f":"VLOOKUP(BH33,AY33:BG36,9,FALSE)","v":6},{"$f":"IF(BI33>=BI35,BH33,BH35)","v":"Francisco Carvalho (DP)"},{"$f":"VLOOKUP(BJ33,AY33:BG36,9,FALSE)","v":6},{"$f":"IF(BK33>=BK36,BJ33,BJ36)","v":"Francisco Carvalho (DP)"},{"$f":"VLOOKUP(BL33,AY33:BG36,9,FALSE)","v":6},{"$f":"VLOOKUP(BL33,AY33:BG36,8,FALSE)","v":24},{"$f":"IF(AND(BM33=BM34,BN34>BN33),BL34,BL33)","v":"Francisco Carvalho (DP)"},{"$f":"VLOOKUP(BO33,AY33:BG36,9,FALSE)","v":6},{"$f":"VLOOKUP(BO33,AY33:BG36,8,FALSE)","v":24},{"$f":"IF(AND(BP33=BP35,BQ35>BQ33),BO35,BO33)","v":"Francisco Carvalho (DP)"},{"$f":"VLOOKUP(BR33,AY33:BG36,9,FALSE)","v":6},{"$f":"VLOOKUP(BR33,AY33:BG36,8,FALSE)","v":24},{"$f":"IF(AND(BS33=BS36,BT36>BT33),BR36,BR33)","v":"Francisco Carvalho (DP)"},{"$f":"VLOOKUP(BU33,AY33:BG36,9,FALSE)","v":6},{"$f":"VLOOKUP(BU33,AY33:BG36,8,FALSE)","v":24},{"$f":"VLOOKUP(BU33,AY33:BG36,6,FALSE)","v":66},{"$f":"IF(AND(BV33=BV34,BW33=BW34,BX34>BX33),BU34,BU33)","v":"Francisco Carvalho (DP)"},{"$f":"VLOOKUP(BY33,AY33:BG36,9,FALSE)","v":6},{"$f":"VLOOKUP(BY33,AY33:BG36,8,FALSE)","v":24},{"$f":"VLOOKUP(BY33,AY33:BG36,6,FALSE)","v":66},{"$f":"IF(AND(BZ33=BZ35,CA33=CA35,CB35>CB33),BY35,BY33)","v":"Francisco Carvalho (DP)"},{"$f":"VLOOKUP(CC33,AY33:BG36,9,FALSE)","v":6},{"$f":"VLOOKUP(CC33,AY33:BG36,8,FALSE)","v":24},{"$f":"VLOOKUP(CC33,AY33:BG36,6,FALSE)","v":66},{"$f":"IF(AND(CD33=CD36,CE33=CE36,CF36>CF33),CC36,CC33)","v":"Francisco Carvalho (DP)"},{"$f":"VLOOKUP(CG33,AY33:BG36,9,FALSE)","v":6},{"$f":"VLOOKUP(CG33,AY33:BG36,8,FALSE)","v":24},{"$f":"VLOOKUP(CG33,AY33:BG36,6,FALSE)","v":66},null,null,null,{"$f":"CG33","v":"Francisco Carvalho (DP)"},{"$f":"VLOOKUP(CN33,AY33:BG36,2,FALSE)","v":3},{"$f":"VLOOKUP(CN33,AY33:BG36,3,FALSE)","v":3},{"$f":"VLOOKUP(CN33,AY33:BG36,4,FALSE)","v":0},{"$f":"VLOOKUP(CN33,AY33:BG36,5,FALSE)","v":0},{"$f":"VLOOKUP(CN33,AY33:BG36,6,FALSE)","v":66},{"$f":"VLOOKUP(CN33,AY33:BG36,7,FALSE)","v":42},{"$f":"VLOOKUP(CN33,AY33:BG36,8,FALSE)","v":24},{"$f":"VLOOKUP(CN33,AY33:BG36,9,FALSE)","v":6},null,null,{"$f":"IF(G33<>\"\",IF(G33>G34,C33,IF(G34>G33,C34,\"Empate\")),\"\")","v":"Francisco Carvalho (DP)"},{"$f":"IF(G33<>\"\",IF(G33<G34,C33,IF(G34<G33,C34,\"Empate\")),\"\")","v":"Mário Delgado (ASA)"}]
[null,{"$f":"H26+1","v":15},{"$f":"AY35","v":"Mário Delgado (ASA)"},6,10,null,{"$f":"IF(ISBLANK(D33),\"\",SUM(IF(D34>D33,1,0)+(IF(E34>E33,1,0)+(IF(F34>F33,1,0)))))","v":0},{"$f":"B34+1","v":16},{"$f":"IF(I33=\"\",\"\",AY34)","v":"Guilherme Ponte (DP)"},8,5,null,{"$f":"IF(ISBLANK(J33),\"\",SUM(IF(J34>J33,1,0)+(IF(K34>K33,1,0)+(IF(L34>L33,1,0)))))","v":0},null,null,null,null,null,null,null,null,null,null,null,null,null,null,null,null,null,null,null,null,null,null,null,null,null,null,null,null,null,null,null,null,null,null,null,null,null,{"$f":"IF(BA39=\"\",\"\",BA45)","v":"Guilherme Ponte (DP)"},{"$f":"COUNT(G31,M34,G36)","v":3},{"$f":"COUNTIF(CY31:CY36,AY34)","v":0},{"$f":"AZ34-(BA34+BC34)","v":0},{"$f":"COUNTIF(CZ31:CZ36,AY34)","v":3},{"$f":"SUM(D31:F31,J34:L34,D36:F36)","v":49},{"$f":"SUM(D32:F32,J33:L33,D35:F35)","v":73},{"$f":"BD34-BE34","v":-24},{"$f":"IF(AZ34=0,0,BA34*2+BC34*1)","v":3},{"$f":"IF(BG34<=BG33,AY34,AY33)","v":"Guilherme Ponte (DP)"},{"$f":"VLOOKUP(BH34,AY33:BG36,9,FALSE)","v":3},{"$f":"IF(BI34>=BI36,BH34,BH36)","v":"Diogo Esteves (ASA)"},{"$f":"VLOOKUP(BJ34,AY33:BG36,9,FALSE)","v":4},{"$f":"IF(BK34>=BK35,BJ34,BJ35)","v":"Mário Delgado (ASA)"},{"$f":"VLOOKUP(BL34,AY33:BG36,9,FALSE)","v":5},{"$f":"VLOOKUP(BL34,AY33:BG36,8,FALSE)","v":-4},{"$f":"IF(AND(BM33=BM34,BN34>BN33),BL33,BL34)","v":"Mário Delgado (ASA)"},{"$f":"VLOOKUP(BO34,AY33:BG36,9,FALSE)","v":5},{"$f":"VLOOKUP(BO34,AY33:BG36,8,FALSE)","v":-4},{"$f":"IF(AND(BP34=BP36,BQ36>BQ34),BO36,BO34)","v":"Mário Delgado (ASA)"},{"$f":"VLOOKUP(BR34,AY33:BG36,9,FALSE)","v":5},{"$f":"VLOOKUP(BR34,AY33:BG36,8,FALSE)","v":-4},{"$f":"IF(AND(BS34=BS35,BT35>BT34),BR35,BR34)","v":"Mário Delgado (ASA)"},{"$f":"VLOOKUP(BU34,AY33:BG36,9,FALSE)","v":5},{"$f":"VLOOKUP(BU34,AY33:BG36,8,FALSE)","v":-4},{"$f":"VLOOKUP(BU34,AY33:BG36,6,FALSE)","v":71},{"$f":"IF(AND(BV33=BV34,BW33=BW34,BX34>BX33),BU33,BU34)","v":"Mário Delgado (ASA)"},{"$f":"VLOOKUP(BY34,AY33:BG36,9,FALSE)","v":5},{"$f":"VLOOKUP(BY34,AY33:BG36,8,FALSE)","v":-4},{"$f":"VLOOKUP(BY34,AY33:BG36,6,FALSE)","v":71},{"$f":"IF(AND(BZ34=BZ36,CA34=CA36,CB36>CB34),BY36,BY34)","v":"Mário Delgado (ASA)"},{"$f":"VLOOKUP(CC34,AY33:BG36,9,FALSE)","v":5},{"$f":"VLOOKUP(CC34,AY33:BG36,8,FALSE)","v":-4},{"$f":"VLOOKUP(CC34,AY33:BG36,6,FALSE)","v":71},{"$f":"IF(AND(CD34=CD35,CE34=CE35,CF35>CF34),CC35,CC34)","v":"Mário Delgado (ASA)"},{"$f":"VLOOKUP(CG34,AY33:BG36,9,FALSE)","v":5},{"$f":"VLOOKUP(CG34,AY33:BG36,8,FALSE)","v":-4},{"$f":"VLOOKUP(CG34,AY33:BG36,6,FALSE)","v":71},null,null,null,{"$f":"CG34","v":"Mário Delgado (ASA)"},{"$f":"VLOOKUP(CN34,AY33:BG36,2,FALSE)","v":3},{"$f":"VLOOKUP(CN34,AY33:BG36,3,FALSE)","v":2},{"$f":"VLOOKUP(CN34,AY33:BG36,4,FALSE)","v":0},{"$f":"VLOOKUP(CN34,AY33:BG36,5,FALSE)","v":1},{"$f":"VLOOKUP(CN34,AY33:BG36,6,FALSE)","v":71},{"$f":"VLOOKUP(CN34,AY33:BG36,7,FALSE)","v":75},{"$f":"VLOOKUP(CN34,AY33:BG36,8,FALSE)","v":-4},{"$f":"VLOOKUP(CN34,AY33:BG36,9,FALSE)","v":5},null,null,{"$f":"IF(M33<>\"\",IF(M33>M34,I33,IF(M34>M33,I34,\"Empate\")),\"\")","v":"Diogo Esteves (ASA)"},{"$f":"IF(M33<>\"\",IF(M33<M34,I33,IF(M34<M33,I34,\"Empate\")),\"\")","v":"Guilherme Ponte (DP)"}]
[null,{"$f":"$A$4","v":"SH-InfB"},{"$f":"AY35","v":"Mário Delgado (ASA)"},9,11,9,{"$f":"IF(ISBLANK(D35),\"\",SUM(IF(D35>D36,1,0)+(IF(E35>E36,1,0)+(IF(F35>F36,1,0)))))","v":2},{"$f":"$A$4","v":"SH-InfB"},{"$f":"AY36","v":"Diogo Esteves (ASA)"},7,6,null,{"$f":"IF(ISBLANK(J35),\"\",SUM(IF(J35>J36,1,0)+(IF(K35>K36,1,0)+(IF(L35>L36,1,0)))))","v":0},null,null,null,null,null,null,null,null,null,null,null,null,null,null,null,null,null,null,null,null,null,null,null,null,null,null,null,null,null,null,null,null,null,null,null,null,null,{"$f":"IF(BA39=\"\",\"\",BA48)","v":"Mário Delgado (ASA)"},{"$f":"COUNT(M31,G34,G35)","v":3},{"$f":"COUNTIF(CY31:CY36,AY35)","v":2},{"$f":"AZ35-(BA35+BC35)","v":0},{"$f":"COUNTIF(CZ31:CZ36,AY35)","v":1},{"$f":"SUM(J31:L31,D34:F34,D35:F35)","v":71},{"$f":"SUM(J32:L32,D33:F33,D36:F36)","v":75},{"$f":"BD35-BE35","v":-4},{"$f":"IF(AZ35=0,0,BA35*2+BC35*1)","v":5},{"$f":"IF(BG35>=BG36,AY35,AY36)","v":"Mário Delgado (ASA)"},{"$f":"VLOOKUP(BH35,AY33:BG36,9,FALSE)","v":5},{"$f":"IF(BI35<=BI33,BH35,BH33)","v":"Mário Delgado (ASA)"},{"$f":"VLOOKUP(BJ35,AY33:BG36,9,FALSE)","v":5},{"$f":"IF(BK35<=BK34,BJ35,BJ34)","v":"Diogo Esteves (ASA)"},{"$f":"VLOOKUP(BL35,AY33:BG36,9,FALSE)","v":4},{"$f":"VLOOKUP(BL35,AY33:BG36,8,FALSE)","v":4},{"$f":"IF(AND(BM35=BM36,BN36>BN35),BL36,BL35)","v":"Diogo Esteves (ASA)"},{"$f":"VLOOKUP(BO35,AY33:BG36,9,FALSE)","v":4},{"$f":"VLOOKUP(BO35,AY33:BG36,8,FALSE)","v":4},{"$f":"IF(AND(BP33=BP35,BQ35>BQ33),BO33,BO35)","v":"Diogo Esteves (ASA)"},{"$f":"VLOOKUP(BR35,AY33:BG36,9,FALSE)","v":4},{"$f":"VLOOKUP(BR35,AY33:BG36,8,FALSE)","v":4},{"$f":"IF(AND(BS34=BS35,BT35>BT34),BR34,BR35)","v":"Diogo Esteves (ASA)"},{"$f":"VLOOKUP(BU35,AY33:BG36,9,FALSE)","v":4},{"$f":"VLOOKUP(BU35,AY33:BG36,8,FALSE)","v":4},{"$f":"VLOOKUP(BU35,AY33:BG36,6,FALSE)","v":65},{"$f":"IF(AND(BV35=BV36,BW35=BW36,BX36>BX35),BU36,BU35)","v":"Diogo Esteves (ASA)"},{"$f":"VLOOKUP(BY35,AY33:BG36,9,FALSE)","v":4},{"$f":"VLOOKUP(BY35,AY33:BG36,8,FALSE)","v":4},{"$f":"VLOOKUP(BY35,AY33:BG36,6,FALSE)","v":65},{"$f":"IF(AND(BZ33=BZ35,CA33=CA35,CB34>CB33),BY33,BY35)","v":"Diogo Esteves (ASA)"},{"$f":"VLOOKUP(CC35,AY33:BG36,9,FALSE)","v":4},{"$f":"VLOOKUP(CC35,AY33:BG36,8,FALSE)","v":4},{"$f":"VLOOKUP(CC35,AY33:BG36,6,FALSE)","v":65},{"$f":"IF(AND(CD34=CD35,CE34=CE35,CF35>CF34),CC34,CC35)","v":"Diogo Esteves (ASA)"},{"$f":"VLOOKUP(CG35,AY33:BG36,9,FALSE)","v":4},{"$f":"VLOOKUP(CG35,AY33:BG36,8,FALSE)","v":4},{"$f":"VLOOKUP(CG35,AY33:BG36,6,FALSE)","v":65},null,null,null,{"$f":"CG35","v":"Diogo Esteves (ASA)"},{"$f":"VLOOKUP(CN35,AY33:BG36,2,FALSE)","v":3},{"$f":"VLOOKUP(CN35,AY33:BG36,3,FALSE)","v":1},{"$f":"VLOOKUP(CN35,AY33:BG36,4,FALSE)","v":0},{"$f":"VLOOKUP(CN35,AY33:BG36,5,FALSE)","v":2},{"$f":"VLOOKUP(CN35,AY33:BG36,6,FALSE)","v":65},{"$f":"VLOOKUP(CN35,AY33:BG36,7,FALSE)","v":61},{"$f":"VLOOKUP(CN35,AY33:BG36,8,FALSE)","v":4},{"$f":"VLOOKUP(CN35,AY33:BG36,9,FALSE)","v":4},null,null,{"$f":"IF(M35<>\"\",IF(M35>M36,I35,IF(M36>M35,I36,\"Empate\")),\"\")","v":"Francisco Carvalho (DP)"},{"$f":"IF(M35<>\"\",IF(M35<M36,I35,IF(M36<M35,I36,\"Empate\")),\"\")","v":"Diogo Esteves (ASA)"}]
[null,{"$f":"H28+1","v":23},{"$f":"AY34","v":"Guilherme Ponte (DP)"},11,5,7,{"$f":"IF(ISBLANK(D35),\"\",SUM(IF(D36>D35,1,0)+(IF(E36>E35,1,0)+(IF(F36>F35,1,0)))))","v":1},{"$f":"B36+1","v":24},{"$f":"IF(I35=\"\",\"\",AY33)","v":"Francisco Carvalho (DP)"},11,11,null,{"$f":"IF(ISBLANK(J35),\"\",SUM(IF(J36>J35,1,0)+(IF(K36>K35,1,0)+(IF(L36>L35,1,0)))))","v":2},null,null,null,null,null,null,null,null,null,null,null,null,null,null,null,null,null,null,null,null,null,null,null,null,null,null,null,null,null,null,null,null,null,null,null,null,null,{"$f":"IF(BA39=\"\",\"\",BA53)","v":"Diogo Esteves (ASA)"},{"$f":"COUNT(M32,M33,M35)","v":3},{"$f":"COUNTIF(CY31:CY36,AY36)","v":1},{"$f":"AZ36-(BA36+BC36)","v":0},{"$f":"COUNTIF(CZ31:CZ36,AY36)","v":2},{"$f":"SUM(J32:L32,J33:L33,J35:L35)","v":65},{"$f":"SUM(J31:L31,J34:L34,J36:L36)","v":61},{"$f":"BD36-BE36","v":4},{"$f":"IF(AZ36=0,0,BA36*2+BC36*1)","v":4},{"$f":"IF(BG36<=BG35,AY36,AY35)","v":"Diogo Esteves (ASA)"},{"$f":"VLOOKUP(BH36,AY33:BG36,9,FALSE)","v":4},{"$f":"IF(BI36<=BI34,BH36,BH34)","v":"Guilherme Ponte (DP)"},{"$f":"VLOOKUP(BJ36,AY33:BG36,9,FALSE)","v":3},{"$f":"IF(BK36<=BK33,BJ36,BJ33)","v":"Guilherme Ponte (DP)"},{"$f":"VLOOKUP(BL36,AY33:BG36,9,FALSE)","v":3},{"$f":"VLOOKUP(BL36,AY33:BG36,8,FALSE)","v":-24},{"$f":"IF(AND(BM35=BM36,BN36>BN35),BL35,BL36)","v":"Guilherme Ponte (DP)"},{"$f":"VLOOKUP(BO36,AY33:BG36,9,FALSE)","v":3},{"$f":"VLOOKUP(BO36,AY33:BG36,8,FALSE)","v":-24},{"$f":"IF(AND(BP34=BP36,BQ36>BQ34),BO34,BO36)","v":"Guilherme Ponte (DP)"},{"$f":"VLOOKUP(BR36,AY33:BG36,9,FALSE)","v":3},{"$f":"VLOOKUP(BR36,AY33:BG36,8,FALSE)","v":-24},{"$f":"IF(AND(BS33=BS36,BT36>BT33),BR33,BR36)","v":"Guilherme Ponte (DP)"},{"$f":"VLOOKUP(BU36,AY33:BG36,9,FALSE)","v":3},{"$f":"VLOOKUP(BU36,AY33:BG36,8,FALSE)","v":-24},{"$f":"VLOOKUP(BU36,AY33:BG36,6,FALSE)","v":49},{"$f":"IF(AND(BV35=BV36,BW35=BW36,BX36>BX35),BU35,BU36)","v":"Guilherme Ponte (DP)"},{"$f":"VLOOKUP(BY36,AY33:BG36,9,FALSE)","v":3},{"$f":"VLOOKUP(BY36,AY33:BG36,8,FALSE)","v":-24},{"$f":"VLOOKUP(BY36,AY33:BG36,6,FALSE)","v":49},{"$f":"IF(AND(BZ34=BZ36,CA34=CA36,CB36>CB34),BY34,BY36)","v":"Guilherme Ponte (DP)"},{"$f":"VLOOKUP(CC36,AY33:BG36,9,FALSE)","v":3},{"$f":"VLOOKUP(CC36,AY33:BG36,8,FALSE)","v":-24},{"$f":"VLOOKUP(CC36,AY33:BG36,6,FALSE)","v":49},{"$f":"IF(AND(CD33=CD36,CE33=CE36,CF36>CF33),CC33,CC36)","v":"Guilherme Ponte (DP)"},{"$f":"VLOOKUP(CG36,AY33:BG36,9,FALSE)","v":3},{"$f":"VLOOKUP(CG36,AY33:BG36,8,FALSE)","v":-24},{"$f":"VLOOKUP(CG36,AY33:BG36,6,FALSE)","v":49},null,null,null,{"$f":"CG36","v":"Guilherme Ponte (DP)"},{"$f":"VLOOKUP(CN36,AY33:BG36,2,FALSE)","v":3},{"$f":"VLOOKUP(CN36,AY33:BG36,3,FALSE)","v":0},{"$f":"VLOOKUP(CN36,AY33:BG36,4,FALSE)","v":0},{"$f":"VLOOKUP(CN36,AY33:BG36,5,FALSE)","v":3},{"$f":"VLOOKUP(CN36,AY33:BG36,6,FALSE)","v":49},{"$f":"VLOOKUP(CN36,AY33:BG36,7,FALSE)","v":73},{"$f":"VLOOKUP(CN36,AY33:BG36,8,FALSE)","v":-24},{"$f":"VLOOKUP(CN36,AY33:BG36,9,FALSE)","v":3},null,null,{"$f":"IF(G36<>\"\",IF(G36>G35,C36,IF(G35>G36,C35,\"Empate\")),\"\")","v":"Mário Delgado (ASA)"},{"$f":"IF(G36<>\"\",IF(G36<G35,C36,IF(G35<G36,C35,\"Empate\")),\"\")","v":"Guilherme Ponte (DP)"}]
[null,null,null,null,null,null,null,null,null,null,null,null,null,null,null,"Jogadores",null,null,null,null,null,null,null,null,null,null,null,null,null,"Ranking"]
[null,"Classificações 1ª Fase",null,null,null,null,null,null,null,null,null,null,"#",null,"NºJ","Nome (1º e último)",null,"Escola",null,null,null,null,null,"Abv.",null,null,"NºJ",null,null,"Nome","Pts",null,null,null,null,null,null,"Cl.","Nº J","Ranking","Pt.",null,null,null,null,null,null,null,null,null,"3 Grupos 9 a 11",null,"4 Grupos 12 a 16"]
[null,null,null,null,null,null,null,null,null,null,null,null,1,null,{"$f":"IF(DE4=\"\",\"\",DE4)","v":""},{"$f":"IF(DF4=\"\",\"\",IF(DF4=\"Bye\",\"Bye\",CONCATENATE(DF4,\" \",\"(\",DH4,\")\")))","v":"Sandro Revez (DP)"},null,{"$f":"IF(DG4=\"\",\"\",DG4)","v":"DPacheco"},null,null,null,null,null,{"$f":"IF(DH4=\"\",\"\",DH4)","v":"DP"},null,null,"1º",null,null,{"$f":"IF(AN39=\"\",\"\",AN39)","v":"António Correia (ASA)"},12,null,null,null,null,null,null,"1º",null,{"$f":"IF(AH17=AH18,\"\",IF(AH17>AH18,AD17,AD18))","v":"António Correia (ASA)"},12,null,null,null,null,null,null,null,1,"A1",{"$f":"IF(DF4=\"\",\"\",IF($DF$15=\"\",CONCATENATE(DF4,\"\",\" (\",DH4,\")\"),\"\"))","v":""},"A1",{"$f":"IF(DF4=\"\",\"\",IF($DF$15=\"\",\"\",CONCATENATE(DF4,\"\",\" (\",DH4,\")\")))","v":"Sandro Revez (DP)"}]
[null,"Grupo A",null,null,null,null,null,"Grupo B",null,null,null,null,2,null,"","Francisco Carvalho (DP)",null,"DPacheco",null,null,null,null,null,"DP",2006,null,"2º",null,null,{"$f":"IF(AN40=\"\",\"\",AN40)","v":"Francisco Carvalho (DP)"},11,null,null,null,null,null,null,"2º",null,{"$f":"IF(AH17=AH18,\"\",IF(AH17<AH18,AD17,AD18))","v":"Francisco Carvalho (DP)"},11,null,null,null,null,null,null,null,2,"B1","","D1","Francisco Carvalho (DP)"]
[null,null,null,null,null,null,null,null,null,null,null,null,3,null,"","Alexandre Malveiro (DP)",null,"DPacheco",null,null,null,null,null,"DP",2006,null,"3º",null,null,"Alexandre Malveiro (DP)",10,null,null,null,null,null,null,"3º",null,{"$f":"IF(AA17=AA18,\"\",IF(AA17<AA18,W18,W17))","v":"Alexandre Malveiro (DP)"},10,null,null,null,null,null,null,null,3,"C1","","C1","Alexandre Malveiro (DP)"]
[null,{"$f":"AL8","v":"Cl"},"Jogadores",{"$f":"AU8","v":"Pt."},null,null,null,{"$f":"AL15","v":"Cl"},"Jogadores",{"$f":"AU15","v":"Pt."},null,null,4,null,"","Afonso Brito (DP)",null,"DPacheco",null,null,null,null,null,"DP",2006,null,"4º",null,null,"Sandro Revez (DP)",10,null,null,null,null,null,null,"4º",null,{"$f":"IF(AA17=AA18,\"\",IF(AA17<AA18,W17,W18))","v":"Sandro Revez (DP)"},10,null,null,null,null,null,null,null,4,"A2","","B1","Afonso Brito (DP)"]
[null,"1º","Sandro Revez (DP)",{"$f":"AU9","v":6},null,null,null,"1º","António Correia (ASA)",{"$f":"AU16","v":6},null,null,5,null,"","Valentim Boros (DP)",null,"DPacheco",null,null,null,null,null,"DP",2006,null,"5º",null,null,"Mário Delgado (ASA)",8,null,null,null,null,null,null,"5º",null,{"$f":"IF(T8=T9,\"\",IF(T8<T9,P8,P9))","v":"Mário Delgado (ASA)"},8,null,null,null,null,null,null,null,5,"B2","","B2","Valentim Boros (DP)"]
[null,"2º","Rui Bernardo (DP)",{"$f":"AU10","v":5},null,null,null,"2º","Jayden Fortes (ASA)",{"$f":"AU17","v":5},null,null,6,null,"","Pedro Trindade (DP)",null,"DPacheco",null,null,null,null,null,"DP",2006,null,"6º",null,null,"Gustavo Estevão (ASA)",8,null,null,null,null,null,null,"6º",null,{"$f":"IF(T14=T15,\"\",IF(T14<T15,P14,P15))","v":"Gustavo Estevão (ASA)"},8,null,null,null,null,null,null,null,6,"C2","","C2","Pedro Trindade (DP)"]
[null,"3º","Tomás Guerreiro (DP)",{"$f":"AU11","v":4},null,null,null,"3º","Valentim Boros (DP)",{"$f":"AU18","v":4},null,null,7,null,"","Guilherme Ponte (DP)",null,"DPacheco",null,null,null,null,null,"DP",2006,null,"7º",null,null,"Jayden Fortes (ASA)",8,null,null,null,null,null,null,"7º",null,{"$f":"IF(T21=T22,\"\",IF(T21<T22,P21,P22))","v":"Jayden Fortes (ASA)"},8,null,null,null,null,null,null,null,7,"A3","","D2","Guilherme Ponte (DP)"]
[null,"4º","João Alexandre (DP)",{"$f":"AU12","v":3},null,null,null,"4º","Afonso Brito (DP)",{"$f":"AU19","v":3},null,null,8,null,"","Rui Bernardo (DP)",null,"DPacheco",null,null,null,null,null,"DP",2005,null,"8º",null,null,"Rui Bernardo (DP)",8,null,null,null,null,null,null,"8º",null,{"$f":"IF(T27=T28,\"\",IF(T27<T28,P27,P28))","v":"Rui Bernardo (DP)"},8,null,null,null,null,null,null,null,8,"B3","","A2","Rui Bernardo (DP)"]
[null,null,null,null,null,null,null,null,null,null,null,null,9,null,"","João Alexandre (DP)",null,"DPacheco",null,null,null,null,null,"DP",2005,null,"9º",null,null,"Tomás Guerreiro (DP)",4,null,null,null,null,null,null,"9º",null,{"$f":"IF($AY$53<11,AY64,IF($AY$53=11,AZ64,BA64))","v":"Tomás Guerreiro (DP)"},4,null,null,null,null,null,null,null,9,"C3","","A3","João Alexandre (DP)"]
[null,"Grupo C",null,null,null,null,null,"Grupo D",null,null,null,null,10,null,"","Mário Delgado (ASA)",null,"ASAgostinho",null,null,null,null,null,"ASA",2006,null,"10º",null,null,"Valentim Boros (DP)",4,null,null,null,null,null,null,"10º",null,"Valentim Boros (DP)",4,null,null,null,null,null,null,null,10,"A4","","D3","Mário Delgado (ASA)"]
[null,null,null,null,null,null,null,null,null,null,null,null,11,null,"","Pedro Dionísio (ASA)",null,"ASAgostinho",null,null,null,null,null,"ASA",2006,null,"11º",null,null,"Pedro Dionísio (ASA)",4,null,null,null,null,null,null,"11º",null,"Pedro Dionísio (ASA)",4,null,null,null,null,null,null,null,11,"B4","","C3","Pedro Dionísio (ASA)"]
[null,{"$f":"AL22","v":"Cl"},"Jogadores",{"$f":"AU22","v":"Pt."},null,null,null,{"$f":"AL29","v":"Cl"},"Jogadores",{"$f":"AU29","v":"Pt."},null,null,12,null,"","António Correia (ASA)",null,"ASAgostinho",null,null,null,null,null,"ASA",2006,null,"12º",null,null,"Diogo Esteves (ASA)",4,null,null,null,null,null,null,"12º",null,"Diogo Esteves (ASA)",4,null,null,null,null,null,null,null,null,null,null,"B3","António Correia (ASA)"]
[null,"1º","Alexandre Malveiro (DP)",{"$f":"AU23","v":6},null,null,null,"1º","Francisco Carvalho (DP)",{"$f":"AU30","v":6},null,null,13,null,"","Jayden Fortes (ASA)",null,"ASAgostinho",null,null,null,null,null,"ASA",2005,null,"13º",null,null,"Afonso Brito (DP)",2,null,null,null,null,null,null,"13º",null,"Afonso Brito (DP)",2,null,null,null,null,null,null,null,null,null,null,"B4","Jayden Fortes (ASA)"]
[null,"2º","Gustavo Estevão (ASA)",{"$f":"AU24","v":5},null,null,null,"2º","Mário Delgado (ASA)",{"$f":"AU31","v":5},null,null,14,null,"","Gustavo Estevão (ASA)",null,"ASAgostinho",null,null,null,null,null,"ASA",2005,null,"14º",null,null,"Pedro Trindade (DP)",2,null,null,null,null,null,null,"14º",null,"Pedro Trindade (DP)",2,null,null,null,null,null,null,null,null,null,null,"C4","Gustavo Estevão (ASA)"]
[null,"3º","Pedro Dionísio (ASA)",{"$f":"AU25","v":4},null,null,null,"3º","Diogo Esteves (ASA)",{"$f":"AU32","v":4},null,null,15,null,"","Diogo Esteves (ASA)",null,"ASAgostinho",null,null,null,null,null,"ASA",2005,null,"15º",null,null,"Guilherme Ponte (DP)",2,null,null,null,null,null,null,"15º",null,"Guilherme Ponte (DP)",2,null,null,null,null,null,null,null,null,null,{"$f":"COUNTA(DF4:DF19)","v":16},"D4","Diogo Esteves (ASA)","ABV","Nome"]
[null,"4º","Pedro Trindade (DP)",{"$f":"AU26","v":3},null,null,null,"4º","Guilherme Ponte (DP)",{"$f":"AU33","v":3},null,null,16,null,"","Tomás Guerreiro (DP)",null,"DPacheco",null,null,null,null,null,"DP",2007,null,"16º",null,null,"João Alexandre (DP)",2,null,null,null,null,null,null,"16º",null,"João Alexandre (DP)",2,null,null,null,null,null,null,null,null,null,null,"A4","Tomás Guerreiro (DP)","EM-Juv","Equipas Mistas - Juvenis"]
[null,null,null,null,null,null,null,null,null,null,null,null,null,null,null,null,null,null,null,null,null,null,null,null,null,null,null,null,null,null,null,null,null,null,null,null,null,null,null,null,null,null,null,null,null,null,null,null,null,"Nº","Class 9 e 10","Class 11","Class 12 a 16","PH-InfA","Pares Homens - Infantis A"]
[null,null,null,null,null,null,null,null,null,null,null,null,null,null,null,null,null,null,null,null,null,null,null,null,null,null,null,null,null,null,null,null,null,null,null,null,null,null,null,null,null,null,null,null,null,null,null,null,null,1,{"$f":"IF(D27=\"\",\"1º Grupo A\",AM9)","v":"Sandro Revez (DP)"},{"$f":"AY56","v":"Sandro Revez (DP)"},{"$f":"IF($D$35=\"\",\"1º Grupo A\",AM9)","v":"Sandro Revez (DP)"},"PH-InfB","Pares Homens - Infantis B"]
[null,null,null,null,null,null,null,null,null,null,null,null,null,null,null,null,null,null,null,null,null,null,null,null,null,null,null,null,null,null,null,null,null,null,null,null,null,null,null,null,null,null,null,null,null,null,null,null,null,2,{"$f":"IF(D27=\"\",\"1º Grupo B\",AM16)","v":"António Correia (ASA)"},"António Correia (ASA)",{"$f":"IF($D$35=\"\",\"1º Grupo D\",AM30)","v":"Francisco Carvalho (DP)"},"PH-Ini","Pares Homens - Iniciados"]
[null,"Tabela para 8 a 16 Jogadores",null,null,null,null,null,null,null,null,null,null,null,null,null,null,null,null,null,null,null,null,null,null,null,null,null,null,null,null,null,null,null,null,null,null,null,null,null,null,null,null,null,null,null,null,null,null,null,3,{"$f":"IF(D27=\"\",\"1º Grupo C\",AM23)","v":"Alexandre Malveiro (DP)"},"Alexandre Malveiro (DP)",{"$f":"IF($D$35=\"\",\"1º Grupo C\",AM23)","v":"Alexandre Malveiro (DP)"},"PH-Jun","Pares Homens - Juniores"]
[null,"Nº Jog","Grupos","Apurados 2ª Fase",null,null,null,null,null,null,null,null,null,null,null,null,null,null,null,null,null,null,null,null,null,null,null,null,null,null,null,null,null,null,null,null,null,null,null,null,null,null,null,null,null,null,null,"8º",null,4,{"$f":"IF(D27=\"\",\"2º Grupo C\",AM24)","v":"Gustavo Estevão (ASA)"},"Gustavo Estevão (ASA)",{"$f":"IF($D$35=\"\",\"1º Grupo B\",AM16)","v":"António Correia (ASA)"},"PH-Juv","Pares Homens - Juvenis"]
[null,9,"3 Grupos: 3+3+3","2 Primeiros + 2 melhores 3º",null,null,null,null,null,null,null,null,null,null,null,null,null,null,null,null,null,null,null,null,null,null,null,null,null,null,null,null,null,null,null,null,null,null,null,null,null,null,null,null,null,null,null,"A",{"$f":"IF(AY62<>AM11,IF(AND(AT11<AT18,AT11<AT25),\"\",AM11),\"\")","v":""},5,{"$f":"IF(D27=\"\",\"2º Grupo B\",AM17)","v":"Jayden Fortes (ASA)"},"Jayden Fortes (ASA)",{"$f":"IF($D$35=\"\",\"2º Grupo C\",AM24)","v":"Gustavo Estevão (ASA)"},"PM-Ini","Pares Mistos - Iniciados"]
[null,10,"3 Grupos: 4+3+3","2 Primeiros + 2 melhores 3º",null,null,null,null,null,null,null,null,null,null,null,null,null,null,null,null,null,null,null,null,null,null,null,null,null,null,null,null,null,null,null,null,null,null,null,null,null,null,null,null,null,null,null,"B",{"$f":"IF(AY62<>AM18,IF(AND(AT18<AT11,AT18<AT25),\"\",AM18),\"\")","v":""},6,{"$f":"IF(D27=\"\",\"2º Grupo A\",AM10)","v":"Rui Bernardo (DP)"},"Rui Bernardo (DP)",{"$f":"IF($D$35=\"\",\"2º Grupo B\",AM17)","v":"Jayden Fortes (ASA)"},"PS-InfA","Pares Senhoras - Infantis A"]
[null,11,"3 Grupos: 4+4+3","2 Primeiros + 3º grupos de 4",null,null,null,null,null,null,null,null,null,null,null,null,null,null,null,null,null,null,null,null,null,null,null,null,null,null,null,null,null,null,null,null,null,null,null,null,null,null,null,null,null,null,null,"C",{"$f":"IF(AY62<>AM25,IF(AND(AT25<AT11,AT25<AT18),\"\",AM25),\"\")","v":"Pedro Dionísio (ASA)"},7,{"$f":"IF(D27=\"\",\"1º Melhor 3º\",IF(AND(AT11>AT18,AT11>AT25),AM11,IF(AND(AT18>AT11,AT18>AT25),AM18,AM25)))","v":"Tomás Guerreiro (DP)"},{"$f":"IF(D27=\"\",\"3º Grupo A\",AM11)","v":"Tomás Guerreiro (DP)"},{"$f":"IF($D$35=\"\",\"2º Grupo A\",AM10)","v":"Rui Bernardo (DP)"},"PS-InfB","Pares Senhoras - Infantis B"]
[null,12,"4 Grupos: 3+3+3+3","2 Primeiros de cada Grupo",null,null,null,null,null,null,null,null,null,null,null,null,null,null,null,null,null,null,null,null,null,null,null,null,null,null,null,null,null,null,null,null,null,null,null,null,null,null,null,null,null,null,null,"9º",null,8,{"$f":"IF(D27=\"\",\"2º Melhor 3º\",IF(AW60<>\"\",AW60,IF(AW61<>\"\",AW61,AW62)))","v":"Pedro Dionísio (ASA)"},{"$f":"IF(D27=\"\",\"3º Grupo B\",AM18)","v":"Valentim Boros (DP)"},{"$f":"IF($D$35=\"\",\"2º Grupo D\",AM31)","v":"Mário Delgado (ASA)"},"PS-Ini","Pares Senhoras - Iniciados"]
[null,13,"4 Grupos: 4+3+3+3","2 Primeiros de cada Grupo",null,null,null,null,null,null,null,null,null,null,null,null,null,null,null,null,null,null,null,null,null,null,null,null,null,null,null,null,null,null,null,null,null,null,null,null,null,null,null,null,null,null,null,"A",{"$f":"IF(AY62<>AM11,IF(AND(AT11<AT18,AT11<AT25),AM11,\"\"),\"\")","v":""},"9º",{"$f":"IF(D27=\"\",\"\",IF(AW64<>\"\",AW64,IF(AW65<>\"\",AW65,AW66)))","v":"Valentim Boros (DP)"},{"$f":"IF(D27=\"\",\"\",AM25)","v":"Pedro Dionísio (ASA)"},{"$f":"IF($D$35=\"\",\"\",AM11)","v":"Tomás Guerreiro (DP)"},"PS-Jun","Pares Senhoras - Juniores"]
[null,14,"4 Grupos: 4+4+3+3","2 Primeiros de cada Grupo",null,null,null,null,null,null,null,null,null,null,null,null,null,null,null,null,null,null,null,null,null,null,null,null,null,null,null,null,null,null,null,null,null,null,null,null,null,null,null,null,null,null,null,"B",{"$f":"IF(AY62<>AM18,IF(AND(AT18<AT11,AT18<AT25),AM18,\"\"),\"\")","v":"Valentim Boros (DP)"},"10º",{"$f":"IF(D27=\"\",\"\",AM12)","v":"João Alexandre (DP)"},{"$f":"IF(D27=\"\",\"\",AM12)","v":"João Alexandre (DP)"},{"$f":"IF($D$35=\"\",\"\",AM18)","v":"Valentim Boros (DP)"},"PS-Juv","Pares Senhoras - Juvenis"]
[null,15,"4 Grupos: 4+4+4+3","2 Primeiros de cada Grupo",null,null,null,null,null,null,null,null,null,null,null,null,null,null,null,null,null,null,null,null,null,null,null,null,null,null,null,null,null,null,null,null,null,null,null,null,null,null,null,null,null,null,null,"C",{"$f":"IF(AY62<>AM25,IF(AND(AT25<AT11,AT25<AT18),AM25,\"\"),\"\")","v":""},"11º"," ",{"$f":"IF(D27=\"\",\"\",AM19)","v":"Afonso Brito (DP)"},{"$f":"IF($D$35=\"\",\"\",AM25)","v":"Pedro Dionísio (ASA)"},"SH-InfA","Singulares Homens - Infantis A"]
[null,16,"4 Grupos: 4+4+4+4","2 Primeiros de cada Grupo",null,null,null,null,null,null,null,null,null,null,null,null,null,null,null,null,null,null,null,null,null,null,null,null,null,null,null,null,null,null,null,null,null,null,null,null,null,null,null,null,null,null,null,null,null,"12º"," "," ",{"$f":"IF($D$35=\"\",\"\",AM32)","v":"Diogo Esteves (ASA)"},"SH-InfB","Singulares Homens - Infantis B"]
[null,null,null,null,null,null,null,null,null,null,null,null,null,null,null,null,null,null,null,null,null,null,null,null,null,null,null,null,null,null,null,null,null,null,null,null,null,null,null,null,null,null,null,null,null,null,null,null,null,"13º"," "," ",{"$f":"IF($D$35=\"\",\"\",AM19)","v":"Afonso Brito (DP)"},"SH-Ini","Singulares Homens - Iniciados"]
[null,null,null,null,null,null,null,null,null,null,null,null,null,null,null,null,null,null,null,null,null,null,null,null,null,null,null,null,null,null,null,null,null,null,null,null,null,null,null,null,null,null,null,null,null,null,null,null,null,"14º"," "," ",{"$f":"IF($D$35=\"\",\"\",AM26)","v":"Pedro Trindade (DP)"},"SH-Jun","Singulares Homens - Juniores"]
[null,null,null,null,null,null,null,null,null,null,null,null,null,null,null,null,null,null,null,null,null,null,null,null,null,null,null,null,null,null,null,null,null,null,null,null,null,null,null,null,null,null,null,null,null,null,null,null,null,"15º"," "," ",{"$f":"IF($D$35=\"\",\"\",AM33)","v":"Guilherme Ponte (DP)"},"SH-Juv","Singulares Homens - Juvenis"]
[null,null,null,null,null,null,null,null,null,null,null,null,null,null,null,null,null,null,null,null,null,null,null,null,null,null,null,null,null,null,null,null,null,null,null,null,null,null,null,null,null,null,null,null,null,null,null,null,null,"16º"," "," ",{"$f":"IF($D$35=\"\",\"\",AM12)","v":"João Alexandre (DP)"},"SS-InfA","Singulares Senhoras - Infantis A"]
[null,null,null,null,null,null,null,null,null,null,null,null,null,null,null,null,null,null,null,null,null,null,null,null,null,null,null,null,null,null,null,null,null,null,null,null,null,null,null,null,null,null,null,null,null,null,null,null,null,null,"Lista ",null,null,"SS-InfB","Singulares Senhoras - Infantis B"]
[null,null,null,null,null,null,null,null,null,null,null,null,null,null,null,null,null,null,null,null,null,null,null,null,null,null,null,null,null,null,null,null,null,null,null,null,null,null,null,null,null,null,null,null,null,null,null,null,null,null,0,null,null,"SS-Ini","Singulares Senhoras - Iniciados"]
[null,null,null,null,null,null,null,null,null,null,null,null,null,null,null,null,null,null,null,null,null,null,null,null,null,null,null,null,null,null,null,null,null,null,null,null,null,null,null,null,null,null,null,null,null,null,null,null,null,null,1,null,null,"SS-Jun","Singulares Senhoras - Juniores"]
[null,null,null,null,null,null,null,null,null,null,null,null,null,null,null,null,null,null,null,null,null,null,null,null,null,null,null,null,null,null,null,null,null,null,null,null,null,null,null,null,null,null,null,null,null,null,null,null,null,null,2,null,null,"SS-Juv","Singulares Senhoras - Juvenis"]
[null,null,null,null,null,null,null,null,null,null,null,null,null,null,null,null,null,null,null,null,null,null,null,null,null,null,null,null,null,null,null,null,null,null,null,null,null,null,null,null,null,null,null,null,null,null,null,null,null,null,3]
[null,null,null,null,null,null,null,null,null,null,null,null,null,null,null,null,null,null,null,null,null,null,null,null,null,null,null,null,null,null,null,null,null,null,null,null,null,null,null,null,null,null,null,null,null,null,null,null,null,null,4]
[null,null,null,null,null,null,null,null,null,null,null,null,null,null,null,null,null,null,null,null,null,null,null,null,null,null,null,null,null,null,null,null,null,null,null,null,null,null,null,null,null,null,null,null,null,null,null,null,null,null,5]
[null,null,null,null,null,null,null,null,null,null,null,null,null,null,null,null,null,null,null,null,null,null,null,null,null,null,null,null,null,null,null,null,null,null,null,null,null,null,null,null,null,null,null,null,null,null,null,null,null,null,6]
[null,null,null,null,null,null,null,null,null,null,null,null,null,null,null,null,null,null,null,null,null,null,null,null,null,null,null,null,null,null,null,null,null,null,null,null,null,null,null,null,null,null,null,null,null,null,null,null,null,null,7]
[null,null,null,null,null,null,null,null,null,null,null,null,null,null,null,null,null,null,null,null,null,null,null,null,null,null,null,null,null,null,null,null,null,null,null,null,null,null,null,null,null,null,null,null,null,null,null,null,null,null,8]
[null,null,null,null,null,null,null,null,null,null,null,null,null,null,null,null,null,null,null,null,null,null,null,null,null,null,null,null,null,null,null,null,null,null,null,null,null,null,null,null,null,null,null,null,null,null,null,null,null,null,9]
[null,null,null,null,null,null,null,null,null,null,null,null,null,null,null,null,null,null,null,null,null,null,null,null,null,null,null,null,null,null,null,null,null,null,null,null,null,null,null,null,null,null,null,null,null,null,null,null,null,null,10]
[null,null,null,null,null,null,null,null,null,null,null,null,null,null,null,null,null,null,null,null,null,null,null,null,null,null,null,null,null,null,null,null,null,null,null,null,null,null,null,null,null,null,null,null,null,null,null,null,null,null,11]
[null,null,null,null,null,null,null,null,null,null,null,null,null,null,null,null,null,null,null,null,null,null,null,null,null,null,null,null,null,null,null,null,null,null,null,null,null,null,null,null,null,null,null,null,null,null,null,null,null,null,12]
[null,null,null,null,null,null,null,null,null,null,null,null,null,null,null,null,null,null,null,null,null,null,null,null,null,null,null,null,null,null,null,null,null,null,null,null,null,null,null,null,null,null,null,null,null,null,null,null,null,null,13]
[null,null,null,null,null,null,null,null,null,null,null,null,null,null,null,null,null,null,null,null,null,null,null,null,null,null,null,null,null,null,null,null,null,null,null,null,null,null,null,null,null,null,null,null,null,null,null,null,null,null,14]
[null,null,null,null,null,null,null,null,null,null,null,null,null,null,null,null,null,null,null,null,null,null,null,null,null,null,null,null,null,null,null,null,null,null,null,null,null,null,null,null,null,null,null,null,null,null,null,null,null,null,15]
[null,null,null,null,null,null,null,null,null,null,null,null,null,null,null,null,null,null,null,null,null,null,null,null,null,null,null,null,null,null,null,null,null,null,null,null,null,null,null,null,null,null,null,null,null,null,null,null,null,null,16]
[null,null,null,null,null,null,null,null,null,null,null,null,null,null,null,null,null,null,null,null,null,null,null,null,null,null,null,null,null,null,null,null,null,null,null,null,null,null,null,null,null,null,null,null,null,null,null,null,null,null,17]
[null,null,null,null,null,null,null,null,null,null,null,null,null,null,null,null,null,null,null,null,null,null,null,null,null,null,null,null,null,null,null,null,null,null,null,null,null,null,null,null,null,null,null,null,null,null,null,null,null,null,18]
[null,null,null,null,null,null,null,null,null,null,null,null,null,null,null,null,null,null,null,null,null,null,null,null,null,null,null,null,null,null,null,null,null,null,null,null,null,null,null,null,null,null,null,null,null,null,null,null,null,null,19]
[null,null,null,null,null,null,null,null,null,null,null,null,null,null,null,null,null,null,null,null,null,null,null,null,null,null,null,null,null,null,null,null,null,null,null,null,null,null,null,null,null,null,null,null,null,null,null,null,null,null,20]
[null,null,null,null,null,null,null,null,null,null,null,null,null,null,null,null,null,null,null,null,null,null,null,null,null,null,null,null,null,null,null,null,null,null,null,null,null,null,null,null,null,null,null,null,null,null,null,null,null,null,21]
[null,null,null,null,null,null,null,null,null,null,null,null,null,null,null,null,null,null,null,null,null,null,null,null,null,null,null,null,null,null,null,null,null,null,null,null,null,null,null,null,null,null,null,null,null,null,null,null,null,null,22]
[null,null,null,null,null,null,null,null,null,null,null,null,null,null,null,null,null,null,null,null,null,null,null,null,null,null,null,null,null,null,null,null,null,null,null,null,null,null,null,null,null,null,null,null,null,null,null,null,null,null,23]
[null,null,null,null,null,null,null,null,null,null,null,null,null,null,null,null,null,null,null,null,null,null,null,null,null,null,null,null,null,null,null,null,null,null,null,null,null,null,null,null,null,null,null,null,null,null,null,null,null,null,24]
[null,null,null,null,null,null,null,null,null,null,null,null,null,null,null,null,null,null,null,null,null,null,null,null,null,null,null,null,null,null,null,null,null,null,null,null,null,null,null,null,null,null,null,null,null,null,null,null,null,null,25]
[null,null,null,null,null,null,null,null,null,null,null,null,null,null,null,null,null,null,null,null,null,null,null,null,null,null,null,null,null,null,null,null,null,null,null,null,null,null,null,null,null,null,null,null,null,null,null,null,null,null,26]
[null,null,null,null,null,null,null,null,null,null,null,null,null,null,null,null,null,null,null,null,null,null,null,null,null,null,null,null,null,null,null,null,null,null,null,null,null,null,null,null,null,null,null,null,null,null,null,null,null,null,27]
[null,null,null,null,null,null,null,null,null,null,null,null,null,null,null,null,null,null,null,null,null,null,null,null,null,null,null,null,null,null,null,null,null,null,null,null,null,null,null,null,null,null,null,null,null,null,null,null,null,null,28]
[null,null,null,null,null,null,null,null,null,null,null,null,null,null,null,null,null,null,null,null,null,null,null,null,null,null,null,null,null,null,null,null,null,null,null,null,null,null,null,null,null,null,null,null,null,null,null,null,null,null,29]
[null,null,null,null,null,null,null,null,null,null,null,null,null,null,null,null,null,null,null,null,null,null,null,null,null,null,null,null,null,null,null,null,null,null,null,null,null,null,null,null,null,null,null,null,null,null,null,null,null,null,30]
[null,null,null,null,null,null,null,null,null,null,null,null,null,null,null,null,null,null,null,null,null,null,null,null,null,null,null,null,null,null,null,null,null,null,null,null,null,null,null,null,null,null,null,null,null,null,null,null,null,null,"fc"]
[null,null,null,null,null,null,null,null,null,null,null,null,null,null,null,null,null,null,null,null,null,null,null,null,null,null,null,null,null,null,null,null,null,null,null,null,null,null,null,null,null,null,null,null,null,null,null,null,null,null,"v"]

{"sheet":"SH-Juv","index":14,"n_rows":79,"n_cols":59,"rows_kept":79,"cut":false,"hidden":false,"merged":[[0,3,0,14],[0,15,1,23],[1,3,1,14],[1,46,1,56],[2,15,2,21],[2,55,2,56],[3,0,3,1],[3,2,3,7],[3,8,3,12],[3,15,3,23],[7,50,14,54],[8,47,9,49],[11,47,12,49],[23,16,23,20],[23,21,23,23],[24,16,24,20],[24,21,24,23],[20,16,20,20],[20,21,20,23],[21,16,21,20],[21,21,21,23],[22,16,22,20],[22,21,22,23]]}
[null,null,null,"Direcção Regional de Educação do Algarve",null,null,null,null,null,null,null,null,null,null,null,"Badminton",null,null,null,null,null,null,null,null,null,null,null,null,null,null,null,null,null,null,null,null,null,null,null,null,null,null,null,null,null,null,null,null,null,"Quadro para 2 a 4 Jogadores"]
[null,null,null,{"$f":"\"Ano Lectivo \"&Apoio!F10","v":"Ano Lectivo 2017/2018"},null,null,null,null,null,null,null,null,null,null,null,null,null,null,null,null,null,null,null,null,null,null,null,null,null,null,null,null,null,null,null,null,null,null,null,null,null,null,null,null,null,null,"Lista de Participantes"]
[null,null,null,null,null,null,null,null,null,null,null,null,null,null,null,{"$f":"'Ficha de Inscrição'!$J$4","v":"2018-01-17"},null,null,null,null,null,null,null,null,null,null,null,null,null,null,null,null,null,null,null,null,null,null,null,null,null,null,null,null,null,null,"Ordem","Nº","Nome (1º e último)","Escola","Abv.","Ano Nasc.","Escalão","Sexo","Observações","Insc. Prova",null,"Pontos Rank"]
["SH-Juv",null,{"$f":"LOOKUP(A4,Apoio!N9:N39,Apoio!O9:O39)","v":"Singulares Homens - Juvenis"},null,null,null,null,null,{"$f":"'Ficha de Inscrição'!$A$5","v":"Torneio Nº 4"},null,null,null,null,null,null,{"$f":"\"Escola: \"&'Ficha de Inscrição'!$D$4","v":"Escola: ACav.Silva"},null,null,null,null,null,null,null,null,null,null,null,null,null,null,null,null,null,null,null,null,null,null,null,null,null,null,null,null,null,null,1,null,"Nuno Araújo","ASAgostinho","ASA",2002,"Juvenis","M",null,"SH",null,null,{"$f":"AW4&\" (\"&AY4&\")\"","v":"Nuno Araújo (ASA)"}]
[null,"Calendário",null,null,null,null,null,null,null,null,null,null,null,null,null,"2ª FASE",null,null,null,null,null,null,null,null,null,null,null,null,null,null,null,null,null,null,null,null,null,null,null,null,null,null,null,null,null,null,2,null,"Pedro Luz","ASAgostinho","ASA",2001,"Juvenis","M",null,"SH",null,null,{"$f":"AW5&\" (\"&AY5&\")\"","v":"Pedro Luz (ASA)"}]
[null,null,null,null,null,null,null,null,null,null,null,null,null,null,null,null,null,null,null,null,null,null,null,null,null,null,null,"Colocar Equipas",null,null,null,null,null,null,null,null,"Ordenar p/ Pts 1",null,"Vencedores","Derrotados",null,null,null,null,null,null,3,null,"Gheorghe Tefan","ASAgostinho","ASA",2001,"Juvenis","M",null,"SH",null,null,{"$f":"AW6&\" (\"&AY6&\")\"","v":"Gheorghe Tefan (ASA)"}]
[null,null,null,null,null,null,null,null,null,null,null,null,null,1,null,null,null,null,null,null,null,null,null,null,null,null,null,"Grupo A",null,null,null,null,null,null,null,null,null,null,{"$f":"IF(G11<>\"\",IF(G11>G10,C11,IF(G10>G11,C10,\"Empate\")),\"\")","v":"Pedro Luz (ASA)"},{"$f":"IF(G11<>\"\",IF(G11<G10,C11,IF(G10<G11,C10,\"Empate\")),\"\")","v":"Nuno Araújo (ASA)"},null,null,null,null,null,null,4,null,null,null,null,null,null,null,null,null,null,null,{"$f":"AW7&\" (\"&AY7&\")\"","v":" ()"}]
[null,null,null,null,null,null,null,null,null,null,null,null,null,16,null,null,null,null,null,null,null,null,null,null,null,null,null,"Jogadores","Jg","V","E","D","GM","GS","DG","Pts","Rank","Pts",{"$f":"IF(G12<>\"\",IF(G12>G13,C12,IF(G13>G12,C13,\"Empate\")),\"\")","v":""},{"$f":"IF(G12<>\"\",IF(G12<G13,C12,IF(G13<G12,C13,\"Empate\")),\"\")","v":""}]
[null,"NºJ","Jogadores",1,2,3,"R",null,null,null,null,null,null,null,null,null,null,null,null,null,null,null,null,null,null,null,{"$f":"COUNTIF($AK$9:$AK$12,CONCATENATE(\">=\",AK9))","v":3},{"$f":"IF(P22=\"\",\"\",CONCATENATE(P22,\" (\",V22,\")\"))","v":"Nuno Araújo (ASA)"},{"$f":"COUNT(G11,G15,G23)","v":2},{"$f":"COUNTIF(AM7:AM12,AB9)","v":0},{"$f":"AC9-(AD9+AF9)","v":0},{"$f":"COUNTIF(AN7:AN12,AB9)","v":2},{"$f":"SUM(D11:F11,D15:F15,D23:F23)","v":14},{"$f":"SUM(D10:F10,D16:F16,D22:F22)","v":44},{"$f":"AG9-AH9","v":-30},{"$f":"IF(AC9=0,0,AD9*2+AF9*1)","v":2},{"$f":"AJ9*1000000+(AG9-AH9)*10000+AG9*100+AL9","v":1701404},4,{"$f":"IF(G15<>\"\",IF(G15>G16,C15,IF(G16>G15,C16,\"Empate\")),\"\")","v":"Gheorghe Tefan (ASA)"},{"$f":"IF(G15<>\"\",IF(G15<G16,C15,IF(G16<G15,C16,\"Empate\")),\"\")","v":"Nuno Araújo (ASA)"},null,null,null,null,null,null,null,"Se pretender efectuar altrerações apague, e volte a introduzir os jogadores que pretender nos espaços disponíveis."]
[null,{"$f":"$A$4","v":"SH-Juv"},{"$f":"AB10","v":"Pedro Luz (ASA)"},11,11,null,{"$f":"IF(ISBLANK(D10),\"\",SUM(IF(D10>D11,1,0)+(IF(E10>E11,1,0)+(IF(F10>F11,1,0)))))","v":2},null,null,null,null,null,null,9,null,"Classificação",null,null,null,null,null,null,null,null,null,null,{"$f":"COUNTIF($AK$9:$AK$12,CONCATENATE(\">=\",AK10))","v":2},{"$f":"IF(P23=\"\",\"\",CONCATENATE(P23,\" (\",V23,\")\"))","v":"Pedro Luz (ASA)"},{"$f":"COUNT(G10,G18,G21)","v":2},{"$f":"COUNTIF(AM7:AM12,AB10)","v":1},{"$f":"AC10-(AD10+AF10)","v":0},{"$f":"COUNTIF(AN7:AN12,AB10)","v":1},{"$f":"SUM(D10:F10,D18:F18,D21:F21)","v":39},{"$f":"SUM(D11:F11,D17:F17,D20:F20)","v":30},{"$f":"AG10-AH10","v":9},{"$f":"IF(AC10=0,0,AD10*2+AF10*1)","v":3},{"$f":"AJ10*1000000+(AG10-AH10)*10000+AG10*100+AL10","v":3093903},3,{"$f":"IF(G17<>\"\",IF(G17>G18,C17,IF(G18>G17,C18,\"Empate\")),\"\")","v":""},{"$f":"IF(G17<>\"\",IF(G17<G18,C17,IF(G18<G17,C18,\"Empate\")),\"\")","v":""}]
[null,1,{"$f":"AB9","v":"Nuno Araújo (ASA)"},3,5,null,{"$f":"IF(ISBLANK(D10),\"\",SUM(IF(D11>D10,1,0)+(IF(E11>E10,1,0)+(IF(F11>F10,1,0)))))","v":0},null,null,null,null,null,null,8,"Cl",{"$f":"AB8","v":"Jogadores"},"Jg","V","E","D","PM","PS","DP","Pt.",null,null,{"$f":"COUNTIF($AK$9:$AK$12,CONCATENATE(\">=\",AK11))","v":1},{"$f":"IF(P24=\"\",\"\",CONCATENATE(P24,\" (\",V24,\")\"))","v":"Gheorghe Tefan (ASA)"},{"$f":"COUNT(G12,G16,G20)","v":2},{"$f":"COUNTIF(AM7:AM12,AB11)","v":2},{"$f":"AC11-(AD11+AF11)","v":0},{"$f":"COUNTIF(AN7:AN12,AB11)","v":0},{"$f":"SUM(D12:F12,D16:F16,D20:F20)","v":44},{"$f":"SUM(D13:F13,D15:F15,D21:F21)","v":23},{"$f":"AG11-AH11","v":21},{"$f":"IF(AC11=0,0,AD11*2+AF11*1)","v":4},{"$f":"AJ11*1000000+(AG11-AH11)*10000+AG11*100+AL11","v":4214402},2,{"$f":"IF(G22<>\"\",IF(G22>G23,C22,IF(G23>G22,C23,\"Empate\")),\"\")","v":""},{"$f":"IF(G22<>\"\",IF(G22<G23,C22,IF(G23<G22,C23,\"Empate\")),\"\")","v":""}]
[null,{"$f":"$A$4","v":"SH-Juv"},{"$f":"IF(C13=\"\",\"\",AB11)","v":""},null,null,null,{"$f":"IF(ISBLANK(D12),\"\",SUM(IF(D12>D13,1,0)+(IF(E12>E13,1,0)+(IF(F12>F13,1,0)))))","v":""},null,null,null,null,null,null,null,1,{"$f":"VLOOKUP($O12,$AA$9:$AJ$12,2,FALSE)","v":"Gheorghe Tefan (ASA)"},{"$f":"IF(P12=\"\",\"\",VLOOKUP($O12,$AA$9:$AJ$12,3,FALSE))","v":2},{"$f":"IF(P12=\"\",\"\",VLOOKUP($O12,$AA$9:$AJ$12,4,FALSE))","v":2},{"$f":"IF(P12=\"\",\"\",VLOOKUP($O12,$AA$9:$AJ$12,5,FALSE))","v":0},{"$f":"IF(P12=\"\",\"\",VLOOKUP($O12,$AA$9:$AJ$12,6,FALSE))","v":0},{"$f":"IF(P12=\"\",\"\",VLOOKUP($O12,$AA$9:$AJ$12,7,FALSE))","v":44},{"$f":"IF(P12=\"\",\"\",VLOOKUP($O12,$AA$9:$AJ$12,8,FALSE))","v":23},{"$f":"IF(P12=\"\",\"\",VLOOKUP($O12,$AA$9:$AJ$12,9,FALSE))","v":21},{"$f":"IF(P12=\"\",\"\",VLOOKUP($O12,$AA$9:$AJ$12,10,FALSE))","v":4},null,null,{"$f":"COUNTIF($AK$9:$AK$12,CONCATENATE(\">=\",AK12))","v":4},{"$f":"IF(P25=\"\",\"\",CONCATENATE(P25,\" (\",V25,\")\"))","v":""},{"$f":"COUNT(G13,G17,G22)","v":0},{"$f":"COUNTIF(AM7:AM12,AB12)","v":3},{"$f":"AC12-(AD12+AF12)","v":-6},{"$f":"COUNTIF(AN7:AN12,AB12)","v":3},{"$f":"SUM(D13:F13,D17:F17,D22:F22)","v":0},{"$f":"SUM(D12:F12,D18:F18,D23:F23)","v":0},{"$f":"AG12-AH12","v":0},{"$f":"IF(AC12=0,0,AD12*2+AF12*1)","v":0},{"$f":"AJ12*1000000+(AG12-AH12)*10000+AG12*100+AL12","v":1},1,{"$f":"IF(G21<>\"\",IF(G21>G20,C21,IF(G20>G21,C20,\"Empate\")),\"\")","v":"Gheorghe Tefan (ASA)"},{"$f":"IF(G21<>\"\",IF(G21<G20,C21,IF(G20<G21,C20,\"Empate\")),\"\")","v":"Pedro Luz (ASA)"},null,null,null,null,null,null,null,"Para efectuar alterações à de colocações nos grupos dos jogadores, altere a coluna \"ORDEM\" dando uma nova ordem de nºs e depois clique em Ordenar."]
[null,{"$f":"B11+1","v":2},{"$f":"AB12","v":""},null,null,null,{"$f":"IF(ISBLANK(D12),\"\",SUM(IF(D13>D12,1,0)+(IF(E13>E12,1,0)+(IF(F13>F12,1,0)))))","v":""},null,null,null,null,null,null,5,2,{"$f":"VLOOKUP($O13,$AA$9:$AJ$12,2,FALSE)","v":"Pedro Luz (ASA)"},{"$f":"IF(P13=\"\",\"\",VLOOKUP($O13,$AA$9:$AJ$12,3,FALSE))","v":2},{"$f":"IF(P13=\"\",\"\",VLOOKUP($O13,$AA$9:$AJ$12,4,FALSE))","v":1},{"$f":"IF(P13=\"\",\"\",VLOOKUP($O13,$AA$9:$AJ$12,5,FALSE))","v":0},{"$f":"IF(P13=\"\",\"\",VLOOKUP($O13,$AA$9:$AJ$12,6,FALSE))","v":1},{"$f":"IF(P13=\"\",\"\",VLOOKUP($O13,$AA$9:$AJ$12,7,FALSE))","v":39},{"$f":"IF(P13=\"\",\"\",VLOOKUP($O13,$AA$9:$AJ$12,8,FALSE))","v":30},{"$f":"IF(P13=\"\",\"\",VLOOKUP($O13,$AA$9:$AJ$12,9,FALSE))","v":9},{"$f":"IF(P13=\"\",\"\",VLOOKUP($O13,$AA$9:$AJ$12,10,FALSE))","v":3}]
[null,null,null,null,null,null,null,null,null,null,null,null,null,12,3,{"$f":"VLOOKUP($O14,$AA$9:$AJ$12,2,FALSE)","v":"Nuno Araújo (ASA)"},{"$f":"IF(P14=\"\",\"\",VLOOKUP($O14,$AA$9:$AJ$12,3,FALSE))","v":2},{"$f":"IF(P14=\"\",\"\",VLOOKUP($O14,$AA$9:$AJ$12,4,FALSE))","v":0},{"$f":"IF(P14=\"\",\"\",VLOOKUP($O14,$AA$9:$AJ$12,5,FALSE))","v":0},{"$f":"IF(P14=\"\",\"\",VLOOKUP($O14,$AA$9:$AJ$12,6,FALSE))","v":2},{"$f":"IF(P14=\"\",\"\",VLOOKUP($O14,$AA$9:$AJ$12,7,FALSE))","v":14},{"$f":"IF(P14=\"\",\"\",VLOOKUP($O14,$AA$9:$AJ$12,8,FALSE))","v":44},{"$f":"IF(P14=\"\",\"\",VLOOKUP($O14,$AA$9:$AJ$12,9,FALSE))","v":-30},{"$f":"IF(P14=\"\",\"\",VLOOKUP($O14,$AA$9:$AJ$12,10,FALSE))","v":2}]
[null,{"$f":"$A$4","v":"SH-Juv"},{"$f":"AB9","v":"Nuno Araújo (ASA)"},2,4,null,{"$f":"IF(ISBLANK(D15),\"\",SUM(IF(D15>D16,1,0)+(IF(E15>E16,1,0)+(IF(F15>F16,1,0)))))","v":0},null,null,null,null,null,null,null,4,{"$f":"VLOOKUP($O15,$AA$9:$AJ$12,2,FALSE)","v":""},{"$f":"IF(P15=\"\",\"\",VLOOKUP($O15,$AA$9:$AJ$12,3,FALSE))","v":""},{"$f":"IF(P15=\"\",\"\",VLOOKUP($O15,$AA$9:$AJ$12,4,FALSE))","v":""},{"$f":"IF(P15=\"\",\"\",VLOOKUP($O15,$AA$9:$AJ$12,5,FALSE))","v":""},{"$f":"IF(P15=\"\",\"\",VLOOKUP($O15,$AA$9:$AJ$12,6,FALSE))","v":""},{"$f":"IF(P15=\"\",\"\",VLOOKUP($O15,$AA$9:$AJ$12,7,FALSE))","v":""},{"$f":"IF(P15=\"\",\"\",VLOOKUP($O15,$AA$9:$AJ$12,8,FALSE))","v":""},{"$f":"IF(P15=\"\",\"\",VLOOKUP($O15,$AA$9:$AJ$12,9,FALSE))","v":""},{"$f":"IF(P15=\"\",\"\",VLOOKUP($O15,$AA$9:$AJ$12,10,FALSE))","v":""}]
[null,{"$f":"B13+1","v":3},{"$f":"AB11","v":"Gheorghe Tefan (ASA)"},11,11,null,{"$f":"IF(ISBLANK(D15),\"\",SUM(IF(D16>D15,1,0)+(IF(E16>E15,1,0)+(IF(F16>F15,1,0)))))","v":2},null,null,null,null,null,null,13]
[null,{"$f":"$A$4","v":"SH-Juv"},{"$f":"AB12","v":""},null,null,null,{"$f":"IF(ISBLANK(D17),\"\",SUM(IF(D17>D18,1,0)+(IF(E17>E18,1,0)+(IF(F17>F18,1,0)))))","v":""},null,null,null,null,null,null,4]
[null,{"$f":"B16+1","v":4},{"$f":"IF(C17=\"\",\"\",AB10)","v":""},null,null,null,{"$f":"IF(ISBLANK(D17),\"\",SUM(IF(D18>D17,1,0)+(IF(E18>E17,1,0)+(IF(F18>F17,1,0)))))","v":""}]
[null,null,null,null,null,null,null,null,null,null,null,null,null,3]
[null,{"$f":"$A$4","v":"SH-Juv"},{"$f":"AB11","v":"Gheorghe Tefan (ASA)"},11,11,null,{"$f":"IF(ISBLANK(D20),\"\",SUM(IF(D20>D21,1,0)+(IF(E20>E21,1,0)+(IF(F20>F21,1,0)))))","v":2},null,null,null,null,null,null,null,null,"Jogadores"]
[null,{"$f":"B18+1","v":5},{"$f":"AB10","v":"Pedro Luz (ASA)"},8,9,null,{"$f":"IF(ISBLANK(D20),\"\",SUM(IF(D21>D20,1,0)+(IF(E21>E20,1,0)+(IF(F21>F20,1,0)))))","v":0},null,null,null,null,null,"#",null,"NºJ","Nome (1º e último)","Escola",null,null,null,null,"Abv.*"]
[null,{"$f":"$A$4","v":"SH-Juv"},{"$f":"AB12","v":""},null,null,null,{"$f":"IF(ISBLANK(D22),\"\",SUM(IF(D22>D23,1,0)+(IF(E22>E23,1,0)+(IF(F22>F23,1,0)))))","v":""},null,null,null,null,null,1,null,{"$f":"IF(AV4=\"\",\"\",AV4)","v":""},"Nuno Araújo","ASAgostinho",null,null,null,null,{"$f":"IF(AY4=\"\",\"\",AY4)","v":"ASA"}]
[null,{"$f":"B21+1","v":6},{"$f":"IF(C22=\"\",\"\",AB9)","v":""},null,null,null,{"$f":"IF(ISBLANK(D22),\"\",SUM(IF(D23>D22,1,0)+(IF(E23>E22,1,0)+(IF(F23>F22,1,0)))))","v":""},null,null,null,null,null,2,null,"","Pedro Luz","ASAgostinho",null,null,null,null,{"$f":"IF(AY5=\"\",\"\",AY5)","v":"ASA"}]
[null,null,null,null,null,null,null,null,null,null,null,null,3,null,"","Gheorghe Tefan","ASAgostinho",null,null,null,null,{"$f":"IF(AY6=\"\",\"\",AY6)","v":"ASA"}]
[null,null,null,null,null,null,null,null,null,null,null,null,4,null,"","","",null,null,null,null,{"$f":"IF(AY7=\"\",\"\",AY7)","v":""}]
[null,null,null,null,null,null,null,null,null,null,null,null,null,4]
[null,null,null,null,null,null,null,null,null,null,null,null,null,null,"Cl.","Ranking","Pt."]
[null,null,null,null,null,null,null,null,null,null,null,null,null,null,"1º",{"$f":"P12","v":"Gheorghe Tefan (ASA)"},12]
[null,null,null,null,null,null,null,null,null,null,null,null,null,null,"2º",{"$f":"P13","v":"Pedro Luz (ASA)"},11]
[null,null,null,null,null,null,null,null,null,null,null,null,null,null,"3º",{"$f":"P14","v":"Nuno Araújo (ASA)"},10]
[null,null,null,null,null,null,null,null,null,null,null,null,null,null,"4º",{"$f":"P15","v":""},8]
[]
[]
[null,null,null,null,null,null,null,null,null,null,null,null,null,8]
[]
[]
[]
[]
[]
[]
[null,null,null,null,null,null,null,null,null,null,null,null,null,null,null,null,null,null,null,null,null,null,null,null,null,null,null,{"$f":"IF(AW13=\"\",\"\",IF($AW$15=\"\",AW13,\"\"))","v":""}]
[null,null,null,null,null,null,null,null,null,null,null,null,null,null,null,null,null,null,null,null,null,null,null,null,null,null,null,{"$f":"IF(AW14=\"\",\"\",IF($AW$15=\"\",AW14,\"\"))","v":""}]
[]
[]
[]
[null,null,null,null,null,null,null,null,null,null,null,null,null,null,null,null,null,null,null,null,null,null,null,null,null,null,null,null,"Lista ",null,"ABV","Nome"]
[null,null,null,null,null,null,null,null,null,null,null,null,null,null,null,null,null,null,null,null,null,null,null,null,null,null,null,null,0,null,"EM-Juv","Equipas Mistas - Juvenis"]
[null,null,null,null,null,null,null,null,null,null,null,null,null,null,null,null,null,null,null,null,null,null,null,null,null,null,null,null,1,null,"PH-InfA","Pares Homens - Infantis A"]
[null,null,null,null,null,null,null,null,null,null,null,null,null,null,null,null,null,null,null,null,null,null,null,null,null,null,null,null,2,null,"PH-InfB","Pares Homens - Infantis B"]
[null,null,null,null,null,null,null,null,null,null,null,null,null,null,null,null,null,null,null,null,null,null,null,null,null,null,null,null,3,null,"PH-Ini","Pares Homens - Iniciados"]
[null,null,null,null,null,null,null,null,null,null,null,null,null,null,null,null,null,null,null,null,null,null,null,null,null,null,null,null,4,null,"PH-Jun","Pares Homens - Juniores"]
[null,null,null,null,null,null,null,null,null,null,null,null,null,null,null,null,null,null,null,null,null,null,null,null,null,null,null,null,5,null,"PH-Juv","Pares Homens - Juvenis"]
[null,null,null,null,null,null,null,null,null,null,null,null,null,null,null,null,null,null,null,null,null,null,null,null,null,null,null,null,6,null,"PM-Ini","Pares Mistos - Iniciados"]
[null,null,null,null,null,null,null,null,null,null,null,null,null,null,null,null,null,null,null,null,null,null,null,null,null,null,null,null,7,null,"PS-InfA","Pares Senhoras - Infantis A"]
[null,null,null,null,null,null,null,null,null,null,null,null,null,null,null,null,null,null,null,null,null,null,null,null,null,null,null,null,8,null,"PS-InfB","Pares Senhoras - Infantis B"]
[null,null,null,null,null,null,null,null,null,null,null,null,null,null,null,null,null,null,null,null,null,null,null,null,null,null,null,null,9,null,"PS-Ini","Pares Senhoras - Iniciados"]
[null,null,null,null,null,null,null,null,null,null,null,null,null,null,null,null,null,null,null,null,null,null,null,null,null,null,null,null,10,null,"PS-Jun","Pares Senhoras - Juniores"]
[null,null,null,null,null,null,null,null,null,null,null,null,null,null,null,null,null,null,null,null,null,null,null,null,null,null,null,null,11,null,"PS-Juv","Pares Senhoras - Juvenis"]
[null,null,null,null,null,null,null,null,null,null,null,null,null,null,null,null,null,null,null,null,null,null,null,null,null,null,null,null,12,null,"SH-InfA","Singulares Homens - Infantis A"]
[null,null,null,null,null,null,null,null,null,null,null,null,null,null,null,null,null,null,null,null,null,null,null,null,null,null,null,null,13,null,"SH-InfB","Singulares Homens - Infantis B"]
[null,null,null,null,null,null,null,null,null,null,null,null,null,null,null,null,null,null,null,null,null,null,null,null,null,null,null,null,14,null,"SH-Ini","Singulares Homens - Iniciados"]
[null,null,null,null,null,null,null,null,null,null,null,null,null,null,null,null,null,null,null,null,null,null,null,null,null,null,null,null,15,null,"SH-Jun","Singulares Homens - Juniores"]
[null,null,null,null,null,null,null,null,null,null,null,null,null,null,null,null,null,null,null,null,null,null,null,null,null,null,null,null,16,null,"SH-Juv","Singulares Homens - Juvenis"]
[null,null,null,null,null,null,null,null,null,null,null,null,null,null,null,null,null,null,null,null,null,null,null,null,null,null,null,null,17,null,"SS-InfA","Singulares Senhoras - Infantis A"]
[null,null,null,null,null,null,null,null,null,null,null,null,null,null,null,null,null,null,null,null,null,null,null,null,null,null,null,null,18,null,"SS-InfB","Singulares Senhoras - Infantis B"]
[null,null,null,null,null,null,null,null,null,null,null,null,null,null,null,null,null,null,null,null,null,null,null,null,null,null,null,null,19,null,"SS-Ini","Singulares Senhoras - Iniciados"]
[null,null,null,null,null,null,null,null,null,null,null,null,null,null,null,null,null,null,null,null,null,null,null,null,null,null,null,null,20,null,"SS-Jun","Singulares Senhoras - Juniores"]
[null,null,null,null,null,null,null,null,null,null,null,null,null,null,null,null,null,null,null,null,null,null,null,null,null,null,null,null,21,null,"SS-Juv","Singulares Senhoras - Juvenis"]
[null,null,null,null,null,null,null,null,null,null,null,null,null,null,null,null,null,null,null,null,null,null,null,null,null,null,null,null,22]
[null,null,null,null,null,null,null,null,null,null,null,null,null,null,null,null,null,null,null,null,null,null,null,null,null,null,null,null,23]
[null,null,null,null,null,null,null,null,null,null,null,null,null,null,null,null,null,null,null,null,null,null,null,null,null,null,null,null,24]
[null,null,null,null,null,null,null,null,null,null,null,null,null,null,null,null,null,null,null,null,null,null,null,null,null,null,null,null,25]
[null,null,null,null,null,null,null,null,null,null,null,null,null,null,null,null,null,null,null,null,null,null,null,null,null,null,null,null,26]
[null,null,null,null,null,null,null,null,null,null,null,null,null,null,null,null,null,null,null,null,null,null,null,null,null,null,null,null,27]
[null,null,null,null,null,null,null,null,null,null,null,null,null,null,null,null,null,null,null,null,null,null,null,null,null,null,null,null,28]
[null,null,null,null,null,null,null,null,null,null,null,null,null,null,null,null,null,null,null,null,null,null,null,null,null,null,null,null,29]
[null,null,null,null,null,null,null,null,null,null,null,null,null,null,null,null,null,null,null,null,null,null,null,null,null,null,null,null,30]
[null,null,null,null,null,null,null,null,null,null,null,null,null,null,null,null,null,null,null,null,null,null,null,null,null,null,null,null,"fc"]
[null,null,null,null,null,null,null,null,null,null,null,null,null,null,null,null,null,null,null,null,null,null,null,null,null,null,null,null,"v"]

{"sheet":"16","index":15,"n_rows":105,"n_cols":120,"rows_kept":105,"cut":false,"hidden":true,"merged":[[23,108,24,110],[21,0,27,0],[22,23,22,26],[25,16,25,19],[27,29,27,33],[20,108,21,110],[13,0,19,0],[0,38,0,43],[4,3,4,5],[1,3,1,12],[3,8,3,12],[3,23,3,33],[4,9,4,11],[1,107,1,117],[2,116,2,117],[0,107,0,110],[18,22,18,26],[19,22,20,26],[37,1,38,10],[0,14,2,28],[3,0,3,1],[3,2,3,7],[3,15,3,22],[38,17,38,22],[38,23,38,24],[38,26,38,28],[28,29,29,33],[29,0,35,0],[5,0,11,0],[37,30,37,31],[37,17,37,22],[37,23,37,24],[9,23,9,26],[12,16,12,19],[37,26,37,28],[15,30,15,33],[19,16,19,19],[38,30,38,31],[6,16,6,19],[44,23,44,24],[43,26,43,28],[39,23,39,24],[41,26,41,28],[43,17,43,22],[43,23,43,24],[44,26,44,28],[43,30,43,31],[42,17,42,22],[42,23,42,24],[44,30,44,31],[42,30,42,31],[42,26,42,28],[41,30,41,31],[40,23,40,24],[40,26,40,28],[39,26,39,28],[39,30,39,31],[41,23,41,24],[40,30,40,31],[40,17,40,22],[39,17,39,22],[41,17,41,22],[44,17,44,22],[43,3,43,4],[45,3,45,4],[45,9,45,10],[44,3,44,4],[43,9,43,10],[42,3,42,4],[42,9,42,10],[39,1,40,4],[39,7,40,10],[41,3,41,4],[41,9,41,10],[44,9,44,10],[45,30,45,31],[46,30,46,31],[45,26,45,28],[47,30,47,31],[48,23,48,24],[48,26,48,28],[48,30,48,31],[47,1,48,4],[47,7,48,10],[47,17,47,22],[47,23,47,24],[48,17,48,22],[45,17,45,22],[45,23,45,24],[52,23,52,24],[52,26,52,28],[50,23,50,24],[52,3,52,4],[52,9,52,10],[52,17,52,22],[47,26,47,28],[46,17,46,22],[46,23,46,24],[46,26,46,28],[49,30,49,31],[53,3,53,4],[53,9,53,10],[53,17,53,22],[53,23,53,24],[51,17,51,22],[49,23,49,24],[49,26,49,28],[51,9,51,10],[52,30,52,31],[51,23,51,24],[51,26,51,28],[51,30,51,31],[49,3,49,4],[49,9,49,10],[49,17,49,22],[50,3,50,4],[50,9,50,10],[50,26,50,28],[50,17,50,22],[53,30,53,31],[51,3,51,4],[50,30,50,31],[53,26,53,28]]}
[null,null,null,"Direcção Regional de Educação do Algarve",null,null,null,null,null,null,null,null,null,null,"Badminton",null,null,null,null,null,null,null,null,null,null,null,null,null,null,null,null,null,null,null,null,null,null,null,{"$f":"$C$4","v":"Pares Homens - Iniciados"},null,null,null,null,null,null,null,null,null,null,null,null,null,null,null,null,null,null,null,null,null,null,null,null,null,null,null,null,null,null,null,null,null,null,null,null,null,null,null,null,null,null,null,null,null,null,null,null,null,null,null,null,null,null,null,null,null,null,null,null,null,null,null,null,{"$f":"COUNTA(DF4:DF19)","v":0},null,null,"ERRO de prenchimento da Lista de participantes",{"$f":"IF(DC2>0,DC1,\"\")","v":""},null,null,null,"Quadro para 9 a 16 Jogadores"]
[null,null,null,{"$f":"\"Ano Lectivo \"&Apoio!F10","v":"Ano Lectivo 2017/2018"},null,null,null,null,null,null,null,null,null,null,null,null,null,null,null,null,null,null,null,null,null,null,null,null,null,null,null,null,null,null,null,null,null,null,null,null,null,null,null,null,null,null,null,null,null,null,null,null,null,null,null,null,null,null,null,null,null,null,null,null,null,null,null,null,null,null,null,null,null,null,null,null,null,null,null,null,null,null,null,null,null,null,null,null,null,null,null,null,null,null,null,null,null,null,null,null,null,null,null,null,null,null,{"$f":"SUM(DC4:DC19)","v":0},{"$f":"IF(DC2>0,\"ERRO DE PREENCHIMENTO\",\"Lista de Participantes\")","v":"Lista de Participantes"}]
[null,null,null,null,null,null,null,null,null,null,null,null,null,null,null,null,null,null,null,null,null,null,null,null,null,null,null,null,null,null,null,null,null,null,null,null,null,null,null,null,null,null,null,null,null,null,null,null,null,null,null,null,null,null,null,null,null,null,null,null,null,null,null,null,null,null,null,null,null,null,null,null,null,null,null,null,null,null,null,null,null,null,null,null,null,null,null,null,null,null,null,null,null,null,null,null,null,null,null,null,null,null,null,null,null,null,{"$f":"SUM(DC4:DC19)","v":0},"Ordem","Nº","Nome (1º e último)","Escola","Abv.","Ano Nasc.","Escalão","Sexo","Observações","Insc. Prova",null,"Pontos Rank"]
["PH-Ini",null,{"$f":"LOOKUP(A4,Apoio!N9:N39,Apoio!O9:O39)","v":"Pares Homens - Iniciados"},null,null,null,null,null,{"$f":"'Ficha de Inscrição'!$A$5","v":"Torneio Nº 4"},null,null,null,null,null,null,{"$f":"\"Escola: \"&'Ficha de Inscrição'!$D$4","v":"Escola: ACav.Silva"},null,null,null,null,null,null,null,{"$f":"'Ficha de Inscrição'!$J$4","v":"2018-01-17"},null,null,null,null,null,null,null,null,null,null,null,null,null,null,null,null,null,null,null,null,null,null,null,null,null,null,null,null,null,null,null,null,null,null,null,null,null,null,null,null,null,null,null,null,null,null,null,null,null,null,null,null,null,null,null,null,null,null,null,null,null,null,null,null,null,null,null,null,null,null,null,null,null,null,null,null,null,null,null,null,null,null,{"$f":"IF(ISBLANK(DF4),COUNTA(DF5:$DG$19),0)","v":0},1,null,null,null,null,null,null,null,null,null,null,{"$f":"IF(DF4=\"\",\"\",VLOOKUP(DP4,$AD$39:$AE$54,2,FALSE))","v":""},{"$f":"DF4&\" (\"&DH4&\")\"","v":" ()"}]
[null,"1ª FASE",null,"Set's",null,null,null,null,null,"Set's",null,null,null,null,null,"2ª FASE",null,null,null,null,null,null,null,null,null,null,null,null,null,null,null,null,null,null,null,null,null,null,"Classificação 1ª Fase",null,null,null,null,null,null,null,null,null,null,null,null,null,null,null,null,null,null,null,null,null,null,null,null,null,null,null,null,null,null,null,null,null,null,null,null,null,null,null,null,null,null,null,null,null,null,null,null,null,null,null,null,null,null,null,null,null,null,null,null,null,null,null,null,null,null,null,{"$f":"IF(ISBLANK(DF5),COUNTA(DF6:$DG$19),0)","v":0},2,null,null,null,null,null,null,null,null,null,null,{"$f":"IF(DF5=\"\",\"\",VLOOKUP(DP5,$AD$39:$AE$54,2,FALSE))","v":""},{"$f":"DF5&\" (\"&DH5&\")\"","v":" ()"}]
["Grupo A","NºJ","Jogadores",1,2,3,"R","NºJ","Jogadores",1,2,3,"R",null,null,"1/4 Final",null,null,null,null,null,null,"1/2 Final",null,null,null,null,null,null,"Final",null,null,null,null,null,null,null,null,null,null,null,null,null,null,null,null,null,null,null,null,"Colocar Equipas",null,null,null,null,null,null,null,null,"Ordenar p/ Pts 1",null,"Ordenar p/ Pts 2",null,"Ordenar p/ Pts 3",null,null,"Ordenar p/ DG 1",null,null,"Ordenar p/ DG 2",null,null,"Ordenar p/ DG 3",null,null,null,"Ordenar p/ GM 1",null,null,null,"Ordenar p/ GM 2",null,null,null,"Ordenar p/ GM 3",null,null,null,null,null,null,null,null,null,null,null,null,null,null,null,null,null,"Vencedores","Derrotados",null,null,{"$f":"IF(ISBLANK(DF6),COUNTA(DF7:$DG$19),0)","v":0},3,null,null,null,null,null,null,null,null,null,null,""," ()"]
[null,{"$f":"$A$4","v":"PH-Ini"},{"$f":"AY10","v":""},null,null,null,{"$f":"IF(ISBLANK(D7),\"\",SUM(IF(D7>D8,1,0)+(IF(E7>E8,1,0)+(IF(F7>F8,1,0)))))","v":""},{"$f":"$A$4","v":"PH-Ini"},{"$f":"IF(I8=\"\",\"\",AY11)","v":""},null,null,null,{"$f":"IF(ISBLANK(J7),\"\",SUM(IF(J7>J8,1,0)+(IF(K7>K8,1,0)+(IF(L7>L8,1,0)))))","v":""},1,null,"Jogo Nº",{"$f":"CONCATENATE($A$4,\" \",SUM($H$36+1))","v":"PH-Ini 25"},null,null,null,null,null,null,null,null,null,null,null,null,null,null,null,null,null,null,null,null,null,"Classificação Grupo A",null,null,null,null,null,null,null,null,null,"<9",">9","Grupo A",null,null,null,null,null,null,null,null,null,null,null,null,null,null,null,null,null,null,null,null,null,null,null,null,null,null,null,null,null,null,null,null,null,null,null,null,null,null,null,null,null,null,null,null,null,null,null,null,null,null,null,{"$f":"IF(G8<>\"\",IF(G8>G7,C8,IF(G7>G8,C7,\"Empate\")),\"\")","v":""},{"$f":"IF(G8<>\"\",IF(G8<G7,C8,IF(G7<G8,C7,\"Empate\")),\"\")","v":""},null,null,{"$f":"IF(ISBLANK(DF7),COUNTA(DF8:$DG$19),0)","v":0},4,null,null,null,null,null,null,null,null,null,null,""," ()"]
[null,1,{"$f":"AY9","v":""},null,null,null,{"$f":"IF(ISBLANK(D7),\"\",SUM(IF(D8>D7,1,0)+(IF(E8>E7,1,0)+(IF(F8>F7,1,0)))))","v":""},{"$f":"B8+1","v":2},{"$f":"AY12","v":""},null,null,null,{"$f":"IF(ISBLANK(J7),\"\",SUM(IF(J8>J7,1,0)+(IF(K8>K7,1,0)+(IF(L8>L7,1,0)))))","v":""},16,1,{"$f":"IF($AY$53<11,VLOOKUP(O8,AX56:BA63,2,FALSE),IF($AY$53=11,VLOOKUP(O8,AX56:BA63,3,FALSE),VLOOKUP(O8,AX56:BA63,4,FALSE)))","v":"1º Grupo A"},null,null,null,{"$f":"IF(ISBLANK(Q8),\"\",SUM(IF(Q8>Q9,1,0)+(IF(R8>R9,1,0)+(IF(S8>S9,1,0)))))","v":""},null,null,null,null,null,null,null,null,null,null,null,null,null,null,null,null,null,"Cl",{"$f":"AY8","v":"Jogadores"},"Jg","V","E","D","PM","PS","DP","Pt.",null,null,null,"Jogadores","Jg","V","E","D","GM","GS","DG","Pts","Equipas","Pts","Equipas","Pts","Equipas","Pts","DG","Equipas","Pts","DG","Equipas","Pts","DG","Equipas","Pts","DG","GM","Equipas","Pts","DG","GM","Equipas","Pts","DG","GM","Equipas","Pts","DG","GM",null,null,null,"Equipas","Jg","V","D","E","GM","GS","DG","Pts",null,null,{"$f":"IF(M7<>\"\",IF(M7>M8,I7,IF(M8>M7,I8,\"Empate\")),\"\")","v":""},{"$f":"IF(M7<>\"\",IF(M7<M8,I7,IF(M8<M7,I8,\"Empate\")),\"\")","v":""},null,null,{"$f":"IF(ISBLANK(DF8),COUNTA(DF9:$DG$19),0)","v":0},5,null,null,null,null,null,null,null,null,null,null,""," ()"]
[null,{"$f":"$A$4","v":"PH-Ini"},{"$f":"AY9","v":""},null,null,null,{"$f":"IF(ISBLANK(D9),\"\",SUM(IF(D9>D10,1,0)+(IF(E9>E10,1,0)+(IF(F9>F10,1,0)))))","v":""},{"$f":"$A$4","v":"PH-Ini"},{"$f":"AY12","v":""},null,null,null,{"$f":"IF(ISBLANK(J9),\"\",SUM(IF(J9>J10,1,0)+(IF(K9>K10,1,0)+(IF(L9>L10,1,0)))))","v":""},null,8,{"$f":"IF($AY$53<11,VLOOKUP(O9,AX56:BA63,2,FALSE),IF($AY$53=11,VLOOKUP(O9,AX56:BA63,3,FALSE),VLOOKUP(O9,AX56:BA63,4,FALSE)))","v":"2º Melhor 3º"},null,null,null,{"$f":"IF(ISBLANK(Q8),\"\",SUM(IF(Q9>Q8,1,0)+(IF(R9>R8,1,0)+(IF(S9>S8,1,0)))))","v":""},null,null,null,null,null,null,null,null,null,null,null,null,null,null,null,null,null,{"$f":"IF(AM9=\"\",\"\",\"1º\")","v":""},{"$f":"CN9","v":""},{"$f":"IF(AM9=\"\",\"\",CO9)","v":""},{"$f":"IF(AM9=\"\",\"\",CP9)","v":""},{"$f":"CQ9","v":-12},{"$f":"IF(AM9=\"\",\"\",CR9)","v":""},{"$f":"IF(AM9=\"\",\"\",CS9)","v":""},{"$f":"IF(AM9=\"\",\"\",CT9)","v":""},{"$f":"IF(AM9=\"\",\"\",CU9)","v":""},{"$f":"IF(AM9=\"\",\"\",CV9)","v":""},{"$f":"IF($CZ$1<=11,AW9,AX9)","v":1},1,1,{"$f":"IF(AY39=\"\",BA39,AY39)","v":""},{"$f":"COUNT(G8,G9,M12)","v":0},{"$f":"COUNTIF(CY7:CY12,AY9)","v":6},{"$f":"AZ9-(BA9+BC9)","v":-12},{"$f":"COUNTIF(CZ7:CZ12,AY9)","v":6},{"$f":"SUM(D8:F8,D9:F9,J12:L12)","v":0},{"$f":"SUM(D7:F7,D10:F10,J11:L11)","v":0},{"$f":"BD9-BE9","v":0},{"$f":"IF(AZ9=0,0,BA9*2+BC9*1)","v":0},{"$f":"IF(BG9>=BG10,AY9,AY10)","v":""},{"$f":"VLOOKUP(BH9,AY9:BG12,9,FALSE)","v":0},{"$f":"IF(BI9>=BI11,BH9,BH11)","v":""},{"$f":"VLOOKUP(BJ9,AY9:BG12,9,FALSE)","v":0},{"$f":"IF(BK9>=BK12,BJ9,BJ12)","v":""},{"$f":"VLOOKUP(BL9,AY9:BG12,9,FALSE)","v":0},{"$f":"VLOOKUP(BL9,AY9:BG12,8,FALSE)","v":0},{"$f":"IF(AND(BM9=BM10,BN10>BN9),BL10,BL9)","v":""},{"$f":"VLOOKUP(BO9,AY9:BG12,9,FALSE)","v":0},{"$f":"VLOOKUP(BO9,AY9:BG12,8,FALSE)","v":0},{"$f":"IF(AND(BP9=BP11,BQ11>BQ9),BO11,BO9)","v":""},{"$f":"VLOOKUP(BR9,AY9:BG12,9,FALSE)","v":0},{"$f":"VLOOKUP(BR9,AY9:BG12,8,FALSE)","v":0},{"$f":"IF(AND(BS9=BS12,BT12>BT9),BR12,BR9)","v":""},{"$f":"VLOOKUP(BU9,AY9:BG12,9,FALSE)","v":0},{"$f":"VLOOKUP(BU9,AY9:BG12,8,FALSE)","v":0},{"$f":"VLOOKUP(BU9,AY9:BG12,6,FALSE)","v":0},{"$f":"IF(AND(BV9=BV10,BW9=BW10,BX10>BX9),BU10,BU9)","v":""},{"$f":"VLOOKUP(BY9,AY9:BG12,9,FALSE)","v":0},{"$f":"VLOOKUP(BY9,AY9:BG12,8,FALSE)","v":0},{"$f":"VLOOKUP(BY9,AY9:BG12,6,FALSE)","v":0},{"$f":"IF(AND(BZ9=BZ11,CA9=CA11,CB11>CB9),BY11,BY9)","v":""},{"$f":"VLOOKUP(CC9,AY9:BG12,9,FALSE)","v":0},{"$f":"VLOOKUP(CC9,AY9:BG12,8,FALSE)","v":0},{"$f":"VLOOKUP(CC9,AY9:BG12,6,FALSE)","v":0},{"$f":"IF(AND(CD9=CD12,CE9=CE12,CF12>CF9),CC12,CC9)","v":""},{"$f":"VLOOKUP(CG9,AY9:BG12,9,FALSE)","v":0},{"$f":"VLOOKUP(CG9,AY9:BG12,8,FALSE)","v":0},{"$f":"VLOOKUP(CG9,AY9:BG12,6,FALSE)","v":0},null,null,null,{"$f":"CG9","v":""},{"$f":"VLOOKUP(CN9,AY9:BG12,2,FALSE)","v":0},{"$f":"VLOOKUP(CN9,AY9:BG12,3,FALSE)","v":6},{"$f":"VLOOKUP(CN9,AY9:BG12,4,FALSE)","v":-12},{"$f":"VLOOKUP(CN9,AY9:BG12,5,FALSE)","v":6},{"$f":"VLOOKUP(CN9,AY9:BG12,6,FALSE)","v":0},{"$f":"VLOOKUP(CN9,AY9:BG12,7,FALSE)","v":0},{"$f":"VLOOKUP(CN9,AY9:BG12,8,FALSE)","v":0},{"$f":"VLOOKUP(CN9,AY9:BG12,9,FALSE)","v":0},null,null,{"$f":"IF(G9<>\"\",IF(G9>G10,C9,IF(G10>G9,C10,\"Empate\")),\"\")","v":""},{"$f":"IF(G9<>\"\",IF(G9<G10,C9,IF(G10<G9,C10,\"Empate\")),\"\")","v":""},null,null,{"$f":"IF(ISBLANK(DF9),COUNTA(DF10:$DG$19),0)","v":0},6,null,null,null,null,null,null,null,null,null,null,""," ()"]
[null,{"$f":"H32+1","v":9},{"$f":"AY11","v":""},null,null,null,{"$f":"IF(ISBLANK(D9),\"\",SUM(IF(D10>D9,1,0)+(IF(E10>E9,1,0)+(IF(F10>F9,1,0)))))","v":""},{"$f":"B10+1","v":10},{"$f":"IF(I9=\"\",\"\",AY10)","v":""},null,null,null,{"$f":"IF(ISBLANK(J9),\"\",SUM(IF(J10>J9,1,0)+(IF(K10>K9,1,0)+(IF(L10>L9,1,0)))))","v":""},9,null,null,null,null,null,null,null,null,"Jogo Nº",{"$f":"CONCATENATE($A$4,\" \",SUM($H$36+5))","v":"PH-Ini 29"},null,null,null,null,null,null,null,null,null,null,null,null,null,{"$f":"IF(AM10=\"\",\"\",\"2º\")","v":""},{"$f":"CN10","v":""},{"$f":"IF(AM10=\"\",\"\",CO10)","v":""},{"$f":"IF(AM10=\"\",\"\",CP10)","v":""},{"$f":"CQ10","v":-12},{"$f":"IF(AM10=\"\",\"\",CR10)","v":""},{"$f":"IF(AM10=\"\",\"\",CS10)","v":""},{"$f":"IF(AM10=\"\",\"\",CT10)","v":""},{"$f":"IF(AM10=\"\",\"\",CU10)","v":""},{"$f":"IF(AM10=\"\",\"\",CV10)","v":""},{"$f":"IF($CZ$1<=11,AW10,AX10)","v":4},4,8,{"$f":"IF(AY42=\"\",BA46,AY42)","v":""},{"$f":"COUNT(G7,M10,G12)","v":0},{"$f":"COUNTIF(CY7:CY12,AY10)","v":6},{"$f":"AZ10-(BA10+BC10)","v":-12},{"$f":"COUNTIF(CZ7:CZ12,AY10)","v":6},{"$f":"SUM(D7:F7,J10:L10,D12:F12)","v":0},{"$f":"SUM(D8:F8,J9:L9,D11:F11)","v":0},{"$f":"BD10-BE10","v":0},{"$f":"IF(AZ10=0,0,BA10*2+BC10*1)","v":0},{"$f":"IF(BG10<=BG9,AY10,AY9)","v":""},{"$f":"VLOOKUP(BH10,AY9:BG12,9,FALSE)","v":0},{"$f":"IF(BI10>=BI12,BH10,BH12)","v":""},{"$f":"VLOOKUP(BJ10,AY9:BG12,9,FALSE)","v":0},{"$f":"IF(BK10>=BK11,BJ10,BJ11)","v":""},{"$f":"VLOOKUP(BL10,AY9:BG12,9,FALSE)","v":0},{"$f":"VLOOKUP(BL10,AY9:BG12,8,FALSE)","v":0},{"$f":"IF(AND(BM9=BM10,BN10>BN9),BL9,BL10)","v":""},{"$f":"VLOOKUP(BO10,AY9:BG12,9,FALSE)","v":0},{"$f":"VLOOKUP(BO10,AY9:BG12,8,FALSE)","v":0},{"$f":"IF(AND(BP10=BP12,BQ12>BQ10),BO12,BO10)","v":""},{"$f":"VLOOKUP(BR10,AY9:BG12,9,FALSE)","v":0},{"$f":"VLOOKUP(BR10,AY9:BG12,8,FALSE)","v":0},{"$f":"IF(AND(BS10=BS11,BT11>BT10),BR11,BR10)","v":""},{"$f":"VLOOKUP(BU10,AY9:BG12,9,FALSE)","v":0},{"$f":"VLOOKUP(BU10,AY9:BG12,8,FALSE)","v":0},{"$f":"VLOOKUP(BU10,AY9:BG12,6,FALSE)","v":0},{"$f":"IF(AND(BV9=BV10,BW9=BW10,BX10>BX9),BU9,BU10)","v":""},{"$f":"VLOOKUP(BY10,AY9:BG12,9,FALSE)","v":0},{"$f":"VLOOKUP(BY10,AY9:BG12,8,FALSE)","v":0},{"$f":"VLOOKUP(BY10,AY9:BG12,6,FALSE)","v":0},{"$f":"IF(AND(BZ10=BZ12,CA10=CA12,CB12>CB10),BY12,BY10)","v":""},{"$f":"VLOOKUP(CC10,AY9:BG12,9,FALSE)","v":0},{"$f":"VLOOKUP(CC10,AY9:BG12,8,FALSE)","v":0},{"$f":"VLOOKUP(CC10,AY9:BG12,6,FALSE)","v":0},{"$f":"IF(AND(CD10=CD11,CE10=CE11,CF11>CF10),CC11,CC10)","v":""},{"$f":"VLOOKUP(CG10,AY9:BG12,9,FALSE)","v":0},{"$f":"VLOOKUP(CG10,AY9:BG12,8,FALSE)","v":0},{"$f":"VLOOKUP(CG10,AY9:BG12,6,FALSE)","v":0},null,null,null,{"$f":"CG10","v":""},{"$f":"VLOOKUP(CN10,AY9:BG12,2,FALSE)","v":0},{"$f":"VLOOKUP(CN10,AY9:BG12,3,FALSE)","v":6},{"$f":"VLOOKUP(CN10,AY9:BG12,4,FALSE)","v":-12},{"$f":"VLOOKUP(CN10,AY9:BG12,5,FALSE)","v":6},{"$f":"VLOOKUP(CN10,AY9:BG12,6,FALSE)","v":0},{"$f":"VLOOKUP(CN10,AY9:BG12,7,FALSE)","v":0},{"$f":"VLOOKUP(CN10,AY9:BG12,8,FALSE)","v":0},{"$f":"VLOOKUP(CN10,AY9:BG12,9,FALSE)","v":0},null,null,{"$f":"IF(M9<>\"\",IF(M9>M10,I9,IF(M10>M9,I10,\"Empate\")),\"\")","v":""},{"$f":"IF(M9<>\"\",IF(M9<M10,I9,IF(M10<M9,I10,\"Empate\")),\"\")","v":""},null,null,{"$f":"IF(ISBLANK(DF10),COUNTA(DF11:$DG$19),0)","v":0},7,null,null,null,null,null,null,null,null,null,null,""," ()"]
[null,{"$f":"$A$4","v":"PH-Ini"},{"$f":"AY11","v":""},null,null,null,{"$f":"IF(ISBLANK(D11),\"\",SUM(IF(D11>D12,1,0)+(IF(E11>E12,1,0)+(IF(F11>F12,1,0)))))","v":""},{"$f":"$A$4","v":"PH-Ini"},{"$f":"AY12","v":""},null,null,null,{"$f":"IF(ISBLANK(J11),\"\",SUM(IF(J11>J12,1,0)+(IF(K11>K12,1,0)+(IF(L11>L12,1,0)))))","v":""},8,null,null,null,null,null,null,null,null,{"$f":"IF(T8=T9,\"\",IF(T8>T9,P8,P9))","v":""},null,null,null,{"$f":"IF(ISBLANK(X11),\"\",SUM(IF(X11>X12,1,0)+(IF(Y11>Y12,1,0)+(IF(Z11>Z12,1,0)))))","v":""},null,null,null,null,null,null,null,null,null,null,{"$f":"IF(AM11=\"\",\"\",\"3º\")","v":""},{"$f":"CN11","v":""},{"$f":"IF(AM11=\"\",\"\",CO11)","v":""},{"$f":"IF(AM11=\"\",\"\",CP11)","v":""},{"$f":"CQ11","v":-12},{"$f":"IF(AM11=\"\",\"\",CR11)","v":""},{"$f":"IF(AM11=\"\",\"\",CS11)","v":""},{"$f":"IF(AM11=\"\",\"\",CT11)","v":""},{"$f":"IF(AM11=\"\",\"\",CU11)","v":""},{"$f":"IF(AM11=\"\",\"\",CV11)","v":""},{"$f":"IF($CZ$1<=11,AW11,AX11)","v":7},7,9,{"$f":"IF(AY45=\"\",BA47,AY45)","v":""},{"$f":"COUNT(M7,G10,G11)","v":0},{"$f":"COUNTIF(CY7:CY12,AY11)","v":6},{"$f":"AZ11-(BA11+BC11)","v":-12},{"$f":"COUNTIF(CZ7:CZ12,AY11)","v":6},{"$f":"SUM(J7:L7,D10:F10,D11:F11)","v":0},{"$f":"SUM(J8:L8,D9:F9,D12:F12)","v":0},{"$f":"BD11-BE11","v":0},{"$f":"IF(AZ11=0,0,BA11*2+BC11*1)","v":0},{"$f":"IF(BG11>=BG12,AY11,AY12)","v":""},{"$f":"VLOOKUP(BH11,AY9:BG12,9,FALSE)","v":0},{"$f":"IF(BI11<=BI9,BH11,BH9)","v":""},{"$f":"VLOOKUP(BJ11,AY9:BG12,9,FALSE)","v":0},{"$f":"IF(BK11<=BK10,BJ11,BJ10)","v":""},{"$f":"VLOOKUP(BL11,AY9:BG12,9,FALSE)","v":0},{"$f":"VLOOKUP(BL11,AY9:BG12,8,FALSE)","v":0},{"$f":"IF(AND(BM11=BM12,BN12>BN11),BL12,BL11)","v":""},{"$f":"VLOOKUP(BO11,AY9:BG12,9,FALSE)","v":0},{"$f":"VLOOKUP(BO11,AY9:BG12,8,FALSE)","v":0},{"$f":"IF(AND(BP9=BP11,BQ11>BQ9),BO9,BO11)","v":""},{"$f":"VLOOKUP(BR11,AY9:BG12,9,FALSE)","v":0},{"$f":"VLOOKUP(BR11,AY9:BG12,8,FALSE)","v":0},{"$f":"IF(AND(BS10=BS11,BT11>BT10),BR10,BR11)","v":""},{"$f":"VLOOKUP(BU11,AY9:BG12,9,FALSE)","v":0},{"$f":"VLOOKUP(BU11,AY9:BG12,8,FALSE)","v":0},{"$f":"VLOOKUP(BU11,AY9:BG12,6,FALSE)","v":0},{"$f":"IF(AND(BV11=BV12,BW11=BW12,BX12>BX11),BU12,BU11)","v":""},{"$f":"VLOOKUP(BY11,AY9:BG12,9,FALSE)","v":0},{"$f":"VLOOKUP(BY11,AY9:BG12,8,FALSE)","v":0},{"$f":"VLOOKUP(BY11,AY9:BG12,6,FALSE)","v":0},{"$f":"IF(AND(BZ9=BZ11,CA9=CA11,CB10>CB9),BY9,BY11)","v":""},{"$f":"VLOOKUP(CC11,AY9:BG12,9,FALSE)","v":0},{"$f":"VLOOKUP(CC11,AY9:BG12,8,FALSE)","v":0},{"$f":"VLOOKUP(CC11,AY9:BG12,6,FALSE)","v":0},{"$f":"IF(AND(CD10=CD11,CE10=CE11,CF11>CF10),CC10,CC11)","v":""},{"$f":"VLOOKUP(CG11,AY9:BG12,9,FALSE)","v":0},{"$f":"VLOOKUP(CG11,AY9:BG12,8,FALSE)","v":0},{"$f":"VLOOKUP(CG11,AY9:BG12,6,FALSE)","v":0},null,null,null,{"$f":"CG11","v":""},{"$f":"VLOOKUP(CN11,AY9:BG12,2,FALSE)","v":0},{"$f":"VLOOKUP(CN11,AY9:BG12,3,FALSE)","v":6},{"$f":"VLOOKUP(CN11,AY9:BG12,4,FALSE)","v":-12},{"$f":"VLOOKUP(CN11,AY9:BG12,5,FALSE)","v":6},{"$f":"VLOOKUP(CN11,AY9:BG12,6,FALSE)","v":0},{"$f":"VLOOKUP(CN11,AY9:BG12,7,FALSE)","v":0},{"$f":"VLOOKUP(CN11,AY9:BG12,8,FALSE)","v":0},{"$f":"VLOOKUP(CN11,AY9:BG12,9,FALSE)","v":0},null,null,{"$f":"IF(M11<>\"\",IF(M11>M12,I11,IF(M12>M11,I12,\"Empate\")),\"\")","v":""},{"$f":"IF(M11<>\"\",IF(M11<M12,I11,IF(M12<M11,I12,\"Empate\")),\"\")","v":""},null,null,{"$f":"IF(ISBLANK(DF11),COUNTA(DF12:$DG$19),0)","v":0},8,null,null,null,null,null,null,null,null,null,null,""," ()"]
[null,{"$f":"H34+1","v":17},{"$f":"AY10","v":""},null,null,null,{"$f":"IF(ISBLANK(D11),\"\",SUM(IF(D12>D11,1,0)+(IF(E12>E11,1,0)+(IF(F12>F11,1,0)))))","v":""},{"$f":"B12+1","v":18},{"$f":"IF(I11=\"\",\"\",AY9)","v":""},null,null,null,{"$f":"IF(ISBLANK(J11),\"\",SUM(IF(J12>J11,1,0)+(IF(K12>K11,1,0)+(IF(L12>L11,1,0)))))","v":""},null,null,null,null,null,null,null,null,null,{"$f":"IF(T14=T15,\"\",IF(T14>T15,P14,P15))","v":""},null,null,null,{"$f":"IF(ISBLANK(X11),\"\",SUM(IF(X12>X11,1,0)+(IF(Y12>Y11,1,0)+(IF(Z12>Z11,1,0)))))","v":""},null,null,null,null,null,null,null,null,null,null,{"$f":"IF(AM12=\"\",\"\",\"4º\")","v":""},{"$f":"CN12","v":""},{"$f":"IF(AM12=\"\",\"\",CO12)","v":""},{"$f":"IF(AM12=\"\",\"\",CP12)","v":""},{"$f":"CQ12","v":-12},{"$f":"IF(AM12=\"\",\"\",CR12)","v":""},{"$f":"IF(AM12=\"\",\"\",CS12)","v":""},{"$f":"IF(AM12=\"\",\"\",CT12)","v":""},{"$f":"IF(AM12=\"\",\"\",CU12)","v":""},{"$f":"IF(AM12=\"\",\"\",CV12)","v":""},{"$f":"IF($CZ$1<=11,AW12,AX12)","v":""},{"$f":"IF(AM12=\"\",\"\",10)","v":""},{"$f":"IF(AM12=\"\",\"\",16)","v":""},{"$f":"IF(AY48=\"\",BA54,AY48)","v":""},{"$f":"COUNT(M8,M9,M11)","v":0},{"$f":"COUNTIF(CY7:CY12,AY12)","v":6},{"$f":"AZ12-(BA12+BC12)","v":-12},{"$f":"COUNTIF(CZ7:CZ12,AY12)","v":6},{"$f":"SUM(J8:L8,J9:L9,J11:L11)","v":0},{"$f":"SUM(J7:L7,J10:L10,J12:L12)","v":0},{"$f":"BD12-BE12","v":0},{"$f":"IF(AZ12=0,0,BA12*2+BC12*1)","v":0},{"$f":"IF(BG12<=BG11,AY12,AY11)","v":""},{"$f":"VLOOKUP(BH12,AY9:BG12,9,FALSE)","v":0},{"$f":"IF(BI12<=BI10,BH12,BH10)","v":""},{"$f":"VLOOKUP(BJ12,AY9:BG12,9,FALSE)","v":0},{"$f":"IF(BK12<=BK9,BJ12,BJ9)","v":""},{"$f":"VLOOKUP(BL12,AY9:BG12,9,FALSE)","v":0},{"$f":"VLOOKUP(BL12,AY9:BG12,8,FALSE)","v":0},{"$f":"IF(AND(BM11=BM12,BN12>BN11),BL11,BL12)","v":""},{"$f":"VLOOKUP(BO12,AY9:BG12,9,FALSE)","v":0},{"$f":"VLOOKUP(BO12,AY9:BG12,8,FALSE)","v":0},{"$f":"IF(AND(BP10=BP12,BQ12>BQ10),BO10,BO12)","v":""},{"$f":"VLOOKUP(BR12,AY9:BG12,9,FALSE)","v":0},{"$f":"VLOOKUP(BR12,AY9:BG12,8,FALSE)","v":0},{"$f":"IF(AND(BS9=BS12,BT12>BT9),BR9,BR12)","v":""},{"$f":"VLOOKUP(BU12,AY9:BG12,9,FALSE)","v":0},{"$f":"VLOOKUP(BU12,AY9:BG12,8,FALSE)","v":0},{"$f":"VLOOKUP(BU12,AY9:BG12,6,FALSE)","v":0},{"$f":"IF(AND(BV11=BV12,BW11=BW12,BX12>BX11),BU11,BU12)","v":""},{"$f":"VLOOKUP(BY12,AY9:BG12,9,FALSE)","v":0},{"$f":"VLOOKUP(BY12,AY9:BG12,8,FALSE)","v":0},{"$f":"VLOOKUP(BY12,AY9:BG12,6,FALSE)","v":0},{"$f":"IF(AND(BZ10=BZ12,CA10=CA12,CB12>CB10),BY10,BY12)","v":""},{"$f":"VLOOKUP(CC12,AY9:BG12,9,FALSE)","v":0},{"$f":"VLOOKUP(CC12,AY9:BG12,8,FALSE)","v":0},{"$f":"VLOOKUP(CC12,AY9:BG12,6,FALSE)","v":0},{"$f":"IF(AND(CD9=CD12,CE9=CE12,CF12>CF9),CC9,CC12)","v":""},{"$f":"VLOOKUP(CG12,AY9:BG12,9,FALSE)","v":0},{"$f":"VLOOKUP(CG12,AY9:BG12,8,FALSE)","v":0},{"$f":"VLOOKUP(CG12,AY9:BG12,6,FALSE)","v":0},null,null,null,{"$f":"CG12","v":""},{"$f":"VLOOKUP(CN12,AY9:BG12,2,FALSE)","v":0},{"$f":"VLOOKUP(CN12,AY9:BG12,3,FALSE)","v":6},{"$f":"VLOOKUP(CN12,AY9:BG12,4,FALSE)","v":-12},{"$f":"VLOOKUP(CN12,AY9:BG12,5,FALSE)","v":6},{"$f":"VLOOKUP(CN12,AY9:BG12,6,FALSE)","v":0},{"$f":"VLOOKUP(CN12,AY9:BG12,7,FALSE)","v":0},{"$f":"VLOOKUP(CN12,AY9:BG12,8,FALSE)","v":0},{"$f":"VLOOKUP(CN12,AY9:BG12,9,FALSE)","v":0},null,null,{"$f":"IF(G12<>\"\",IF(G12>G11,C12,IF(G11>G12,C11,\"Empate\")),\"\")","v":""},{"$f":"IF(G12<>\"\",IF(G12<G11,C12,IF(G11<G12,C11,\"Empate\")),\"\")","v":""},null,null,{"$f":"IF(ISBLANK(DF12),COUNTA(DF13:$DG$19),0)","v":0},9,null,null,null,null,null,null,null,null,null,null,""," ()"]
[null,null,null,null,null,null,null,null,null,null,null,null,null,5,null,"Jogo Nº",{"$f":"CONCATENATE($A$4,\" \",SUM($H$36+2))","v":"PH-Ini 26"},null,null,null,null,null,null,null,null,null,null,null,null,null,null,null,null,null,null,null,null,null,null,null,null,null,null,null,null,null,null,null,null,null,null,null,null,null,null,null,null,null,null,null,null,null,null,null,null,null,null,null,null,null,null,null,null,null,null,null,null,null,null,null,null,null,null,null,null,null,null,null,null,null,null,null,null,null,null,null,null,null,null,null,null,null,null,null,null,null,{"$f":"IF(ISBLANK(DF13),COUNTA(DF14:$DG$19),0)","v":0},10,null,null,null,null,null,null,null,null,null,null,""," ()"]
["Grupo B","NºJ","Jogadores",1,2,3,"R","NºJ","Jogadores",1,2,3,"R",12,5,{"$f":"IF($AY$53<11,VLOOKUP(O14,AX56:BA63,2,FALSE),IF($AY$53=11,VLOOKUP(O14,AX56:BA63,3,FALSE),VLOOKUP(O14,AX56:BA63,4,FALSE)))","v":"2º Grupo B"},null,null,null,{"$f":"IF(ISBLANK(Q14),\"\",SUM(IF(Q14>Q15,1,0)+(IF(R14>R15,1,0)+(IF(S14>S15,1,0)))))","v":""},null,null,null,null,null,null,null,null,null,null,null,null,null,null,null,null,null,null,"Classificação Grupo B",null,null,null,null,null,null,null,null,null,null,null,"Colocar Equipas",null,null,null,null,null,null,null,null,"Ordenar p/ Pts 1",null,"Ordenar p/ Pts 2",null,"Ordenar p/ Pts 3",null,null,"Ordenar p/ DG 1",null,null,"Ordenar p/ DG 2",null,null,"Ordenar p/ DG 3",null,null,null,"Ordenar p/ GM 1",null,null,null,"Ordenar p/ GM 2",null,null,null,"Ordenar p/ GM 3",null,null,null,null,null,null,null,null,null,null,null,null,null,null,null,null,null,"Vencedores","Derrotados",null,null,{"$f":"IF(ISBLANK(DF14),COUNTA(DF15:$DG$19),0)","v":0},11,null,null,null,null,null,null,null,null,null,null,""," ()"]
[null,{"$f":"$A$4","v":"PH-Ini"},{"$f":"AY18","v":""},null,null,null,{"$f":"IF(ISBLANK(D15),\"\",SUM(IF(D15>D16,1,0)+(IF(E15>E16,1,0)+(IF(F15>F16,1,0)))))","v":""},{"$f":"$A$4","v":"PH-Ini"},{"$f":"IF(I16=\"\",\"\",AY19)","v":""},null,null,null,{"$f":"IF(ISBLANK(J15),\"\",SUM(IF(J15>J16,1,0)+(IF(K15>K16,1,0)+(IF(L15>L16,1,0)))))","v":""},null,4,{"$f":"IF($AY$53<11,VLOOKUP(O15,AX56:BA63,2,FALSE),IF($AY$53=11,VLOOKUP(O15,AX56:BA63,3,FALSE),VLOOKUP(O15,AX56:BA63,4,FALSE)))","v":"2º Grupo C"},null,null,null,{"$f":"IF(ISBLANK(Q14),\"\",SUM(IF(Q15>Q14,1,0)+(IF(R15>R14,1,0)+(IF(S15>S14,1,0)))))","v":""},null,null,null,null,null,null,null,null,null,null,null,null,null,null,null,null,null,"Cl",{"$f":"AY16","v":"Jogadores"},"Jg","V","E","D","PM","PS","DP","Pt.",null,null,null,"Grupo B",null,null,null,null,null,null,null,null,null,null,null,null,null,null,null,null,null,null,null,null,null,null,null,null,null,null,null,null,null,null,null,null,null,null,null,null,null,null,null,null,null,null,null,null,null,null,null,null,null,null,null,{"$f":"IF(G16<>\"\",IF(G16>G15,C16,IF(G15>G16,C15,\"Empate\")),\"\")","v":""},{"$f":"IF(G16<>\"\",IF(G16<G15,C16,IF(G15<G16,C15,\"Empate\")),\"\")","v":""},null,null,{"$f":"IF(ISBLANK(DF15),COUNTA(DF16:$DG$19),0)","v":0},12,null,null,null,null,null,null,null,null,null,null,""," ()"]
[null,{"$f":"H8+1","v":3},{"$f":"AY17","v":""},null,null,null,{"$f":"IF(ISBLANK(D15),\"\",SUM(IF(D16>D15,1,0)+(IF(E16>E15,1,0)+(IF(F16>F15,1,0)))))","v":""},{"$f":"B16+1","v":4},{"$f":"AY20","v":""},null,null,null,{"$f":"IF(ISBLANK(J15),\"\",SUM(IF(J16>J15,1,0)+(IF(K16>K15,1,0)+(IF(L16>L15,1,0)))))","v":""},13,null,null,null,null,null,null,null,null,null,null,null,null,null,null,null,"Jogo Nº",{"$f":"CONCATENATE($A$4,\" \",SUM($H$36+7))","v":"PH-Ini 31"},null,null,null,null,null,null,{"$f":"IF(AM16=\"\",\"\",\"1º\")","v":""},{"$f":"CN17","v":""},{"$f":"IF(AM16=\"\",\"\",CO17)","v":""},{"$f":"IF(AM16=\"\",\"\",CP17)","v":""},{"$f":"CQ17","v":-12},{"$f":"IF(AM16=\"\",\"\",CR17)","v":""},{"$f":"IF(AM16=\"\",\"\",CS17)","v":""},{"$f":"IF(AM16=\"\",\"\",CT17)","v":""},{"$f":"IF(AM16=\"\",\"\",CU17)","v":""},{"$f":"IF(AM16=\"\",\"\",CV17)","v":""},{"$f":"IF($CZ$1<=11,AW16,AX16)","v":2},2,4,"Jogadores","Jg","V","E","D","GM","GS","DG","Pts","Equipas","Pts","Equipas","Pts","Equipas","Pts","DG","Equipas","Pts","DG","Equipas","Pts","DG","Equipas","Pts","DG","GM","Equipas","Pts","DG","GM","Equipas","Pts","DG","GM","Equipas","Pts","DG","GM",null,null,null,"Equipas","Jg","V","D","E","GM","GS","DG","Pts",null,null,{"$f":"IF(M15<>\"\",IF(M15>M16,I15,IF(M16>M15,I16,\"Empate\")),\"\")","v":""},{"$f":"IF(M15<>\"\",IF(M15<M16,I15,IF(M16<M15,I16,\"Empate\")),\"\")","v":""},null,null,{"$f":"IF(ISBLANK(DF16),COUNTA(DF17:$DG$19),0)","v":0},13,null,null,null,null,null,null,null,null,null,null,""," ()"]
[null,{"$f":"$A$4","v":"PH-Ini"},{"$f":"AY17","v":""},null,null,null,{"$f":"IF(ISBLANK(D17),\"\",SUM(IF(D17>D18,1,0)+(IF(E17>E18,1,0)+(IF(F17>F18,1,0)))))","v":""},{"$f":"$A$4","v":"PH-Ini"},{"$f":"AY20","v":""},null,null,null,{"$f":"IF(ISBLANK(J17),\"\",SUM(IF(J17>J18,1,0)+(IF(K17>K18,1,0)+(IF(L17>L18,1,0)))))","v":""},4,null,null,null,null,null,null,null,null,{"$f":"IF(AA11=AA12,\"\",IF(AA11<AA12,W11,W12))","v":""},null,null,null,{"$f":"IF(ISBLANK(X17),\"\",SUM(IF(X17>X18,1,0)+(IF(Y17>Y18,1,0)+(IF(Z17>Z18,1,0)))))","v":""},null,null,{"$f":"IF(AA11=AA12,\"\",IF(AA11>AA12,W11,W12))","v":""},null,null,null,{"$f":"IF(ISBLANK(AE17),\"\",SUM(IF(AE17>AE18,1,0)+(IF(AF17>AF18,1,0)+(IF(AG17>AG18,1,0)))))","v":""},null,null,null,{"$f":"IF(AM17=\"\",\"\",\"2º\")","v":""},{"$f":"CN18","v":""},{"$f":"IF(AM17=\"\",\"\",CO18)","v":""},{"$f":"IF(AM17=\"\",\"\",CP18)","v":""},{"$f":"CQ18","v":-12},{"$f":"IF(AM17=\"\",\"\",CR18)","v":""},{"$f":"IF(AM17=\"\",\"\",CS18)","v":""},{"$f":"IF(AM17=\"\",\"\",CT18)","v":""},{"$f":"IF(AM17=\"\",\"\",CU18)","v":""},{"$f":"IF(AM17=\"\",\"\",CV18)","v":""},{"$f":"IF($CZ$1<=11,AW17,AX17)","v":5},5,5,{"$f":"IF(AY40=\"\",BA42,AY40)","v":""},{"$f":"COUNT(G16,G17,M20)","v":0},{"$f":"COUNTIF(CY15:CY20,AY17)","v":6},{"$f":"AZ17-(BA17+BC17)","v":-12},{"$f":"COUNTIF(CZ15:CZ20,AY17)","v":6},{"$f":"SUM(D16:F16,D17:F17,J20:L20)","v":0},{"$f":"SUM(D15:F15,D18:F18,J19:L19)","v":0},{"$f":"BD17-BE17","v":0},{"$f":"IF(AZ17=0,0,BA17*2+BC17*1)","v":0},{"$f":"IF(BG17>=BG18,AY17,AY18)","v":""},{"$f":"VLOOKUP(BH17,AY17:BG20,9,FALSE)","v":0},{"$f":"IF(BI17>=BI19,BH17,BH19)","v":""},{"$f":"VLOOKUP(BJ17,AY17:BG20,9,FALSE)","v":0},{"$f":"IF(BK17>=BK20,BJ17,BJ20)","v":""},{"$f":"VLOOKUP(BL17,AY17:BG20,9,FALSE)","v":0},{"$f":"VLOOKUP(BL17,AY17:BG20,8,FALSE)","v":0},{"$f":"IF(AND(BM17=BM18,BN18>BN17),BL18,BL17)","v":""},{"$f":"VLOOKUP(BO17,AY17:BG20,9,FALSE)","v":0},{"$f":"VLOOKUP(BO17,AY17:BG20,8,FALSE)","v":0},{"$f":"IF(AND(BP17=BP19,BQ19>BQ17),BO19,BO17)","v":""},{"$f":"VLOOKUP(BR17,AY17:BG20,9,FALSE)","v":0},{"$f":"VLOOKUP(BR17,AY17:BG20,8,FALSE)","v":0},{"$f":"IF(AND(BS17=BS20,BT20>BT17),BR20,BR17)","v":""},{"$f":"VLOOKUP(BU17,AY17:BG20,9,FALSE)","v":0},{"$f":"VLOOKUP(BU17,AY17:BG20,8,FALSE)","v":0},{"$f":"VLOOKUP(BU17,AY17:BG20,6,FALSE)","v":0},{"$f":"IF(AND(BV17=BV18,BW17=BW18,BX18>BX17),BU18,BU17)","v":""},{"$f":"VLOOKUP(BY17,AY17:BG20,9,FALSE)","v":0},{"$f":"VLOOKUP(BY17,AY17:BG20,8,FALSE)","v":0},{"$f":"VLOOKUP(BY17,AY17:BG20,6,FALSE)","v":0},{"$f":"IF(AND(BZ17=BZ19,CA17=CA19,CB19>CB17),BY19,BY17)","v":""},{"$f":"VLOOKUP(CC17,AY17:BG20,9,FALSE)","v":0},{"$f":"VLOOKUP(CC17,AY17:BG20,8,FALSE)","v":0},{"$f":"VLOOKUP(CC17,AY17:BG20,6,FALSE)","v":0},{"$f":"IF(AND(CD17=CD20,CE17=CE20,CF20>CF17),CC20,CC17)","v":""},{"$f":"VLOOKUP(CG17,AY17:BG20,9,FALSE)","v":0},{"$f":"VLOOKUP(CG17,AY17:BG20,8,FALSE)","v":0},{"$f":"VLOOKUP(CG17,AY17:BG20,6,FALSE)","v":0},null,null,null,{"$f":"CG17","v":""},{"$f":"VLOOKUP(CN17,AY17:BG20,2,FALSE)","v":0},{"$f":"VLOOKUP(CN17,AY17:BG20,3,FALSE)","v":6},{"$f":"VLOOKUP(CN17,AY17:BG20,4,FALSE)","v":-12},{"$f":"VLOOKUP(CN17,AY17:BG20,5,FALSE)","v":6},{"$f":"VLOOKUP(CN17,AY17:BG20,6,FALSE)","v":0},{"$f":"VLOOKUP(CN17,AY17:BG20,7,FALSE)","v":0},{"$f":"VLOOKUP(CN17,AY17:BG20,8,FALSE)","v":0},{"$f":"VLOOKUP(CN17,AY17:BG20,9,FALSE)","v":0},null,null,{"$f":"IF(G17<>\"\",IF(G17>G18,C17,IF(G18>G17,C18,\"Empate\")),\"\")","v":""},{"$f":"IF(G17<>\"\",IF(G17<G18,C17,IF(G18<G17,C18,\"Empate\")),\"\")","v":""},null,null,{"$f":"IF(ISBLANK(DF17),COUNTA(DF18:$DG$19),0)","v":0},14,null,null,null,null,null,null,null,null,null,null,""," ()"]
[null,{"$f":"H10+1","v":11},{"$f":"AY19","v":""},null,null,null,{"$f":"IF(ISBLANK(D17),\"\",SUM(IF(D18>D17,1,0)+(IF(E18>E17,1,0)+(IF(F18>F17,1,0)))))","v":""},{"$f":"B18+1","v":12},{"$f":"IF(I17=\"\",\"\",AY18)","v":""},null,null,null,{"$f":"IF(ISBLANK(J17),\"\",SUM(IF(J18>J17,1,0)+(IF(K18>K17,1,0)+(IF(L18>L17,1,0)))))","v":""},null,null,null,null,null,null,null,null,null,{"$f":"IF(AA24=AA25,\"\",IF(AA24<AA25,W24,W25))","v":""},null,null,null,{"$f":"IF(ISBLANK(X17),\"\",SUM(IF(X18>X17,1,0)+(IF(Y18>Y17,1,0)+(IF(Z18>Z17,1,0)))))","v":""},null,null,{"$f":"IF(AA24=AA25,\"\",IF(AA24>AA25,W24,W25))","v":""},null,null,null,{"$f":"IF(ISBLANK(AE17),\"\",SUM(IF(AE18>AE17,1,0)+(IF(AF18>AF17,1,0)+(IF(AG18>AG17,1,0)))))","v":""},null,null,null,{"$f":"IF(AM18=\"\",\"\",\"3º\")","v":""},{"$f":"CN19","v":""},{"$f":"IF(AM18=\"\",\"\",CO19)","v":""},{"$f":"IF(AM18=\"\",\"\",CP19)","v":""},{"$f":"CQ19","v":-12},{"$f":"IF(AM18=\"\",\"\",CR19)","v":""},{"$f":"IF(AM18=\"\",\"\",CS19)","v":""},{"$f":"IF(AM18=\"\",\"\",CT19)","v":""},{"$f":"IF(AM18=\"\",\"\",CU19)","v":""},{"$f":"IF(AM18=\"\",\"\",CV19)","v":""},{"$f":"IF($CZ$1<=11,AW18,AX18)","v":8},8,12,{"$f":"IF(AY43=\"\",BA43,AY43)","v":""},{"$f":"COUNT(G15,M18,G20)","v":0},{"$f":"COUNTIF(CY15:CY20,AY18)","v":6},{"$f":"AZ18-(BA18+BC18)","v":-12},{"$f":"COUNTIF(CZ15:CZ20,AY18)","v":6},{"$f":"SUM(D15:F15,J18:L18,D20:F20)","v":0},{"$f":"SUM(D16:F16,J17:L17,D19:F19)","v":0},{"$f":"BD18-BE18","v":0},{"$f":"IF(AZ18=0,0,BA18*2+BC18*1)","v":0},{"$f":"IF(BG18<=BG17,AY18,AY17)","v":""},{"$f":"VLOOKUP(BH18,AY17:BG20,9,FALSE)","v":0},{"$f":"IF(BI18>=BI20,BH18,BH20)","v":""},{"$f":"VLOOKUP(BJ18,AY17:BG20,9,FALSE)","v":0},{"$f":"IF(BK18>=BK19,BJ18,BJ19)","v":""},{"$f":"VLOOKUP(BL18,AY17:BG20,9,FALSE)","v":0},{"$f":"VLOOKUP(BL18,AY17:BG20,8,FALSE)","v":0},{"$f":"IF(AND(BM17=BM18,BN18>BN17),BL17,BL18)","v":""},{"$f":"VLOOKUP(BO18,AY17:BG20,9,FALSE)","v":0},{"$f":"VLOOKUP(BO18,AY17:BG20,8,FALSE)","v":0},{"$f":"IF(AND(BP18=BP20,BQ20>BQ18),BO20,BO18)","v":""},{"$f":"VLOOKUP(BR18,AY17:BG20,9,FALSE)","v":0},{"$f":"VLOOKUP(BR18,AY17:BG20,8,FALSE)","v":0},{"$f":"IF(AND(BS18=BS19,BT19>BT18),BR19,BR18)","v":""},{"$f":"VLOOKUP(BU18,AY17:BG20,9,FALSE)","v":0},{"$f":"VLOOKUP(BU18,AY17:BG20,8,FALSE)","v":0},{"$f":"VLOOKUP(BU18,AY17:BG20,6,FALSE)","v":0},{"$f":"IF(AND(BV17=BV18,BW17=BW18,BX18>BX17),BU17,BU18)","v":""},{"$f":"VLOOKUP(BY18,AY17:BG20,9,FALSE)","v":0},{"$f":"VLOOKUP(BY18,AY17:BG20,8,FALSE)","v":0},{"$f":"VLOOKUP(BY18,AY17:BG20,6,FALSE)","v":0},{"$f":"IF(AND(BZ18=BZ20,CA18=CA20,CB20>CB18),BY20,BY18)","v":""},{"$f":"VLOOKUP(CC18,AY17:BG20,9,FALSE)","v":0},{"$f":"VLOOKUP(CC18,AY17:BG20,8,FALSE)","v":0},{"$f":"VLOOKUP(CC18,AY17:BG20,6,FALSE)","v":0},{"$f":"IF(AND(CD18=CD19,CE18=CE19,CF19>CF18),CC19,CC18)","v":""},{"$f":"VLOOKUP(CG18,AY17:BG20,9,FALSE)","v":0},{"$f":"VLOOKUP(CG18,AY17:BG20,8,FALSE)","v":0},{"$f":"VLOOKUP(CG18,AY17:BG20,6,FALSE)","v":0},null,null,null,{"$f":"CG18","v":""},{"$f":"VLOOKUP(CN18,AY17:BG20,2,FALSE)","v":0},{"$f":"VLOOKUP(CN18,AY17:BG20,3,FALSE)","v":6},{"$f":"VLOOKUP(CN18,AY17:BG20,4,FALSE)","v":-12},{"$f":"VLOOKUP(CN18,AY17:BG20,5,FALSE)","v":6},{"$f":"VLOOKUP(CN18,AY17:BG20,6,FALSE)","v":0},{"$f":"VLOOKUP(CN18,AY17:BG20,7,FALSE)","v":0},{"$f":"VLOOKUP(CN18,AY17:BG20,8,FALSE)","v":0},{"$f":"VLOOKUP(CN18,AY17:BG20,9,FALSE)","v":0},null,null,{"$f":"IF(M17<>\"\",IF(M17>M18,I17,IF(M18>M17,I18,\"Empate\")),\"\")","v":""},{"$f":"IF(M17<>\"\",IF(M17<M18,I17,IF(M18<M17,I18,\"Empate\")),\"\")","v":""},null,null,{"$f":"IF(ISBLANK(DF18),COUNTA(DF19:$DG$19),0)","v":0},15,null,null,null,null,null,null,null,null,null,null,""," ()"]
[null,{"$f":"$A$4","v":"PH-Ini"},{"$f":"AY19","v":""},null,null,null,{"$f":"IF(ISBLANK(D19),\"\",SUM(IF(D19>D20,1,0)+(IF(E19>E20,1,0)+(IF(F19>F20,1,0)))))","v":""},{"$f":"$A$4","v":"PH-Ini"},{"$f":"AY20","v":""},null,null,null,{"$f":"IF(ISBLANK(J19),\"\",SUM(IF(J19>J20,1,0)+(IF(K19>K20,1,0)+(IF(L19>L20,1,0)))))","v":""},3,null,null,null,null,null,null,null,null,"3º/4º",null,null,null,null,null,null,null,null,null,null,null,null,null,null,{"$f":"IF(AM19=\"\",\"\",\"4º\")","v":""},{"$f":"CN20","v":""},{"$f":"IF(AM19=\"\",\"\",CO20)","v":""},{"$f":"IF(AM19=\"\",\"\",CP20)","v":""},{"$f":"CQ20","v":-12},{"$f":"IF(AM19=\"\",\"\",CR20)","v":""},{"$f":"IF(AM19=\"\",\"\",CS20)","v":""},{"$f":"IF(AM19=\"\",\"\",CT20)","v":""},{"$f":"IF(AM19=\"\",\"\",CU20)","v":""},{"$f":"IF(AM19=\"\",\"\",CV20)","v":""},{"$f":"IF($CZ$1<=11,AW19,AX19)","v":""},{"$f":"IF(AM19=\"\",\"\",11)","v":""},{"$f":"IF(AM19=\"\",\"\",13)","v":""},{"$f":"IF(AY46=\"\",BA50,AY46)","v":""},{"$f":"COUNT(M15,G18,G19)","v":0},{"$f":"COUNTIF(CY15:CY20,AY19)","v":6},{"$f":"AZ19-(BA19+BC19)","v":-12},{"$f":"COUNTIF(CZ15:CZ20,AY19)","v":6},{"$f":"SUM(J15:L15,D18:F18,D19:F19)","v":0},{"$f":"SUM(J16:L16,D17:F17,D20:F20)","v":0},{"$f":"BD19-BE19","v":0},{"$f":"IF(AZ19=0,0,BA19*2+BC19*1)","v":0},{"$f":"IF(BG19>=BG20,AY19,AY20)","v":""},{"$f":"VLOOKUP(BH19,AY17:BG20,9,FALSE)","v":0},{"$f":"IF(BI19<=BI17,BH19,BH17)","v":""},{"$f":"VLOOKUP(BJ19,AY17:BG20,9,FALSE)","v":0},{"$f":"IF(BK19<=BK18,BJ19,BJ18)","v":""},{"$f":"VLOOKUP(BL19,AY17:BG20,9,FALSE)","v":0},{"$f":"VLOOKUP(BL19,AY17:BG20,8,FALSE)","v":0},{"$f":"IF(AND(BM19=BM20,BN20>BN19),BL20,BL19)","v":""},{"$f":"VLOOKUP(BO19,AY17:BG20,9,FALSE)","v":0},{"$f":"VLOOKUP(BO19,AY17:BG20,8,FALSE)","v":0},{"$f":"IF(AND(BP17=BP19,BQ19>BQ17),BO17,BO19)","v":""},{"$f":"VLOOKUP(BR19,AY17:BG20,9,FALSE)","v":0},{"$f":"VLOOKUP(BR19,AY17:BG20,8,FALSE)","v":0},{"$f":"IF(AND(BS18=BS19,BT19>BT18),BR18,BR19)","v":""},{"$f":"VLOOKUP(BU19,AY17:BG20,9,FALSE)","v":0},{"$f":"VLOOKUP(BU19,AY17:BG20,8,FALSE)","v":0},{"$f":"VLOOKUP(BU19,AY17:BG20,6,FALSE)","v":0},{"$f":"IF(AND(BV19=BV20,BW19=BW20,BX20>BX19),BU20,BU19)","v":""},{"$f":"VLOOKUP(BY19,AY17:BG20,9,FALSE)","v":0},{"$f":"VLOOKUP(BY19,AY17:BG20,8,FALSE)","v":0},{"$f":"VLOOKUP(BY19,AY17:BG20,6,FALSE)","v":0},{"$f":"IF(AND(BZ17=BZ19,CA17=CA19,CB18>CB17),BY17,BY19)","v":""},{"$f":"VLOOKUP(CC19,AY17:BG20,9,FALSE)","v":0},{"$f":"VLOOKUP(CC19,AY17:BG20,8,FALSE)","v":0},{"$f":"VLOOKUP(CC19,AY17:BG20,6,FALSE)","v":0},{"$f":"IF(AND(CD18=CD19,CE18=CE19,CF19>CF18),CC18,CC19)","v":""},{"$f":"VLOOKUP(CG19,AY17:BG20,9,FALSE)","v":0},{"$f":"VLOOKUP(CG19,AY17:BG20,8,FALSE)","v":0},{"$f":"VLOOKUP(CG19,AY17:BG20,6,FALSE)","v":0},null,null,null,{"$f":"CG19","v":""},{"$f":"VLOOKUP(CN19,AY17:BG20,2,FALSE)","v":0},{"$f":"VLOOKUP(CN19,AY17:BG20,3,FALSE)","v":6},{"$f":"VLOOKUP(CN19,AY17:BG20,4,FALSE)","v":-12},{"$f":"VLOOKUP(CN19,AY17:BG20,5,FALSE)","v":6},{"$f":"VLOOKUP(CN19,AY17:BG20,6,FALSE)","v":0},{"$f":"VLOOKUP(CN19,AY17:BG20,7,FALSE)","v":0},{"$f":"VLOOKUP(CN19,AY17:BG20,8,FALSE)","v":0},{"$f":"VLOOKUP(CN19,AY17:BG20,9,FALSE)","v":0},null,null,{"$f":"IF(M19<>\"\",IF(M19>M20,I19,IF(M20>M19,I20,\"Empate\")),\"\")","v":""},{"$f":"IF(M19<>\"\",IF(M19<M20,I19,IF(M20<M19,I20,\"Empate\")),\"\")","v":""},null,null,{"$f":"IF(ISBLANK(DF19),COUNTA(DF$19:$DG20),0)","v":0},16,null,null,null,null,null,null,null,null,null,null,""," ()"]
[null,{"$f":"H12+1","v":19},{"$f":"AY18","v":""},null,null,null,{"$f":"IF(ISBLANK(D19),\"\",SUM(IF(D20>D19,1,0)+(IF(E20>E19,1,0)+(IF(F20>F19,1,0)))))","v":""},{"$f":"B20+1","v":20},{"$f":"IF(I19=\"\",\"\",AY17)","v":""},null,null,null,{"$f":"IF(ISBLANK(J19),\"\",SUM(IF(J20>J19,1,0)+(IF(K20>K19,1,0)+(IF(L20>L19,1,0)))))","v":""},14,null,"Jogo Nº",{"$f":"CONCATENATE($A$4,\" \",SUM($H$36+3))","v":"PH-Ini 27"},null,null,null,null,null,{"$f":"IF(AA17=AA18,\"\",IF(AA17>AA18,W17,W18))","v":""},null,null,null,null,null,null,null,null,null,null,null,null,null,null,null,null,null,null,null,null,null,null,null,null,null,null,null,{"$f":"IF(AY49=\"\",BA51,AY49)","v":""},{"$f":"COUNT(M16,M17,M19)","v":0},{"$f":"COUNTIF(CY15:CY20,AY20)","v":6},{"$f":"AZ20-(BA20+BC20)","v":-12},{"$f":"COUNTIF(CZ15:CZ20,AY20)","v":6},{"$f":"SUM(J16:L16,J17:L17,J19:L19)","v":0},{"$f":"SUM(J15:L15,J18:L18,J20:L20)","v":0},{"$f":"BD20-BE20","v":0},{"$f":"IF(AZ20=0,0,BA20*2+BC20*1)","v":0},{"$f":"IF(BG20<=BG19,AY20,AY19)","v":""},{"$f":"VLOOKUP(BH20,AY17:BG20,9,FALSE)","v":0},{"$f":"IF(BI20<=BI18,BH20,BH18)","v":""},{"$f":"VLOOKUP(BJ20,AY17:BG20,9,FALSE)","v":0},{"$f":"IF(BK20<=BK17,BJ20,BJ17)","v":""},{"$f":"VLOOKUP(BL20,AY17:BG20,9,FALSE)","v":0},{"$f":"VLOOKUP(BL20,AY17:BG20,8,FALSE)","v":0},{"$f":"IF(AND(BM19=BM20,BN20>BN19),BL19,BL20)","v":""},{"$f":"VLOOKUP(BO20,AY17:BG20,9,FALSE)","v":0},{"$f":"VLOOKUP(BO20,AY17:BG20,8,FALSE)","v":0},{"$f":"IF(AND(BP18=BP20,BQ20>BQ18),BO18,BO20)","v":""},{"$f":"VLOOKUP(BR20,AY17:BG20,9,FALSE)","v":0},{"$f":"VLOOKUP(BR20,AY17:BG20,8,FALSE)","v":0},{"$f":"IF(AND(BS17=BS20,BT20>BT17),BR17,BR20)","v":""},{"$f":"VLOOKUP(BU20,AY17:BG20,9,FALSE)","v":0},{"$f":"VLOOKUP(BU20,AY17:BG20,8,FALSE)","v":0},{"$f":"VLOOKUP(BU20,AY17:BG20,6,FALSE)","v":0},{"$f":"IF(AND(BV19=BV20,BW19=BW20,BX20>BX19),BU19,BU20)","v":""},{"$f":"VLOOKUP(BY20,AY17:BG20,9,FALSE)","v":0},{"$f":"VLOOKUP(BY20,AY17:BG20,8,FALSE)","v":0},{"$f":"VLOOKUP(BY20,AY17:BG20,6,FALSE)","v":0},{"$f":"IF(AND(BZ18=BZ20,CA18=CA20,CB20>CB18),BY18,BY20)","v":""},{"$f":"VLOOKUP(CC20,AY17:BG20,9,FALSE)","v":0},{"$f":"VLOOKUP(CC20,AY17:BG20,8,FALSE)","v":0},{"$f":"VLOOKUP(CC20,AY17:BG20,6,FALSE)","v":0},{"$f":"IF(AND(CD17=CD20,CE17=CE20,CF20>CF17),CC17,CC20)","v":""},{"$f":"VLOOKUP(CG20,AY17:BG20,9,FALSE)","v":0},{"$f":"VLOOKUP(CG20,AY17:BG20,8,FALSE)","v":0},{"$f":"VLOOKUP(CG20,AY17:BG20,6,FALSE)","v":0},null,null,null,{"$f":"CG20","v":""},{"$f":"VLOOKUP(CN20,AY17:BG20,2,FALSE)","v":0},{"$f":"VLOOKUP(CN20,AY17:BG20,3,FALSE)","v":6},{"$f":"VLOOKUP(CN20,AY17:BG20,4,FALSE)","v":-12},{"$f":"VLOOKUP(CN20,AY17:BG20,5,FALSE)","v":6},{"$f":"VLOOKUP(CN20,AY17:BG20,6,FALSE)","v":0},{"$f":"VLOOKUP(CN20,AY17:BG20,7,FALSE)","v":0},{"$f":"VLOOKUP(CN20,AY17:BG20,8,FALSE)","v":0},{"$f":"VLOOKUP(CN20,AY17:BG20,9,FALSE)","v":0},null,null,{"$f":"IF(G20<>\"\",IF(G20>G19,C20,IF(G19>G20,C19,\"Empate\")),\"\")","v":""},{"$f":"IF(G20<>\"\",IF(G20<G19,C20,IF(G19<G20,C19,\"Empate\")),\"\")","v":""}]
[null,null,null,null,null,null,null,null,null,null,null,null,null,null,3,{"$f":"IF($AY$53<11,VLOOKUP(O21,AX56:BA63,2,FALSE),IF($AY$53=11,VLOOKUP(O21,AX56:BA63,3,FALSE),VLOOKUP(O21,AX56:BA63,4,FALSE)))","v":"1º Grupo C"},null,null,null,{"$f":"IF(ISBLANK(Q21),\"\",SUM(IF(Q21>Q22,1,0)+(IF(R21>R22,1,0)+(IF(S21>S22,1,0)))))","v":""},null,null,null,null,null,null,null,null,null,null,null,null,null,null,null,null,null,null,"Classificação Grupo C",null,null,null,null,null,null,null,null,null,null,null,null,null,null,null,null,null,null,null,null,null,null,null,null,null,null,null,null,null,null,null,null,null,null,null,null,null,null,null,null,null,null,null,null,null,null,null,null,null,null,null,null,null,null,null,null,null,null,null,null,null,null,null,null,null,null,null,null,null,"Se pretender efectuar altrerações apague, e volte a introduzir os jogadores que pretender nos espaços disponíveis."]
["Grupo C","NºJ","Jogadores",1,2,3,"R","NºJ","Jogadores",1,2,3,"R",11,6,{"$f":"IF($AY$53<11,VLOOKUP(O22,AX56:BA63,2,FALSE),IF($AY$53=11,VLOOKUP(O22,AX56:BA63,3,FALSE),VLOOKUP(O22,AX56:BA63,4,FALSE)))","v":"2º Grupo A"},null,null,null,{"$f":"IF(ISBLANK(Q21),\"\",SUM(IF(Q22>Q21,1,0)+(IF(R22>R21,1,0)+(IF(S22>S21,1,0)))))","v":""},null,null,null,null,null,null,null,null,null,null,null,null,null,null,null,null,null,"Cl",{"$f":"AY24","v":"Jogadores"},"Jg","V","E","D","PM","PS","DP","Pt.",null,null,null,"Colocar Equipas",null,null,null,null,null,null,null,null,"Ordenar p/ Pts 1",null,"Ordenar p/ Pts 2",null,"Ordenar p/ Pts 3",null,null,"Ordenar p/ DG 1",null,null,"Ordenar p/ DG 2",null,null,"Ordenar p/ DG 3",null,null,null,"Ordenar p/ GM 1",null,null,null,"Ordenar p/ GM 2",null,null,null,"Ordenar p/ GM 3",null,null,null,null,null,null,null,null,null,null,null,null,null,null,null,null,null,"Vencedores","Derrotados"]
[null,{"$f":"$A$4","v":"PH-Ini"},{"$f":"AY26","v":""},null,null,null,{"$f":"IF(ISBLANK(D23),\"\",SUM(IF(D23>D24,1,0)+(IF(E23>E24,1,0)+(IF(F23>F24,1,0)))))","v":""},{"$f":"$A$4","v":"PH-Ini"},{"$f":"IF(I24=\"\",\"\",AY27)","v":""},null,null,null,{"$f":"IF(ISBLANK(J23),\"\",SUM(IF(J23>J24,1,0)+(IF(K23>K24,1,0)+(IF(L23>L24,1,0)))))","v":""},6,null,null,null,null,null,null,null,null,"Jogo Nº",{"$f":"CONCATENATE($A$4,\" \",SUM($H$36+6))","v":"PH-Ini 30"},null,null,null,null,null,null,null,null,null,null,null,null,null,{"$f":"IF(AM23=\"\",\"\",\"1º\")","v":""},{"$f":"CN25","v":""},{"$f":"IF(AM23=\"\",\"\",CO25)","v":""},{"$f":"IF(AM23=\"\",\"\",CP25)","v":""},{"$f":"CQ25","v":-12},{"$f":"IF(AM23=\"\",\"\",CR25)","v":""},{"$f":"IF(AM23=\"\",\"\",CS25)","v":""},{"$f":"IF(AM23=\"\",\"\",CT25)","v":""},{"$f":"IF(AM23=\"\",\"\",CU25)","v":""},{"$f":"IF(AM23=\"\",\"\",CV25)","v":""},{"$f":"IF($CZ$1<=11,AW23,AX23)","v":3},3,3,"Grupo C",null,null,null,null,null,null,null,null,null,null,null,null,null,null,null,null,null,null,null,null,null,null,null,null,null,null,null,null,null,null,null,null,null,null,null,null,null,null,null,null,null,null,null,null,null,null,null,null,null,null,null,{"$f":"IF(G24<>\"\",IF(G24>G23,C24,IF(G23>G24,C23,\"Empate\")),\"\")","v":""},{"$f":"IF(G24<>\"\",IF(G24<G23,C24,IF(G23<G24,C23,\"Empate\")),\"\")","v":""}]
[null,{"$f":"H16+1","v":5},{"$f":"AY25","v":""},null,null,null,{"$f":"IF(ISBLANK(D23),\"\",SUM(IF(D24>D23,1,0)+(IF(E24>E23,1,0)+(IF(F24>F23,1,0)))))","v":""},{"$f":"B24+1","v":6},{"$f":"AY28","v":""},null,null,null,{"$f":"IF(ISBLANK(J23),\"\",SUM(IF(J24>J23,1,0)+(IF(K24>K23,1,0)+(IF(L24>L23,1,0)))))","v":""},null,null,null,null,null,null,null,null,null,{"$f":"IF(T21=T22,\"\",IF(T21>T22,P21,P22))","v":""},null,null,null,{"$f":"IF(ISBLANK(X24),\"\",SUM(IF(X24>X25,1,0)+(IF(Y24>Y25,1,0)+(IF(Z24>Z25,1,0)))))","v":""},null,null,null,null,null,null,null,null,null,null,{"$f":"IF(AM24=\"\",\"\",\"2º\")","v":""},{"$f":"CN26","v":""},{"$f":"IF(AM24=\"\",\"\",CO26)","v":""},{"$f":"IF(AM24=\"\",\"\",CP26)","v":""},{"$f":"CQ26","v":-12},{"$f":"IF(AM24=\"\",\"\",CR26)","v":""},{"$f":"IF(AM24=\"\",\"\",CS26)","v":""},{"$f":"IF(AM24=\"\",\"\",CT26)","v":""},{"$f":"IF(AM24=\"\",\"\",CU26)","v":""},{"$f":"IF(AM24=\"\",\"\",CV26)","v":""},{"$f":"IF($CZ$1<=11,AW24,AX24)","v":6},6,6,"Jogadores","Jg","V","E","D","GM","GS","DG","Pts","Equipas","Pts","Equipas","Pts","Equipas","Pts","DG","Equipas","Pts","DG","Equipas","Pts","DG","Equipas","Pts","DG","GM","Equipas","Pts","DG","GM","Equipas","Pts","DG","GM","Equipas","Pts","DG","GM",null,null,null,"Equipas","Jg","V","D","E","GM","GS","DG","Pts",null,null,{"$f":"IF(M23<>\"\",IF(M23>M24,I23,IF(M24>M23,I24,\"Empate\")),\"\")","v":""},{"$f":"IF(M23<>\"\",IF(M23<M24,I23,IF(M24<M23,I24,\"Empate\")),\"\")","v":""},null,null,null,null,"Para efectuar alterações à de colocações nos grupos dos jogadores, altere a coluna \"ORDEM\" dando uma nova ordem de nºs e depois clique em Ordenar."]
[null,{"$f":"$A$4","v":"PH-Ini"},{"$f":"AY25","v":""},null,null,null,{"$f":"IF(ISBLANK(D25),\"\",SUM(IF(D25>D26,1,0)+(IF(E25>E26,1,0)+(IF(F25>F26,1,0)))))","v":""},{"$f":"$A$4","v":"PH-Ini"},{"$f":"AY28","v":""},null,null,null,{"$f":"IF(ISBLANK(J25),\"\",SUM(IF(J25>J26,1,0)+(IF(K25>K26,1,0)+(IF(L25>L26,1,0)))))","v":""},7,null,null,null,null,null,null,null,null,{"$f":"IF(T27=T28,\"\",IF(T27>T28,P27,P28))","v":""},null,null,null,{"$f":"IF(ISBLANK(X24),\"\",SUM(IF(X25>X24,1,0)+(IF(Y25>Y24,1,0)+(IF(Z25>Z24,1,0)))))","v":""},null,null,null,null,null,null,null,null,null,null,{"$f":"IF(AM25=\"\",\"\",\"3º\")","v":""},{"$f":"CN27","v":""},{"$f":"IF(AM25=\"\",\"\",CO27)","v":""},{"$f":"IF(AM25=\"\",\"\",CP27)","v":""},{"$f":"CQ27","v":-12},{"$f":"IF(AM25=\"\",\"\",CR27)","v":""},{"$f":"IF(AM25=\"\",\"\",CS27)","v":""},{"$f":"IF(AM25=\"\",\"\",CT27)","v":""},{"$f":"IF(AM25=\"\",\"\",CU27)","v":""},{"$f":"IF(AM25=\"\",\"\",CV27)","v":""},{"$f":"IF($CZ$1<=11,AW25,AX25)","v":9},9,11,{"$f":"IF(AY41=\"\",BA41,AY41)","v":""},{"$f":"COUNT(G24,G25,M28)","v":0},{"$f":"COUNTIF(CY23:CY28,AY25)","v":6},{"$f":"AZ25-(BA25+BC25)","v":-12},{"$f":"COUNTIF(CZ23:CZ28,AY25)","v":6},{"$f":"SUM(D24:F24,D25:F25,J28:L28)","v":0},{"$f":"SUM(D23:F23,D26:F26,J27:L27)","v":0},{"$f":"BD25-BE25","v":0},{"$f":"IF(AZ25=0,0,BA25*2+BC25*1)","v":0},{"$f":"IF(BG25>=BG26,AY25,AY26)","v":""},{"$f":"VLOOKUP(BH25,AY25:BG28,9,FALSE)","v":0},{"$f":"IF(BI25>=BI27,BH25,BH27)","v":""},{"$f":"VLOOKUP(BJ25,AY25:BG28,9,FALSE)","v":0},{"$f":"IF(BK25>=BK28,BJ25,BJ28)","v":""},{"$f":"VLOOKUP(BL25,AY25:BG28,9,FALSE)","v":0},{"$f":"VLOOKUP(BL25,AY25:BG28,8,FALSE)","v":0},{"$f":"IF(AND(BM25=BM26,BN26>BN25),BL26,BL25)","v":""},{"$f":"VLOOKUP(BO25,AY25:BG28,9,FALSE)","v":0},{"$f":"VLOOKUP(BO25,AY25:BG28,8,FALSE)","v":0},{"$f":"IF(AND(BP25=BP27,BQ27>BQ25),BO27,BO25)","v":""},{"$f":"VLOOKUP(BR25,AY25:BG28,9,FALSE)","v":0},{"$f":"VLOOKUP(BR25,AY25:BG28,8,FALSE)","v":0},{"$f":"IF(AND(BS25=BS28,BT28>BT25),BR28,BR25)","v":""},{"$f":"VLOOKUP(BU25,AY25:BG28,9,FALSE)","v":0},{"$f":"VLOOKUP(BU25,AY25:BG28,8,FALSE)","v":0},{"$f":"VLOOKUP(BU25,AY25:BG28,6,FALSE)","v":0},{"$f":"IF(AND(BV25=BV26,BW25=BW26,BX26>BX25),BU26,BU25)","v":""},{"$f":"VLOOKUP(BY25,AY25:BG28,9,FALSE)","v":0},{"$f":"VLOOKUP(BY25,AY25:BG28,8,FALSE)","v":0},{"$f":"VLOOKUP(BY25,AY25:BG28,6,FALSE)","v":0},{"$f":"IF(AND(BZ25=BZ27,CA25=CA27,CB27>CB25),BY27,BY25)","v":""},{"$f":"VLOOKUP(CC25,AY25:BG28,9,FALSE)","v":0},{"$f":"VLOOKUP(CC25,AY25:BG28,8,FALSE)","v":0},{"$f":"VLOOKUP(CC25,AY25:BG28,6,FALSE)","v":0},{"$f":"IF(AND(CD25=CD28,CE25=CE28,CF28>CF25),CC28,CC25)","v":""},{"$f":"VLOOKUP(CG25,AY25:BG28,9,FALSE)","v":0},{"$f":"VLOOKUP(CG25,AY25:BG28,8,FALSE)","v":0},{"$f":"VLOOKUP(CG25,AY25:BG28,6,FALSE)","v":0},null,null,null,{"$f":"CG25","v":""},{"$f":"VLOOKUP(CN25,AY25:BG28,2,FALSE)","v":0},{"$f":"VLOOKUP(CN25,AY25:BG28,3,FALSE)","v":6},{"$f":"VLOOKUP(CN25,AY25:BG28,4,FALSE)","v":-12},{"$f":"VLOOKUP(CN25,AY25:BG28,5,FALSE)","v":6},{"$f":"VLOOKUP(CN25,AY25:BG28,6,FALSE)","v":0},{"$f":"VLOOKUP(CN25,AY25:BG28,7,FALSE)","v":0},{"$f":"VLOOKUP(CN25,AY25:BG28,8,FALSE)","v":0},{"$f":"VLOOKUP(CN25,AY25:BG28,9,FALSE)","v":0},null,null,{"$f":"IF(G25<>\"\",IF(G25>G26,C25,IF(G26>G25,C26,\"Empate\")),\"\")","v":""},{"$f":"IF(G25<>\"\",IF(G25<G26,C25,IF(G26<G25,C26,\"Empate\")),\"\")","v":""}]
[null,{"$f":"H18+1","v":13},{"$f":"AY27","v":""},null,null,null,{"$f":"IF(ISBLANK(D25),\"\",SUM(IF(D26>D25,1,0)+(IF(E26>E25,1,0)+(IF(F26>F25,1,0)))))","v":""},{"$f":"B26+1","v":14},{"$f":"IF(I25=\"\",\"\",AY26)","v":""},null,null,null,{"$f":"IF(ISBLANK(J25),\"\",SUM(IF(J26>J25,1,0)+(IF(K26>K25,1,0)+(IF(L26>L25,1,0)))))","v":""},10,null,"Jogo Nº",{"$f":"CONCATENATE($A$4,\" \",SUM($H$36+4))","v":"PH-Ini 28"},null,null,null,null,null,null,null,null,null,null,null,null,null,null,null,null,null,null,null,null,{"$f":"IF(AM26=\"\",\"\",\"4º\")","v":""},{"$f":"CN28","v":""},{"$f":"IF(AM26=\"\",\"\",CO28)","v":""},{"$f":"IF(AM26=\"\",\"\",CP28)","v":""},{"$f":"CQ28","v":-12},{"$f":"IF(AM26=\"\",\"\",CR28)","v":""},{"$f":"IF(AM26=\"\",\"\",CS28)","v":""},{"$f":"IF(AM26=\"\",\"\",CT28)","v":""},{"$f":"IF(AM26=\"\",\"\",CU28)","v":""},{"$f":"IF(AM26=\"\",\"\",CV28)","v":""},{"$f":"IF($CZ$1<=11,AW26,AX26)","v":" "}," ",{"$f":"IF(AM26=\"\",\"\",14)","v":""},{"$f":"IF(AY44=\"\",BA44,AY44)","v":""},{"$f":"COUNT(G23,M26,G28)","v":0},{"$f":"COUNTIF(CY23:CY28,AY26)","v":6},{"$f":"AZ26-(BA26+BC26)","v":-12},{"$f":"COUNTIF(CZ23:CZ28,AY26)","v":6},{"$f":"SUM(D23:F23,J26:L26,D28:F28)","v":0},{"$f":"SUM(D24:F24,J25:L25,D27:F27)","v":0},{"$f":"BD26-BE26","v":0},{"$f":"IF(AZ26=0,0,BA26*2+BC26*1)","v":0},{"$f":"IF(BG26<=BG25,AY26,AY25)","v":""},{"$f":"VLOOKUP(BH26,AY25:BG28,9,FALSE)","v":0},{"$f":"IF(BI26>=BI28,BH26,BH28)","v":""},{"$f":"VLOOKUP(BJ26,AY25:BG28,9,FALSE)","v":0},{"$f":"IF(BK26>=BK27,BJ26,BJ27)","v":""},{"$f":"VLOOKUP(BL26,AY25:BG28,9,FALSE)","v":0},{"$f":"VLOOKUP(BL26,AY25:BG28,8,FALSE)","v":0},{"$f":"IF(AND(BM25=BM26,BN26>BN25),BL25,BL26)","v":""},{"$f":"VLOOKUP(BO26,AY25:BG28,9,FALSE)","v":0},{"$f":"VLOOKUP(BO26,AY25:BG28,8,FALSE)","v":0},{"$f":"IF(AND(BP26=BP28,BQ28>BQ26),BO28,BO26)","v":""},{"$f":"VLOOKUP(BR26,AY25:BG28,9,FALSE)","v":0},{"$f":"VLOOKUP(BR26,AY25:BG28,8,FALSE)","v":0},{"$f":"IF(AND(BS26=BS27,BT27>BT26),BR27,BR26)","v":""},{"$f":"VLOOKUP(BU26,AY25:BG28,9,FALSE)","v":0},{"$f":"VLOOKUP(BU26,AY25:BG28,8,FALSE)","v":0},{"$f":"VLOOKUP(BU26,AY25:BG28,6,FALSE)","v":0},{"$f":"IF(AND(BV25=BV26,BW25=BW26,BX26>BX25),BU25,BU26)","v":""},{"$f":"VLOOKUP(BY26,AY25:BG28,9,FALSE)","v":0},{"$f":"VLOOKUP(BY26,AY25:BG28,8,FALSE)","v":0},{"$f":"VLOOKUP(BY26,AY25:BG28,6,FALSE)","v":0},{"$f":"IF(AND(BZ26=BZ28,CA26=CA28,CB28>CB26),BY28,BY26)","v":""},{"$f":"VLOOKUP(CC26,AY25:BG28,9,FALSE)","v":0},{"$f":"VLOOKUP(CC26,AY25:BG28,8,FALSE)","v":0},{"$f":"VLOOKUP(CC26,AY25:BG28,6,FALSE)","v":0},{"$f":"IF(AND(CD26=CD27,CE26=CE27,CF27>CF26),CC27,CC26)","v":""},{"$f":"VLOOKUP(CG26,AY25:BG28,9,FALSE)","v":0},{"$f":"VLOOKUP(CG26,AY25:BG28,8,FALSE)","v":0},{"$f":"VLOOKUP(CG26,AY25:BG28,6,FALSE)","v":0},null,null,null,{"$f":"CG26","v":""},{"$f":"VLOOKUP(CN26,AY25:BG28,2,FALSE)","v":0},{"$f":"VLOOKUP(CN26,AY25:BG28,3,FALSE)","v":6},{"$f":"VLOOKUP(CN26,AY25:BG28,4,FALSE)","v":-12},{"$f":"VLOOKUP(CN26,AY25:BG28,5,FALSE)","v":6},{"$f":"VLOOKUP(CN26,AY25:BG28,6,FALSE)","v":0},{"$f":"VLOOKUP(CN26,AY25:BG28,7,FALSE)","v":0},{"$f":"VLOOKUP(CN26,AY25:BG28,8,FALSE)","v":0},{"$f":"VLOOKUP(CN26,AY25:BG28,9,FALSE)","v":0},null,null,{"$f":"IF(M25<>\"\",IF(M25>M26,I25,IF(M26>M25,I26,\"Empate\")),\"\")","v":""},{"$f":"IF(M25<>\"\",IF(M25<M26,I25,IF(M26<M25,I26,\"Empate\")),\"\")","v":""}]
[null,{"$f":"$A$4","v":"PH-Ini"},{"$f":"AY27","v":""},null,null,null,{"$f":"IF(ISBLANK(D27),\"\",SUM(IF(D27>D28,1,0)+(IF(E27>E28,1,0)+(IF(F27>F28,1,0)))))","v":""},{"$f":"$A$4","v":"PH-Ini"},{"$f":"AY28","v":""},null,null,null,{"$f":"IF(ISBLANK(J27),\"\",SUM(IF(J27>J28,1,0)+(IF(K27>K28,1,0)+(IF(L27>L28,1,0)))))","v":""},null,7,{"$f":"IF($AY$53<11,VLOOKUP(O27,AX56:BA63,2,FALSE),IF($AY$53=11,VLOOKUP(O27,AX56:BA63,3,FALSE),VLOOKUP(O27,AX56:BA63,4,FALSE)))","v":"1º Melhor 3º"},null,null,null,{"$f":"IF(ISBLANK(Q27),\"\",SUM(IF(Q27>Q28,1,0)+(IF(R27>R28,1,0)+(IF(S27>S28,1,0)))))","v":""},null,null,null,null,null,null,null,null,null,null,null,null,null,null,null,null,null,null,null,null,null,null,null,null,null,null,null,null,null,null,{"$f":"IF(AY47=\"\",BA49,AY47)","v":""},{"$f":"COUNT(M23,G26,G27)","v":0},{"$f":"COUNTIF(CY23:CY28,AY27)","v":6},{"$f":"AZ27-(BA27+BC27)","v":-12},{"$f":"COUNTIF(CZ23:CZ28,AY27)","v":6},{"$f":"SUM(J23:L23,D26:F26,D27:F27)","v":0},{"$f":"SUM(J24:L24,D25:F25,D28:F28)","v":0},{"$f":"BD27-BE27","v":0},{"$f":"IF(AZ27=0,0,BA27*2+BC27*1)","v":0},{"$f":"IF(BG27>=BG28,AY27,AY28)","v":""},{"$f":"VLOOKUP(BH27,AY25:BG28,9,FALSE)","v":0},{"$f":"IF(BI27<=BI25,BH27,BH25)","v":""},{"$f":"VLOOKUP(BJ27,AY25:BG28,9,FALSE)","v":0},{"$f":"IF(BK27<=BK26,BJ27,BJ26)","v":""},{"$f":"VLOOKUP(BL27,AY25:BG28,9,FALSE)","v":0},{"$f":"VLOOKUP(BL27,AY25:BG28,8,FALSE)","v":0},{"$f":"IF(AND(BM27=BM28,BN28>BN27),BL28,BL27)","v":""},{"$f":"VLOOKUP(BO27,AY25:BG28,9,FALSE)","v":0},{"$f":"VLOOKUP(BO27,AY25:BG28,8,FALSE)","v":0},{"$f":"IF(AND(BP25=BP27,BQ27>BQ25),BO25,BO27)","v":""},{"$f":"VLOOKUP(BR27,AY25:BG28,9,FALSE)","v":0},{"$f":"VLOOKUP(BR27,AY25:BG28,8,FALSE)","v":0},{"$f":"IF(AND(BS26=BS27,BT27>BT26),BR26,BR27)","v":""},{"$f":"VLOOKUP(BU27,AY25:BG28,9,FALSE)","v":0},{"$f":"VLOOKUP(BU27,AY25:BG28,8,FALSE)","v":0},{"$f":"VLOOKUP(BU27,AY25:BG28,6,FALSE)","v":0},{"$f":"IF(AND(BV27=BV28,BW27=BW28,BX28>BX27),BU28,BU27)","v":""},{"$f":"VLOOKUP(BY27,AY25:BG28,9,FALSE)","v":0},{"$f":"VLOOKUP(BY27,AY25:BG28,8,FALSE)","v":0},{"$f":"VLOOKUP(BY27,AY25:BG28,6,FALSE)","v":0},{"$f":"IF(AND(BZ25=BZ27,CA25=CA27,CB26>CB25),BY25,BY27)","v":""},{"$f":"VLOOKUP(CC27,AY25:BG28,9,FALSE)","v":0},{"$f":"VLOOKUP(CC27,AY25:BG28,8,FALSE)","v":0},{"$f":"VLOOKUP(CC27,AY25:BG28,6,FALSE)","v":0},{"$f":"IF(AND(CD26=CD27,CE26=CE27,CF27>CF26),CC26,CC27)","v":""},{"$f":"VLOOKUP(CG27,AY25:BG28,9,FALSE)","v":0},{"$f":"VLOOKUP(CG27,AY25:BG28,8,FALSE)","v":0},{"$f":"VLOOKUP(CG27,AY25:BG28,6,FALSE)","v":0},null,null,null,{"$f":"CG27","v":""},{"$f":"VLOOKUP(CN27,AY25:BG28,2,FALSE)","v":0},{"$f":"VLOOKUP(CN27,AY25:BG28,3,FALSE)","v":6},{"$f":"VLOOKUP(CN27,AY25:BG28,4,FALSE)","v":-12},{"$f":"VLOOKUP(CN27,AY25:BG28,5,FALSE)","v":6},{"$f":"VLOOKUP(CN27,AY25:BG28,6,FALSE)","v":0},{"$f":"VLOOKUP(CN27,AY25:BG28,7,FALSE)","v":0},{"$f":"VLOOKUP(CN27,AY25:BG28,8,FALSE)","v":0},{"$f":"VLOOKUP(CN27,AY25:BG28,9,FALSE)","v":0},null,null,{"$f":"IF(M27<>\"\",IF(M27>M28,I27,IF(M28>M27,I28,\"Empate\")),\"\")","v":""},{"$f":"IF(M27<>\"\",IF(M27<M28,I27,IF(M28<M27,I28,\"Empate\")),\"\")","v":""}]
[null,{"$f":"H20+1","v":21},{"$f":"AY26","v":""},null,null,null,{"$f":"IF(ISBLANK(D27),\"\",SUM(IF(D28>D27,1,0)+(IF(E28>E27,1,0)+(IF(F28>F27,1,0)))))","v":""},{"$f":"B28+1","v":22},{"$f":"IF(I27=\"\",\"\",AY25)","v":""},null,null,null,{"$f":"IF(ISBLANK(J27),\"\",SUM(IF(J28>J27,1,0)+(IF(K28>K27,1,0)+(IF(L28>L27,1,0)))))","v":""},15,2,{"$f":"IF($AY$53<11,VLOOKUP(O28,AX56:BA63,2,FALSE),IF($AY$53=11,VLOOKUP(O28,AX56:BA63,3,FALSE),VLOOKUP(O28,AX56:BA63,4,FALSE)))","v":"1º Grupo B"},null,null,null,{"$f":"IF(ISBLANK(Q27),\"\",SUM(IF(Q28>Q27,1,0)+(IF(R28>R27,1,0)+(IF(S28>S27,1,0)))))","v":""},null,null,null,null,null,null,null,null,null,"Vencedor",null,null,null,null,null,null,null,null,"Classificação Grupo D",null,null,null,null,null,null,null,null,null,null,null,{"$f":"IF(BA52=\"\",\"\",BA52)","v":""},{"$f":"COUNT(M24,M25,M27)","v":0},{"$f":"COUNTIF(CY23:CY28,AY28)","v":6},{"$f":"AZ28-(BA28+BC28)","v":-12},{"$f":"COUNTIF(CZ23:CZ28,AY28)","v":6},{"$f":"SUM(J24:L24,J25:L25,J27:L27)","v":0},{"$f":"SUM(J23:L23,J26:L26,J28:L28)","v":0},{"$f":"BD28-BE28","v":0},{"$f":"IF(AZ28=0,0,BA28*2+BC28*1)","v":0},{"$f":"IF(BG28<=BG27,AY28,AY27)","v":""},{"$f":"VLOOKUP(BH28,AY25:BG28,9,FALSE)","v":0},{"$f":"IF(BI28<=BI26,BH28,BH26)","v":""},{"$f":"VLOOKUP(BJ28,AY25:BG28,9,FALSE)","v":0},{"$f":"IF(BK28<=BK25,BJ28,BJ25)","v":""},{"$f":"VLOOKUP(BL28,AY25:BG28,9,FALSE)","v":0},{"$f":"VLOOKUP(BL28,AY25:BG28,8,FALSE)","v":0},{"$f":"IF(AND(BM27=BM28,BN28>BN27),BL27,BL28)","v":""},{"$f":"VLOOKUP(BO28,AY25:BG28,9,FALSE)","v":0},{"$f":"VLOOKUP(BO28,AY25:BG28,8,FALSE)","v":0},{"$f":"IF(AND(BP26=BP28,BQ28>BQ26),BO26,BO28)","v":""},{"$f":"VLOOKUP(BR28,AY25:BG28,9,FALSE)","v":0},{"$f":"VLOOKUP(BR28,AY25:BG28,8,FALSE)","v":0},{"$f":"IF(AND(BS25=BS28,BT28>BT25),BR25,BR28)","v":""},{"$f":"VLOOKUP(BU28,AY25:BG28,9,FALSE)","v":0},{"$f":"VLOOKUP(BU28,AY25:BG28,8,FALSE)","v":0},{"$f":"VLOOKUP(BU28,AY25:BG28,6,FALSE)","v":0},{"$f":"IF(AND(BV27=BV28,BW27=BW28,BX28>BX27),BU27,BU28)","v":""},{"$f":"VLOOKUP(BY28,AY25:BG28,9,FALSE)","v":0},{"$f":"VLOOKUP(BY28,AY25:BG28,8,FALSE)","v":0},{"$f":"VLOOKUP(BY28,AY25:BG28,6,FALSE)","v":0},{"$f":"IF(AND(BZ26=BZ28,CA26=CA28,CB28>CB26),BY26,BY28)","v":""},{"$f":"VLOOKUP(CC28,AY25:BG28,9,FALSE)","v":0},{"$f":"VLOOKUP(CC28,AY25:BG28,8,FALSE)","v":0},{"$f":"VLOOKUP(CC28,AY25:BG28,6,FALSE)","v":0},{"$f":"IF(AND(CD25=CD28,CE25=CE28,CF28>CF25),CC25,CC28)","v":""},{"$f":"VLOOKUP(CG28,AY25:BG28,9,FALSE)","v":0},{"$f":"VLOOKUP(CG28,AY25:BG28,8,FALSE)","v":0},{"$f":"VLOOKUP(CG28,AY25:BG28,6,FALSE)","v":0},null,null,null,{"$f":"CG28","v":""},{"$f":"VLOOKUP(CN28,AY25:BG28,2,FALSE)","v":0},{"$f":"VLOOKUP(CN28,AY25:BG28,3,FALSE)","v":6},{"$f":"VLOOKUP(CN28,AY25:BG28,4,FALSE)","v":-12},{"$f":"VLOOKUP(CN28,AY25:BG28,5,FALSE)","v":6},{"$f":"VLOOKUP(CN28,AY25:BG28,6,FALSE)","v":0},{"$f":"VLOOKUP(CN28,AY25:BG28,7,FALSE)","v":0},{"$f":"VLOOKUP(CN28,AY25:BG28,8,FALSE)","v":0},{"$f":"VLOOKUP(CN28,AY25:BG28,9,FALSE)","v":0},null,null,{"$f":"IF(G28<>\"\",IF(G28>G27,C28,IF(G27>G28,C27,\"Empate\")),\"\")","v":""},{"$f":"IF(G28<>\"\",IF(G28<G27,C28,IF(G27<G28,C27,\"Empate\")),\"\")","v":""}]
[null,null,null,null,null,null,null,null,null,null,null,null,null,2,null,null,null,null,null,null,null,null,null,null,null,null,null,null,null,{"$f":"IF(AH17=AH18,\"\",IF(AH17>AH18,AD17,AD18))","v":""},null,null,null,null,null,null,null,"Cl",{"$f":"AY32","v":"Jogadores"},"Jg","V","E","D","PM","PS","DP","Pt."]
["Grupo D","NºJ","Jogadores",1,2,3,"R","NºJ","Jogadores",1,2,3,"R",null,null,null,null,null,null,null,null,null,null,null,null,null,null,null,null,null,null,null,null,null,null,null,null,{"$f":"IF(AM30=\"\",\"\",\"1º\")","v":""},{"$f":"CN33","v":""},{"$f":"IF(AM30=\"\",\"\",CO33)","v":""},{"$f":"IF(AM30=\"\",\"\",CP33)","v":""},{"$f":"CQ33","v":-12},{"$f":"IF(AM30=\"\",\"\",CR33)","v":""},{"$f":"IF(AM30=\"\",\"\",CS33)","v":""},{"$f":"IF(AM30=\"\",\"\",CT33)","v":""},{"$f":"IF(AM30=\"\",\"\",CU33)","v":""},{"$f":"IF(AM30=\"\",\"\",CV33)","v":""},{"$f":"IF($CZ$1<=11,AW30,AX30)","v":" "}," ",2,"Colocar Equipas",null,null,null,null,null,null,null,null,"Ordenar p/ Pts 1",null,"Ordenar p/ Pts 2",null,"Ordenar p/ Pts 3",null,null,"Ordenar p/ DG 1",null,null,"Ordenar p/ DG 2",null,null,"Ordenar p/ DG 3",null,null,null,"Ordenar p/ GM 1",null,null,null,"Ordenar p/ GM 2",null,null,null,"Ordenar p/ GM 3",null,null,null,null,null,null,null,null,null,null,null,null,null,null,null,null,null,"Vencedores","Derrotados"]
[null,{"$f":"$A$4","v":"PH-Ini"},{"$f":"AY34","v":""},null,null,null,{"$f":"IF(ISBLANK(D31),\"\",SUM(IF(D31>D32,1,0)+(IF(E31>E32,1,0)+(IF(F31>F32,1,0)))))","v":""},{"$f":"$A$4","v":"PH-Ini"},{"$f":"IF(I32=\"\",\"\",AY35)","v":""},null,null,null,{"$f":"IF(ISBLANK(J31),\"\",SUM(IF(J31>J32,1,0)+(IF(K31>K32,1,0)+(IF(L31>L32,1,0)))))","v":""},null,null,null,null,null,null,null,null,null,null,null,null,null,null,null,null,null,null,null,null,null,null,null,null,{"$f":"IF(AM31=\"\",\"\",\"2º\")","v":""},{"$f":"CN34","v":""},{"$f":"IF(AM31=\"\",\"\",CO34)","v":""},{"$f":"IF(AM31=\"\",\"\",CP34)","v":""},{"$f":"CQ34","v":-12},{"$f":"IF(AM31=\"\",\"\",CR34)","v":""},{"$f":"IF(AM31=\"\",\"\",CS34)","v":""},{"$f":"IF(AM31=\"\",\"\",CT34)","v":""},{"$f":"IF(AM31=\"\",\"\",CU34)","v":""},{"$f":"IF(AM31=\"\",\"\",CV34)","v":""},{"$f":"IF($CZ$1<=11,AW31,AX31)","v":" "}," ",7,"Grupo D",null,null,null,null,null,null,null,null,null,null,null,null,null,null,null,null,null,null,null,null,null,null,null,null,null,null,null,null,null,null,null,null,null,null,null,null,null,null,null,null,null,null,null,null,null,null,null,null,null,null,null,{"$f":"IF(G32<>\"\",IF(G32>G31,C32,IF(G31>G32,C31,\"Empate\")),\"\")","v":""},{"$f":"IF(G32<>\"\",IF(G32<G31,C32,IF(G31<G32,C31,\"Empate\")),\"\")","v":""}]
[null,{"$f":"H24+1","v":7},{"$f":"AY33","v":""},null,null,null,{"$f":"IF(ISBLANK(D31),\"\",SUM(IF(D32>D31,1,0)+(IF(E32>E31,1,0)+(IF(F32>F31,1,0)))))","v":""},{"$f":"B32+1","v":8},{"$f":"AY36","v":""},null,null,null,{"$f":"IF(ISBLANK(J31),\"\",SUM(IF(J32>J31,1,0)+(IF(K32>K31,1,0)+(IF(L32>L31,1,0)))))","v":""},null,null,null,null,null,null,null,null,null,null,null,null,null,null,null,null,null,null,null,null,null,null,null,null,{"$f":"IF(AM32=\"\",\"\",\"3º\")","v":""},{"$f":"CN35","v":""},{"$f":"IF(AM32=\"\",\"\",CO35)","v":""},{"$f":"IF(AM32=\"\",\"\",CP35)","v":""},{"$f":"CQ35","v":-12},{"$f":"IF(AM32=\"\",\"\",CR35)","v":""},{"$f":"IF(AM32=\"\",\"\",CS35)","v":""},{"$f":"IF(AM32=\"\",\"\",CT35)","v":""},{"$f":"IF(AM32=\"\",\"\",CU35)","v":""},{"$f":"IF(AM32=\"\",\"\",CV35)","v":""},{"$f":"IF($CZ$1<=11,AW32,AX32)","v":" "}," ",10,"Jogadores","Jg","V","E","D","GM","GS","DG","Pts","Equipas","Pts","Equipas","Pts","Equipas","Pts","DG","Equipas","Pts","DG","Equipas","Pts","DG","Equipas","Pts","DG","GM","Equipas","Pts","DG","GM","Equipas","Pts","DG","GM","Equipas","Pts","DG","GM",null,null,null,"Equipas","Jg","V","D","E","GM","GS","DG","Pts",null,null,{"$f":"IF(M31<>\"\",IF(M31>M32,I31,IF(M32>M31,I32,\"Empate\")),\"\")","v":""},{"$f":"IF(M31<>\"\",IF(M31<M32,I31,IF(M32<M31,I32,\"Empate\")),\"\")","v":""}]
[null,{"$f":"$A$4","v":"PH-Ini"},{"$f":"AY33","v":""},null,null,null,{"$f":"IF(ISBLANK(D33),\"\",SUM(IF(D33>D34,1,0)+(IF(E33>E34,1,0)+(IF(F33>F34,1,0)))))","v":""},{"$f":"$A$4","v":"PH-Ini"},{"$f":"AY36","v":""},null,null,null,{"$f":"IF(ISBLANK(J33),\"\",SUM(IF(J33>J34,1,0)+(IF(K33>K34,1,0)+(IF(L33>L34,1,0)))))","v":""},null,null,null,null,null,null,null,null,null,null,null,null,null,null,null,null,null,null,null,null,null,null,null,null,{"$f":"IF(AM33=\"\",\"\",\"4º\")","v":""},{"$f":"CN36","v":""},{"$f":"IF(AM33=\"\",\"\",CO36)","v":""},{"$f":"IF(AM33=\"\",\"\",CP36)","v":""},{"$f":"CQ36","v":-12},{"$f":"IF(AM33=\"\",\"\",CR36)","v":""},{"$f":"IF(AM33=\"\",\"\",CS36)","v":""},{"$f":"IF(AM33=\"\",\"\",CT36)","v":""},{"$f":"IF(AM33=\"\",\"\",CU36)","v":""},{"$f":"IF(AM33=\"\",\"\",CV36)","v":""},{"$f":"IF($CZ$1<=11,AW33,AX33)","v":" "}," ",{"$f":"IF(AM33=\"\",\"\",15)","v":""},{"$f":"IF(BA39=\"\",\"\",BA40)","v":""},{"$f":"COUNT(G32,G33,M36)","v":0},{"$f":"COUNTIF(CY31:CY36,AY33)","v":6},{"$f":"AZ33-(BA33+BC33)","v":-12},{"$f":"COUNTIF(CZ31:CZ36,AY33)","v":6},{"$f":"SUM(D32:F32,D33:F33,J36:L36)","v":0},{"$f":"SUM(D31:F31,D34:F34,J35:L35)","v":0},{"$f":"BD33-BE33","v":0},{"$f":"IF(AZ33=0,0,BA33*2+BC33*1)","v":0},{"$f":"IF(BG33>=BG34,AY33,AY34)","v":""},{"$f":"VLOOKUP(BH33,AY33:BG36,9,FALSE)","v":0},{"$f":"IF(BI33>=BI35,BH33,BH35)","v":""},{"$f":"VLOOKUP(BJ33,AY33:BG36,9,FALSE)","v":0},{"$f":"IF(BK33>=BK36,BJ33,BJ36)","v":""},{"$f":"VLOOKUP(BL33,AY33:BG36,9,FALSE)","v":0},{"$f":"VLOOKUP(BL33,AY33:BG36,8,FALSE)","v":0},{"$f":"IF(AND(BM33=BM34,BN34>BN33),BL34,BL33)","v":""},{"$f":"VLOOKUP(BO33,AY33:BG36,9,FALSE)","v":0},{"$f":"VLOOKUP(BO33,AY33:BG36,8,FALSE)","v":0},{"$f":"IF(AND(BP33=BP35,BQ35>BQ33),BO35,BO33)","v":""},{"$f":"VLOOKUP(BR33,AY33:BG36,9,FALSE)","v":0},{"$f":"VLOOKUP(BR33,AY33:BG36,8,FALSE)","v":0},{"$f":"IF(AND(BS33=BS36,BT36>BT33),BR36,BR33)","v":""},{"$f":"VLOOKUP(BU33,AY33:BG36,9,FALSE)","v":0},{"$f":"VLOOKUP(BU33,AY33:BG36,8,FALSE)","v":0},{"$f":"VLOOKUP(BU33,AY33:BG36,6,FALSE)","v":0},{"$f":"IF(AND(BV33=BV34,BW33=BW34,BX34>BX33),BU34,BU33)","v":""},{"$f":"VLOOKUP(BY33,AY33:BG36,9,FALSE)","v":0},{"$f":"VLOOKUP(BY33,AY33:BG36,8,FALSE)","v":0},{"$f":"VLOOKUP(BY33,AY33:BG36,6,FALSE)","v":0},{"$f":"IF(AND(BZ33=BZ35,CA33=CA35,CB35>CB33),BY35,BY33)","v":""},{"$f":"VLOOKUP(CC33,AY33:BG36,9,FALSE)","v":0},{"$f":"VLOOKUP(CC33,AY33:BG36,8,FALSE)","v":0},{"$f":"VLOOKUP(CC33,AY33:BG36,6,FALSE)","v":0},{"$f":"IF(AND(CD33=CD36,CE33=CE36,CF36>CF33),CC36,CC33)","v":""},{"$f":"VLOOKUP(CG33,AY33:BG36,9,FALSE)","v":0},{"$f":"VLOOKUP(CG33,AY33:BG36,8,FALSE)","v":0},{"$f":"VLOOKUP(CG33,AY33:BG36,6,FALSE)","v":0},null,null,null,{"$f":"CG33","v":""},{"$f":"VLOOKUP(CN33,AY33:BG36,2,FALSE)","v":0},{"$f":"VLOOKUP(CN33,AY33:BG36,3,FALSE)","v":6},{"$f":"VLOOKUP(CN33,AY33:BG36,4,FALSE)","v":-12},{"$f":"VLOOKUP(CN33,AY33:BG36,5,FALSE)","v":6},{"$f":"VLOOKUP(CN33,AY33:BG36,6,FALSE)","v":0},{"$f":"VLOOKUP(CN33,AY33:BG36,7,FALSE)","v":0},{"$f":"VLOOKUP(CN33,AY33:BG36,8,FALSE)","v":0},{"$f":"VLOOKUP(CN33,AY33:BG36,9,FALSE)","v":0},null,null,{"$f":"IF(G33<>\"\",IF(G33>G34,C33,IF(G34>G33,C34,\"Empate\")),\"\")","v":""},{"$f":"IF(G33<>\"\",IF(G33<G34,C33,IF(G34<G33,C34,\"Empate\")),\"\")","v":""}]
[null,{"$f":"H26+1","v":15},{"$f":"AY35","v":""},null,null,null,{"$f":"IF(ISBLANK(D33),\"\",SUM(IF(D34>D33,1,0)+(IF(E34>E33,1,0)+(IF(F34>F33,1,0)))))","v":""},{"$f":"B34+1","v":16},{"$f":"IF(I33=\"\",\"\",AY34)","v":""},null,null,null,{"$f":"IF(ISBLANK(J33),\"\",SUM(IF(J34>J33,1,0)+(IF(K34>K33,1,0)+(IF(L34>L33,1,0)))))","v":""},null,null,null,null,null,null,null,null,null,null,null,null,null,null,null,null,null,null,null,null,null,null,null,null,null,null,null,null,null,null,null,null,null,null,null,null,null,{"$f":"IF(BA39=\"\",\"\",BA45)","v":""},{"$f":"COUNT(G31,M34,G36)","v":0},{"$f":"COUNTIF(CY31:CY36,AY34)","v":6},{"$f":"AZ34-(BA34+BC34)","v":-12},{"$f":"COUNTIF(CZ31:CZ36,AY34)","v":6},{"$f":"SUM(D31:F31,J34:L34,D36:F36)","v":0},{"$f":"SUM(D32:F32,J33:L33,D35:F35)","v":0},{"$f":"BD34-BE34","v":0},{"$f":"IF(AZ34=0,0,BA34*2+BC34*1)","v":0},{"$f":"IF(BG34<=BG33,AY34,AY33)","v":""},{"$f":"VLOOKUP(BH34,AY33:BG36,9,FALSE)","v":0},{"$f":"IF(BI34>=BI36,BH34,BH36)","v":""},{"$f":"VLOOKUP(BJ34,AY33:BG36,9,FALSE)","v":0},{"$f":"IF(BK34>=BK35,BJ34,BJ35)","v":""},{"$f":"VLOOKUP(BL34,AY33:BG36,9,FALSE)","v":0},{"$f":"VLOOKUP(BL34,AY33:BG36,8,FALSE)","v":0},{"$f":"IF(AND(BM33=BM34,BN34>BN33),BL33,BL34)","v":""},{"$f":"VLOOKUP(BO34,AY33:BG36,9,FALSE)","v":0},{"$f":"VLOOKUP(BO34,AY33:BG36,8,FALSE)","v":0},{"$f":"IF(AND(BP34=BP36,BQ36>BQ34),BO36,BO34)","v":""},{"$f":"VLOOKUP(BR34,AY33:BG36,9,FALSE)","v":0},{"$f":"VLOOKUP(BR34,AY33:BG36,8,FALSE)","v":0},{"$f":"IF(AND(BS34=BS35,BT35>BT34),BR35,BR34)","v":""},{"$f":"VLOOKUP(BU34,AY33:BG36,9,FALSE)","v":0},{"$f":"VLOOKUP(BU34,AY33:BG36,8,FALSE)","v":0},{"$f":"VLOOKUP(BU34,AY33:BG36,6,FALSE)","v":0},{"$f":"IF(AND(BV33=BV34,BW33=BW34,BX34>BX33),BU33,BU34)","v":""},{"$f":"VLOOKUP(BY34,AY33:BG36,9,FALSE)","v":0},{"$f":"VLOOKUP(BY34,AY33:BG36,8,FALSE)","v":0},{"$f":"VLOOKUP(BY34,AY33:BG36,6,FALSE)","v":0},{"$f":"IF(AND(BZ34=BZ36,CA34=CA36,CB36>CB34),BY36,BY34)","v":""},{"$f":"VLOOKUP(CC34,AY33:BG36,9,FALSE)","v":0},{"$f":"VLOOKUP(CC34,AY33:BG36,8,FALSE)","v":0},{"$f":"VLOOKUP(CC34,AY33:BG36,6,FALSE)","v":0},{"$f":"IF(AND(CD34=CD35,CE34=CE35,CF35>CF34),CC35,CC34)","v":""},{"$f":"VLOOKUP(CG34,AY33:BG36,9,FALSE)","v":0},{"$f":"VLOOKUP(CG34,AY33:BG36,8,FALSE)","v":0},{"$f":"VLOOKUP(CG34,AY33:BG36,6,FALSE)","v":0},null,null,null,{"$f":"CG34","v":""},{"$f":"VLOOKUP(CN34,AY33:BG36,2,FALSE)","v":0},{"$f":"VLOOKUP(CN34,AY33:BG36,3,FALSE)","v":6},{"$f":"VLOOKUP(CN34,AY33:BG36,4,FALSE)","v":-12},{"$f":"VLOOKUP(CN34,AY33:BG36,5,FALSE)","v":6},{"$f":"VLOOKUP(CN34,AY33:BG36,6,FALSE)","v":0},{"$f":"VLOOKUP(CN34,AY33:BG36,7,FALSE)","v":0},{"$f":"VLOOKUP(CN34,AY33:BG36,8,FALSE)","v":0},{"$f":"VLOOKUP(CN34,AY33:BG36,9,FALSE)","v":0},null,null,{"$f":"IF(M33<>\"\",IF(M33>M34,I33,IF(M34>M33,I34,\"Empate\")),\"\")","v":""},{"$f":"IF(M33<>\"\",IF(M33<M34,I33,IF(M34<M33,I34,\"Empate\")),\"\")","v":""}]
[null,{"$f":"$A$4","v":"PH-Ini"},{"$f":"AY35","v":""},null,null,null,{"$f":"IF(ISBLANK(D35),\"\",SUM(IF(D35>D36,1,0)+(IF(E35>E36,1,0)+(IF(F35>F36,1,0)))))","v":""},{"$f":"$A$4","v":"PH-Ini"},{"$f":"AY36","v":""},null,null,null,{"$f":"IF(ISBLANK(J35),\"\",SUM(IF(J35>J36,1,0)+(IF(K35>K36,1,0)+(IF(L35>L36,1,0)))))","v":""},null,null,null,null,null,null,null,null,null,null,null,null,null,null,null,null,null,null,null,null,null,null,null,null,null,null,null,null,null,null,null,null,null,null,null,null,null,{"$f":"IF(BA39=\"\",\"\",BA48)","v":""},{"$f":"COUNT(M31,G34,G35)","v":0},{"$f":"COUNTIF(CY31:CY36,AY35)","v":6},{"$f":"AZ35-(BA35+BC35)","v":-12},{"$f":"COUNTIF(CZ31:CZ36,AY35)","v":6},{"$f":"SUM(J31:L31,D34:F34,D35:F35)","v":0},{"$f":"SUM(J32:L32,D33:F33,D36:F36)","v":0},{"$f":"BD35-BE35","v":0},{"$f":"IF(AZ35=0,0,BA35*2+BC35*1)","v":0},{"$f":"IF(BG35>=BG36,AY35,AY36)","v":""},{"$f":"VLOOKUP(BH35,AY33:BG36,9,FALSE)","v":0},{"$f":"IF(BI35<=BI33,BH35,BH33)","v":""},{"$f":"VLOOKUP(BJ35,AY33:BG36,9,FALSE)","v":0},{"$f":"IF(BK35<=BK34,BJ35,BJ34)","v":""},{"$f":"VLOOKUP(BL35,AY33:BG36,9,FALSE)","v":0},{"$f":"VLOOKUP(BL35,AY33:BG36,8,FALSE)","v":0},{"$f":"IF(AND(BM35=BM36,BN36>BN35),BL36,BL35)","v":""},{"$f":"VLOOKUP(BO35,AY33:BG36,9,FALSE)","v":0},{"$f":"VLOOKUP(BO35,AY33:BG36,8,FALSE)","v":0},{"$f":"IF(AND(BP33=BP35,BQ35>BQ33),BO33,BO35)","v":""},{"$f":"VLOOKUP(BR35,AY33:BG36,9,FALSE)","v":0},{"$f":"VLOOKUP(BR35,AY33:BG36,8,FALSE)","v":0},{"$f":"IF(AND(BS34=BS35,BT35>BT34),BR34,BR35)","v":""},{"$f":"VLOOKUP(BU35,AY33:BG36,9,FALSE)","v":0},{"$f":"VLOOKUP(BU35,AY33:BG36,8,FALSE)","v":0},{"$f":"VLOOKUP(BU35,AY33:BG36,6,FALSE)","v":0},{"$f":"IF(AND(BV35=BV36,BW35=BW36,BX36>BX35),BU36,BU35)","v":""},{"$f":"VLOOKUP(BY35,AY33:BG36,9,FALSE)","v":0},{"$f":"VLOOKUP(BY35,AY33:BG36,8,FALSE)","v":0},{"$f":"VLOOKUP(BY35,AY33:BG36,6,FALSE)","v":0},{"$f":"IF(AND(BZ33=BZ35,CA33=CA35,CB34>CB33),BY33,BY35)","v":""},{"$f":"VLOOKUP(CC35,AY33:BG36,9,FALSE)","v":0},{"$f":"VLOOKUP(CC35,AY33:BG36,8,FALSE)","v":0},{"$f":"VLOOKUP(CC35,AY33:BG36,6,FALSE)","v":0},{"$f":"IF(AND(CD34=CD35,CE34=CE35,CF35>CF34),CC34,CC35)","v":""},{"$f":"VLOOKUP(CG35,AY33:BG36,9,FALSE)","v":0},{"$f":"VLOOKUP(CG35,AY33:BG36,8,FALSE)","v":0},{"$f":"VLOOKUP(CG35,AY33:BG36,6,FALSE)","v":0},null,null,null,{"$f":"CG35","v":""},{"$f":"VLOOKUP(CN35,AY33:BG36,2,FALSE)","v":0},{"$f":"VLOOKUP(CN35,AY33:BG36,3,FALSE)","v":6},{"$f":"VLOOKUP(CN35,AY33:BG36,4,FALSE)","v":-12},{"$f":"VLOOKUP(CN35,AY33:BG36,5,FALSE)","v":6},{"$f":"VLOOKUP(CN35,AY33:BG36,6,FALSE)","v":0},{"$f":"VLOOKUP(CN35,AY33:BG36,7,FALSE)","v":0},{"$f":"VLOOKUP(CN35,AY33:BG36,8,FALSE)","v":0},{"$f":"VLOOKUP(CN35,AY33:BG36,9,FALSE)","v":0},null,null,{"$f":"IF(M35<>\"\",IF(M35>M36,I35,IF(M36>M35,I36,\"Empate\")),\"\")","v":""},{"$f":"IF(M35<>\"\",IF(M35<M36,I35,IF(M36<M35,I36,\"Empate\")),\"\")","v":""}]
[null,{"$f":"H28+1","v":23},{"$f":"AY34","v":""},null,null,null,{"$f":"IF(ISBLANK(D35),\"\",SUM(IF(D36>D35,1,0)+(IF(E36>E35,1,0)+(IF(F36>F35,1,0)))))","v":""},{"$f":"B36+1","v":24},{"$f":"IF(I35=\"\",\"\",AY33)","v":""},null,null,null,{"$f":"IF(ISBLANK(J35),\"\",SUM(IF(J36>J35,1,0)+(IF(K36>K35,1,0)+(IF(L36>L35,1,0)))))","v":""},null,null,null,null,null,null,null,null,null,null,null,null,null,null,null,null,null,null,null,null,null,null,null,null,null,null,null,null,null,null,null,null,null,null,null,null,null,{"$f":"IF(BA39=\"\",\"\",BA53)","v":""},{"$f":"COUNT(M32,M33,M35)","v":0},{"$f":"COUNTIF(CY31:CY36,AY36)","v":6},{"$f":"AZ36-(BA36+BC36)","v":-12},{"$f":"COUNTIF(CZ31:CZ36,AY36)","v":6},{"$f":"SUM(J32:L32,J33:L33,J35:L35)","v":0},{"$f":"SUM(J31:L31,J34:L34,J36:L36)","v":0},{"$f":"BD36-BE36","v":0},{"$f":"IF(AZ36=0,0,BA36*2+BC36*1)","v":0},{"$f":"IF(BG36<=BG35,AY36,AY35)","v":""},{"$f":"VLOOKUP(BH36,AY33:BG36,9,FALSE)","v":0},{"$f":"IF(BI36<=BI34,BH36,BH34)","v":""},{"$f":"VLOOKUP(BJ36,AY33:BG36,9,FALSE)","v":0},{"$f":"IF(BK36<=BK33,BJ36,BJ33)","v":""},{"$f":"VLOOKUP(BL36,AY33:BG36,9,FALSE)","v":0},{"$f":"VLOOKUP(BL36,AY33:BG36,8,FALSE)","v":0},{"$f":"IF(AND(BM35=BM36,BN36>BN35),BL35,BL36)","v":""},{"$f":"VLOOKUP(BO36,AY33:BG36,9,FALSE)","v":0},{"$f":"VLOOKUP(BO36,AY33:BG36,8,FALSE)","v":0},{"$f":"IF(AND(BP34=BP36,BQ36>BQ34),BO34,BO36)","v":""},{"$f":"VLOOKUP(BR36,AY33:BG36,9,FALSE)","v":0},{"$f":"VLOOKUP(BR36,AY33:BG36,8,FALSE)","v":0},{"$f":"IF(AND(BS33=BS36,BT36>BT33),BR33,BR36)","v":""},{"$f":"VLOOKUP(BU36,AY33:BG36,9,FALSE)","v":0},{"$f":"VLOOKUP(BU36,AY33:BG36,8,FALSE)","v":0},{"$f":"VLOOKUP(BU36,AY33:BG36,6,FALSE)","v":0},{"$f":"IF(AND(BV35=BV36,BW35=BW36,BX36>BX35),BU35,BU36)","v":""},{"$f":"VLOOKUP(BY36,AY33:BG36,9,FALSE)","v":0},{"$f":"VLOOKUP(BY36,AY33:BG36,8,FALSE)","v":0},{"$f":"VLOOKUP(BY36,AY33:BG36,6,FALSE)","v":0},{"$f":"IF(AND(BZ34=BZ36,CA34=CA36,CB36>CB34),BY34,BY36)","v":""},{"$f":"VLOOKUP(CC36,AY33:BG36,9,FALSE)","v":0},{"$f":"VLOOKUP(CC36,AY33:BG36,8,FALSE)","v":0},{"$f":"VLOOKUP(CC36,AY33:BG36,6,FALSE)","v":0},{"$f":"IF(AND(CD33=CD36,CE33=CE36,CF36>CF33),CC33,CC36)","v":""},{"$f":"VLOOKUP(CG36,AY33:BG36,9,FALSE)","v":0},{"$f":"VLOOKUP(CG36,AY33:BG36,8,FALSE)","v":0},{"$f":"VLOOKUP(CG36,AY33:BG36,6,FALSE)","v":0},null,null,null,{"$f":"CG36","v":""},{"$f":"VLOOKUP(CN36,AY33:BG36,2,FALSE)","v":0},{"$f":"VLOOKUP(CN36,AY33:BG36,3,FALSE)","v":6},{"$f":"VLOOKUP(CN36,AY33:BG36,4,FALSE)","v":-12},{"$f":"VLOOKUP(CN36,AY33:BG36,5,FALSE)","v":6},{"$f":"VLOOKUP(CN36,AY33:BG36,6,FALSE)","v":0},{"$f":"VLOOKUP(CN36,AY33:BG36,7,FALSE)","v":0},{"$f":"VLOOKUP(CN36,AY33:BG36,8,FALSE)","v":0},{"$f":"VLOOKUP(CN36,AY33:BG36,9,FALSE)","v":0},null,null,{"$f":"IF(G36<>\"\",IF(G36>G35,C36,IF(G35>G36,C35,\"Empate\")),\"\")","v":""},{"$f":"IF(G36<>\"\",IF(G36<G35,C36,IF(G35<G36,C35,\"Empate\")),\"\")","v":""}]
[null,null,null,null,null,null,null,null,null,null,null,null,null,null,null,"Jogadores",null,null,null,null,null,null,null,null,null,null,null,null,null,"Ranking"]
[null,"Classificações 1ª Fase",null,null,null,null,null,null,null,null,null,null,"#",null,"NºJ","Nome (1º e último)",null,"Escola",null,null,null,null,null,"Abv.",null,null,"NºJ",null,null,"Nome","Pts",null,null,null,null,null,null,"Cl.","Nº J","Ranking","Pt.",null,null,null,null,null,null,null,null,null,"3 Grupos 9 a 11",null,"4 Grupos 12 a 16"]
[null,null,null,null,null,null,null,null,null,null,null,null,1,null,{"$f":"IF(DE4=\"\",\"\",DE4)","v":""},{"$f":"IF(DF4=\"\",\"\",IF(DF4=\"Bye\",\"Bye\",CONCATENATE(DF4,\" \",\"(\",DH4,\")\")))","v":""},null,{"$f":"IF(DG4=\"\",\"\",DG4)","v":""},null,null,null,null,null,{"$f":"IF(DH4=\"\",\"\",DH4)","v":""},null,null,"1º",null,null,{"$f":"IF(AN39=\"\",\"\",AN39)","v":""},12,null,null,null,null,null,null,"1º",null,{"$f":"IF(AH17=AH18,\"\",IF(AH17>AH18,AD17,AD18))","v":""},12,null,null,null,null,null,null,null,1,"A1",{"$f":"IF(DF4=\"\",\"\",IF($DF$15=\"\",CONCATENATE(DF4,\"\",\" (\",DH4,\")\"),\"\"))","v":""},"A1",{"$f":"IF(DF4=\"\",\"\",IF($DF$15=\"\",\"\",CONCATENATE(DF4,\"\",\" (\",DH4,\")\")))","v":""}]
[null,"Grupo A",null,null,null,null,null,"Grupo B",null,null,null,null,2,null,"","",null,"",null,null,null,null,null,"",{"$f":"IF(DI5=\"\",\"\",DI5)","v":""},null,"2º",null,null,{"$f":"IF(AN40=\"\",\"\",AN40)","v":""},11,null,null,null,null,null,null,"2º",null,{"$f":"IF(AH17=AH18,\"\",IF(AH17<AH18,AD17,AD18))","v":""},11,null,null,null,null,null,null,null,2,"B1","","D1",""]
[null,null,null,null,null,null,null,null,null,null,null,null,3,null,"","",null,"",null,null,null,null,null,"","",null,"3º",null,null,"",10,null,null,null,null,null,null,"3º",null,{"$f":"IF(AA17=AA18,\"\",IF(AA17<AA18,W18,W17))","v":""},10,null,null,null,null,null,null,null,3,"C1","","C1",""]
[null,{"$f":"AL8","v":"Cl"},"Jogadores",{"$f":"AU8","v":"Pt."},null,null,null,{"$f":"AL15","v":"Cl"},"Jogadores",{"$f":"AU15","v":"Pt."},null,null,4,null,"","",null,"",null,null,null,null,null,"","",null,"4º",null,null,"",10,null,null,null,null,null,null,"4º",null,{"$f":"IF(AA17=AA18,\"\",IF(AA17<AA18,W17,W18))","v":""},10,null,null,null,null,null,null,null,4,"A2","","B1",""]
[null,"","",{"$f":"AU9","v":""},null,null,null,"","",{"$f":"AU16","v":""},null,null,5,null,"","",null,"",null,null,null,null,null,"","",null,"5º",null,null,"",8,null,null,null,null,null,null,"5º",null,{"$f":"IF(T8=T9,\"\",IF(T8<T9,P8,P9))","v":""},8,null,null,null,null,null,null,null,5,"B2","","B2",""]
[null,"","",{"$f":"AU10","v":""},null,null,null,"","",{"$f":"AU17","v":""},null,null,6,null,"","",null,"",null,null,null,null,null,"","",null,"6º",null,null,"",8,null,null,null,null,null,null,"6º",null,{"$f":"IF(T14=T15,\"\",IF(T14<T15,P14,P15))","v":""},8,null,null,null,null,null,null,null,6,"C2","","C2",""]
[null,"","",{"$f":"AU11","v":""},null,null,null,"","",{"$f":"AU18","v":""},null,null,7,null,"","",null,"",null,null,null,null,null,"","",null,"7º",null,null,"",8,null,null,null,null,null,null,"7º",null,{"$f":"IF(T21=T22,\"\",IF(T21<T22,P21,P22))","v":""},8,null,null,null,null,null,null,null,7,"A3","","D2",""]
[null,"","",{"$f":"AU12","v":""},null,null,null,"","",{"$f":"AU19","v":""},null,null,8,null,"","",null,"",null,null,null,null,null,"","",null,"8º",null,null,"",8,null,null,null,null,null,null,"8º",null,{"$f":"IF(T27=T28,\"\",IF(T27<T28,P27,P28))","v":""},8,null,null,null,null,null,null,null,8,"B3","","A2",""]
[null,null,null,null,null,null,null,null,null,null,null,null,9,null,"","",null,"",null,null,null,null,null,"","",null,"9º",null,null,"",4,null,null,null,null,null,null,"9º",null,{"$f":"IF($AY$53<11,AY64,IF($AY$53=11,AZ64,BA64))","v":""},4,null,null,null,null,null,null,null,9,"C3","","A3",""]
[null,"Grupo C",null,null,null,null,null,"Grupo D",null,null,null,null,10,null,"","",null,"",null,null,null,null,null,"","",null,"10º",null,null,"",4,null,null,null,null,null,null,"10º",null,"",4,null,null,null,null,null,null,null,10,"A4","","D3",""]
[null,null,null,null,null,null,null,null,null,null,null,null,11,null,"","",null,"",null,null,null,null,null,"","",null,"11º",null,null," ",4,null,null,null,null,null,null,"11º",null," ",4,null,null,null,null,null,null,null,11,"B4","","C3",""]
[null,{"$f":"AL22","v":"Cl"},"Jogadores",{"$f":"AU22","v":"Pt."},null,null,null,{"$f":"AL29","v":"Cl"},"Jogadores",{"$f":"AU29","v":"Pt."},null,null,12,null,"","",null,"",null,null,null,null,null,"","",null,"12º",null,null," ",4,null,null,null,null,null,null,"12º",null," ",4,null,null,null,null,null,null,null,null,null,null,"B3",""]
[null,"","",{"$f":"AU23","v":""},null,null,null,"","",{"$f":"AU30","v":""},null,null,13,null,"","",null,"",null,null,null,null,null,"","",null,"13º",null,null," ",2,null,null,null,null,null,null,"13º",null," ",2,null,null,null,null,null,null,null,null,null,null,"B4",""]
[null,"","",{"$f":"AU24","v":""},null,null,null,"","",{"$f":"AU31","v":""},null,null,14,null,"","",null,"",null,null,null,null,null,"","",null,"14º",null,null," ",2,null,null,null,null,null,null,"14º",null," ",2,null,null,null,null,null,null,null,null,null,null,"C4",""]
[null,"","",{"$f":"AU25","v":""},null,null,null,"","",{"$f":"AU32","v":""},null,null,15,null,"","",null,"",null,null,null,null,null,"","",null,"15º",null,null," ",2,null,null,null,null,null,null,"15º",null," ",2,null,null,null,null,null,null,null,null,null,{"$f":"COUNTA(DF4:DF19)","v":0},"D4","","ABV","Nome"]
[null,"","",{"$f":"AU26","v":""},null,null,null,"","",{"$f":"AU33","v":""},null,null,16,null,"","",null,"",null,null,null,null,null,"","",null,"16º",null,null," ",2,null,null,null,null,null,null,"16º",null," ",2,null,null,null,null,null,null,null,null,null,null,"A4","","EM-Juv","Equipas Mistas - Juvenis"]
[null,null,null,null,null,null,null,null,null,null,null,null,null,null,null,null,null,null,null,null,null,null,null,null,null,null,null,null,null,null,null,null,null,null,null,null,null,null,null,null,null,null,null,null,null,null,null,null,null,"Nº","Class 9 e 10","Class 11","Class 12 a 16","PH-InfA","Pares Homens - Infantis A"]
[null,null,null,null,null,null,null,null,null,null,null,null,null,null,null,null,null,null,null,null,null,null,null,null,null,null,null,null,null,null,null,null,null,null,null,null,null,null,null,null,null,null,null,null,null,null,null,null,null,1,{"$f":"IF(D27=\"\",\"1º Grupo A\",AM9)","v":"1º Grupo A"},{"$f":"AY56","v":"1º Grupo A"},{"$f":"IF($D$35=\"\",\"1º Grupo A\",AM9)","v":"1º Grupo A"},"PH-InfB","Pares Homens - Infantis B"]
[null,null,null,null,null,null,null,null,null,null,null,null,null,null,null,null,null,null,null,null,null,null,null,null,null,null,null,null,null,null,null,null,null,null,null,null,null,null,null,null,null,null,null,null,null,null,null,null,null,2,{"$f":"IF(D27=\"\",\"1º Grupo B\",AM16)","v":"1º Grupo B"},"1º Grupo B",{"$f":"IF($D$35=\"\",\"1º Grupo D\",AM30)","v":"1º Grupo D"},"PH-Ini","Pares Homens - Iniciados"]
[null,"Tabela para 8 a 16 Jogadores",null,null,null,null,null,null,null,null,null,null,null,null,null,null,null,null,null,null,null,null,null,null,null,null,null,null,null,null,null,null,null,null,null,null,null,null,null,null,null,null,null,null,null,null,null,null,null,3,{"$f":"IF(D27=\"\",\"1º Grupo C\",AM23)","v":"1º Grupo C"},"1º Grupo C",{"$f":"IF($D$35=\"\",\"1º Grupo C\",AM23)","v":"1º Grupo C"},"PH-Jun","Pares Homens - Juniores"]
[null,"Nº Jog","Grupos","Apurados 2ª Fase",null,null,null,null,null,null,null,null,null,null,null,null,null,null,null,null,null,null,null,null,null,null,null,null,null,null,null,null,null,null,null,null,null,null,null,null,null,null,null,null,null,null,null,"8º",null,4,{"$f":"IF(D27=\"\",\"2º Grupo C\",AM24)","v":"2º Grupo C"},"2º Grupo C",{"$f":"IF($D$35=\"\",\"1º Grupo B\",AM16)","v":"1º Grupo B"},"PH-Juv","Pares Homens - Juvenis"]
[null,9,"3 Grupos: 3+3+3","2 Primeiros + 2 melhores 3º",null,null,null,null,null,null,null,null,null,null,null,null,null,null,null,null,null,null,null,null,null,null,null,null,null,null,null,null,null,null,null,null,null,null,null,null,null,null,null,null,null,null,null,"A",{"$f":"IF(AY62<>AM11,IF(AND(AT11<AT18,AT11<AT25),\"\",AM11),\"\")","v":""},5,{"$f":"IF(D27=\"\",\"2º Grupo B\",AM17)","v":"2º Grupo B"},"2º Grupo B",{"$f":"IF($D$35=\"\",\"2º Grupo C\",AM24)","v":"2º Grupo C"},"PM-Ini","Pares Mistos - Iniciados"]
[null,10,"3 Grupos: 4+3+3","2 Primeiros + 2 melhores 3º",null,null,null,null,null,null,null,null,null,null,null,null,null,null,null,null,null,null,null,null,null,null,null,null,null,null,null,null,null,null,null,null,null,null,null,null,null,null,null,null,null,null,null,"B",{"$f":"IF(AY62<>AM18,IF(AND(AT18<AT11,AT18<AT25),\"\",AM18),\"\")","v":""},6,{"$f":"IF(D27=\"\",\"2º Grupo A\",AM10)","v":"2º Grupo A"},"2º Grupo A",{"$f":"IF($D$35=\"\",\"2º Grupo B\",AM17)","v":"2º Grupo B"},"PS-InfA","Pares Senhoras - Infantis A"]
[null,11,"3 Grupos: 4+4+3","2 Primeiros + 3º grupos de 4",null,null,null,null,null,null,null,null,null,null,null,null,null,null,null,null,null,null,null,null,null,null,null,null,null,null,null,null,null,null,null,null,null,null,null,null,null,null,null,null,null,null,null,"C",{"$f":"IF(AY62<>AM25,IF(AND(AT25<AT11,AT25<AT18),\"\",AM25),\"\")","v":""},7,{"$f":"IF(D27=\"\",\"1º Melhor 3º\",IF(AND(AT11>AT18,AT11>AT25),AM11,IF(AND(AT18>AT11,AT18>AT25),AM18,AM25)))","v":"1º Melhor 3º"},{"$f":"IF(D27=\"\",\"3º Grupo A\",AM11)","v":"3º Grupo A"},{"$f":"IF($D$35=\"\",\"2º Grupo A\",AM10)","v":"2º Grupo A"},"PS-InfB","Pares Senhoras - Infantis B"]
[null,12,"4 Grupos: 3+3+3+3","2 Primeiros de cada Grupo",null,null,null,null,null,null,null,null,null,null,null,null,null,null,null,null,null,null,null,null,null,null,null,null,null,null,null,null,null,null,null,null,null,null,null,null,null,null,null,null,null,null,null,"9º",null,8,{"$f":"IF(D27=\"\",\"2º Melhor 3º\",IF(AW60<>\"\",AW60,IF(AW61<>\"\",AW61,AW62)))","v":"2º Melhor 3º"},{"$f":"IF(D27=\"\",\"3º Grupo B\",AM18)","v":"3º Grupo B"},{"$f":"IF($D$35=\"\",\"2º Grupo D\",AM31)","v":"2º Grupo D"},"PS-Ini","Pares Senhoras - Iniciados"]
[null,13,"4 Grupos: 4+3+3+3","2 Primeiros de cada Grupo",null,null,null,null,null,null,null,null,null,null,null,null,null,null,null,null,null,null,null,null,null,null,null,null,null,null,null,null,null,null,null,null,null,null,null,null,null,null,null,null,null,null,null,"A",{"$f":"IF(AY62<>AM11,IF(AND(AT11<AT18,AT11<AT25),AM11,\"\"),\"\")","v":""},"9º",{"$f":"IF(D27=\"\",\"\",IF(AW64<>\"\",AW64,IF(AW65<>\"\",AW65,AW66)))","v":""},{"$f":"IF(D27=\"\",\"\",AM25)","v":""},{"$f":"IF($D$35=\"\",\"\",AM11)","v":""},"PS-Jun","Pares Senhoras - Juniores"]
[null,14,"4 Grupos: 4+4+3+3","2 Primeiros de cada Grupo",null,null,null,null,null,null,null,null,null,null,null,null,null,null,null,null,null,null,null,null,null,null,null,null,null,null,null,null,null,null,null,null,null,null,null,null,null,null,null,null,null,null,null,"B",{"$f":"IF(AY62<>AM18,IF(AND(AT18<AT11,AT18<AT25),AM18,\"\"),\"\")","v":""},"10º",{"$f":"IF(D27=\"\",\"\",AM12)","v":""},{"$f":"IF(D27=\"\",\"\",AM12)","v":""},{"$f":"IF($D$35=\"\",\"\",AM18)","v":""},"PS-Juv","Pares Senhoras - Juvenis"]
[null,15,"4 Grupos: 4+4+4+3","2 Primeiros de cada Grupo",null,null,null,null,null,null,null,null,null,null,null,null,null,null,null,null,null,null,null,null,null,null,null,null,null,null,null,null,null,null,null,null,null,null,null,null,null,null,null,null,null,null,null,"C",{"$f":"IF(AY62<>AM25,IF(AND(AT25<AT11,AT25<AT18),AM25,\"\"),\"\")","v":""},"11º"," ",{"$f":"IF(D27=\"\",\"\",AM19)","v":""},{"$f":"IF($D$35=\"\",\"\",AM25)","v":""},"SH-InfA","Singulares Homens - Infantis A"]
[null,16,"4 Grupos: 4+4+4+4","2 Primeiros de cada Grupo",null,null,null,null,null,null,null,null,null,null,null,null,null,null,null,null,null,null,null,null,null,null,null,null,null,null,null,null,null,null,null,null,null,null,null,null,null,null,null,null,null,null,null,null,null,"12º"," "," ",{"$f":"IF($D$35=\"\",\"\",AM32)","v":""},"SH-InfB","Singulares Homens - Infantis B"]
[null,null,null,null,null,null,null,null,null,null,null,null,null,null,null,null,null,null,null,null,null,null,null,null,null,null,null,null,null,null,null,null,null,null,null,null,null,null,null,null,null,null,null,null,null,null,null,null,null,"13º"," "," ",{"$f":"IF($D$35=\"\",\"\",AM19)","v":""},"SH-Ini","Singulares Homens - Iniciados"]
[null,null,null,null,null,null,null,null,null,null,null,null,null,null,null,null,null,null,null,null,null,null,null,null,null,null,null,null,null,null,null,null,null,null,null,null,null,null,null,null,null,null,null,null,null,null,null,null,null,"14º"," "," ",{"$f":"IF($D$35=\"\",\"\",AM26)","v":""},"SH-Jun","Singulares Homens - Juniores"]
[null,null,null,null,null,null,null,null,null,null,null,null,null,null,null,null,null,null,null,null,null,null,null,null,null,null,null,null,null,null,null,null,null,null,null,null,null,null,null,null,null,null,null,null,null,null,null,null,null,"15º"," "," ",{"$f":"IF($D$35=\"\",\"\",AM33)","v":""},"SH-Juv","Singulares Homens - Juvenis"]
[null,null,null,null,null,null,null,null,null,null,null,null,null,null,null,null,null,null,null,null,null,null,null,null,null,null,null,null,null,null,null,null,null,null,null,null,null,null,null,null,null,null,null,null,null,null,null,null,null,"16º"," "," ",{"$f":"IF($D$35=\"\",\"\",AM12)","v":""},"SS-InfA","Singulares Senhoras - Infantis A"]
[null,null,null,null,null,null,null,null,null,null,null,null,null,null,null,null,null,null,null,null,null,null,null,null,null,null,null,null,null,null,null,null,null,null,null,null,null,null,null,null,null,null,null,null,null,null,null,null,null,null,"Lista ",null,null,"SS-InfB","Singulares Senhoras - Infantis B"]
[null,null,null,null,null,null,null,null,null,null,null,null,null,null,null,null,null,null,null,null,null,null,null,null,null,null,null,null,null,null,null,null,null,null,null,null,null,null,null,null,null,null,null,null,null,null,null,null,null,null,0,null,null,"SS-Ini","Singulares Senhoras - Iniciados"]
[null,null,null,null,null,null,null,null,null,null,null,null,null,null,null,null,null,null,null,null,null,null,null,null,null,null,null,null,null,null,null,null,null,null,null,null,null,null,null,null,null,null,null,null,null,null,null,null,null,null,1,null,null,"SS-Jun","Singulares Senhoras - Juniores"]
[null,null,null,null,null,null,null,null,null,null,null,null,null,null,null,null,null,null,null,null,null,null,null,null,null,null,null,null,null,null,null,null,null,null,null,null,null,null,null,null,null,null,null,null,null,null,null,null,null,null,2,null,null,"SS-Juv","Singulares Senhoras - Juvenis"]
[null,null,null,null,null,null,null,null,null,null,null,null,null,null,null,null,null,null,null,null,null,null,null,null,null,null,null,null,null,null,null,null,null,null,null,null,null,null,null,null,null,null,null,null,null,null,null,null,null,null,3]
[null,null,null,null,null,null,null,null,null,null,null,null,null,null,null,null,null,null,null,null,null,null,null,null,null,null,null,null,null,null,null,null,null,null,null,null,null,null,null,null,null,null,null,null,null,null,null,null,null,null,4]
[null,null,null,null,null,null,null,null,null,null,null,null,null,null,null,null,null,null,null,null,null,null,null,null,null,null,null,null,null,null,null,null,null,null,null,null,null,null,null,null,null,null,null,null,null,null,null,null,null,null,5]
[null,null,null,null,null,null,null,null,null,null,null,null,null,null,null,null,null,null,null,null,null,null,null,null,null,null,null,null,null,null,null,null,null,null,null,null,null,null,null,null,null,null,null,null,null,null,null,null,null,null,6]
[null,null,null,null,null,null,null,null,null,null,null,null,null,null,null,null,null,null,null,null,null,null,null,null,null,null,null,null,null,null,null,null,null,null,null,null,null,null,null,null,null,null,null,null,null,null,null,null,null,null,7]
[null,null,null,null,null,null,null,null,null,null,null,null,null,null,null,null,null,null,null,null,null,null,null,null,null,null,null,null,null,null,null,null,null,null,null,null,null,null,null,null,null,null,null,null,null,null,null,null,null,null,8]
[null,null,null,null,null,null,null,null,null,null,null,null,null,null,null,null,null,null,null,null,null,null,null,null,null,null,null,null,null,null,null,null,null,null,null,null,null,null,null,null,null,null,null,null,null,null,null,null,null,null,9]
[null,null,null,null,null,null,null,null,null,null,null,null,null,null,null,null,null,null,null,null,null,null,null,null,null,null,null,null,null,null,null,null,null,null,null,null,null,null,null,null,null,null,null,null,null,null,null,null,null,null,10]
[null,null,null,null,null,null,null,null,null,null,null,null,null,null,null,null,null,null,null,null,null,null,null,null,null,null,null,null,null,null,null,null,null,null,null,null,null,null,null,null,null,null,null,null,null,null,null,null,null,null,11]
[null,null,null,null,null,null,null,null,null,null,null,null,null,null,null,null,null,null,null,null,null,null,null,null,null,null,null,null,null,null,null,null,null,null,null,null,null,null,null,null,null,null,null,null,null,null,null,null,null,null,12]
[null,null,null,null,null,null,null,null,null,null,null,null,null,null,null,null,null,null,null,null,null,null,null,null,null,null,null,null,null,null,null,null,null,null,null,null,null,null,null,null,null,null,null,null,null,null,null,null,null,null,13]
[null,null,null,null,null,null,null,null,null,null,null,null,null,null,null,null,null,null,null,null,null,null,null,null,null,null,null,null,null,null,null,null,null,null,null,null,null,null,null,null,null,null,null,null,null,null,null,null,null,null,14]
[null,null,null,null,null,null,null,null,null,null,null,null,null,null,null,null,null,null,null,null,null,null,null,null,null,null,null,null,null,null,null,null,null,null,null,null,null,null,null,null,null,null,null,null,null,null,null,null,null,null,15]
[null,null,null,null,null,null,null,null,null,null,null,null,null,null,null,null,null,null,null,null,null,null,null,null,null,null,null,null,null,null,null,null,null,null,null,null,null,null,null,null,null,null,null,null,null,null,null,null,null,null,16]
[null,null,null,null,null,null,null,null,null,null,null,null,null,null,null,null,null,null,null,null,null,null,null,null,null,null,null,null,null,null,null,null,null,null,null,null,null,null,null,null,null,null,null,null,null,null,null,null,null,null,17]
[null,null,null,null,null,null,null,null,null,null,null,null,null,null,null,null,null,null,null,null,null,null,null,null,null,null,null,null,null,null,null,null,null,null,null,null,null,null,null,null,null,null,null,null,null,null,null,null,null,null,18]
[null,null,null,null,null,null,null,null,null,null,null,null,null,null,null,null,null,null,null,null,null,null,null,null,null,null,null,null,null,null,null,null,null,null,null,null,null,null,null,null,null,null,null,null,null,null,null,null,null,null,19]
[null,null,null,null,null,null,null,null,null,null,null,null,null,null,null,null,null,null,null,null,null,null,null,null,null,null,null,null,null,null,null,null,null,null,null,null,null,null,null,null,null,null,null,null,null,null,null,null,null,null,20]
[null,null,null,null,null,null,null,null,null,null,null,null,null,null,null,null,null,null,null,null,null,null,null,null,null,null,null,null,null,null,null,null,null,null,null,null,null,null,null,null,null,null,null,null,null,null,null,null,null,null,21]
[null,null,null,null,null,null,null,null,null,null,null,null,null,null,null,null,null,null,null,null,null,null,null,null,null,null,null,null,null,null,null,null,null,null,null,null,null,null,null,null,null,null,null,null,null,null,null,null,null,null,22]
[null,null,null,null,null,null,null,null,null,null,null,null,null,null,null,null,null,null,null,null,null,null,null,null,null,null,null,null,null,null,null,null,null,null,null,null,null,null,null,null,null,null,null,null,null,null,null,null,null,null,23]
[null,null,null,null,null,null,null,null,null,null,null,null,null,null,null,null,null,null,null,null,null,null,null,null,null,null,null,null,null,null,null,null,null,null,null,null,null,null,null,null,null,null,null,null,null,null,null,null,null,null,24]
[null,null,null,null,null,null,null,null,null,null,null,null,null,null,null,null,null,null,null,null,null,null,null,null,null,null,null,null,null,null,null,null,null,null,null,null,null,null,null,null,null,null,null,null,null,null,null,null,null,null,25]
[null,null,null,null,null,null,null,null,null,null,null,null,null,null,null,null,null,null,null,null,null,null,null,null,null,null,null,null,null,null,null,null,null,null,null,null,null,null,null,null,null,null,null,null,null,null,null,null,null,null,26]
[null,null,null,null,null,null,null,null,null,null,null,null,null,null,null,null,null,null,null,null,null,null,null,null,null,null,null,null,null,null,null,null,null,null,null,null,null,null,null,null,null,null,null,null,null,null,null,null,null,null,27]
[null,null,null,null,null,null,null,null,null,null,null,null,null,null,null,null,null,null,null,null,null,null,null,null,null,null,null,null,null,null,null,null,null,null,null,null,null,null,null,null,null,null,null,null,null,null,null,null,null,null,28]
[null,null,null,null,null,null,null,null,null,null,null,null,null,null,null,null,null,null,null,null,null,null,null,null,null,null,null,null,null,null,null,null,null,null,null,null,null,null,null,null,null,null,null,null,null,null,null,null,null,null,29]
[null,null,null,null,null,null,null,null,null,null,null,null,null,null,null,null,null,null,null,null,null,null,null,null,null,null,null,null,null,null,null,null,null,null,null,null,null,null,null,null,null,null,null,null,null,null,null,null,null,null,30]
[null,null,null,null,null,null,null,null,null,null,null,null,null,null,null,null,null,null,null,null,null,null,null,null,null,null,null,null,null,null,null,null,null,null,null,null,null,null,null,null,null,null,null,null,null,null,null,null,null,null,"fc"]
[null,null,null,null,null,null,null,null,null,null,null,null,null,null,null,null,null,null,null,null,null,null,null,null,null,null,null,null,null,null,null,null,null,null,null,null,null,null,null,null,null,null,null,null,null,null,null,null,null,null,"v"]

{"sheet":"32","index":16,"n_rows":124,"n_cols":156,"rows_kept":124,"cut":false,"hidden":true,"merged":[[1,108,1,118],[13,0,19,0],[15,30,15,33],[19,16,19,19],[5,0,11,0],[6,16,6,19],[9,23,9,26],[12,16,12,19],[3,0,3,1],[3,15,3,26],[3,27,3,33],[29,0,35,0],[44,16,44,19],[45,0,51,0],[37,0,43,0],[53,0,59,0],[61,0,67,0],[3,2,3,7],[3,8,3,14],[36,112,41,117],[36,29,37,33],[38,16,38,19],[41,23,41,26],[36,109,37,111],[21,0,27,0],[36,22,37,26],[35,22,35,26],[0,38,0,43],[1,3,1,12],[4,3,4,5],[0,14,2,28],[71,1,72,10],[71,17,71,22],[71,23,71,24],[72,17,72,22],[72,23,72,24],[22,23,22,26],[47,30,47,33],[51,16,51,19],[32,30,32,33],[35,29,35,33],[4,9,4,11],[25,16,25,19],[71,26,71,28],[71,30,71,31],[73,17,73,22],[73,23,73,24],[72,26,72,28],[72,30,72,31],[73,30,73,31],[54,23,54,26],[57,16,57,19],[73,26,73,28],[39,109,40,111],[78,17,78,22],[78,23,78,24],[78,26,78,28],[78,30,78,31],[77,26,77,28],[77,30,77,31],[76,26,76,28],[74,26,74,28],[74,30,74,31],[75,26,75,28],[75,30,75,31],[81,26,81,28],[81,30,81,31],[83,26,83,28],[83,30,83,31],[86,26,86,28],[86,30,86,31],[74,17,74,22],[74,23,74,24],[76,17,76,22],[76,23,76,24],[75,17,75,22],[75,23,75,24],[79,26,79,28],[76,30,76,31],[79,17,79,22],[79,23,79,24],[79,30,79,31],[80,26,80,28],[80,30,80,31],[77,17,77,22],[77,23,77,24],[82,26,82,28],[82,30,82,31],[81,17,81,22],[88,23,88,24],[95,23,95,24],[88,26,88,28],[88,30,88,31],[94,17,94,22],[94,23,94,24],[87,26,87,28],[87,30,87,31],[83,17,83,22],[83,23,83,24],[84,17,84,22],[84,23,84,24],[85,26,85,28],[85,30,85,31],[84,26,84,28],[84,30,84,31],[89,30,89,31],[90,26,90,28],[90,30,90,31],[89,26,89,28],[91,26,91,28],[91,30,91,31],[92,26,92,28],[92,30,92,31],[81,23,81,24],[80,17,80,22],[80,23,80,24],[96,17,96,22],[96,23,96,24],[91,17,91,22],[91,23,91,24],[93,17,93,22],[92,17,92,22],[85,17,85,22],[85,23,85,24],[87,17,87,22],[87,23,87,24],[86,17,86,22],[86,23,86,24],[88,17,88,22],[92,23,92,24],[95,17,95,22],[82,17,82,22],[82,23,82,24],[90,17,90,22],[90,23,90,24],[89,17,89,22],[89,23,89,24],[93,26,93,28],[93,30,93,31],[100,3,100,4],[100,9,100,10],[99,17,99,22],[98,30,98,31],[100,30,100,31],[99,3,99,4],[99,9,99,10],[97,30,97,31],[97,3,97,4],[97,9,97,10],[98,23,98,24],[97,26,97,28],[98,17,98,22],[99,30,99,31],[98,3,98,4],[97,23,97,24],[98,9,98,10],[100,17,100,22],[100,23,100,24],[103,17,103,22],[103,23,103,24],[103,26,103,28],[102,17,102,22],[102,23,102,24],[93,23,93,24],[94,26,94,28],[103,30,103,31],[102,26,102,28],[102,30,102,31],[98,26,98,28],[101,30,101,31],[97,17,97,22],[99,23,99,24],[99,26,99,28],[101,23,101,24],[101,26,101,28],[101,17,101,22],[100,26,100,28],[96,26,96,28],[96,30,96,31],[95,26,95,28],[95,30,95,31],[94,30,94,31]]}
[null,null,null,"Direcção Regional de Educação do Algarve",null,null,null,null,null,null,null,null,null,null,"Badminton",null,null,null,null,null,null,null,null,null,null,null,null,null,null,null,null,null,null,null,null,null,null,null,{"$f":"$C$4","v":"Singulares Homens - Infantis A"},null,null,null,null,null,null,null,null,null,null,null,null,null,null,null,null,null,null,null,null,null,null,null,null,null,null,null,null,null,null,null,null,null,null,null,null,null,null,null,null,null,null,null,null,null,null,null,null,null,null,null,null,null,null,null,null,null,null,null,null,null,null,null,null,null,null,null,null,null,"Quadro para 17 a 32 Jogadores",null,null,null,null,null,null,null,null,null,null,null,{"$f":"COUNTA(DG4:DG35)","v":0},1,"A1",{"$f":"IF(DG4=\"\",\"\",IF($DG$24=\"\",CONCATENATE(DG4,\"\",\" (\",DI4,\")\"),\"\"))","v":""},"A1",{"$f":"IF(DG4=\"\",\"\",IF(AND($DG$27=\"\",$DG$24<>\"\"),CONCATENATE(DG4,\"\",\" (\",DI4,\")\"),\"\"))","v":""},null,null,{"$f":"IF(DG4=\"\",\"\",IF($DG$27=\"\",\"\",CONCATENATE(DG4,\"\",\" (\",DI4,\")\")))","v":""},null,null,null,"Lista ",null,null,null,null,null,null,null,null,null,null,null,null,null,null,null,null,null,"ABV","Nome",null,"Tabela para 8 a 32 Jogadores"]
[null,null,null,{"$f":"\"Ano Lectivo \"&Apoio!F10","v":"Ano Lectivo 2017/2018"},null,null,null,null,null,null,null,null,null,null,null,null,null,null,null,null,null,null,null,null,null,null,null,null,null,null,null,null,null,null,null,null,null,null,null,null,null,null,null,null,null,null,null,null,null,null,null,null,null,null,null,null,null,null,null,null,null,null,null,null,null,null,null,null,null,null,null,null,null,null,null,null,null,null,null,null,null,null,null,null,null,null,null,null,null,null,null,null,null,null,null,null,null,null,null,null,null,null,null,null,null,null,null,{"$f":"SUM(DD4:DD35)","v":0},{"$f":"IF(DD2>0,\"ERRO DE PREENCHIMENTO\",\"Lista de Participantes\")","v":"Lista de Participantes"},null,null,null,null,null,null,null,null,null,null,null,null,2,"B1","","D1","",null,null,"",null,null,null,0,null,null,null,null,null,null,null,null,null,null,null,null,null,null,null,null,null,"EM-Juv","Equipas Mistas - Juvenis",null,"Nº Jog","Grupos","Apurados 2ª Fase"]
[null,null,null,null,null,null,null,null,null,null,null,null,null,null,null,null,null,null,null,null,null,null,null,null,null,null,null,null,null,null,null,null,null,null,null,null,null,null,null,null,null,null,null,null,null,null,null,null,null,null,null,null,null,null,null,null,null,null,null,null,null,null,null,null,null,null,null,null,null,null,null,null,null,null,null,null,null,null,null,null,null,null,null,null,null,null,null,null,null,null,null,null,null,null,null,null,null,null,null,null,null,null,null,null,null,null,null,{"$f":"SUM(DD4:DD35)","v":0},"Ordem","Nº","Nome (1º e último)","Escola","Abv.","Ano Nasc.","Escalão","Sexo","Observações","Insc. Prova",null,null,null,3,"C1","","C1","",null,null,"",null,null,null,1,null,null,null,null,null,null,null,null,null,null,null,null,null,null,null,null,null,"PH-InfA","Pares Homens - Infantis A",null,9,"3 Grupos: 3+3+3","2 Primeiros + 2 melhores 3º"]
["SH-InfA",null,{"$f":"LOOKUP(A4,Apoio!N9:N39,Apoio!O9:O39)","v":"Singulares Homens - Infantis A"},null,null,null,null,null,{"$f":"'Ficha de Inscrição'!$A$5","v":"Torneio Nº 4"},null,null,null,null,null,null,{"$f":"\"Escola: \"&'Ficha de Inscrição'!$D$4","v":"Escola: ACav.Silva"},null,null,null,null,null,null,null,null,null,null,null,{"$f":"'Ficha de Inscrição'!$J$4","v":"2018-01-17"},null,null,null,null,null,null,null,null,null,null,null,null,null,null,null,null,null,null,null,null,null,null,null,null,null,null,null,null,null,null,null,null,null,null,null,null,null,null,null,null,null,null,null,null,null,null,null,null,null,null,null,null,null,null,null,null,null,null,null,null,null,null,null,null,null,null,null,null,null,null,null,null,null,null,null,null,null,null,null,{"$f":"IF(ISBLANK(DG4),COUNTA(DG5:$DG$35),0)","v":0},1,null,null,null,null,null,null,null,null,null,null,null,null,4,"A2","","B1","",null,null,"",null,null,null,2,null,null,null,null,null,null,null,null,null,null,null,null,null,null,null,null,null,"PH-InfB","Pares Homens - Infantis B",null,10,"3 Grupos: 4+3+3","2 Primeiros + 2 melhores 3º"]
[null,"1ª FASE",null,"Set's",null,null,null,null,null,"Set's",null,null,null,null,null,"2ª FASE",null,null,null,null,null,null,null,null,null,null,null,null,null,null,null,null,null,null,null,null,null,null,"Classificação 1ª Fase",null,null,null,null,null,null,null,null,null,null,null,null,null,null,null,null,null,null,null,null,null,null,null,null,null,null,null,null,null,null,null,null,null,null,null,null,null,null,null,null,null,null,null,null,null,null,null,null,null,null,null,null,null,null,null,null,null,null,null,null,null,null,null,null,null,null,null,null,{"$f":"IF(ISBLANK(DG5),COUNTA(DG6:$DG$35),0)","v":0},2,null,null,null,null,null,null,null,null,null,null,null,null,5,"B2","","B2","",null,null,"",null,null,null,3,null,null,null,null,null,null,null,null,null,null,null,null,null,null,null,null,null,"PH-Ini","Pares Homens - Iniciados",null,11,"3 Grupos: 4+4+3","2 Primeiros + 3º grupos de 4"]
["Grupo A","NºJ","Jogadores",1,2,3,"R","NºJ","Jogadores",1,2,3,"R",null,null,"1/8 Final",null,null,null,null,null,null,"1/4 Final",null,null,null,null,null,null,"1/2 Final",null,null,null,null,null,null,null,null,null,null,null,null,null,null,null,null,null,null,5,6,8,"Colocar Equipas",null,null,null,null,null,null,null,null,"Ordenar p/ Pts 1",null,"Ordenar p/ Pts 2",null,"Ordenar p/ Pts 3",null,null,"Ordenar p/ DG 1",null,null,"Ordenar p/ DG 2",null,null,"Ordenar p/ DG 3",null,null,null,"Ordenar p/ GM 1",null,null,null,"Ordenar p/ GM 2",null,null,null,"Ordenar p/ GM 3",null,null,null,null,null,null,null,null,null,null,null,null,null,null,null,null,null,"Vencedores","Derrotados",null,null,{"$f":"IF(ISBLANK(DG6),COUNTA(DG7:$DG$35),0)","v":0},3,null,null,null,null,null,null,null,null,null,null,null,null,6,"C2","","C2","",null,null,"",null,null,null,4,null,null,null,null,null,null,null,null,null,null,null,null,null,null,null,null,null,"PH-Jun","Pares Homens - Juniores",null,12,"4 Grupos: 3+3+3+3","2 Primeiros de cada Grupo"]
[null,{"$f":"$A$4","v":"SH-InfA"},{"$f":"AZ10","v":""},null,null,null,{"$f":"IF(ISBLANK(D7),\"\",SUM(IF(D7>D8,1,0)+(IF(E7>E8,1,0)+(IF(F7>F8,1,0)))))","v":""},{"$f":"$A$4","v":"SH-InfA"},{"$f":"IF(I8=\"\",\"\",AZ11)","v":""},null,null,null,{"$f":"IF(ISBLANK(J7),\"\",SUM(IF(J7>J8,1,0)+(IF(K7>K8,1,0)+(IF(L7>L8,1,0)))))","v":""},null,null,"Jogo Nº",{"$f":"CONCATENATE($A$4,\" \",SUM($H$68+1))","v":"SH-InfA 49"},null,null,null,null,null,null,null,null,null,null,null,null,null,null,null,null,null,null,null,null,null,"Classificação Grupo A",null,null,null,null,null,null,null,null,null,null,null,null,"Grupo A",null,null,null,null,null,null,null,null,null,null,null,null,null,null,null,null,null,null,null,null,null,null,null,null,null,null,null,null,null,null,null,null,null,null,null,null,null,null,null,null,null,null,null,null,null,null,null,null,null,null,null,{"$f":"IF(G8<>\"\",IF(G8>G7,C8,IF(G7>G8,C7,\"Empate\")),\"\")","v":""},{"$f":"IF(G8<>\"\",IF(G8<G7,C8,IF(G7<G8,C7,\"Empate\")),\"\")","v":""},null,null,{"$f":"IF(ISBLANK(DG7),COUNTA(DG8:$DG$35),0)","v":0},4,null,null,null,null,null,null,null,null,null,null,null,null,7,"A3","","D2","",null,null,"",null,null,null,5,null,null,null,null,null,null,null,null,null,null,null,null,null,null,null,null,null,"PH-Juv","Pares Homens - Juvenis",null,13,"4 Grupos: 4+3+3+3","2 Primeiros de cada Grupo"]
[null,1,{"$f":"AZ9","v":""},null,null,null,{"$f":"IF(ISBLANK(D7),\"\",SUM(IF(D8>D7,1,0)+(IF(E8>E7,1,0)+(IF(F8>F7,1,0)))))","v":""},{"$f":"B8+1","v":2},{"$f":"AZ12","v":""},null,null,null,{"$f":"IF(ISBLANK(J7),\"\",SUM(IF(J8>J7,1,0)+(IF(K8>K7,1,0)+(IF(L8>L7,1,0)))))","v":""},null,1,{"$f":"IF($DQ$1<=20,LOOKUP(O8,$DT$36:$DT$51,$DU$36:$DU$51),IF(AND($DQ$1>20,$DQ$1<24),LOOKUP(O8,$DT$36:$DT$51,$DV$36:$DV$51),LOOKUP(O8,$DT$36:$DT$51,$DW$36:$DW$51)))","v":"1º Grupo A"},null,null,null,{"$f":"IF(ISBLANK(Q8),\"\",SUM(IF(Q8>Q9,1,0)+(IF(R8>R9,1,0)+(IF(S8>S9,1,0)))))","v":""},null,null,null,null,null,null,null,null,null,null,null,null,null,null,null,null,null,"Cl",{"$f":"AZ8","v":"Jogadores"},"Jg","V","E","D","PM","PS","DP","Pt.",null,null,null,null,"Jogadores","Jg","V","E","D","GM","GS","DG","Pts","Equipas","Pts","Equipas","Pts","Equipas","Pts","DG","Equipas","Pts","DG","Equipas","Pts","DG","Equipas","Pts","DG","GM","Equipas","Pts","DG","GM","Equipas","Pts","DG","GM","Equipas","Pts","DG","GM",null,null,null,"Equipas","Jg","V","D","E","GM","GS","DG","Pts",null,null,{"$f":"IF(M7<>\"\",IF(M7>M8,I7,IF(M8>M7,I8,\"Empate\")),\"\")","v":""},{"$f":"IF(M7<>\"\",IF(M7<M8,I7,IF(M8<M7,I8,\"Empate\")),\"\")","v":""},null,null,{"$f":"IF(ISBLANK(DG8),COUNTA(DG9:$DG$35),0)","v":0},5,null,null,null,null,null,null,null,null,null,null,null,null,8,"B3","","A2","",null,null,"",null,null,null,6,null,null,null,null,null,null,null,null,null,null,null,null,null,null,null,null,null,"PM-Ini","Pares Mistos - Iniciados",null,14,"4 Grupos: 4+4+3+3","2 Primeiros de cada Grupo"]
[null,{"$f":"$A$4","v":"SH-InfA"},{"$f":"AZ9","v":""},null,null,null,{"$f":"IF(ISBLANK(D9),\"\",SUM(IF(D9>D10,1,0)+(IF(E9>E10,1,0)+(IF(F9>F10,1,0)))))","v":""},{"$f":"$A$4","v":"SH-InfA"},{"$f":"AZ12","v":""},null,null,null,{"$f":"IF(ISBLANK(J9),\"\",SUM(IF(J9>J10,1,0)+(IF(K9>K10,1,0)+(IF(L9>L10,1,0)))))","v":""},null,16,{"$f":"IF($DQ$1<=20,LOOKUP(O9,$DT$36:$DT$51,$DU$36:$DU$51),IF(AND($DQ$1>20,$DQ$1<24),LOOKUP(O9,$DT$36:$DT$51,$DV$36:$DV$51),LOOKUP(O9,$DT$36:$DT$51,$DW$36:$DW$51)))","v":"Bye"},null,null,null,{"$f":"IF(ISBLANK(Q8),\"\",SUM(IF(Q9>Q8,1,0)+(IF(R9>R8,1,0)+(IF(S9>S8,1,0)))))","v":""},null,null,null,null,null,null,null,null,null,null,null,null,null,null,null,1,null,{"$f":"IF(AM9=\"\",\"\",\"1º\")","v":""},{"$f":"CO9","v":""},{"$f":"IF(AM9=\"\",\"\",CP9)","v":""},{"$f":"IF(AM9=\"\",\"\",CQ9)","v":""},{"$f":"IF(AM9=\"\",\"\",CR9)","v":""},{"$f":"IF(AM9=\"\",\"\",CS9)","v":""},{"$f":"IF(AM9=\"\",\"\",CT9)","v":""},{"$f":"IF(AM9=\"\",\"\",CU9)","v":""},{"$f":"IF(AM9=\"\",\"\",CV9)","v":""},{"$f":"IF(AM9=\"\",\"\",CW9)","v":""},{"$f":"IF(AND($DQ$1>=17,$DQ$1<=20),AW9,IF(AND($DQ$1>=21,$DQ$1<=23),AX9,AY9))","v":1},1,1,1,{"$f":"IF($DQ$1<=20,LOOKUP(DR1,$DR$1:$DR$20,$DT$1:$DT$20),IF(AND($DQ$1>20,$DQ$1<24),LOOKUP(DR1,$DR$1:$DR$23,$DV$1:$DV$23),LOOKUP(DR1,$DR$1:$DR$32,$DY$1:$DY$32)))","v":""},{"$f":"COUNT(G8,G9,M12)","v":0},{"$f":"COUNTIF(CZ7:CZ12,AZ9)","v":6},{"$f":"BA9-(BB9+BD9)","v":-12},{"$f":"COUNTIF(DA7:DA12,AZ9)","v":6},{"$f":"SUM(D8:F8,D9:F9,J12:L12)","v":0},{"$f":"SUM(D7:F7,D10:F10,J11:L11)","v":0},{"$f":"BE9-BF9","v":0},{"$f":"IF(BA9=0,0,BB9*2+BD9*1)","v":0},{"$f":"IF(BH9>=BH10,AZ9,AZ10)","v":""},{"$f":"VLOOKUP(BI9,AZ9:BH12,9,FALSE)","v":0},{"$f":"IF(BJ9>=BJ11,BI9,BI11)","v":""},{"$f":"VLOOKUP(BK9,AZ9:BH12,9,FALSE)","v":0},{"$f":"IF(BL9>=BL12,BK9,BK12)","v":""},{"$f":"VLOOKUP(BM9,AZ9:BH12,9,FALSE)","v":0},{"$f":"VLOOKUP(BM9,AZ9:BH12,8,FALSE)","v":0},{"$f":"IF(AND(BN9=BN10,BO10>BO9),BM10,BM9)","v":""},{"$f":"VLOOKUP(BP9,AZ9:BH12,9,FALSE)","v":0},{"$f":"VLOOKUP(BP9,AZ9:BH12,8,FALSE)","v":0},{"$f":"IF(AND(BQ9=BQ11,BR11>BR9),BP11,BP9)","v":""},{"$f":"VLOOKUP(BS9,AZ9:BH12,9,FALSE)","v":0},{"$f":"VLOOKUP(BS9,AZ9:BH12,8,FALSE)","v":0},{"$f":"IF(AND(BT9=BT12,BU12>BU9),BS12,BS9)","v":""},{"$f":"VLOOKUP(BV9,AZ9:BH12,9,FALSE)","v":0},{"$f":"VLOOKUP(BV9,AZ9:BH12,8,FALSE)","v":0},{"$f":"VLOOKUP(BV9,AZ9:BH12,6,FALSE)","v":0},{"$f":"IF(AND(BW9=BW10,BX9=BX10,BY10>BY9),BV10,BV9)","v":""},{"$f":"VLOOKUP(BZ9,AZ9:BH12,9,FALSE)","v":0},{"$f":"VLOOKUP(BZ9,AZ9:BH12,8,FALSE)","v":0},{"$f":"VLOOKUP(BZ9,AZ9:BH12,6,FALSE)","v":0},{"$f":"IF(AND(CA9=CA11,CB9=CB11,CC11>CC9),BZ11,BZ9)","v":""},{"$f":"VLOOKUP(CD9,AZ9:BH12,9,FALSE)","v":0},{"$f":"VLOOKUP(CD9,AZ9:BH12,8,FALSE)","v":0},{"$f":"VLOOKUP(CD9,AZ9:BH12,6,FALSE)","v":0},{"$f":"IF(AND(CE9=CE12,CF9=CF12,CG12>CG9),CD12,CD9)","v":""},{"$f":"VLOOKUP(CH9,AZ9:BH12,9,FALSE)","v":0},{"$f":"VLOOKUP(CH9,AZ9:BH12,8,FALSE)","v":0},{"$f":"VLOOKUP(CH9,AZ9:BH12,6,FALSE)","v":0},null,null,null,{"$f":"CH9","v":""},{"$f":"VLOOKUP(CO9,AZ9:BH12,2,FALSE)","v":0},{"$f":"VLOOKUP(CO9,AZ9:BH12,3,FALSE)","v":6},{"$f":"VLOOKUP(CO9,AZ9:BH12,4,FALSE)","v":-12},{"$f":"VLOOKUP(CO9,AZ9:BH12,5,FALSE)","v":6},{"$f":"VLOOKUP(CO9,AZ9:BH12,6,FALSE)","v":0},{"$f":"VLOOKUP(CO9,AZ9:BH12,7,FALSE)","v":0},{"$f":"VLOOKUP(CO9,AZ9:BH12,8,FALSE)","v":0},{"$f":"VLOOKUP(CO9,AZ9:BH12,9,FALSE)","v":0},null,null,{"$f":"IF(G9<>\"\",IF(G9>G10,C9,IF(G10>G9,C10,\"Empate\")),\"\")","v":""},{"$f":"IF(G9<>\"\",IF(G9<G10,C9,IF(G10<G9,C10,\"Empate\")),\"\")","v":""},null,null,{"$f":"IF(ISBLANK(DG9),COUNTA(DG10:$DG$35),0)","v":0},6,null,null,null,null,null,null,null,null,null,null,null,null,9,"C3","","A3","",null,null,"",null,null,null,7,null,null,null,null,null,null,null,null,null,null,null,null,null,null,null,null,null,"PS-InfA","Pares Senhoras - Infantis A",null,15,"4 Grupos: 4+4+4+3","2 Primeiros de cada Grupo"]
[null,17,{"$f":"AZ11","v":""},null,null,null,{"$f":"IF(ISBLANK(D9),\"\",SUM(IF(D10>D9,1,0)+(IF(E10>E9,1,0)+(IF(F10>F9,1,0)))))","v":""},18,{"$f":"IF(I9=\"\",\"\",AZ10)","v":""},null,null,null,{"$f":"IF(ISBLANK(J9),\"\",SUM(IF(J10>J9,1,0)+(IF(K10>K9,1,0)+(IF(L10>L9,1,0)))))","v":""},null,null,null,null,null,null,null,null,null,"Jogo Nº",{"$f":"CONCATENATE($A$4,\" \",SUM($H$68+9))","v":"SH-InfA 57"},null,null,null,null,null,null,null,null,null,null,null,7,null,{"$f":"IF(AM10=\"\",\"\",\"2º\")","v":""},{"$f":"CO10","v":""},{"$f":"IF(AM10=\"\",\"\",CP10)","v":""},{"$f":"IF(AM10=\"\",\"\",CQ10)","v":""},{"$f":"IF(AM10=\"\",\"\",CR10)","v":""},{"$f":"IF(AM10=\"\",\"\",CS10)","v":""},{"$f":"IF(AM10=\"\",\"\",CT10)","v":""},{"$f":"IF(AM10=\"\",\"\",CU10)","v":""},{"$f":"IF(AM10=\"\",\"\",CV10)","v":""},{"$f":"IF(AM10=\"\",\"\",CW10)","v":""},{"$f":"IF(AND($DQ$1>=17,$DQ$1<=20),AW10,IF(AND($DQ$1>=21,$DQ$1<=23),AX10,AY10))","v":16},10,12,16,{"$f":"IF($DQ$1<=20,LOOKUP(DR10,$DR$1:$DR$20,$DT$1:$DT$20),IF(AND($DQ$1>20,$DQ$1<24),LOOKUP(DR12,$DR$1:$DR$23,$DV$1:$DV$23),LOOKUP(DR16,$DR$1:$DR$32,$DY$1:$DY$32)))","v":""},{"$f":"COUNT(G7,M10,G12)","v":0},{"$f":"COUNTIF(CZ7:CZ12,AZ10)","v":6},{"$f":"BA10-(BB10+BD10)","v":-12},{"$f":"COUNTIF(DA7:DA12,AZ10)","v":6},{"$f":"SUM(D7:F7,J10:L10,D12:F12)","v":0},{"$f":"SUM(D8:F8,J9:L9,D11:F11)","v":0},{"$f":"BE10-BF10","v":0},{"$f":"IF(BA10=0,0,BB10*2+BD10*1)","v":0},{"$f":"IF(BH10<=BH9,AZ10,AZ9)","v":""},{"$f":"VLOOKUP(BI10,AZ9:BH12,9,FALSE)","v":0},{"$f":"IF(BJ10>=BJ12,BI10,BI12)","v":""},{"$f":"VLOOKUP(BK10,AZ9:BH12,9,FALSE)","v":0},{"$f":"IF(BL10>=BL11,BK10,BK11)","v":""},{"$f":"VLOOKUP(BM10,AZ9:BH12,9,FALSE)","v":0},{"$f":"VLOOKUP(BM10,AZ9:BH12,8,FALSE)","v":0},{"$f":"IF(AND(BN9=BN10,BO10>BO9),BM9,BM10)","v":""},{"$f":"VLOOKUP(BP10,AZ9:BH12,9,FALSE)","v":0},{"$f":"VLOOKUP(BP10,AZ9:BH12,8,FALSE)","v":0},{"$f":"IF(AND(BQ10=BQ12,BR12>BR10),BP12,BP10)","v":""},{"$f":"VLOOKUP(BS10,AZ9:BH12,9,FALSE)","v":0},{"$f":"VLOOKUP(BS10,AZ9:BH12,8,FALSE)","v":0},{"$f":"IF(AND(BT10=BT11,BU11>BU10),BS11,BS10)","v":""},{"$f":"VLOOKUP(BV10,AZ9:BH12,9,FALSE)","v":0},{"$f":"VLOOKUP(BV10,AZ9:BH12,8,FALSE)","v":0},{"$f":"VLOOKUP(BV10,AZ9:BH12,6,FALSE)","v":0},{"$f":"IF(AND(BW9=BW10,BX9=BX10,BY10>BY9),BV9,BV10)","v":""},{"$f":"VLOOKUP(BZ10,AZ9:BH12,9,FALSE)","v":0},{"$f":"VLOOKUP(BZ10,AZ9:BH12,8,FALSE)","v":0},{"$f":"VLOOKUP(BZ10,AZ9:BH12,6,FALSE)","v":0},{"$f":"IF(AND(CA10=CA12,CB10=CB12,CC12>CC10),BZ12,BZ10)","v":""},{"$f":"VLOOKUP(CD10,AZ9:BH12,9,FALSE)","v":0},{"$f":"VLOOKUP(CD10,AZ9:BH12,8,FALSE)","v":0},{"$f":"VLOOKUP(CD10,AZ9:BH12,6,FALSE)","v":0},{"$f":"IF(AND(CE10=CE11,CF10=CF11,CG11>CG10),CD11,CD10)","v":""},{"$f":"VLOOKUP(CH10,AZ9:BH12,9,FALSE)","v":0},{"$f":"VLOOKUP(CH10,AZ9:BH12,8,FALSE)","v":0},{"$f":"VLOOKUP(CH10,AZ9:BH12,6,FALSE)","v":0},null,null,null,{"$f":"CH10","v":""},{"$f":"VLOOKUP(CO10,AZ9:BH12,2,FALSE)","v":0},{"$f":"VLOOKUP(CO10,AZ9:BH12,3,FALSE)","v":6},{"$f":"VLOOKUP(CO10,AZ9:BH12,4,FALSE)","v":-12},{"$f":"VLOOKUP(CO10,AZ9:BH12,5,FALSE)","v":6},{"$f":"VLOOKUP(CO10,AZ9:BH12,6,FALSE)","v":0},{"$f":"VLOOKUP(CO10,AZ9:BH12,7,FALSE)","v":0},{"$f":"VLOOKUP(CO10,AZ9:BH12,8,FALSE)","v":0},{"$f":"VLOOKUP(CO10,AZ9:BH12,9,FALSE)","v":0},null,null,{"$f":"IF(M9<>\"\",IF(M9>M10,I9,IF(M10>M9,I10,\"Empate\")),\"\")","v":""},{"$f":"IF(M9<>\"\",IF(M9<M10,I9,IF(M10<M9,I10,\"Empate\")),\"\")","v":""},null,null,{"$f":"IF(ISBLANK(DG10),COUNTA(DG11:$DG$35),0)","v":0},7,null,null,null,null,null,null,null,null,null,null,null,null,10,"A4","","D3","",null,null,"",null,null,null,8,null,null,null,null,null,null,null,null,null,null,null,null,null,null,null,null,null,"PS-InfB","Pares Senhoras - Infantis B",null,16,"4 Grupos: 4+4+4+4","2 Primeiros de cada Grupo"]
[null,{"$f":"$A$4","v":"SH-InfA"},{"$f":"AZ11","v":""},null,null,null,{"$f":"IF(ISBLANK(D11),\"\",SUM(IF(D11>D12,1,0)+(IF(E11>E12,1,0)+(IF(F11>F12,1,0)))))","v":""},{"$f":"$A$4","v":"SH-InfA"},{"$f":"AZ12","v":""},null,null,null,{"$f":"IF(ISBLANK(J11),\"\",SUM(IF(J11>J12,1,0)+(IF(K11>K12,1,0)+(IF(L11>L12,1,0)))))","v":""},null,null,null,null,null,null,null,null,null,{"$f":"IF(P8=\"Bye\",P9,IF(P9=\"Bye\",P8,IF(T8=T9,\"\",IF(T8>T9,P8,P9))))","v":"1º Grupo A"},null,null,null,{"$f":"IF(ISBLANK(X11),\"\",SUM(IF(X11>X12,1,0)+(IF(Y11>Y12,1,0)+(IF(Z11>Z12,1,0)))))","v":""},null,null,null,null,null,null,null,null,null,null,{"$f":"IF(AM11=\"\",\"\",\"3º\")","v":""},{"$f":"CO11","v":""},{"$f":"IF(AM11=\"\",\"\",CP11)","v":""},{"$f":"IF(AM11=\"\",\"\",CQ11)","v":""},{"$f":"IF(AM11=\"\",\"\",CR11)","v":""},{"$f":"IF(AM11=\"\",\"\",CS11)","v":""},{"$f":"IF(AM11=\"\",\"\",CT11)","v":""},{"$f":"IF(AM11=\"\",\"\",CU11)","v":""},{"$f":"IF(AM11=\"\",\"\",CV11)","v":""},{"$f":"IF(AM11=\"\",\"\",CW11)","v":""},{"$f":"IF(AND($DQ$1>=17,$DQ$1<=20),AW11,IF(AND($DQ$1>=21,$DQ$1<=23),AX11,AY11))","v":17},15,18,17,{"$f":"IF($DQ$1<=20,LOOKUP(DR15,$DR$1:$DR$20,$DT$1:$DT$20),IF(AND($DQ$1>20,$DQ$1<24),LOOKUP(DR18,$DR$1:$DR$23,$DV$1:$DV$23),LOOKUP(DR17,$DR$1:$DR$32,$DY$1:$DY$32)))","v":""},{"$f":"COUNT(M7,G10,G11)","v":0},{"$f":"COUNTIF(CZ7:CZ12,AZ11)","v":6},{"$f":"BA11-(BB11+BD11)","v":-12},{"$f":"COUNTIF(DA7:DA12,AZ11)","v":6},{"$f":"SUM(J7:L7,D10:F10,D11:F11)","v":0},{"$f":"SUM(J8:L8,D9:F9,D12:F12)","v":0},{"$f":"BE11-BF11","v":0},{"$f":"IF(BA11=0,0,BB11*2+BD11*1)","v":0},{"$f":"IF(BH11>=BH12,AZ11,AZ12)","v":""},{"$f":"VLOOKUP(BI11,AZ9:BH12,9,FALSE)","v":0},{"$f":"IF(BJ11<=BJ9,BI11,BI9)","v":""},{"$f":"VLOOKUP(BK11,AZ9:BH12,9,FALSE)","v":0},{"$f":"IF(BL11<=BL10,BK11,BK10)","v":""},{"$f":"VLOOKUP(BM11,AZ9:BH12,9,FALSE)","v":0},{"$f":"VLOOKUP(BM11,AZ9:BH12,8,FALSE)","v":0},{"$f":"IF(AND(BN11=BN12,BO12>BO11),BM12,BM11)","v":""},{"$f":"VLOOKUP(BP11,AZ9:BH12,9,FALSE)","v":0},{"$f":"VLOOKUP(BP11,AZ9:BH12,8,FALSE)","v":0},{"$f":"IF(AND(BQ9=BQ11,BR11>BR9),BP9,BP11)","v":""},{"$f":"VLOOKUP(BS11,AZ9:BH12,9,FALSE)","v":0},{"$f":"VLOOKUP(BS11,AZ9:BH12,8,FALSE)","v":0},{"$f":"IF(AND(BT10=BT11,BU11>BU10),BS10,BS11)","v":""},{"$f":"VLOOKUP(BV11,AZ9:BH12,9,FALSE)","v":0},{"$f":"VLOOKUP(BV11,AZ9:BH12,8,FALSE)","v":0},{"$f":"VLOOKUP(BV11,AZ9:BH12,6,FALSE)","v":0},{"$f":"IF(AND(BW11=BW12,BX11=BX12,BY12>BY11),BV12,BV11)","v":""},{"$f":"VLOOKUP(BZ11,AZ9:BH12,9,FALSE)","v":0},{"$f":"VLOOKUP(BZ11,AZ9:BH12,8,FALSE)","v":0},{"$f":"VLOOKUP(BZ11,AZ9:BH12,6,FALSE)","v":0},{"$f":"IF(AND(CA9=CA11,CB9=CB11,CC10>CC9),BZ9,BZ11)","v":""},{"$f":"VLOOKUP(CD11,AZ9:BH12,9,FALSE)","v":0},{"$f":"VLOOKUP(CD11,AZ9:BH12,8,FALSE)","v":0},{"$f":"VLOOKUP(CD11,AZ9:BH12,6,FALSE)","v":0},{"$f":"IF(AND(CE10=CE11,CF10=CF11,CG11>CG10),CD10,CD11)","v":""},{"$f":"VLOOKUP(CH11,AZ9:BH12,9,FALSE)","v":0},{"$f":"VLOOKUP(CH11,AZ9:BH12,8,FALSE)","v":0},{"$f":"VLOOKUP(CH11,AZ9:BH12,6,FALSE)","v":0},null,null,null,{"$f":"CH11","v":""},{"$f":"VLOOKUP(CO11,AZ9:BH12,2,FALSE)","v":0},{"$f":"VLOOKUP(CO11,AZ9:BH12,3,FALSE)","v":6},{"$f":"VLOOKUP(CO11,AZ9:BH12,4,FALSE)","v":-12},{"$f":"VLOOKUP(CO11,AZ9:BH12,5,FALSE)","v":6},{"$f":"VLOOKUP(CO11,AZ9:BH12,6,FALSE)","v":0},{"$f":"VLOOKUP(CO11,AZ9:BH12,7,FALSE)","v":0},{"$f":"VLOOKUP(CO11,AZ9:BH12,8,FALSE)","v":0},{"$f":"VLOOKUP(CO11,AZ9:BH12,9,FALSE)","v":0},null,null,{"$f":"IF(M11<>\"\",IF(M11>M12,I11,IF(M12>M11,I12,\"Empate\")),\"\")","v":""},{"$f":"IF(M11<>\"\",IF(M11<M12,I11,IF(M12<M11,I12,\"Empate\")),\"\")","v":""},null,null,{"$f":"IF(ISBLANK(DG11),COUNTA(DG12:$DG$35),0)","v":0},8,null,null,null,null,null,null,null,null,null,null,null,null,11,"B4","","C3","",null,null,"",null,null,null,9,null,null,null,null,null,null,null,null,null,null,null,null,null,null,null,null,null,"PS-Ini","Pares Senhoras - Iniciados",null,17,"5 Grupos: 4+4+3+3+3","1 Primeiros + 3 melhores 2º"]
[null,33,{"$f":"AZ10","v":""},null,null,null,{"$f":"IF(ISBLANK(D11),\"\",SUM(IF(D12>D11,1,0)+(IF(E12>E11,1,0)+(IF(F12>F11,1,0)))))","v":""},34,{"$f":"IF(I11=\"\",\"\",AZ9)","v":""},null,null,null,{"$f":"IF(ISBLANK(J11),\"\",SUM(IF(J12>J11,1,0)+(IF(K12>K11,1,0)+(IF(L12>L11,1,0)))))","v":""},null,null,null,null,null,null,null,null,null,{"$f":"IF(P14=\"Bye\",P15,IF(P15=\"Bye\",P14,IF(T14=T15,\"\",IF(T14>T15,P14,P15))))","v":"1º Melhor 2º"},null,null,null,{"$f":"IF(ISBLANK(X11),\"\",SUM(IF(X12>X11,1,0)+(IF(Y12>Y11,1,0)+(IF(Z12>Z11,1,0)))))","v":""},null,null,null,null,null,null,null,null,null,null,{"$f":"IF(AM12=\"\",\"\",\"4º\")","v":""},{"$f":"CO12","v":""},{"$f":"IF(AM12=\"\",\"\",CP12)","v":""},{"$f":"IF(AM12=\"\",\"\",CQ12)","v":""},{"$f":"IF(AM12=\"\",\"\",CR12)","v":""},{"$f":"IF(AM12=\"\",\"\",CS12)","v":""},{"$f":"IF(AM12=\"\",\"\",CT12)","v":""},{"$f":"IF(AM12=\"\",\"\",CU12)","v":""},{"$f":"IF(AM12=\"\",\"\",CV12)","v":""},{"$f":"IF(AM12=\"\",\"\",CW12)","v":""},{"$f":"IF(AND($DQ$1>=17,$DQ$1<=20),AW12,IF(AND($DQ$1>=21,$DQ$1<=23),AX12,AY12))","v":32},20,24,32,{"$f":"IF($DQ$1<=20,LOOKUP(DR20,$DR$1:$DR$20,$DT$1:$DT$20),IF(AND($DQ$1>20,$DQ$1<24),LOOKUP(DR24,$DR$1:$DR$24,$DV$1:$DV$24),LOOKUP(DR32,$DR$1:$DR$32,$DY$1:$DY$32)))","v":""},{"$f":"COUNT(M8,M9,M11)","v":0},{"$f":"COUNTIF(CZ7:CZ12,AZ12)","v":6},{"$f":"BA12-(BB12+BD12)","v":-12},{"$f":"COUNTIF(DA7:DA12,AZ12)","v":6},{"$f":"SUM(J8:L8,J9:L9,J11:L11)","v":0},{"$f":"SUM(J7:L7,J10:L10,J12:L12)","v":0},{"$f":"BE12-BF12","v":0},{"$f":"IF(BA12=0,0,BB12*2+BD12*1)","v":0},{"$f":"IF(BH12<=BH11,AZ12,AZ11)","v":""},{"$f":"VLOOKUP(BI12,AZ9:BH12,9,FALSE)","v":0},{"$f":"IF(BJ12<=BJ10,BI12,BI10)","v":""},{"$f":"VLOOKUP(BK12,AZ9:BH12,9,FALSE)","v":0},{"$f":"IF(BL12<=BL9,BK12,BK9)","v":""},{"$f":"VLOOKUP(BM12,AZ9:BH12,9,FALSE)","v":0},{"$f":"VLOOKUP(BM12,AZ9:BH12,8,FALSE)","v":0},{"$f":"IF(AND(BN11=BN12,BO12>BO11),BM11,BM12)","v":""},{"$f":"VLOOKUP(BP12,AZ9:BH12,9,FALSE)","v":0},{"$f":"VLOOKUP(BP12,AZ9:BH12,8,FALSE)","v":0},{"$f":"IF(AND(BQ10=BQ12,BR12>BR10),BP10,BP12)","v":""},{"$f":"VLOOKUP(BS12,AZ9:BH12,9,FALSE)","v":0},{"$f":"VLOOKUP(BS12,AZ9:BH12,8,FALSE)","v":0},{"$f":"IF(AND(BT9=BT12,BU12>BU9),BS9,BS12)","v":""},{"$f":"VLOOKUP(BV12,AZ9:BH12,9,FALSE)","v":0},{"$f":"VLOOKUP(BV12,AZ9:BH12,8,FALSE)","v":0},{"$f":"VLOOKUP(BV12,AZ9:BH12,6,FALSE)","v":0},{"$f":"IF(AND(BW11=BW12,BX11=BX12,BY12>BY11),BV11,BV12)","v":""},{"$f":"VLOOKUP(BZ12,AZ9:BH12,9,FALSE)","v":0},{"$f":"VLOOKUP(BZ12,AZ9:BH12,8,FALSE)","v":0},{"$f":"VLOOKUP(BZ12,AZ9:BH12,6,FALSE)","v":0},{"$f":"IF(AND(CA10=CA12,CB10=CB12,CC12>CC10),BZ10,BZ12)","v":""},{"$f":"VLOOKUP(CD12,AZ9:BH12,9,FALSE)","v":0},{"$f":"VLOOKUP(CD12,AZ9:BH12,8,FALSE)","v":0},{"$f":"VLOOKUP(CD12,AZ9:BH12,6,FALSE)","v":0},{"$f":"IF(AND(CE9=CE12,CF9=CF12,CG12>CG9),CD9,CD12)","v":""},{"$f":"VLOOKUP(CH12,AZ9:BH12,9,FALSE)","v":0},{"$f":"VLOOKUP(CH12,AZ9:BH12,8,FALSE)","v":0},{"$f":"VLOOKUP(CH12,AZ9:BH12,6,FALSE)","v":0},null,null,null,{"$f":"CH12","v":""},{"$f":"VLOOKUP(CO12,AZ9:BH12,2,FALSE)","v":0},{"$f":"VLOOKUP(CO12,AZ9:BH12,3,FALSE)","v":6},{"$f":"VLOOKUP(CO12,AZ9:BH12,4,FALSE)","v":-12},{"$f":"VLOOKUP(CO12,AZ9:BH12,5,FALSE)","v":6},{"$f":"VLOOKUP(CO12,AZ9:BH12,6,FALSE)","v":0},{"$f":"VLOOKUP(CO12,AZ9:BH12,7,FALSE)","v":0},{"$f":"VLOOKUP(CO12,AZ9:BH12,8,FALSE)","v":0},{"$f":"VLOOKUP(CO12,AZ9:BH12,9,FALSE)","v":0},null,null,{"$f":"IF(G12<>\"\",IF(G12>G11,C12,IF(G11>G12,C11,\"Empate\")),\"\")","v":""},{"$f":"IF(G12<>\"\",IF(G12<G11,C12,IF(G11<G12,C11,\"Empate\")),\"\")","v":""},null,null,{"$f":"IF(ISBLANK(DG12),COUNTA(DG13:$DG$35),0)","v":0},9,null,null,null,null,null,null,null,null,null,null,null,null,12,null,"","B3","",null,null,"",null,null,null,10,null,null,null,null,null,null,null,null,null,null,null,null,null,null,null,null,null,"PS-Jun","Pares Senhoras - Juniores",null,18,"5 Grupos: 4+4+4+3+3","1 Primeiros + 3 melhores 2º"]
[null,null,null,null,null,null,null,null,null,null,null,null,null,null,null,"Jogo Nº",{"$f":"CONCATENATE($A$4,\" \",SUM($H$68+2))","v":"SH-InfA 50"},null,null,null,null,null,null,null,null,null,null,null,null,null,null,null,null,null,null,null,null,null,null,null,null,null,null,null,null,null,null,null,null,null,null,null,null,null,null,null,null,null,null,null,null,null,null,null,null,null,null,null,null,null,null,null,null,null,null,null,null,null,null,null,null,null,null,null,null,null,null,null,null,null,null,null,null,null,null,null,null,null,null,null,null,null,null,null,null,null,null,{"$f":"IF(ISBLANK(DG13),COUNTA(DG14:$DG$35),0)","v":0},10,null,null,null,null,null,null,null,null,null,null,null,null,13,null,"","B4","",null,null,"",null,null,null,11,null,null,null,null,null,null,null,null,null,null,null,null,null,null,null,null,null,"PS-Juv","Pares Senhoras - Juvenis",null,19,"5 Grupos: 4+4+4+4+3","1 Primeiros + 3 melhores 2º"]
["Grupo B","NºJ","Jogadores",1,2,3,"R","NºJ","Jogadores",1,2,3,"R",null,9,{"$f":"IF($DQ$1<=20,LOOKUP(O14,$DT$36:$DT$51,$DU$36:$DU$51),IF(AND($DQ$1>20,$DQ$1<24),LOOKUP(O14,$DT$36:$DT$51,$DV$36:$DV$51),LOOKUP(O14,$DT$36:$DT$51,$DW$36:$DW$51)))","v":"Bye"},null,null,null,{"$f":"IF(ISBLANK(Q14),\"\",SUM(IF(Q14>Q15,1,0)+(IF(R14>R15,1,0)+(IF(S14>S15,1,0)))))","v":""},null,null,null,null,null,null,null,null,null,null,null,null,null,null,null,null,null,null,null,null,null,null,null,null,null,null,null,null,null,null,null,"Colocar Equipas",null,null,null,null,null,null,null,null,"Ordenar p/ Pts 1",null,"Ordenar p/ Pts 2",null,"Ordenar p/ Pts 3",null,null,"Ordenar p/ DG 1",null,null,"Ordenar p/ DG 2",null,null,"Ordenar p/ DG 3",null,null,null,"Ordenar p/ GM 1",null,null,null,"Ordenar p/ GM 2",null,null,null,"Ordenar p/ GM 3",null,null,null,null,null,null,null,null,null,null,null,null,null,null,null,null,null,"Vencedores","Derrotados",null,null,{"$f":"IF(ISBLANK(DG14),COUNTA(DG15:$DG$35),0)","v":0},11,null,null,null,null,null,null,null,null,null,null,null,null,14,null,"","C4","",null,null,"",null,null,null,12,null,null,null,null,null,null,null,null,null,null,null,null,null,null,null,null,null,"SH-InfA","Singulares Homens - Infantis A",null,20,"5 Grupos: 4+4+4+4+4","1 Primeiros + 3 melhores 2º"]
[null,{"$f":"$A$4","v":"SH-InfA"},{"$f":"AZ18","v":""},null,null,null,{"$f":"IF(ISBLANK(D15),\"\",SUM(IF(D15>D16,1,0)+(IF(E15>E16,1,0)+(IF(F15>F16,1,0)))))","v":""},{"$f":"$A$4","v":"SH-InfA"},{"$f":"IF(I16=\"\",\"\",AZ19)","v":""},null,null,null,{"$f":"IF(ISBLANK(J15),\"\",SUM(IF(J15>J16,1,0)+(IF(K15>K16,1,0)+(IF(L15>L16,1,0)))))","v":""},null,8,{"$f":"IF($DQ$1<=20,LOOKUP(O15,$DT$36:$DT$51,$DU$36:$DU$51),IF(AND($DQ$1>20,$DQ$1<24),LOOKUP(O15,$DT$36:$DT$51,$DV$36:$DV$51),LOOKUP(O15,$DT$36:$DT$51,$DW$36:$DW$51)))","v":"1º Melhor 2º"},null,null,null,{"$f":"IF(ISBLANK(Q14),\"\",SUM(IF(Q15>Q14,1,0)+(IF(R15>R14,1,0)+(IF(S15>S14,1,0)))))","v":""},null,null,null,null,null,null,null,null,null,null,null,null,null,null,null,null,null,null,"Classificação Grupo B",null,null,null,null,null,null,null,null,null,null,null,null,"Grupo B",null,null,null,null,null,null,null,null,null,null,null,null,null,null,null,null,null,null,null,null,null,null,null,null,null,null,null,null,null,null,null,null,null,null,null,null,null,null,null,null,null,null,null,null,null,null,null,null,null,null,null,{"$f":"IF(G16<>\"\",IF(G16>G15,C16,IF(G15>G16,C15,\"Empate\")),\"\")","v":""},{"$f":"IF(G16<>\"\",IF(G16<G15,C16,IF(G15<G16,C15,\"Empate\")),\"\")","v":""},null,null,{"$f":"IF(ISBLANK(DG15),COUNTA(DG16:$DG$35),0)","v":0},12,null,null,null,null,null,null,null,null,null,null,null,null,15,null,"","D4","",null,null,"",null,null,null,13,null,null,null,null,null,null,null,null,null,null,null,null,null,null,null,null,null,"SH-InfB","Singulares Homens - Infantis B",null,21,"6 Grupos: 4+4+4+3+3+3","2 Primeiros + 4 melhores 3º"]
[null,{"$f":"H8+1","v":3},{"$f":"AZ17","v":""},null,null,null,{"$f":"IF(ISBLANK(D15),\"\",SUM(IF(D16>D15,1,0)+(IF(E16>E15,1,0)+(IF(F16>F15,1,0)))))","v":""},{"$f":"B16+1","v":4},{"$f":"AZ20","v":""},null,null,null,{"$f":"IF(ISBLANK(J15),\"\",SUM(IF(J16>J15,1,0)+(IF(K16>K15,1,0)+(IF(L16>L15,1,0)))))","v":""},null,null,null,null,null,null,null,null,null,null,null,null,null,null,null,null,"Jogo Nº",{"$f":"CONCATENATE($A$4,\" \",SUM($H$68+13))","v":"SH-InfA 61"},null,null,null,null,null,null,"Cl",{"$f":"AZ16","v":"Jogadores"},"Jg","V","E","D","PM","PS","DP","Pt.",null,null,null,null,"Jogadores","Jg","V","E","D","GM","GS","DG","Pts","Equipas","Pts","Equipas","Pts","Equipas","Pts","DG","Equipas","Pts","DG","Equipas","Pts","DG","Equipas","Pts","DG","GM","Equipas","Pts","DG","GM","Equipas","Pts","DG","GM","Equipas","Pts","DG","GM",null,null,null,"Equipas","Jg","V","D","E","GM","GS","DG","Pts",null,null,{"$f":"IF(M15<>\"\",IF(M15>M16,I15,IF(M16>M15,I16,\"Empate\")),\"\")","v":""},{"$f":"IF(M15<>\"\",IF(M15<M16,I15,IF(M16<M15,I16,\"Empate\")),\"\")","v":""},null,null,{"$f":"IF(ISBLANK(DG16),COUNTA(DG17:$DG$35),0)","v":0},13,null,null,null,null,null,null,null,null,null,null,null,null,16,null,"","A4","",null,null,"",null,null,null,14,null,null,null,null,null,null,null,null,null,null,null,null,null,null,null,null,null,"SH-Ini","Singulares Homens - Iniciados",null,22,"6 Grupos: 4+4+4+4+3+3","2 Primeiros + 4 melhores 3º"]
[null,{"$f":"$A$4","v":"SH-InfA"},{"$f":"AZ17","v":""},null,null,null,{"$f":"IF(ISBLANK(D17),\"\",SUM(IF(D17>D18,1,0)+(IF(E17>E18,1,0)+(IF(F17>F18,1,0)))))","v":""},{"$f":"$A$4","v":"SH-InfA"},{"$f":"AZ20","v":""},null,null,null,{"$f":"IF(ISBLANK(J17),\"\",SUM(IF(J17>J18,1,0)+(IF(K17>K18,1,0)+(IF(L17>L18,1,0)))))","v":""},null,null,null,null,null,null,null,null,null,null,null,null,null,null,null,null,{"$f":"IF(AA11=AA12,\"\",IF(AA11>AA12,W11,W12))","v":""},null,null,null,{"$f":"IF(ISBLANK(AE17),\"\",SUM(IF(AE17>AE18,1,0)+(IF(AF17>AF18,1,0)+(IF(AG17>AG18,1,0)))))","v":""},null,4,null,{"$f":"IF(AM17=\"\",\"\",\"1º\")","v":""},{"$f":"CO17","v":""},{"$f":"IF(AM17=\"\",\"\",CP17)","v":""},{"$f":"IF(AM17=\"\",\"\",CQ17)","v":""},{"$f":"IF(AM17=\"\",\"\",CR17)","v":""},{"$f":"IF(AM17=\"\",\"\",CS17)","v":""},{"$f":"IF(AM17=\"\",\"\",CT17)","v":""},{"$f":"IF(AM17=\"\",\"\",CU17)","v":""},{"$f":"IF(AM17=\"\",\"\",CV17)","v":""},{"$f":"IF(AM17=\"\",\"\",CW17)","v":""},{"$f":"IF(AND($DQ$1>=17,$DQ$1<=20),AW17,IF(AND($DQ$1>=21,$DQ$1<=23),AX17,AY17))","v":8},5,6,8,{"$f":"IF($DQ$1<=20,LOOKUP(DR5,$DR$1:$DR$20,$DT$1:$DT$20),IF(AND($DQ$1>20,$DQ$1<24),LOOKUP(DR6,$DR$1:$DR$23,$DV$1:$DV$23),LOOKUP(DR8,$DR$1:$DR$32,$DY$1:$DY$32)))","v":""},{"$f":"COUNT(G16,G17,M20)","v":0},{"$f":"COUNTIF(CZ15:CZ20,AZ17)","v":6},{"$f":"BA17-(BB17+BD17)","v":-12},{"$f":"COUNTIF(DA15:DA20,AZ17)","v":6},{"$f":"SUM(D16:F16,D17:F17,J20:L20)","v":0},{"$f":"SUM(D15:F15,D18:F18,J19:L19)","v":0},{"$f":"BE17-BF17","v":0},{"$f":"IF(BA17=0,0,BB17*2+BD17*1)","v":0},{"$f":"IF(BH17>=BH18,AZ17,AZ18)","v":""},{"$f":"VLOOKUP(BI17,AZ17:BH20,9,FALSE)","v":0},{"$f":"IF(BJ17>=BJ19,BI17,BI19)","v":""},{"$f":"VLOOKUP(BK17,AZ17:BH20,9,FALSE)","v":0},{"$f":"IF(BL17>=BL20,BK17,BK20)","v":""},{"$f":"VLOOKUP(BM17,AZ17:BH20,9,FALSE)","v":0},{"$f":"VLOOKUP(BM17,AZ17:BH20,8,FALSE)","v":0},{"$f":"IF(AND(BN17=BN18,BO18>BO17),BM18,BM17)","v":""},{"$f":"VLOOKUP(BP17,AZ17:BH20,9,FALSE)","v":0},{"$f":"VLOOKUP(BP17,AZ17:BH20,8,FALSE)","v":0},{"$f":"IF(AND(BQ17=BQ19,BR19>BR17),BP19,BP17)","v":""},{"$f":"VLOOKUP(BS17,AZ17:BH20,9,FALSE)","v":0},{"$f":"VLOOKUP(BS17,AZ17:BH20,8,FALSE)","v":0},{"$f":"IF(AND(BT17=BT20,BU20>BU17),BS20,BS17)","v":""},{"$f":"VLOOKUP(BV17,AZ17:BH20,9,FALSE)","v":0},{"$f":"VLOOKUP(BV17,AZ17:BH20,8,FALSE)","v":0},{"$f":"VLOOKUP(BV17,AZ17:BH20,6,FALSE)","v":0},{"$f":"IF(AND(BW17=BW18,BX17=BX18,BY18>BY17),BV18,BV17)","v":""},{"$f":"VLOOKUP(BZ17,AZ17:BH20,9,FALSE)","v":0},{"$f":"VLOOKUP(BZ17,AZ17:BH20,8,FALSE)","v":0},{"$f":"VLOOKUP(BZ17,AZ17:BH20,6,FALSE)","v":0},{"$f":"IF(AND(CA17=CA19,CB17=CB19,CC19>CC17),BZ19,BZ17)","v":""},{"$f":"VLOOKUP(CD17,AZ17:BH20,9,FALSE)","v":0},{"$f":"VLOOKUP(CD17,AZ17:BH20,8,FALSE)","v":0},{"$f":"VLOOKUP(CD17,AZ17:BH20,6,FALSE)","v":0},{"$f":"IF(AND(CE17=CE20,CF17=CF20,CG20>CG17),CD20,CD17)","v":""},{"$f":"VLOOKUP(CH17,AZ17:BH20,9,FALSE)","v":0},{"$f":"VLOOKUP(CH17,AZ17:BH20,8,FALSE)","v":0},{"$f":"VLOOKUP(CH17,AZ17:BH20,6,FALSE)","v":0},null,null,null,{"$f":"CH17","v":""},{"$f":"VLOOKUP(CO17,AZ17:BH20,2,FALSE)","v":0},{"$f":"VLOOKUP(CO17,AZ17:BH20,3,FALSE)","v":6},{"$f":"VLOOKUP(CO17,AZ17:BH20,4,FALSE)","v":-12},{"$f":"VLOOKUP(CO17,AZ17:BH20,5,FALSE)","v":6},{"$f":"VLOOKUP(CO17,AZ17:BH20,6,FALSE)","v":0},{"$f":"VLOOKUP(CO17,AZ17:BH20,7,FALSE)","v":0},{"$f":"VLOOKUP(CO17,AZ17:BH20,8,FALSE)","v":0},{"$f":"VLOOKUP(CO17,AZ17:BH20,9,FALSE)","v":0},null,null,{"$f":"IF(G17<>\"\",IF(G17>G18,C17,IF(G18>G17,C18,\"Empate\")),\"\")","v":""},{"$f":"IF(G17<>\"\",IF(G17<G18,C17,IF(G18<G17,C18,\"Empate\")),\"\")","v":""},null,null,{"$f":"IF(ISBLANK(DG17),COUNTA(DG18:$DG$35),0)","v":0},14,null,null,null,null,null,null,null,null,null,null,null,null,17,null,"",null,"",null,null,"",null,null,null,15,null,null,null,null,null,null,null,null,null,null,null,null,null,null,null,null,null,"SH-Jun","Singulares Homens - Juniores",null,23,"6 Grupos: 4+4+4+4+4+3","2 Primeiros + 4 melhores 3º"]
[null,{"$f":"H10+1","v":19},{"$f":"AZ19","v":""},null,null,null,{"$f":"IF(ISBLANK(D17),\"\",SUM(IF(D18>D17,1,0)+(IF(E18>E17,1,0)+(IF(F18>F17,1,0)))))","v":""},{"$f":"B18+1","v":20},{"$f":"IF(I17=\"\",\"\",AZ18)","v":""},null,null,null,{"$f":"IF(ISBLANK(J17),\"\",SUM(IF(J18>J17,1,0)+(IF(K18>K17,1,0)+(IF(L18>L17,1,0)))))","v":""},null,null,null,null,null,null,null,null,null,null,null,null,null,null,null,null,{"$f":"IF(AA24=AA25,\"\",IF(AA24>AA25,W24,W25))","v":""},null,null,null,{"$f":"IF(ISBLANK(AE17),\"\",SUM(IF(AE18>AE17,1,0)+(IF(AF18>AF17,1,0)+(IF(AG18>AG17,1,0)))))","v":""},null,6,null,{"$f":"IF(AM18=\"\",\"\",\"2º\")","v":""},{"$f":"CO18","v":""},{"$f":"IF(AM18=\"\",\"\",CP18)","v":""},{"$f":"IF(AM18=\"\",\"\",CQ18)","v":""},{"$f":"IF(AM18=\"\",\"\",CR18)","v":""},{"$f":"IF(AM18=\"\",\"\",CS18)","v":""},{"$f":"IF(AM18=\"\",\"\",CT18)","v":""},{"$f":"IF(AM18=\"\",\"\",CU18)","v":""},{"$f":"IF(AM18=\"\",\"\",CV18)","v":""},{"$f":"IF(AM18=\"\",\"\",CW18)","v":""},{"$f":"IF(AND($DQ$1>=17,$DQ$1<=20),AW18,IF(AND($DQ$1>=21,$DQ$1<=23),AX18,AY18))","v":9},8,7,9,{"$f":"IF($DQ$1<=20,LOOKUP(DR8,$DR$1:$DR$20,$DT$1:$DT$20),IF(AND($DQ$1>20,$DQ$1<24),LOOKUP(DR7,$DR$1:$DR$23,$DV$1:$DV$23),LOOKUP(DR9,$DR$1:$DR$32,$DY$1:$DY$32)))","v":""},{"$f":"COUNT(G15,M18,G20)","v":0},{"$f":"COUNTIF(CZ15:CZ20,AZ18)","v":6},{"$f":"BA18-(BB18+BD18)","v":-12},{"$f":"COUNTIF(DA15:DA20,AZ18)","v":6},{"$f":"SUM(D15:F15,J18:L18,D20:F20)","v":0},{"$f":"SUM(D16:F16,J17:L17,D19:F19)","v":0},{"$f":"BE18-BF18","v":0},{"$f":"IF(BA18=0,0,BB18*2+BD18*1)","v":0},{"$f":"IF(BH18<=BH17,AZ18,AZ17)","v":""},{"$f":"VLOOKUP(BI18,AZ17:BH20,9,FALSE)","v":0},{"$f":"IF(BJ18>=BJ20,BI18,BI20)","v":""},{"$f":"VLOOKUP(BK18,AZ17:BH20,9,FALSE)","v":0},{"$f":"IF(BL18>=BL19,BK18,BK19)","v":""},{"$f":"VLOOKUP(BM18,AZ17:BH20,9,FALSE)","v":0},{"$f":"VLOOKUP(BM18,AZ17:BH20,8,FALSE)","v":0},{"$f":"IF(AND(BN17=BN18,BO18>BO17),BM17,BM18)","v":""},{"$f":"VLOOKUP(BP18,AZ17:BH20,9,FALSE)","v":0},{"$f":"VLOOKUP(BP18,AZ17:BH20,8,FALSE)","v":0},{"$f":"IF(AND(BQ18=BQ20,BR20>BR18),BP20,BP18)","v":""},{"$f":"VLOOKUP(BS18,AZ17:BH20,9,FALSE)","v":0},{"$f":"VLOOKUP(BS18,AZ17:BH20,8,FALSE)","v":0},{"$f":"IF(AND(BT18=BT19,BU19>BU18),BS19,BS18)","v":""},{"$f":"VLOOKUP(BV18,AZ17:BH20,9,FALSE)","v":0},{"$f":"VLOOKUP(BV18,AZ17:BH20,8,FALSE)","v":0},{"$f":"VLOOKUP(BV18,AZ17:BH20,6,FALSE)","v":0},{"$f":"IF(AND(BW17=BW18,BX17=BX18,BY18>BY17),BV17,BV18)","v":""},{"$f":"VLOOKUP(BZ18,AZ17:BH20,9,FALSE)","v":0},{"$f":"VLOOKUP(BZ18,AZ17:BH20,8,FALSE)","v":0},{"$f":"VLOOKUP(BZ18,AZ17:BH20,6,FALSE)","v":0},{"$f":"IF(AND(CA18=CA20,CB18=CB20,CC20>CC18),BZ20,BZ18)","v":""},{"$f":"VLOOKUP(CD18,AZ17:BH20,9,FALSE)","v":0},{"$f":"VLOOKUP(CD18,AZ17:BH20,8,FALSE)","v":0},{"$f":"VLOOKUP(CD18,AZ17:BH20,6,FALSE)","v":0},{"$f":"IF(AND(CE18=CE19,CF18=CF19,CG19>CG18),CD19,CD18)","v":""},{"$f":"VLOOKUP(CH18,AZ17:BH20,9,FALSE)","v":0},{"$f":"VLOOKUP(CH18,AZ17:BH20,8,FALSE)","v":0},{"$f":"VLOOKUP(CH18,AZ17:BH20,6,FALSE)","v":0},null,null,null,{"$f":"CH18","v":""},{"$f":"VLOOKUP(CO18,AZ17:BH20,2,FALSE)","v":0},{"$f":"VLOOKUP(CO18,AZ17:BH20,3,FALSE)","v":6},{"$f":"VLOOKUP(CO18,AZ17:BH20,4,FALSE)","v":-12},{"$f":"VLOOKUP(CO18,AZ17:BH20,5,FALSE)","v":6},{"$f":"VLOOKUP(CO18,AZ17:BH20,6,FALSE)","v":0},{"$f":"VLOOKUP(CO18,AZ17:BH20,7,FALSE)","v":0},{"$f":"VLOOKUP(CO18,AZ17:BH20,8,FALSE)","v":0},{"$f":"VLOOKUP(CO18,AZ17:BH20,9,FALSE)","v":0},null,null,{"$f":"IF(M17<>\"\",IF(M17>M18,I17,IF(M18>M17,I18,\"Empate\")),\"\")","v":""},{"$f":"IF(M17<>\"\",IF(M17<M18,I17,IF(M18<M17,I18,\"Empate\")),\"\")","v":""},null,null,{"$f":"IF(ISBLANK(DG18),COUNTA(DG19:$DG$35),0)","v":0},15,null,null,null,null,null,null,null,null,null,null,null,null,18,null,"",null,"",null,null,"",null,null,null,16,null,null,null,null,null,null,null,null,null,null,null,null,null,null,null,null,null,"SH-Juv","Singulares Homens - Juvenis",null,24,"8 Grupos: 3+3+3+3+3+3+3+3","2 Primeiros de cada Grupo"]
[null,{"$f":"$A$4","v":"SH-InfA"},{"$f":"AZ19","v":""},null,null,null,{"$f":"IF(ISBLANK(D19),\"\",SUM(IF(D19>D20,1,0)+(IF(E19>E20,1,0)+(IF(F19>F20,1,0)))))","v":""},{"$f":"$A$4","v":"SH-InfA"},{"$f":"AZ20","v":""},null,null,null,{"$f":"IF(ISBLANK(J19),\"\",SUM(IF(J19>J20,1,0)+(IF(K19>K20,1,0)+(IF(L19>L20,1,0)))))","v":""},null,null,null,null,null,null,null,null,null,null,null,null,null,null,null,null,null,null,null,null,null,null,null,null,{"$f":"IF(AM19=\"\",\"\",\"3º\")","v":""},{"$f":"CO19","v":""},{"$f":"IF(AM19=\"\",\"\",CP19)","v":""},{"$f":"IF(AM19=\"\",\"\",CQ19)","v":""},{"$f":"IF(AM19=\"\",\"\",CR19)","v":""},{"$f":"IF(AM19=\"\",\"\",CS19)","v":""},{"$f":"IF(AM19=\"\",\"\",CT19)","v":""},{"$f":"IF(AM19=\"\",\"\",CU19)","v":""},{"$f":"IF(AM19=\"\",\"\",CV19)","v":""},{"$f":"IF(AM19=\"\",\"\",CW19)","v":""},{"$f":"IF(AND($DQ$1>=17,$DQ$1<=20),AW19,IF(AND($DQ$1>=21,$DQ$1<=23),AX19,AY19))","v":24},12,13,24,{"$f":"IF($DQ$1<=20,LOOKUP(DR12,$DR$1:$DR$20,$DT$1:$DT$20),IF(AND($DQ$1>20,$DQ$1<24),LOOKUP(DR13,$DR$1:$DR$23,$DV$1:$DV$23),LOOKUP(DR24,$DR$1:$DR$32,$DY$1:$DY$32)))","v":""},{"$f":"COUNT(M15,G18,G19)","v":0},{"$f":"COUNTIF(CZ15:CZ20,AZ19)","v":6},{"$f":"BA19-(BB19+BD19)","v":-12},{"$f":"COUNTIF(DA15:DA20,AZ19)","v":6},{"$f":"SUM(J15:L15,D18:F18,D19:F19)","v":0},{"$f":"SUM(J16:L16,D17:F17,D20:F20)","v":0},{"$f":"BE19-BF19","v":0},{"$f":"IF(BA19=0,0,BB19*2+BD19*1)","v":0},{"$f":"IF(BH19>=BH20,AZ19,AZ20)","v":""},{"$f":"VLOOKUP(BI19,AZ17:BH20,9,FALSE)","v":0},{"$f":"IF(BJ19<=BJ17,BI19,BI17)","v":""},{"$f":"VLOOKUP(BK19,AZ17:BH20,9,FALSE)","v":0},{"$f":"IF(BL19<=BL18,BK19,BK18)","v":""},{"$f":"VLOOKUP(BM19,AZ17:BH20,9,FALSE)","v":0},{"$f":"VLOOKUP(BM19,AZ17:BH20,8,FALSE)","v":0},{"$f":"IF(AND(BN19=BN20,BO20>BO19),BM20,BM19)","v":""},{"$f":"VLOOKUP(BP19,AZ17:BH20,9,FALSE)","v":0},{"$f":"VLOOKUP(BP19,AZ17:BH20,8,FALSE)","v":0},{"$f":"IF(AND(BQ17=BQ19,BR19>BR17),BP17,BP19)","v":""},{"$f":"VLOOKUP(BS19,AZ17:BH20,9,FALSE)","v":0},{"$f":"VLOOKUP(BS19,AZ17:BH20,8,FALSE)","v":0},{"$f":"IF(AND(BT18=BT19,BU19>BU18),BS18,BS19)","v":""},{"$f":"VLOOKUP(BV19,AZ17:BH20,9,FALSE)","v":0},{"$f":"VLOOKUP(BV19,AZ17:BH20,8,FALSE)","v":0},{"$f":"VLOOKUP(BV19,AZ17:BH20,6,FALSE)","v":0},{"$f":"IF(AND(BW19=BW20,BX19=BX20,BY20>BY19),BV20,BV19)","v":""},{"$f":"VLOOKUP(BZ19,AZ17:BH20,9,FALSE)","v":0},{"$f":"VLOOKUP(BZ19,AZ17:BH20,8,FALSE)","v":0},{"$f":"VLOOKUP(BZ19,AZ17:BH20,6,FALSE)","v":0},{"$f":"IF(AND(CA17=CA19,CB17=CB19,CC18>CC17),BZ17,BZ19)","v":""},{"$f":"VLOOKUP(CD19,AZ17:BH20,9,FALSE)","v":0},{"$f":"VLOOKUP(CD19,AZ17:BH20,8,FALSE)","v":0},{"$f":"VLOOKUP(CD19,AZ17:BH20,6,FALSE)","v":0},{"$f":"IF(AND(CE18=CE19,CF18=CF19,CG19>CG18),CD18,CD19)","v":""},{"$f":"VLOOKUP(CH19,AZ17:BH20,9,FALSE)","v":0},{"$f":"VLOOKUP(CH19,AZ17:BH20,8,FALSE)","v":0},{"$f":"VLOOKUP(CH19,AZ17:BH20,6,FALSE)","v":0},null,null,null,{"$f":"CH19","v":""},{"$f":"VLOOKUP(CO19,AZ17:BH20,2,FALSE)","v":0},{"$f":"VLOOKUP(CO19,AZ17:BH20,3,FALSE)","v":6},{"$f":"VLOOKUP(CO19,AZ17:BH20,4,FALSE)","v":-12},{"$f":"VLOOKUP(CO19,AZ17:BH20,5,FALSE)","v":6},{"$f":"VLOOKUP(CO19,AZ17:BH20,6,FALSE)","v":0},{"$f":"VLOOKUP(CO19,AZ17:BH20,7,FALSE)","v":0},{"$f":"VLOOKUP(CO19,AZ17:BH20,8,FALSE)","v":0},{"$f":"VLOOKUP(CO19,AZ17:BH20,9,FALSE)","v":0},null,null,{"$f":"IF(M19<>\"\",IF(M19>M20,I19,IF(M20>M19,I20,\"Empate\")),\"\")","v":""},{"$f":"IF(M19<>\"\",IF(M19<M20,I19,IF(M20<M19,I20,\"Empate\")),\"\")","v":""},null,null,{"$f":"IF(ISBLANK(DG19),COUNTA(DG20:$DG$35),0)","v":0},16,null,null,null,null,null,null,null,null,null,null,null,null,19,null,"",null,"",null,null,"",null,null,null,17,null,null,null,null,null,null,null,null,null,null,null,null,null,null,null,null,null,"SS-InfA","Singulares Senhoras - Infantis A",null,25,"8 Grupos: 4+3+3+3+3+3+3+3","2 Primeiros de cada Grupo"]
[null,{"$f":"H12+1","v":35},{"$f":"AZ18","v":""},null,null,null,{"$f":"IF(ISBLANK(D19),\"\",SUM(IF(D20>D19,1,0)+(IF(E20>E19,1,0)+(IF(F20>F19,1,0)))))","v":""},{"$f":"B20+1","v":36},{"$f":"IF(I19=\"\",\"\",AZ17)","v":""},null,null,null,{"$f":"IF(ISBLANK(J19),\"\",SUM(IF(J20>J19,1,0)+(IF(K20>K19,1,0)+(IF(L20>L19,1,0)))))","v":""},null,null,"Jogo Nº",{"$f":"CONCATENATE($A$4,\" \",SUM($H$68+3))","v":"SH-InfA 51"},null,null,null,null,null,null,null,null,null,null,null,null,null,null,null,null,null,null,null,null,{"$f":"IF(AM20=\"\",\"\",\"4º\")","v":""},{"$f":"CO20","v":""},{"$f":"IF(AM20=\"\",\"\",CP20)","v":""},{"$f":"IF(AM20=\"\",\"\",CQ20)","v":""},{"$f":"IF(AM20=\"\",\"\",CR20)","v":""},{"$f":"IF(AM20=\"\",\"\",CS20)","v":""},{"$f":"IF(AM20=\"\",\"\",CT20)","v":""},{"$f":"IF(AM20=\"\",\"\",CU20)","v":""},{"$f":"IF(AM20=\"\",\"\",CV20)","v":""},{"$f":"IF(AM20=\"\",\"\",CW20)","v":""},{"$f":"IF(AND($DQ$1>=17,$DQ$1<=20),AW20,IF(AND($DQ$1>=21,$DQ$1<=23),AX20,AY20))","v":25},17,20,25,{"$f":"IF($DQ$1<=20,LOOKUP(DR17,$DR$1:$DR$20,$DT$1:$DT$20),IF(AND($DQ$1>20,$DQ$1<24),LOOKUP(DR20,$DR$1:$DR$23,$DV$1:$DV$23),LOOKUP(DR25,$DR$1:$DR$32,$DY$1:$DY$32)))","v":""},{"$f":"COUNT(M16,M17,M19)","v":0},{"$f":"COUNTIF(CZ15:CZ20,AZ20)","v":6},{"$f":"BA20-(BB20+BD20)","v":-12},{"$f":"COUNTIF(DA15:DA20,AZ20)","v":6},{"$f":"SUM(J16:L16,J17:L17,J19:L19)","v":0},{"$f":"SUM(J15:L15,J18:L18,J20:L20)","v":0},{"$f":"BE20-BF20","v":0},{"$f":"IF(BA20=0,0,BB20*2+BD20*1)","v":0},{"$f":"IF(BH20<=BH19,AZ20,AZ19)","v":""},{"$f":"VLOOKUP(BI20,AZ17:BH20,9,FALSE)","v":0},{"$f":"IF(BJ20<=BJ18,BI20,BI18)","v":""},{"$f":"VLOOKUP(BK20,AZ17:BH20,9,FALSE)","v":0},{"$f":"IF(BL20<=BL17,BK20,BK17)","v":""},{"$f":"VLOOKUP(BM20,AZ17:BH20,9,FALSE)","v":0},{"$f":"VLOOKUP(BM20,AZ17:BH20,8,FALSE)","v":0},{"$f":"IF(AND(BN19=BN20,BO20>BO19),BM19,BM20)","v":""},{"$f":"VLOOKUP(BP20,AZ17:BH20,9,FALSE)","v":0},{"$f":"VLOOKUP(BP20,AZ17:BH20,8,FALSE)","v":0},{"$f":"IF(AND(BQ18=BQ20,BR20>BR18),BP18,BP20)","v":""},{"$f":"VLOOKUP(BS20,AZ17:BH20,9,FALSE)","v":0},{"$f":"VLOOKUP(BS20,AZ17:BH20,8,FALSE)","v":0},{"$f":"IF(AND(BT17=BT20,BU20>BU17),BS17,BS20)","v":""},{"$f":"VLOOKUP(BV20,AZ17:BH20,9,FALSE)","v":0},{"$f":"VLOOKUP(BV20,AZ17:BH20,8,FALSE)","v":0},{"$f":"VLOOKUP(BV20,AZ17:BH20,6,FALSE)","v":0},{"$f":"IF(AND(BW19=BW20,BX19=BX20,BY20>BY19),BV19,BV20)","v":""},{"$f":"VLOOKUP(BZ20,AZ17:BH20,9,FALSE)","v":0},{"$f":"VLOOKUP(BZ20,AZ17:BH20,8,FALSE)","v":0},{"$f":"VLOOKUP(BZ20,AZ17:BH20,6,FALSE)","v":0},{"$f":"IF(AND(CA18=CA20,CB18=CB20,CC20>CC18),BZ18,BZ20)","v":""},{"$f":"VLOOKUP(CD20,AZ17:BH20,9,FALSE)","v":0},{"$f":"VLOOKUP(CD20,AZ17:BH20,8,FALSE)","v":0},{"$f":"VLOOKUP(CD20,AZ17:BH20,6,FALSE)","v":0},{"$f":"IF(AND(CE17=CE20,CF17=CF20,CG20>CG17),CD17,CD20)","v":""},{"$f":"VLOOKUP(CH20,AZ17:BH20,9,FALSE)","v":0},{"$f":"VLOOKUP(CH20,AZ17:BH20,8,FALSE)","v":0},{"$f":"VLOOKUP(CH20,AZ17:BH20,6,FALSE)","v":0},null,null,null,{"$f":"CH20","v":""},{"$f":"VLOOKUP(CO20,AZ17:BH20,2,FALSE)","v":0},{"$f":"VLOOKUP(CO20,AZ17:BH20,3,FALSE)","v":6},{"$f":"VLOOKUP(CO20,AZ17:BH20,4,FALSE)","v":-12},{"$f":"VLOOKUP(CO20,AZ17:BH20,5,FALSE)","v":6},{"$f":"VLOOKUP(CO20,AZ17:BH20,6,FALSE)","v":0},{"$f":"VLOOKUP(CO20,AZ17:BH20,7,FALSE)","v":0},{"$f":"VLOOKUP(CO20,AZ17:BH20,8,FALSE)","v":0},{"$f":"VLOOKUP(CO20,AZ17:BH20,9,FALSE)","v":0},null,null,{"$f":"IF(G20<>\"\",IF(G20>G19,C20,IF(G19>G20,C19,\"Empate\")),\"\")","v":""},{"$f":"IF(G20<>\"\",IF(G20<G19,C20,IF(G19<G20,C19,\"Empate\")),\"\")","v":""},null,null,{"$f":"IF(ISBLANK(DG20),COUNTA(DG21:$DG$35),0)","v":0},17,null,null,null,null,null,null,null,null,null,null,null,null,20,null,"",null,"",null,null,"",null,null,null,18,null,null,null,null,null,null,null,null,null,null,null,null,null,null,null,null,null,"SS-InfB","Singulares Senhoras - Infantis B",null,26,"8 Grupos: 4+4+3+3+3+3+3+3","2 Primeiros de cada Grupo"]
[null,null,null,null,null,null,null,null,null,null,null,null,null,null,5,{"$f":"IF($DQ$1<=20,LOOKUP(O21,$DT$36:$DT$51,$DU$36:$DU$51),IF(AND($DQ$1>20,$DQ$1<24),LOOKUP(O21,$DT$36:$DT$51,$DV$36:$DV$51),LOOKUP(O21,$DT$36:$DT$51,$DW$36:$DW$51)))","v":"1º Grupo E"},null,null,null,{"$f":"IF(ISBLANK(Q21),\"\",SUM(IF(Q21>Q22,1,0)+(IF(R21>R22,1,0)+(IF(S21>S22,1,0)))))","v":""},null,null,null,null,null,null,null,null,null,null,null,null,null,null,null,null,null,null,null,null,null,null,null,null,null,null,null,null,null,null,null,null,null,null,null,null,null,null,null,null,null,null,null,null,null,null,null,null,null,null,null,null,null,null,null,null,null,null,null,null,null,null,null,null,null,null,null,null,null,null,null,null,null,null,null,null,null,null,null,null,null,null,null,null,null,null,null,{"$f":"IF(ISBLANK(DG21),COUNTA(DG22:$DG$35),0)","v":0},18,null,null,null,null,null,null,null,null,null,null,null,null,21,null,null,null,"",null,null,"",null,null,null,19,null,null,null,null,null,null,null,null,null,null,null,null,null,null,null,null,null,"SS-Ini","Singulares Senhoras - Iniciados",null,27,"8 Grupos: 4+4+4+3+3+3+3+3","2 Primeiros de cada Grupo"]
["Grupo C","NºJ","Jogadores",1,2,3,"R","NºJ","Jogadores",1,2,3,"R",null,12,{"$f":"IF($DQ$1<=20,LOOKUP(O22,$DT$36:$DT$51,$DU$36:$DU$51),IF(AND($DQ$1>20,$DQ$1<24),LOOKUP(O22,$DT$36:$DT$51,$DV$36:$DV$51),LOOKUP(O22,$DT$36:$DT$51,$DW$36:$DW$51)))","v":"Bye"},null,null,null,{"$f":"IF(ISBLANK(Q21),\"\",SUM(IF(Q22>Q21,1,0)+(IF(R22>R21,1,0)+(IF(S22>S21,1,0)))))","v":""},null,null,null,null,null,null,null,null,null,null,null,null,null,null,null,null,null,null,null,null,null,null,null,null,null,null,null,null,null,null,null,"Colocar Equipas",null,null,null,null,null,null,null,null,"Ordenar p/ Pts 1",null,"Ordenar p/ Pts 2",null,"Ordenar p/ Pts 3",null,null,"Ordenar p/ DG 1",null,null,"Ordenar p/ DG 2",null,null,"Ordenar p/ DG 3",null,null,null,"Ordenar p/ GM 1",null,null,null,"Ordenar p/ GM 2",null,null,null,"Ordenar p/ GM 3",null,null,null,null,null,null,null,null,null,null,null,null,null,null,null,null,null,"Vencedores","Derrotados",null,null,{"$f":"IF(ISBLANK(DG22),COUNTA(DG23:$DG$35),0)","v":0},19,null,null,null,null,null,null,null,null,null,null,null,null,22,null,null,null,"",null,null,"",null,null,null,20,null,null,null,null,null,null,null,null,null,null,null,null,null,null,null,null,null,"SS-Jun","Singulares Senhoras - Juniores",null,28,"8 Grupos: 4+4+4+4+3+3+3+3","2 Primeiros de cada Grupo"]
[null,{"$f":"$A$4","v":"SH-InfA"},{"$f":"AZ26","v":""},null,null,null,{"$f":"IF(ISBLANK(D23),\"\",SUM(IF(D23>D24,1,0)+(IF(E23>E24,1,0)+(IF(F23>F24,1,0)))))","v":""},{"$f":"$A$4","v":"SH-InfA"},{"$f":"IF(I24=\"\",\"\",AZ27)","v":""},null,null,null,{"$f":"IF(ISBLANK(J23),\"\",SUM(IF(J23>J24,1,0)+(IF(K23>K24,1,0)+(IF(L23>L24,1,0)))))","v":""},null,null,null,null,null,null,null,null,null,"Jogo Nº",{"$f":"CONCATENATE($A$4,\" \",SUM($H$68+10))","v":"SH-InfA 58"},null,null,null,null,null,null,null,null,null,null,null,null,null,null,"Classificação Grupo C",null,null,null,null,null,null,null,null,null,null,null,null,"Grupo C",null,null,null,null,null,null,null,null,null,null,null,null,null,null,null,null,null,null,null,null,null,null,null,null,null,null,null,null,null,null,null,null,null,null,null,null,null,null,null,null,null,null,null,null,null,null,null,null,null,null,null,{"$f":"IF(G24<>\"\",IF(G24>G23,C24,IF(G23>G24,C23,\"Empate\")),\"\")","v":""},{"$f":"IF(G24<>\"\",IF(G24<G23,C24,IF(G23<G24,C23,\"Empate\")),\"\")","v":""},null,null,{"$f":"IF(ISBLANK(DG23),COUNTA(DG24:$DG$35),0)","v":0},20,null,null,null,null,null,null,null,null,null,null,null,null,23,null,null,null,"",null,null,"",null,null,null,21,null,null,null,null,null,null,null,null,null,null,null,null,null,null,null,null,null,"SS-Juv","Singulares Senhoras - Juvenis",null,29,"8 Grupos: 4+4+4+4+4+3+3+3","2 Primeiros de cada Grupo"]
[null,{"$f":"H16+1","v":5},{"$f":"AZ25","v":""},null,null,null,{"$f":"IF(ISBLANK(D23),\"\",SUM(IF(D24>D23,1,0)+(IF(E24>E23,1,0)+(IF(F24>F23,1,0)))))","v":""},{"$f":"B24+1","v":6},{"$f":"AZ28","v":""},null,null,null,{"$f":"IF(ISBLANK(J23),\"\",SUM(IF(J24>J23,1,0)+(IF(K24>K23,1,0)+(IF(L24>L23,1,0)))))","v":""},null,null,null,null,null,null,null,null,null,{"$f":"IF(P21=\"Bye\",P22,IF(P22=\"Bye\",P21,IF(T21=T22,\"\",IF(T21>T22,P21,P22))))","v":"1º Grupo E"},null,null,null,{"$f":"IF(ISBLANK(X24),\"\",SUM(IF(X24>X25,1,0)+(IF(Y24>Y25,1,0)+(IF(Z24>Z25,1,0)))))","v":""},null,null,null,null,null,null,null,null,null,null,"Cl",{"$f":"AZ24","v":"Jogadores"},"Jg","V","E","D","PM","PS","DP","Pt.",null,null,null,null,"Jogadores","Jg","V","E","D","GM","GS","DG","Pts","Equipas","Pts","Equipas","Pts","Equipas","Pts","DG","Equipas","Pts","DG","Equipas","Pts","DG","Equipas","Pts","DG","GM","Equipas","Pts","DG","GM","Equipas","Pts","DG","GM","Equipas","Pts","DG","GM",null,null,null,"Equipas","Jg","V","D","E","GM","GS","DG","Pts",null,null,{"$f":"IF(M23<>\"\",IF(M23>M24,I23,IF(M24>M23,I24,\"Empate\")),\"\")","v":""},{"$f":"IF(M23<>\"\",IF(M23<M24,I23,IF(M24<M23,I24,\"Empate\")),\"\")","v":""},null,null,{"$f":"IF(ISBLANK(DG24),COUNTA(DG25:$DG$35),0)","v":0},21,null,null,null,null,null,null,null,null,null,null,null,null,24,null,null,null,"",null,null,"",null,null,null,22,null,null,null,null,null,null,null,null,null,null,null,null,null,null,null,null,null,null,null,null,30,"8 Grupos: 4+4+4+4+4+4+3+3","2 Primeiros de cada Grupo"]
[null,{"$f":"$A$4","v":"SH-InfA"},{"$f":"AZ25","v":""},null,null,null,{"$f":"IF(ISBLANK(D25),\"\",SUM(IF(D25>D26,1,0)+(IF(E25>E26,1,0)+(IF(F25>F26,1,0)))))","v":""},{"$f":"$A$4","v":"SH-InfA"},{"$f":"AZ28","v":""},null,null,null,{"$f":"IF(ISBLANK(J25),\"\",SUM(IF(J25>J26,1,0)+(IF(K25>K26,1,0)+(IF(L25>L26,1,0)))))","v":""},null,null,null,null,null,null,null,null,null,{"$f":"IF(P27=\"Bye\",P28,IF(P28=\"Bye\",P27,IF(T27=T28,\"\",IF(T27>T28,P27,P28))))","v":"1º Grupo D"},null,null,null,{"$f":"IF(ISBLANK(X24),\"\",SUM(IF(X25>X24,1,0)+(IF(Y25>Y24,1,0)+(IF(Z25>Z24,1,0)))))","v":""},null,null,null,null,null,null,null,null,3,null,{"$f":"IF(AM25=\"\",\"\",\"1º\")","v":""},{"$f":"CO25","v":""},{"$f":"IF(AM25=\"\",\"\",CP25)","v":""},{"$f":"IF(AM25=\"\",\"\",CQ25)","v":""},{"$f":"IF(AM25=\"\",\"\",CR25)","v":""},{"$f":"IF(AM25=\"\",\"\",CS25)","v":""},{"$f":"IF(AM25=\"\",\"\",CT25)","v":""},{"$f":"IF(AM25=\"\",\"\",CU25)","v":""},{"$f":"IF(AM25=\"\",\"\",CV25)","v":""},{"$f":"IF(AM25=\"\",\"\",CW25)","v":""},{"$f":"IF(AND($DQ$1>=17,$DQ$1<=20),AW25,IF(AND($DQ$1>=21,$DQ$1<=23),AX25,AY25))","v":5},3,4,5,{"$f":"IF($DQ$1<=20,LOOKUP(DR3,$DR$1:$DR$20,$DT$1:$DT$20),IF(AND($DQ$1>20,$DQ$1<24),LOOKUP(DR4,$DR$1:$DR$23,$DV$1:$DV$23),LOOKUP(DR5,$DR$1:$DR$32,$DY$1:$DY$32)))","v":""},{"$f":"COUNT(G24,G25,M28)","v":0},{"$f":"COUNTIF(CZ23:CZ28,AZ25)","v":6},{"$f":"BA25-(BB25+BD25)","v":-12},{"$f":"COUNTIF(DA23:DA28,AZ25)","v":6},{"$f":"SUM(D24:F24,D25:F25,J28:L28)","v":0},{"$f":"SUM(D23:F23,D26:F26,J27:L27)","v":0},{"$f":"BE25-BF25","v":0},{"$f":"IF(BA25=0,0,BB25*2+BD25*1)","v":0},{"$f":"IF(BH25>=BH26,AZ25,AZ26)","v":""},{"$f":"VLOOKUP(BI25,AZ25:BH28,9,FALSE)","v":0},{"$f":"IF(BJ25>=BJ27,BI25,BI27)","v":""},{"$f":"VLOOKUP(BK25,AZ25:BH28,9,FALSE)","v":0},{"$f":"IF(BL25>=BL28,BK25,BK28)","v":""},{"$f":"VLOOKUP(BM25,AZ25:BH28,9,FALSE)","v":0},{"$f":"VLOOKUP(BM25,AZ25:BH28,8,FALSE)","v":0},{"$f":"IF(AND(BN25=BN26,BO26>BO25),BM26,BM25)","v":""},{"$f":"VLOOKUP(BP25,AZ25:BH28,9,FALSE)","v":0},{"$f":"VLOOKUP(BP25,AZ25:BH28,8,FALSE)","v":0},{"$f":"IF(AND(BQ25=BQ27,BR27>BR25),BP27,BP25)","v":""},{"$f":"VLOOKUP(BS25,AZ25:BH28,9,FALSE)","v":0},{"$f":"VLOOKUP(BS25,AZ25:BH28,8,FALSE)","v":0},{"$f":"IF(AND(BT25=BT28,BU28>BU25),BS28,BS25)","v":""},{"$f":"VLOOKUP(BV25,AZ25:BH28,9,FALSE)","v":0},{"$f":"VLOOKUP(BV25,AZ25:BH28,8,FALSE)","v":0},{"$f":"VLOOKUP(BV25,AZ25:BH28,6,FALSE)","v":0},{"$f":"IF(AND(BW25=BW26,BX25=BX26,BY26>BY25),BV26,BV25)","v":""},{"$f":"VLOOKUP(BZ25,AZ25:BH28,9,FALSE)","v":0},{"$f":"VLOOKUP(BZ25,AZ25:BH28,8,FALSE)","v":0},{"$f":"VLOOKUP(BZ25,AZ25:BH28,6,FALSE)","v":0},{"$f":"IF(AND(CA25=CA27,CB25=CB27,CC27>CC25),BZ27,BZ25)","v":""},{"$f":"VLOOKUP(CD25,AZ25:BH28,9,FALSE)","v":0},{"$f":"VLOOKUP(CD25,AZ25:BH28,8,FALSE)","v":0},{"$f":"VLOOKUP(CD25,AZ25:BH28,6,FALSE)","v":0},{"$f":"IF(AND(CE25=CE28,CF25=CF28,CG28>CG25),CD28,CD25)","v":""},{"$f":"VLOOKUP(CH25,AZ25:BH28,9,FALSE)","v":0},{"$f":"VLOOKUP(CH25,AZ25:BH28,8,FALSE)","v":0},{"$f":"VLOOKUP(CH25,AZ25:BH28,6,FALSE)","v":0},null,null,null,{"$f":"CH25","v":""},{"$f":"VLOOKUP(CO25,AZ25:BH28,2,FALSE)","v":0},{"$f":"VLOOKUP(CO25,AZ25:BH28,3,FALSE)","v":6},{"$f":"VLOOKUP(CO25,AZ25:BH28,4,FALSE)","v":-12},{"$f":"VLOOKUP(CO25,AZ25:BH28,5,FALSE)","v":6},{"$f":"VLOOKUP(CO25,AZ25:BH28,6,FALSE)","v":0},{"$f":"VLOOKUP(CO25,AZ25:BH28,7,FALSE)","v":0},{"$f":"VLOOKUP(CO25,AZ25:BH28,8,FALSE)","v":0},{"$f":"VLOOKUP(CO25,AZ25:BH28,9,FALSE)","v":0},null,null,{"$f":"IF(G25<>\"\",IF(G25>G26,C25,IF(G26>G25,C26,\"Empate\")),\"\")","v":""},{"$f":"IF(G25<>\"\",IF(G25<G26,C25,IF(G26<G25,C26,\"Empate\")),\"\")","v":""},null,null,{"$f":"IF(ISBLANK(DG25),COUNTA(DG26:$DG$35),0)","v":0},22,null,null,null,null,null,null,null,null,null,null,null,null,25,null,null,null,null,null,null,"",null,null,null,23,null,null,null,null,null,null,null,null,null,null,null,null,null,null,null,null,null,null,null,null,31,"8 Grupos: 4+4+4+4+4+4+4+3","2 Primeiros de cada Grupo"]
[null,{"$f":"H18+1","v":21},{"$f":"AZ27","v":""},null,null,null,{"$f":"IF(ISBLANK(D25),\"\",SUM(IF(D26>D25,1,0)+(IF(E26>E25,1,0)+(IF(F26>F25,1,0)))))","v":""},{"$f":"B26+1","v":22},{"$f":"IF(I25=\"\",\"\",AZ26)","v":""},null,null,null,{"$f":"IF(ISBLANK(J25),\"\",SUM(IF(J26>J25,1,0)+(IF(K26>K25,1,0)+(IF(L26>L25,1,0)))))","v":""},null,null,"Jogo Nº",{"$f":"CONCATENATE($A$4,\" \",SUM($H$68+4))","v":"SH-InfA 52"},null,null,null,null,null,null,null,null,null,null,null,null,null,null,null,null,null,null,5,null,{"$f":"IF(AM26=\"\",\"\",\"2º\")","v":""},{"$f":"CO26","v":""},{"$f":"IF(AM26=\"\",\"\",CP26)","v":""},{"$f":"IF(AM26=\"\",\"\",CQ26)","v":""},{"$f":"IF(AM26=\"\",\"\",CR26)","v":""},{"$f":"IF(AM26=\"\",\"\",CS26)","v":""},{"$f":"IF(AM26=\"\",\"\",CT26)","v":""},{"$f":"IF(AM26=\"\",\"\",CU26)","v":""},{"$f":"IF(AM26=\"\",\"\",CV26)","v":""},{"$f":"IF(AM26=\"\",\"\",CW26)","v":""},{"$f":"IF(AND($DQ$1>=17,$DQ$1<=20),AW26,IF(AND($DQ$1>=21,$DQ$1<=23),AX26,AY26))","v":12},6,9,12,{"$f":"IF($DQ$1<=20,LOOKUP(DR6,$DR$1:$DR$20,$DT$1:$DT$20),IF(AND($DQ$1>20,$DQ$1<24),LOOKUP(DR9,$DR$1:$DR$23,$DV$1:$DV$23),LOOKUP(DR12,$DR$1:$DR$32,$DY$1:$DY$32)))","v":""},{"$f":"COUNT(G23,M26,G28)","v":0},{"$f":"COUNTIF(CZ23:CZ28,AZ26)","v":6},{"$f":"BA26-(BB26+BD26)","v":-12},{"$f":"COUNTIF(DA23:DA28,AZ26)","v":6},{"$f":"SUM(D23:F23,J26:L26,D28:F28)","v":0},{"$f":"SUM(D24:F24,J25:L25,D27:F27)","v":0},{"$f":"BE26-BF26","v":0},{"$f":"IF(BA26=0,0,BB26*2+BD26*1)","v":0},{"$f":"IF(BH26<=BH25,AZ26,AZ25)","v":""},{"$f":"VLOOKUP(BI26,AZ25:BH28,9,FALSE)","v":0},{"$f":"IF(BJ26>=BJ28,BI26,BI28)","v":""},{"$f":"VLOOKUP(BK26,AZ25:BH28,9,FALSE)","v":0},{"$f":"IF(BL26>=BL27,BK26,BK27)","v":""},{"$f":"VLOOKUP(BM26,AZ25:BH28,9,FALSE)","v":0},{"$f":"VLOOKUP(BM26,AZ25:BH28,8,FALSE)","v":0},{"$f":"IF(AND(BN25=BN26,BO26>BO25),BM25,BM26)","v":""},{"$f":"VLOOKUP(BP26,AZ25:BH28,9,FALSE)","v":0},{"$f":"VLOOKUP(BP26,AZ25:BH28,8,FALSE)","v":0},{"$f":"IF(AND(BQ26=BQ28,BR28>BR26),BP28,BP26)","v":""},{"$f":"VLOOKUP(BS26,AZ25:BH28,9,FALSE)","v":0},{"$f":"VLOOKUP(BS26,AZ25:BH28,8,FALSE)","v":0},{"$f":"IF(AND(BT26=BT27,BU27>BU26),BS27,BS26)","v":""},{"$f":"VLOOKUP(BV26,AZ25:BH28,9,FALSE)","v":0},{"$f":"VLOOKUP(BV26,AZ25:BH28,8,FALSE)","v":0},{"$f":"VLOOKUP(BV26,AZ25:BH28,6,FALSE)","v":0},{"$f":"IF(AND(BW25=BW26,BX25=BX26,BY26>BY25),BV25,BV26)","v":""},{"$f":"VLOOKUP(BZ26,AZ25:BH28,9,FALSE)","v":0},{"$f":"VLOOKUP(BZ26,AZ25:BH28,8,FALSE)","v":0},{"$f":"VLOOKUP(BZ26,AZ25:BH28,6,FALSE)","v":0},{"$f":"IF(AND(CA26=CA28,CB26=CB28,CC28>CC26),BZ28,BZ26)","v":""},{"$f":"VLOOKUP(CD26,AZ25:BH28,9,FALSE)","v":0},{"$f":"VLOOKUP(CD26,AZ25:BH28,8,FALSE)","v":0},{"$f":"VLOOKUP(CD26,AZ25:BH28,6,FALSE)","v":0},{"$f":"IF(AND(CE26=CE27,CF26=CF27,CG27>CG26),CD27,CD26)","v":""},{"$f":"VLOOKUP(CH26,AZ25:BH28,9,FALSE)","v":0},{"$f":"VLOOKUP(CH26,AZ25:BH28,8,FALSE)","v":0},{"$f":"VLOOKUP(CH26,AZ25:BH28,6,FALSE)","v":0},null,null,null,{"$f":"CH26","v":""},{"$f":"VLOOKUP(CO26,AZ25:BH28,2,FALSE)","v":0},{"$f":"VLOOKUP(CO26,AZ25:BH28,3,FALSE)","v":6},{"$f":"VLOOKUP(CO26,AZ25:BH28,4,FALSE)","v":-12},{"$f":"VLOOKUP(CO26,AZ25:BH28,5,FALSE)","v":6},{"$f":"VLOOKUP(CO26,AZ25:BH28,6,FALSE)","v":0},{"$f":"VLOOKUP(CO26,AZ25:BH28,7,FALSE)","v":0},{"$f":"VLOOKUP(CO26,AZ25:BH28,8,FALSE)","v":0},{"$f":"VLOOKUP(CO26,AZ25:BH28,9,FALSE)","v":0},null,null,{"$f":"IF(M25<>\"\",IF(M25>M26,I25,IF(M26>M25,I26,\"Empate\")),\"\")","v":""},{"$f":"IF(M25<>\"\",IF(M25<M26,I25,IF(M26<M25,I26,\"Empate\")),\"\")","v":""},null,null,{"$f":"IF(ISBLANK(DG26),COUNTA(DG27:$DG$35),0)","v":0},23,null,null,null,null,null,null,null,null,null,null,null,null,26,null,null,null,null,null,null,"",null,null,null,24,null,null,null,null,null,null,null,null,null,null,null,null,null,null,null,null,null,null,null,null,32,"8 Grupos: 4+4+4+4+4+4+4+4","2 Primeiros de cada Grupo"]
[null,{"$f":"$A$4","v":"SH-InfA"},{"$f":"AZ27","v":""},null,null,null,{"$f":"IF(ISBLANK(D27),\"\",SUM(IF(D27>D28,1,0)+(IF(E27>E28,1,0)+(IF(F27>F28,1,0)))))","v":""},{"$f":"$A$4","v":"SH-InfA"},{"$f":"AZ28","v":""},null,null,null,{"$f":"IF(ISBLANK(J27),\"\",SUM(IF(J27>J28,1,0)+(IF(K27>K28,1,0)+(IF(L27>L28,1,0)))))","v":""},null,13,{"$f":"IF($DQ$1<=20,LOOKUP(O27,$DT$36:$DT$51,$DU$36:$DU$51),IF(AND($DQ$1>20,$DQ$1<24),LOOKUP(O27,$DT$36:$DT$51,$DV$36:$DV$51),LOOKUP(O27,$DT$36:$DT$51,$DW$36:$DW$51)))","v":"Bye"},null,null,null,{"$f":"IF(ISBLANK(Q27),\"\",SUM(IF(Q27>Q28,1,0)+(IF(R27>R28,1,0)+(IF(S27>S28,1,0)))))","v":""},null,null,null,null,null,null,null,null,null,null,null,null,null,null,null,null,null,{"$f":"IF(AM27=\"\",\"\",\"3º\")","v":""},{"$f":"CO27","v":""},{"$f":"IF(AM27=\"\",\"\",CP27)","v":""},{"$f":"IF(AM27=\"\",\"\",CQ27)","v":""},{"$f":"IF(AM27=\"\",\"\",CR27)","v":""},{"$f":"IF(AM27=\"\",\"\",CS27)","v":""},{"$f":"IF(AM27=\"\",\"\",CT27)","v":""},{"$f":"IF(AM27=\"\",\"\",CU27)","v":""},{"$f":"IF(AM27=\"\",\"\",CV27)","v":""},{"$f":"IF(AM27=\"\",\"\",CW27)","v":""},{"$f":"IF(AND($DQ$1>=17,$DQ$1<=20),AW27,IF(AND($DQ$1>=21,$DQ$1<=23),AX27,AY27))","v":21},11,16,21,{"$f":"IF($DQ$1<=20,LOOKUP(DR11,$DR$1:$DR$20,$DT$1:$DT$20),IF(AND($DQ$1>20,$DQ$1<24),LOOKUP(DR16,$DR$1:$DR$23,$DV$1:$DV$23),LOOKUP(DR21,$DR$1:$DR$32,$DY$1:$DY$32)))","v":""},{"$f":"COUNT(M23,G26,G27)","v":0},{"$f":"COUNTIF(CZ23:CZ28,AZ27)","v":6},{"$f":"BA27-(BB27+BD27)","v":-12},{"$f":"COUNTIF(DA23:DA28,AZ27)","v":6},{"$f":"SUM(J23:L23,D26:F26,D27:F27)","v":0},{"$f":"SUM(J24:L24,D25:F25,D28:F28)","v":0},{"$f":"BE27-BF27","v":0},{"$f":"IF(BA27=0,0,BB27*2+BD27*1)","v":0},{"$f":"IF(BH27>=BH28,AZ27,AZ28)","v":""},{"$f":"VLOOKUP(BI27,AZ25:BH28,9,FALSE)","v":0},{"$f":"IF(BJ27<=BJ25,BI27,BI25)","v":""},{"$f":"VLOOKUP(BK27,AZ25:BH28,9,FALSE)","v":0},{"$f":"IF(BL27<=BL26,BK27,BK26)","v":""},{"$f":"VLOOKUP(BM27,AZ25:BH28,9,FALSE)","v":0},{"$f":"VLOOKUP(BM27,AZ25:BH28,8,FALSE)","v":0},{"$f":"IF(AND(BN27=BN28,BO28>BO27),BM28,BM27)","v":""},{"$f":"VLOOKUP(BP27,AZ25:BH28,9,FALSE)","v":0},{"$f":"VLOOKUP(BP27,AZ25:BH28,8,FALSE)","v":0},{"$f":"IF(AND(BQ25=BQ27,BR27>BR25),BP25,BP27)","v":""},{"$f":"VLOOKUP(BS27,AZ25:BH28,9,FALSE)","v":0},{"$f":"VLOOKUP(BS27,AZ25:BH28,8,FALSE)","v":0},{"$f":"IF(AND(BT26=BT27,BU27>BU26),BS26,BS27)","v":""},{"$f":"VLOOKUP(BV27,AZ25:BH28,9,FALSE)","v":0},{"$f":"VLOOKUP(BV27,AZ25:BH28,8,FALSE)","v":0},{"$f":"VLOOKUP(BV27,AZ25:BH28,6,FALSE)","v":0},{"$f":"IF(AND(BW27=BW28,BX27=BX28,BY28>BY27),BV28,BV27)","v":""},{"$f":"VLOOKUP(BZ27,AZ25:BH28,9,FALSE)","v":0},{"$f":"VLOOKUP(BZ27,AZ25:BH28,8,FALSE)","v":0},{"$f":"VLOOKUP(BZ27,AZ25:BH28,6,FALSE)","v":0},{"$f":"IF(AND(CA25=CA27,CB25=CB27,CC26>CC25),BZ25,BZ27)","v":""},{"$f":"VLOOKUP(CD27,AZ25:BH28,9,FALSE)","v":0},{"$f":"VLOOKUP(CD27,AZ25:BH28,8,FALSE)","v":0},{"$f":"VLOOKUP(CD27,AZ25:BH28,6,FALSE)","v":0},{"$f":"IF(AND(CE26=CE27,CF26=CF27,CG27>CG26),CD26,CD27)","v":""},{"$f":"VLOOKUP(CH27,AZ25:BH28,9,FALSE)","v":0},{"$f":"VLOOKUP(CH27,AZ25:BH28,8,FALSE)","v":0},{"$f":"VLOOKUP(CH27,AZ25:BH28,6,FALSE)","v":0},null,null,null,{"$f":"CH27","v":""},{"$f":"VLOOKUP(CO27,AZ25:BH28,2,FALSE)","v":0},{"$f":"VLOOKUP(CO27,AZ25:BH28,3,FALSE)","v":6},{"$f":"VLOOKUP(CO27,AZ25:BH28,4,FALSE)","v":-12},{"$f":"VLOOKUP(CO27,AZ25:BH28,5,FALSE)","v":6},{"$f":"VLOOKUP(CO27,AZ25:BH28,6,FALSE)","v":0},{"$f":"VLOOKUP(CO27,AZ25:BH28,7,FALSE)","v":0},{"$f":"VLOOKUP(CO27,AZ25:BH28,8,FALSE)","v":0},{"$f":"VLOOKUP(CO27,AZ25:BH28,9,FALSE)","v":0},null,null,{"$f":"IF(M27<>\"\",IF(M27>M28,I27,IF(M28>M27,I28,\"Empate\")),\"\")","v":""},{"$f":"IF(M27<>\"\",IF(M27<M28,I27,IF(M28<M27,I28,\"Empate\")),\"\")","v":""},null,null,{"$f":"IF(ISBLANK(DG27),COUNTA(DG28:$DG$35),0)","v":0},24,null,null,null,null,null,null,null,null,null,null,null,null,27,null,null,null,null,null,null,"",null,null,null,25]
[null,{"$f":"H20+1","v":37},{"$f":"AZ26","v":""},null,null,null,{"$f":"IF(ISBLANK(D27),\"\",SUM(IF(D28>D27,1,0)+(IF(E28>E27,1,0)+(IF(F28>F27,1,0)))))","v":""},{"$f":"B28+1","v":38},{"$f":"IF(I27=\"\",\"\",AZ25)","v":""},null,null,null,{"$f":"IF(ISBLANK(J27),\"\",SUM(IF(J28>J27,1,0)+(IF(K28>K27,1,0)+(IF(L28>L27,1,0)))))","v":""},null,4,{"$f":"IF($DQ$1<=20,LOOKUP(O28,$DT$36:$DT$51,$DU$36:$DU$51),IF(AND($DQ$1>20,$DQ$1<24),LOOKUP(O28,$DT$36:$DT$51,$DV$36:$DV$51),LOOKUP(O28,$DT$36:$DT$51,$DW$36:$DW$51)))","v":"1º Grupo D"},null,null,null,{"$f":"IF(ISBLANK(Q27),\"\",SUM(IF(Q28>Q27,1,0)+(IF(R28>R27,1,0)+(IF(S28>S27,1,0)))))","v":""},null,null,null,null,null,null,null,null,null,null,null,null,null,null,null,null,null,{"$f":"IF(AM28=\"\",\"\",\"4º\")","v":""},{"$f":"CO28","v":""},{"$f":"IF(AM28=\"\",\"\",CP28)","v":""},{"$f":"IF(AM28=\"\",\"\",CQ28)","v":""},{"$f":"IF(AM28=\"\",\"\",CR28)","v":""},{"$f":"IF(AM28=\"\",\"\",CS28)","v":""},{"$f":"IF(AM28=\"\",\"\",CT28)","v":""},{"$f":"IF(AM28=\"\",\"\",CU28)","v":""},{"$f":"IF(AM28=\"\",\"\",CV28)","v":""},{"$f":"IF(AM28=\"\",\"\",CW28)","v":""},{"$f":"IF(AND($DQ$1>=17,$DQ$1<=20),AW28,IF(AND($DQ$1>=21,$DQ$1<=23),AX28,AY28))","v":28},16,21,28,{"$f":"IF($DQ$1<=20,LOOKUP(DR16,$DR$1:$DR$20,$DT$1:$DT$20),IF(AND($DQ$1>20,$DQ$1<24),LOOKUP(DR21,$DR$1:$DR$23,$DV$1:$DV$23),LOOKUP(DR28,$DR$1:$DR$32,$DY$1:$DY$32)))","v":""},{"$f":"COUNT(M24,M25,M27)","v":0},{"$f":"COUNTIF(CZ23:CZ28,AZ28)","v":6},{"$f":"BA28-(BB28+BD28)","v":-12},{"$f":"COUNTIF(DA23:DA28,AZ28)","v":6},{"$f":"SUM(J24:L24,J25:L25,J27:L27)","v":0},{"$f":"SUM(J23:L23,J26:L26,J28:L28)","v":0},{"$f":"BE28-BF28","v":0},{"$f":"IF(BA28=0,0,BB28*2+BD28*1)","v":0},{"$f":"IF(BH28<=BH27,AZ28,AZ27)","v":""},{"$f":"VLOOKUP(BI28,AZ25:BH28,9,FALSE)","v":0},{"$f":"IF(BJ28<=BJ26,BI28,BI26)","v":""},{"$f":"VLOOKUP(BK28,AZ25:BH28,9,FALSE)","v":0},{"$f":"IF(BL28<=BL25,BK28,BK25)","v":""},{"$f":"VLOOKUP(BM28,AZ25:BH28,9,FALSE)","v":0},{"$f":"VLOOKUP(BM28,AZ25:BH28,8,FALSE)","v":0},{"$f":"IF(AND(BN27=BN28,BO28>BO27),BM27,BM28)","v":""},{"$f":"VLOOKUP(BP28,AZ25:BH28,9,FALSE)","v":0},{"$f":"VLOOKUP(BP28,AZ25:BH28,8,FALSE)","v":0},{"$f":"IF(AND(BQ26=BQ28,BR28>BR26),BP26,BP28)","v":""},{"$f":"VLOOKUP(BS28,AZ25:BH28,9,FALSE)","v":0},{"$f":"VLOOKUP(BS28,AZ25:BH28,8,FALSE)","v":0},{"$f":"IF(AND(BT25=BT28,BU28>BU25),BS25,BS28)","v":""},{"$f":"VLOOKUP(BV28,AZ25:BH28,9,FALSE)","v":0},{"$f":"VLOOKUP(BV28,AZ25:BH28,8,FALSE)","v":0},{"$f":"VLOOKUP(BV28,AZ25:BH28,6,FALSE)","v":0},{"$f":"IF(AND(BW27=BW28,BX27=BX28,BY28>BY27),BV27,BV28)","v":""},{"$f":"VLOOKUP(BZ28,AZ25:BH28,9,FALSE)","v":0},{"$f":"VLOOKUP(BZ28,AZ25:BH28,8,FALSE)","v":0},{"$f":"VLOOKUP(BZ28,AZ25:BH28,6,FALSE)","v":0},{"$f":"IF(AND(CA26=CA28,CB26=CB28,CC28>CC26),BZ26,BZ28)","v":""},{"$f":"VLOOKUP(CD28,AZ25:BH28,9,FALSE)","v":0},{"$f":"VLOOKUP(CD28,AZ25:BH28,8,FALSE)","v":0},{"$f":"VLOOKUP(CD28,AZ25:BH28,6,FALSE)","v":0},{"$f":"IF(AND(CE25=CE28,CF25=CF28,CG28>CG25),CD25,CD28)","v":""},{"$f":"VLOOKUP(CH28,AZ25:BH28,9,FALSE)","v":0},{"$f":"VLOOKUP(CH28,AZ25:BH28,8,FALSE)","v":0},{"$f":"VLOOKUP(CH28,AZ25:BH28,6,FALSE)","v":0},null,null,null,{"$f":"CH28","v":""},{"$f":"VLOOKUP(CO28,AZ25:BH28,2,FALSE)","v":0},{"$f":"VLOOKUP(CO28,AZ25:BH28,3,FALSE)","v":6},{"$f":"VLOOKUP(CO28,AZ25:BH28,4,FALSE)","v":-12},{"$f":"VLOOKUP(CO28,AZ25:BH28,5,FALSE)","v":6},{"$f":"VLOOKUP(CO28,AZ25:BH28,6,FALSE)","v":0},{"$f":"VLOOKUP(CO28,AZ25:BH28,7,FALSE)","v":0},{"$f":"VLOOKUP(CO28,AZ25:BH28,8,FALSE)","v":0},{"$f":"VLOOKUP(CO28,AZ25:BH28,9,FALSE)","v":0},null,null,{"$f":"IF(G28<>\"\",IF(G28>G27,C28,IF(G27>G28,C27,\"Empate\")),\"\")","v":""},{"$f":"IF(G28<>\"\",IF(G28<G27,C28,IF(G27<G28,C27,\"Empate\")),\"\")","v":""},null,null,{"$f":"IF(ISBLANK(DG28),COUNTA(DG29:$DG$35),0)","v":0},25,null,null,null,null,null,null,null,null,null,null,null,null,28,null,null,null,null,null,null,"",null,null,null,26]
[null,null,null,null,null,null,null,null,null,null,null,null,null,null,null,null,null,null,null,null,null,null,null,null,null,null,null,null,null,null,null,null,null,null,null,null,null,null,null,null,null,null,null,null,null,null,null,null,null,null,null,null,null,null,null,null,null,null,null,null,null,null,null,null,null,null,null,null,null,null,null,null,null,null,null,null,null,null,null,null,null,null,null,null,null,null,null,null,null,null,null,null,null,null,null,null,null,null,null,null,null,null,null,null,null,null,null,{"$f":"IF(ISBLANK(DG29),COUNTA(DG30:$DG$35),0)","v":0},26,null,null,null,null,null,null,null,null,null,null,null,null,29,null,null,null,null,null,null,"",null,null,null,27]
["Grupo D","NºJ","Jogadores",1,2,3,"R","NºJ","Jogadores",1,2,3,"R",null,null,null,null,null,null,null,null,null,null,null,null,null,null,null,null,null,null,null,null,null,null,null,null,null,null,null,null,null,null,null,null,null,null,null,null,null,null,"Colocar Equipas",null,null,null,null,null,null,null,null,"Ordenar p/ Pts 1",null,"Ordenar p/ Pts 2",null,"Ordenar p/ Pts 3",null,null,"Ordenar p/ DG 1",null,null,"Ordenar p/ DG 2",null,null,"Ordenar p/ DG 3",null,null,null,"Ordenar p/ GM 1",null,null,null,"Ordenar p/ GM 2",null,null,null,"Ordenar p/ GM 3",null,null,null,null,null,null,null,null,null,null,null,null,null,null,null,null,null,"Vencedores","Derrotados",null,null,{"$f":"IF(ISBLANK(DG30),COUNTA(DG31:$DG$35),0)","v":0},27,null,null,null,null,null,null,null,null,null,null,null,null,30,null,null,null,null,null,null,"",null,null,null,28]
[null,{"$f":"$A$4","v":"SH-InfA"},{"$f":"AZ34","v":""},null,null,null,{"$f":"IF(ISBLANK(D31),\"\",SUM(IF(D31>D32,1,0)+(IF(E31>E32,1,0)+(IF(F31>F32,1,0)))))","v":""},{"$f":"$A$4","v":"SH-InfA"},{"$f":"IF(I32=\"\",\"\",AZ35)","v":""},null,null,null,{"$f":"IF(ISBLANK(J31),\"\",SUM(IF(J31>J32,1,0)+(IF(K31>K32,1,0)+(IF(L31>L32,1,0)))))","v":""},null,null,null,null,null,null,null,null,null,null,null,null,null,null,null,null,null,null,null,null,null,null,null,null,null,"Classificação Grupo D",null,null,null,null,null,null,null,null,null,null,null,null,"Grupo D",null,null,null,null,null,null,null,null,null,null,null,null,null,null,null,null,null,null,null,null,null,null,null,null,null,null,null,null,null,null,null,null,null,null,null,null,null,null,null,null,null,null,null,null,null,null,null,null,null,null,null,{"$f":"IF(G32<>\"\",IF(G32>G31,C32,IF(G31>G32,C31,\"Empate\")),\"\")","v":""},{"$f":"IF(G32<>\"\",IF(G32<G31,C32,IF(G31<G32,C31,\"Empate\")),\"\")","v":""},null,null,{"$f":"IF(ISBLANK(DG31),COUNTA(DG32:$DG$35),0)","v":0},28,null,null,null,null,null,null,null,null,null,null,null,null,31,null,null,null,null,null,null,"",null,null,null,29]
[null,{"$f":"H24+1","v":7},{"$f":"AZ33","v":""},null,null,null,{"$f":"IF(ISBLANK(D31),\"\",SUM(IF(D32>D31,1,0)+(IF(E32>E31,1,0)+(IF(F32>F31,1,0)))))","v":""},{"$f":"B32+1","v":8},{"$f":"AZ36","v":""},null,null,null,{"$f":"IF(ISBLANK(J31),\"\",SUM(IF(J32>J31,1,0)+(IF(K32>K31,1,0)+(IF(L32>L31,1,0)))))","v":""},null,null,null,null,null,null,null,null,null,null,null,null,null,null,null,null,"Final",null,null,null,null,null,null,null,"Cl",{"$f":"AZ32","v":"Jogadores"},"Jg","V","E","D","PM","PS","DP","Pt.",null,null,null,null,"Jogadores","Jg","V","E","D","GM","GS","DG","Pts","Equipas","Pts","Equipas","Pts","Equipas","Pts","DG","Equipas","Pts","DG","Equipas","Pts","DG","Equipas","Pts","DG","GM","Equipas","Pts","DG","GM","Equipas","Pts","DG","GM","Equipas","Pts","DG","GM",null,null,null,"Equipas","Jg","V","D","E","GM","GS","DG","Pts",null,null,{"$f":"IF(M31<>\"\",IF(M31>M32,I31,IF(M32>M31,I32,\"Empate\")),\"\")","v":""},{"$f":"IF(M31<>\"\",IF(M31<M32,I31,IF(M32<M31,I32,\"Empate\")),\"\")","v":""},null,null,{"$f":"IF(ISBLANK(DG32),COUNTA(DG33:$DG$35),0)","v":0},29,null,null,null,null,null,null,null,null,null,null,null,null,32,null,null,null,null,null,null,"",null,null,null,30]
[null,{"$f":"$A$4","v":"SH-InfA"},{"$f":"AZ33","v":""},null,null,null,{"$f":"IF(ISBLANK(D33),\"\",SUM(IF(D33>D34,1,0)+(IF(E33>E34,1,0)+(IF(F33>F34,1,0)))))","v":""},{"$f":"$A$4","v":"SH-InfA"},{"$f":"AZ36","v":""},null,null,null,{"$f":"IF(ISBLANK(J33),\"\",SUM(IF(J33>J34,1,0)+(IF(K33>K34,1,0)+(IF(L33>L34,1,0)))))","v":""},null,null,null,null,null,null,null,null,null,null,null,null,null,null,null,null,"Jogo Nº",{"$f":"CONCATENATE($A$4,\" \",SUM($H$68+15))","v":"SH-InfA 63"},null,null,null,null,2,null,{"$f":"IF(AM33=\"\",\"\",\"1º\")","v":""},{"$f":"CO33","v":""},{"$f":"IF(AM33=\"\",\"\",CP33)","v":""},{"$f":"IF(AM33=\"\",\"\",CQ33)","v":""},{"$f":"IF(AM33=\"\",\"\",CR33)","v":""},{"$f":"IF(AM33=\"\",\"\",CS33)","v":""},{"$f":"IF(AM33=\"\",\"\",CT33)","v":""},{"$f":"IF(AM33=\"\",\"\",CU33)","v":""},{"$f":"IF(AM33=\"\",\"\",CV33)","v":""},{"$f":"IF(AM33=\"\",\"\",CW33)","v":""},{"$f":"IF(AND($DQ$1>=17,$DQ$1<=20),AW33,IF(AND($DQ$1>=21,$DQ$1<=23),AX33,AY33))","v":4},4,3,4,{"$f":"IF($DQ$1<=20,LOOKUP(DR4,$DR$1:$DR$20,$DT$1:$DT$20),IF(AND($DQ$1>20,$DQ$1<24),LOOKUP(DR3,$DR$1:$DR$23,$DV$1:$DV$23),LOOKUP(DR4,$DR$1:$DR$32,$DY$1:$DY$32)))","v":""},{"$f":"COUNT(G32,G33,M36)","v":0},{"$f":"COUNTIF(CZ31:CZ36,AZ33)","v":6},{"$f":"BA33-(BB33+BD33)","v":-12},{"$f":"COUNTIF(DA31:DA36,AZ33)","v":6},{"$f":"SUM(D32:F32,D33:F33,J36:L36)","v":0},{"$f":"SUM(D31:F31,D34:F34,J35:L35)","v":0},{"$f":"BE33-BF33","v":0},{"$f":"IF(BA33=0,0,BB33*2+BD33*1)","v":0},{"$f":"IF(BH33>=BH34,AZ33,AZ34)","v":""},{"$f":"VLOOKUP(BI33,AZ33:BH36,9,FALSE)","v":0},{"$f":"IF(BJ33>=BJ35,BI33,BI35)","v":""},{"$f":"VLOOKUP(BK33,AZ33:BH36,9,FALSE)","v":0},{"$f":"IF(BL33>=BL36,BK33,BK36)","v":""},{"$f":"VLOOKUP(BM33,AZ33:BH36,9,FALSE)","v":0},{"$f":"VLOOKUP(BM33,AZ33:BH36,8,FALSE)","v":0},{"$f":"IF(AND(BN33=BN34,BO34>BO33),BM34,BM33)","v":""},{"$f":"VLOOKUP(BP33,AZ33:BH36,9,FALSE)","v":0},{"$f":"VLOOKUP(BP33,AZ33:BH36,8,FALSE)","v":0},{"$f":"IF(AND(BQ33=BQ35,BR35>BR33),BP35,BP33)","v":""},{"$f":"VLOOKUP(BS33,AZ33:BH36,9,FALSE)","v":0},{"$f":"VLOOKUP(BS33,AZ33:BH36,8,FALSE)","v":0},{"$f":"IF(AND(BT33=BT36,BU36>BU33),BS36,BS33)","v":""},{"$f":"VLOOKUP(BV33,AZ33:BH36,9,FALSE)","v":0},{"$f":"VLOOKUP(BV33,AZ33:BH36,8,FALSE)","v":0},{"$f":"VLOOKUP(BV33,AZ33:BH36,6,FALSE)","v":0},{"$f":"IF(AND(BW33=BW34,BX33=BX34,BY34>BY33),BV34,BV33)","v":""},{"$f":"VLOOKUP(BZ33,AZ33:BH36,9,FALSE)","v":0},{"$f":"VLOOKUP(BZ33,AZ33:BH36,8,FALSE)","v":0},{"$f":"VLOOKUP(BZ33,AZ33:BH36,6,FALSE)","v":0},{"$f":"IF(AND(CA33=CA35,CB33=CB35,CC35>CC33),BZ35,BZ33)","v":""},{"$f":"VLOOKUP(CD33,AZ33:BH36,9,FALSE)","v":0},{"$f":"VLOOKUP(CD33,AZ33:BH36,8,FALSE)","v":0},{"$f":"VLOOKUP(CD33,AZ33:BH36,6,FALSE)","v":0},{"$f":"IF(AND(CE33=CE36,CF33=CF36,CG36>CG33),CD36,CD33)","v":""},{"$f":"VLOOKUP(CH33,AZ33:BH36,9,FALSE)","v":0},{"$f":"VLOOKUP(CH33,AZ33:BH36,8,FALSE)","v":0},{"$f":"VLOOKUP(CH33,AZ33:BH36,6,FALSE)","v":0},null,null,null,{"$f":"CH33","v":""},{"$f":"VLOOKUP(CO33,AZ33:BH36,2,FALSE)","v":0},{"$f":"VLOOKUP(CO33,AZ33:BH36,3,FALSE)","v":6},{"$f":"VLOOKUP(CO33,AZ33:BH36,4,FALSE)","v":-12},{"$f":"VLOOKUP(CO33,AZ33:BH36,5,FALSE)","v":6},{"$f":"VLOOKUP(CO33,AZ33:BH36,6,FALSE)","v":0},{"$f":"VLOOKUP(CO33,AZ33:BH36,7,FALSE)","v":0},{"$f":"VLOOKUP(CO33,AZ33:BH36,8,FALSE)","v":0},{"$f":"VLOOKUP(CO33,AZ33:BH36,9,FALSE)","v":0},null,null,{"$f":"IF(G33<>\"\",IF(G33>G34,C33,IF(G34>G33,C34,\"Empate\")),\"\")","v":""},{"$f":"IF(G33<>\"\",IF(G33<G34,C33,IF(G34<G33,C34,\"Empate\")),\"\")","v":""},null,null,{"$f":"IF(ISBLANK(DG33),COUNTA(DG34:$DG$35),0)","v":0},30,null,null,null,null,null,null,null,null,null,null,null,null,null,"5 Grupos 17 a 20",null,"6 Grupos 21 a 23",null,"8 Grupos 24 a 32",null,null,null,null,null,"fc"]
[null,{"$f":"H26+1","v":23},{"$f":"AZ35","v":""},null,null,null,{"$f":"IF(ISBLANK(D33),\"\",SUM(IF(D34>D33,1,0)+(IF(E34>E33,1,0)+(IF(F34>F33,1,0)))))","v":""},{"$f":"B34+1","v":24},{"$f":"IF(I33=\"\",\"\",AZ34)","v":""},null,null,null,{"$f":"IF(ISBLANK(J33),\"\",SUM(IF(J34>J33,1,0)+(IF(K34>K33,1,0)+(IF(L34>L33,1,0)))))","v":""},null,null,null,null,null,null,null,null,null,{"$f":"IF(AH17=AH18,\"\",IF(AH17>AH18,AD18,AD17))","v":""},null,null,null,{"$f":"IF(ISBLANK(X34),\"\",SUM(IF(X34>X35,1,0)+(IF(Y34>Y35,1,0)+(IF(Z34>Z35,1,0)))))","v":""},null,null,{"$f":"IF(AH17=AH18,\"\",IF(AH17>AH18,AD17,AD18))","v":""},null,null,null,{"$f":"IF(ISBLANK(AE34),\"\",SUM(IF(AE34>AE35,1,0)+(IF(AF34>AF35,1,0)+(IF(AG34>AG35,1,0)))))","v":""},null,8,null,{"$f":"IF(AM34=\"\",\"\",\"2º\")","v":""},{"$f":"CO34","v":""},{"$f":"IF(AM34=\"\",\"\",CP34)","v":""},{"$f":"IF(AM34=\"\",\"\",CQ34)","v":""},{"$f":"IF(AM34=\"\",\"\",CR34)","v":""},{"$f":"IF(AM34=\"\",\"\",CS34)","v":""},{"$f":"IF(AM34=\"\",\"\",CT34)","v":""},{"$f":"IF(AM34=\"\",\"\",CU34)","v":""},{"$f":"IF(AM34=\"\",\"\",CV34)","v":""},{"$f":"IF(AM34=\"\",\"\",CW34)","v":""},{"$f":"IF(AND($DQ$1>=17,$DQ$1<=20),AW34,IF(AND($DQ$1>=21,$DQ$1<=23),AX34,AY34))","v":13},7,10,13,{"$f":"IF($DQ$1<=20,LOOKUP(DR7,$DR$1:$DR$20,$DT$1:$DT$20),IF(AND($DQ$1>20,$DQ$1<24),LOOKUP(DR10,$DR$1:$DR$23,$DV$1:$DV$23),LOOKUP(DR13,$DR$1:$DR$32,$DY$1:$DY$32)))","v":""},{"$f":"COUNT(G31,M34,G36)","v":0},{"$f":"COUNTIF(CZ31:CZ36,AZ34)","v":6},{"$f":"BA34-(BB34+BD34)","v":-12},{"$f":"COUNTIF(DA31:DA36,AZ34)","v":6},{"$f":"SUM(D31:F31,J34:L34,D36:F36)","v":0},{"$f":"SUM(D32:F32,J33:L33,D35:F35)","v":0},{"$f":"BE34-BF34","v":0},{"$f":"IF(BA34=0,0,BB34*2+BD34*1)","v":0},{"$f":"IF(BH34<=BH33,AZ34,AZ33)","v":""},{"$f":"VLOOKUP(BI34,AZ33:BH36,9,FALSE)","v":0},{"$f":"IF(BJ34>=BJ36,BI34,BI36)","v":""},{"$f":"VLOOKUP(BK34,AZ33:BH36,9,FALSE)","v":0},{"$f":"IF(BL34>=BL35,BK34,BK35)","v":""},{"$f":"VLOOKUP(BM34,AZ33:BH36,9,FALSE)","v":0},{"$f":"VLOOKUP(BM34,AZ33:BH36,8,FALSE)","v":0},{"$f":"IF(AND(BN33=BN34,BO34>BO33),BM33,BM34)","v":""},{"$f":"VLOOKUP(BP34,AZ33:BH36,9,FALSE)","v":0},{"$f":"VLOOKUP(BP34,AZ33:BH36,8,FALSE)","v":0},{"$f":"IF(AND(BQ34=BQ36,BR36>BR34),BP36,BP34)","v":""},{"$f":"VLOOKUP(BS34,AZ33:BH36,9,FALSE)","v":0},{"$f":"VLOOKUP(BS34,AZ33:BH36,8,FALSE)","v":0},{"$f":"IF(AND(BT34=BT35,BU35>BU34),BS35,BS34)","v":""},{"$f":"VLOOKUP(BV34,AZ33:BH36,9,FALSE)","v":0},{"$f":"VLOOKUP(BV34,AZ33:BH36,8,FALSE)","v":0},{"$f":"VLOOKUP(BV34,AZ33:BH36,6,FALSE)","v":0},{"$f":"IF(AND(BW33=BW34,BX33=BX34,BY34>BY33),BV33,BV34)","v":""},{"$f":"VLOOKUP(BZ34,AZ33:BH36,9,FALSE)","v":0},{"$f":"VLOOKUP(BZ34,AZ33:BH36,8,FALSE)","v":0},{"$f":"VLOOKUP(BZ34,AZ33:BH36,6,FALSE)","v":0},{"$f":"IF(AND(CA34=CA36,CB34=CB36,CC36>CC34),BZ36,BZ34)","v":""},{"$f":"VLOOKUP(CD34,AZ33:BH36,9,FALSE)","v":0},{"$f":"VLOOKUP(CD34,AZ33:BH36,8,FALSE)","v":0},{"$f":"VLOOKUP(CD34,AZ33:BH36,6,FALSE)","v":0},{"$f":"IF(AND(CE34=CE35,CF34=CF35,CG35>CG34),CD35,CD34)","v":""},{"$f":"VLOOKUP(CH34,AZ33:BH36,9,FALSE)","v":0},{"$f":"VLOOKUP(CH34,AZ33:BH36,8,FALSE)","v":0},{"$f":"VLOOKUP(CH34,AZ33:BH36,6,FALSE)","v":0},null,null,null,{"$f":"CH34","v":""},{"$f":"VLOOKUP(CO34,AZ33:BH36,2,FALSE)","v":0},{"$f":"VLOOKUP(CO34,AZ33:BH36,3,FALSE)","v":6},{"$f":"VLOOKUP(CO34,AZ33:BH36,4,FALSE)","v":-12},{"$f":"VLOOKUP(CO34,AZ33:BH36,5,FALSE)","v":6},{"$f":"VLOOKUP(CO34,AZ33:BH36,6,FALSE)","v":0},{"$f":"VLOOKUP(CO34,AZ33:BH36,7,FALSE)","v":0},{"$f":"VLOOKUP(CO34,AZ33:BH36,8,FALSE)","v":0},{"$f":"VLOOKUP(CO34,AZ33:BH36,9,FALSE)","v":0},null,null,{"$f":"IF(M33<>\"\",IF(M33>M34,I33,IF(M34>M33,I34,\"Empate\")),\"\")","v":""},{"$f":"IF(M33<>\"\",IF(M33<M34,I33,IF(M34<M33,I34,\"Empate\")),\"\")","v":""},null,null,{"$f":"IF(ISBLANK(DG34),COUNTA(DG35:$DG$35),0)","v":0},31,null,null,null,null,null,null,null,null,null,null,null,null,null,null,null,null,null,null,null,null,null,null,null,"v"]
[null,{"$f":"$A$4","v":"SH-InfA"},{"$f":"AZ35","v":""},null,null,null,{"$f":"IF(ISBLANK(D35),\"\",SUM(IF(D35>D36,1,0)+(IF(E35>E36,1,0)+(IF(F35>F36,1,0)))))","v":""},{"$f":"$A$4","v":"SH-InfA"},{"$f":"AZ36","v":""},null,null,null,{"$f":"IF(ISBLANK(J35),\"\",SUM(IF(J35>J36,1,0)+(IF(K35>K36,1,0)+(IF(L35>L36,1,0)))))","v":""},null,null,null,null,null,null,null,null,null,{"$f":"IF(AH49=AH50,\"\",IF(AH49>AH50,AD50,AD49))","v":""},null,null,null,{"$f":"IF(ISBLANK(X34),\"\",SUM(IF(X35>X34,1,0)+(IF(Y35>Y34,1,0)+(IF(Z35>Z34,1,0)))))","v":""},null,null,{"$f":"IF(AH49=AH50,\"\",IF(AH49>AH50,AD49,AD50))","v":""},null,null,null,{"$f":"IF(ISBLANK(AE34),\"\",SUM(IF(AE35>AE34,1,0)+(IF(AF35>AF34,1,0)+(IF(AG35>AG34,1,0)))))","v":""},null,null,null,{"$f":"IF(AM35=\"\",\"\",\"3º\")","v":""},{"$f":"CO35","v":""},{"$f":"IF(AM35=\"\",\"\",CP35)","v":""},{"$f":"IF(AM35=\"\",\"\",CQ35)","v":""},{"$f":"IF(AM35=\"\",\"\",CR35)","v":""},{"$f":"IF(AM35=\"\",\"\",CS35)","v":""},{"$f":"IF(AM35=\"\",\"\",CT35)","v":""},{"$f":"IF(AM35=\"\",\"\",CU35)","v":""},{"$f":"IF(AM35=\"\",\"\",CV35)","v":""},{"$f":"IF(AM35=\"\",\"\",CW35)","v":""},{"$f":"IF(AND($DQ$1>=17,$DQ$1<=20),AW35,IF(AND($DQ$1>=21,$DQ$1<=23),AX35,AY35))","v":20},13,15,20,{"$f":"IF($DQ$1<=20,LOOKUP(DR13,$DR$1:$DR$20,$DT$1:$DT$20),IF(AND($DQ$1>20,$DQ$1<24),LOOKUP(DR15,$DR$1:$DR$23,$DV$1:$DV$23),LOOKUP(DR20,$DR$1:$DR$32,$DY$1:$DY$32)))","v":""},{"$f":"COUNT(M31,G34,G35)","v":0},{"$f":"COUNTIF(CZ31:CZ36,AZ35)","v":6},{"$f":"BA35-(BB35+BD35)","v":-12},{"$f":"COUNTIF(DA31:DA36,AZ35)","v":6},{"$f":"SUM(J31:L31,D34:F34,D35:F35)","v":0},{"$f":"SUM(J32:L32,D33:F33,D36:F36)","v":0},{"$f":"BE35-BF35","v":0},{"$f":"IF(BA35=0,0,BB35*2+BD35*1)","v":0},{"$f":"IF(BH35>=BH36,AZ35,AZ36)","v":""},{"$f":"VLOOKUP(BI35,AZ33:BH36,9,FALSE)","v":0},{"$f":"IF(BJ35<=BJ33,BI35,BI33)","v":""},{"$f":"VLOOKUP(BK35,AZ33:BH36,9,FALSE)","v":0},{"$f":"IF(BL35<=BL34,BK35,BK34)","v":""},{"$f":"VLOOKUP(BM35,AZ33:BH36,9,FALSE)","v":0},{"$f":"VLOOKUP(BM35,AZ33:BH36,8,FALSE)","v":0},{"$f":"IF(AND(BN35=BN36,BO36>BO35),BM36,BM35)","v":""},{"$f":"VLOOKUP(BP35,AZ33:BH36,9,FALSE)","v":0},{"$f":"VLOOKUP(BP35,AZ33:BH36,8,FALSE)","v":0},{"$f":"IF(AND(BQ33=BQ35,BR35>BR33),BP33,BP35)","v":""},{"$f":"VLOOKUP(BS35,AZ33:BH36,9,FALSE)","v":0},{"$f":"VLOOKUP(BS35,AZ33:BH36,8,FALSE)","v":0},{"$f":"IF(AND(BT34=BT35,BU35>BU34),BS34,BS35)","v":""},{"$f":"VLOOKUP(BV35,AZ33:BH36,9,FALSE)","v":0},{"$f":"VLOOKUP(BV35,AZ33:BH36,8,FALSE)","v":0},{"$f":"VLOOKUP(BV35,AZ33:BH36,6,FALSE)","v":0},{"$f":"IF(AND(BW35=BW36,BX35=BX36,BY36>BY35),BV36,BV35)","v":""},{"$f":"VLOOKUP(BZ35,AZ33:BH36,9,FALSE)","v":0},{"$f":"VLOOKUP(BZ35,AZ33:BH36,8,FALSE)","v":0},{"$f":"VLOOKUP(BZ35,AZ33:BH36,6,FALSE)","v":0},{"$f":"IF(AND(CA33=CA35,CB33=CB35,CC34>CC33),BZ33,BZ35)","v":""},{"$f":"VLOOKUP(CD35,AZ33:BH36,9,FALSE)","v":0},{"$f":"VLOOKUP(CD35,AZ33:BH36,8,FALSE)","v":0},{"$f":"VLOOKUP(CD35,AZ33:BH36,6,FALSE)","v":0},{"$f":"IF(AND(CE34=CE35,CF34=CF35,CG35>CG34),CD34,CD35)","v":""},{"$f":"VLOOKUP(CH35,AZ33:BH36,9,FALSE)","v":0},{"$f":"VLOOKUP(CH35,AZ33:BH36,8,FALSE)","v":0},{"$f":"VLOOKUP(CH35,AZ33:BH36,6,FALSE)","v":0},null,null,null,{"$f":"CH35","v":""},{"$f":"VLOOKUP(CO35,AZ33:BH36,2,FALSE)","v":0},{"$f":"VLOOKUP(CO35,AZ33:BH36,3,FALSE)","v":6},{"$f":"VLOOKUP(CO35,AZ33:BH36,4,FALSE)","v":-12},{"$f":"VLOOKUP(CO35,AZ33:BH36,5,FALSE)","v":6},{"$f":"VLOOKUP(CO35,AZ33:BH36,6,FALSE)","v":0},{"$f":"VLOOKUP(CO35,AZ33:BH36,7,FALSE)","v":0},{"$f":"VLOOKUP(CO35,AZ33:BH36,8,FALSE)","v":0},{"$f":"VLOOKUP(CO35,AZ33:BH36,9,FALSE)","v":0},null,null,{"$f":"IF(M35<>\"\",IF(M35>M36,I35,IF(M36>M35,I36,\"Empate\")),\"\")","v":""},{"$f":"IF(M35<>\"\",IF(M35<M36,I35,IF(M36<M35,I36,\"Empate\")),\"\")","v":""},null,null,{"$f":"IF(ISBLANK(DG35),COUNTA(DG$35:$DG36),0)","v":0},32,null,null,null,null,null,null,null,null,null,null,null,null,null,null,"Class","Class17 e 20","Class 21 a 23","Class 24 a 32",null,null,null,null,null,null,null,"Classificações últimos"]
[null,{"$f":"H28+1","v":39},{"$f":"AZ34","v":""},null,null,null,{"$f":"IF(ISBLANK(D35),\"\",SUM(IF(D36>D35,1,0)+(IF(E36>E35,1,0)+(IF(F36>F35,1,0)))))","v":""},{"$f":"B36+1","v":40},{"$f":"IF(I35=\"\",\"\",AZ33)","v":""},null,null,null,{"$f":"IF(ISBLANK(J35),\"\",SUM(IF(J36>J35,1,0)+(IF(K36>K35,1,0)+(IF(L36>L35,1,0)))))","v":""},null,null,null,null,null,null,null,null,null,"3º/4º",null,null,null,null,null,null,"Vencedor",null,null,null,null,null,null,null,{"$f":"IF(AM36=\"\",\"\",\"4º\")","v":""},{"$f":"CO36","v":""},{"$f":"IF(AM36=\"\",\"\",CP36)","v":""},{"$f":"IF(AM36=\"\",\"\",CQ36)","v":""},{"$f":"IF(AM36=\"\",\"\",CR36)","v":""},{"$f":"IF(AM36=\"\",\"\",CS36)","v":""},{"$f":"IF(AM36=\"\",\"\",CT36)","v":""},{"$f":"IF(AM36=\"\",\"\",CU36)","v":""},{"$f":"IF(AM36=\"\",\"\",CV36)","v":""},{"$f":"IF(AM36=\"\",\"\",CW36)","v":""},{"$f":"IF(AND($DQ$1>=17,$DQ$1<=20),AW36,IF(AND($DQ$1>=21,$DQ$1<=23),AX36,AY36))","v":29},18,22,29,{"$f":"IF($DQ$1<=20,LOOKUP(DR18,$DR$1:$DR$20,$DT$1:$DT$20),IF(AND($DQ$1>20,$DQ$1<24),LOOKUP(DR22,$DR$1:$DR$23,$DV$1:$DV$23),LOOKUP(DR29,$DR$1:$DR$32,$DY$1:$DY$32)))","v":""},{"$f":"COUNT(M32,M33,M35)","v":0},{"$f":"COUNTIF(CZ31:CZ36,AZ36)","v":6},{"$f":"BA36-(BB36+BD36)","v":-12},{"$f":"COUNTIF(DA31:DA36,AZ36)","v":6},{"$f":"SUM(J32:L32,J33:L33,J35:L35)","v":0},{"$f":"SUM(J31:L31,J34:L34,J36:L36)","v":0},{"$f":"BE36-BF36","v":0},{"$f":"IF(BA36=0,0,BB36*2+BD36*1)","v":0},{"$f":"IF(BH36<=BH35,AZ36,AZ35)","v":""},{"$f":"VLOOKUP(BI36,AZ33:BH36,9,FALSE)","v":0},{"$f":"IF(BJ36<=BJ34,BI36,BI34)","v":""},{"$f":"VLOOKUP(BK36,AZ33:BH36,9,FALSE)","v":0},{"$f":"IF(BL36<=BL33,BK36,BK33)","v":""},{"$f":"VLOOKUP(BM36,AZ33:BH36,9,FALSE)","v":0},{"$f":"VLOOKUP(BM36,AZ33:BH36,8,FALSE)","v":0},{"$f":"IF(AND(BN35=BN36,BO36>BO35),BM35,BM36)","v":""},{"$f":"VLOOKUP(BP36,AZ33:BH36,9,FALSE)","v":0},{"$f":"VLOOKUP(BP36,AZ33:BH36,8,FALSE)","v":0},{"$f":"IF(AND(BQ34=BQ36,BR36>BR34),BP34,BP36)","v":""},{"$f":"VLOOKUP(BS36,AZ33:BH36,9,FALSE)","v":0},{"$f":"VLOOKUP(BS36,AZ33:BH36,8,FALSE)","v":0},{"$f":"IF(AND(BT33=BT36,BU36>BU33),BS33,BS36)","v":""},{"$f":"VLOOKUP(BV36,AZ33:BH36,9,FALSE)","v":0},{"$f":"VLOOKUP(BV36,AZ33:BH36,8,FALSE)","v":0},{"$f":"VLOOKUP(BV36,AZ33:BH36,6,FALSE)","v":0},{"$f":"IF(AND(BW35=BW36,BX35=BX36,BY36>BY35),BV35,BV36)","v":""},{"$f":"VLOOKUP(BZ36,AZ33:BH36,9,FALSE)","v":0},{"$f":"VLOOKUP(BZ36,AZ33:BH36,8,FALSE)","v":0},{"$f":"VLOOKUP(BZ36,AZ33:BH36,6,FALSE)","v":0},{"$f":"IF(AND(CA34=CA36,CB34=CB36,CC36>CC34),BZ34,BZ36)","v":""},{"$f":"VLOOKUP(CD36,AZ33:BH36,9,FALSE)","v":0},{"$f":"VLOOKUP(CD36,AZ33:BH36,8,FALSE)","v":0},{"$f":"VLOOKUP(CD36,AZ33:BH36,6,FALSE)","v":0},{"$f":"IF(AND(CE33=CE36,CF33=CF36,CG36>CG33),CD33,CD36)","v":""},{"$f":"VLOOKUP(CH36,AZ33:BH36,9,FALSE)","v":0},{"$f":"VLOOKUP(CH36,AZ33:BH36,8,FALSE)","v":0},{"$f":"VLOOKUP(CH36,AZ33:BH36,6,FALSE)","v":0},null,null,null,{"$f":"CH36","v":""},{"$f":"VLOOKUP(CO36,AZ33:BH36,2,FALSE)","v":0},{"$f":"VLOOKUP(CO36,AZ33:BH36,3,FALSE)","v":6},{"$f":"VLOOKUP(CO36,AZ33:BH36,4,FALSE)","v":-12},{"$f":"VLOOKUP(CO36,AZ33:BH36,5,FALSE)","v":6},{"$f":"VLOOKUP(CO36,AZ33:BH36,6,FALSE)","v":0},{"$f":"VLOOKUP(CO36,AZ33:BH36,7,FALSE)","v":0},{"$f":"VLOOKUP(CO36,AZ33:BH36,8,FALSE)","v":0},{"$f":"VLOOKUP(CO36,AZ33:BH36,9,FALSE)","v":0},null,null,{"$f":"IF(G36<>\"\",IF(G36>G35,C36,IF(G35>G36,C35,\"Empate\")),\"\")","v":""},{"$f":"IF(G36<>\"\",IF(G36<G35,C36,IF(G35<G36,C35,\"Empate\")),\"\")","v":""},null,null,"Lista de Paticipantes bem preenchida",null,null,null,null,null,null,null,null,null,null,null,null,null,null,null,1,{"$f":"IF(D11=\"\",\"1º Grupo A\",AM9)","v":"1º Grupo A"},{"$f":"IF(D11=\"\",\"1º Grupo A\",AM9)","v":"1º Grupo A"},{"$f":"IF(D11=\"\",\"1º Grupo A\",AM9)","v":"1º Grupo A"}]
[null,null,null,null,null,null,null,null,null,null,null,null,null,null,null,null,null,null,null,null,null,null,{"$f":"IF(AA34=AA35,\"\",IF(AA34>AA35,W34,W35))","v":""},null,null,null,null,null,null,{"$f":"IF(AH34=AH35,\"\",IF(AH34>AH35,AD34,AD35))","v":""},null,null,null,null,null,null,null,null,null,null,null,null,null,null,null,null,null,null,null,null,null,null,null,null,null,null,null,null,null,null,null,null,null,null,null,null,null,null,null,null,null,null,null,null,null,null,null,null,null,null,null,null,null,null,null,null,null,null,null,null,null,null,null,null,null,null,null,null,null,null,null,null,null,null,null,null,null,null,null,"Se pretender efectuar altrerações apague, e volte a introduzir os jogadores que pretender nos espaços disponíveis.",null,null,{"$f":"IF(DD2>0,DD38,\"\")","v":""},null,null,null,null,null,null,null,null,null,null,2,{"$f":"IF(D19=\"\",\"1º Grupo B\",AM17)","v":"1º Grupo B"},{"$f":"IF(D19=\"\",\"1º Grupo B\",AM17)","v":"1º Grupo B"},{"$f":"IF(D19=\"\",\"1º Grupo B\",AM17)","v":"1º Grupo B"},null,null,null,null,null,null,null,"GRUPO de 5",null,"3 melhores 2ºs"]
["Grupo E","NºJ","Jogadores",1,2,3,"R","NºJ","Jogadores",1,2,3,"R",null,null,null,null,null,null,null,null,null,null,null,null,null,null,null,null,null,null,null,null,null,null,null,null,null,null,null,null,null,null,null,null,null,null,null,null,null,null,"Colocar Equipas",null,null,null,null,null,null,null,null,"Ordenar p/ Pts 1",null,"Ordenar p/ Pts 2",null,"Ordenar p/ Pts 3",null,null,"Ordenar p/ DG 1",null,null,"Ordenar p/ DG 2",null,null,"Ordenar p/ DG 3",null,null,null,"Ordenar p/ GM 1",null,null,null,"Ordenar p/ GM 2",null,null,null,"Ordenar p/ GM 3",null,null,null,null,null,null,null,null,null,null,null,null,null,null,null,null,null,"Vencedores","Derrotados",null,null,"Existe um erro no preenchimento na lista de participantes. PF elimine os espaços em branco entre os participantes, fazendo subir os jogadores abaixo, caso haja necesidade de eliminar jogadores por Falta de Comparência.",null,null,null,null,null,null,null,null,null,null,null,null,null,null,null,3,{"$f":"IF(D27=\"\",\"1º Grupo C\",AM25)","v":"1º Grupo C"},{"$f":"IF(D27=\"\",\"1º Grupo C\",AM25)","v":"1º Grupo C"},{"$f":"IF(D27=\"\",\"1º Grupo C\",AM25)","v":"1º Grupo C"}]
[null,{"$f":"$A$4","v":"SH-InfA"},{"$f":"AZ42","v":""},null,null,null,{"$f":"IF(ISBLANK(D39),\"\",SUM(IF(D39>D40,1,0)+(IF(E39>E40,1,0)+(IF(F39>F40,1,0)))))","v":""},{"$f":"$A$4","v":"SH-InfA"},{"$f":"IF(I40=\"\",\"\",AZ43)","v":""},null,null,null,{"$f":"IF(ISBLANK(J39),\"\",SUM(IF(J39>J40,1,0)+(IF(K39>K40,1,0)+(IF(L39>L40,1,0)))))","v":""},null,null,"Jogo Nº",{"$f":"CONCATENATE($A$4,\" \",SUM($H$68+5))","v":"SH-InfA 53"},null,null,null,null,null,null,null,null,null,null,null,null,null,null,null,null,null,null,null,null,null,"Classificação Grupo E",null,null,null,null,null,null,null,null,null,null,null,null,"Grupo E",null,null,null,null,null,null,null,null,null,null,null,null,null,null,null,null,null,null,null,null,null,null,null,null,null,null,null,null,null,null,null,null,null,null,null,null,null,null,null,null,null,null,null,null,null,null,null,null,null,null,null,{"$f":"IF(G40<>\"\",IF(G40>G39,C40,IF(G39>G40,C39,\"Empate\")),\"\")","v":""},{"$f":"IF(G40<>\"\",IF(G40<G39,C40,IF(G39<G40,C39,\"Empate\")),\"\")","v":""},null,null,null,null,null,null,null,null,null,null,null,null,null,null,null,null,null,"Empates",4,{"$f":"IF(D35=\"\",\"1º Grupo D\",AM33)","v":"1º Grupo D"},{"$f":"IF(D35=\"\",\"1º Grupo D\",AM33)","v":"1º Grupo D"},{"$f":"IF(D35=\"\",\"1º Grupo D\",AM33)","v":"1º Grupo D"},null,null,null,null,null,null,null,"17 a 20","Class","Cl","Jogadores","Jg","V","E","D","PM","PS","DP","Pt.","Rank"]
[null,9,{"$f":"AZ41","v":""},null,null,null,{"$f":"IF(ISBLANK(D39),\"\",SUM(IF(D40>D39,1,0)+(IF(E40>E39,1,0)+(IF(F40>F39,1,0)))))","v":""},10,{"$f":"AZ44","v":""},null,null,null,{"$f":"IF(ISBLANK(J39),\"\",SUM(IF(J40>J39,1,0)+(IF(K40>K39,1,0)+(IF(L40>L39,1,0)))))","v":""},null,3,{"$f":"IF($DQ$1<=20,LOOKUP(O40,$DT$36:$DT$51,$DU$36:$DU$51),IF(AND($DQ$1>20,$DQ$1<24),LOOKUP(O40,$DT$36:$DT$51,$DV$36:$DV$51),LOOKUP(O40,$DT$36:$DT$51,$DW$36:$DW$51)))","v":"1º Grupo C"},null,null,null,{"$f":"IF(ISBLANK(Q40),\"\",SUM(IF(Q40>Q41,1,0)+(IF(R40>R41,1,0)+(IF(S40>S41,1,0)))))","v":""},null,null,null,null,null,null,null,null,null,null,null,null,null,null,null,null,null,"Cl",{"$f":"AZ40","v":"Jogadores"},"Jg","V","E","D","PM","PS","DP","Pt.",null,null,null,null,"Jogadores","Jg","V","E","D","GM","GS","DG","Pts","Equipas","Pts","Equipas","Pts","Equipas","Pts","DG","Equipas","Pts","DG","Equipas","Pts","DG","Equipas","Pts","DG","GM","Equipas","Pts","DG","GM","Equipas","Pts","DG","GM","Equipas","Pts","DG","GM",null,null,null,"Equipas","Jg","V","D","E","GM","GS","DG","Pts",null,null,{"$f":"IF(M39<>\"\",IF(M39>M40,I39,IF(M40>M39,I40,\"Empate\")),\"\")","v":""},{"$f":"IF(M39<>\"\",IF(M39<M40,I39,IF(M40<M39,I40,\"Empate\")),\"\")","v":""},null,null,null,null,"Para efectuar alterações à de colocações nos grupos dos jogadores, altere a coluna \"ORDEM\" dando uma nova ordem de nºs e depois clique em Ordenar.",null,null,null,null,null,null,null,null,null,null,null,null,"Gr5",5,{"$f":"IF(D43=\"\",\"1º Grupo E\",AM41)","v":"1º Grupo E"},{"$f":"IF(D43=\"\",\"1º Grupo E\",AM41)","v":"1º Grupo E"},{"$f":"IF(D43=\"\",\"1º Grupo E\",AM41)","v":"1º Grupo E"},null,null,null,null,null,null,null,"A",{"$f":"COUNTIF($EQ$40:$EQ$44,CONCATENATE(\">=\",EQ40))","v":4},{"$f":"AL10","v":""},"","","","","","","","","",{"$f":"EP40*1000000+(EM40-EN40)*10000+EM40*100+ER40","v":{"$error":"#VALUE!"}},5]
[null,{"$f":"$A$4","v":"SH-InfA"},{"$f":"AZ41","v":""},null,null,null,{"$f":"IF(ISBLANK(D41),\"\",SUM(IF(D41>D42,1,0)+(IF(E41>E42,1,0)+(IF(F41>F42,1,0)))))","v":""},{"$f":"$A$4","v":"SH-InfA"},{"$f":"AZ44","v":""},null,null,null,{"$f":"IF(ISBLANK(J41),\"\",SUM(IF(J41>J42,1,0)+(IF(K41>K42,1,0)+(IF(L41>L42,1,0)))))","v":""},null,14,{"$f":"IF($DQ$1<=20,LOOKUP(O41,$DT$36:$DT$51,$DU$36:$DU$51),IF(AND($DQ$1>20,$DQ$1<24),LOOKUP(O41,$DT$36:$DT$51,$DV$36:$DV$51),LOOKUP(O41,$DT$36:$DT$51,$DW$36:$DW$51)))","v":"Bye"},null,null,null,{"$f":"IF(ISBLANK(Q40),\"\",SUM(IF(Q41>Q40,1,0)+(IF(R41>R40,1,0)+(IF(S41>S40,1,0)))))","v":""},null,null,null,null,null,null,null,null,null,null,null,null,null,null,null,1,null,"1º",{"$f":"CO41","v":""},0,6,-12,6,0,0,0,0,{"$f":"IF(AND($DQ$1>=17,$DQ$1<=20),AW41,IF(AND($DQ$1>=21,$DQ$1<=23),AX41,AY41))","v":3},2,5,3,{"$f":"IF($DQ$1<=20,LOOKUP(DR2,$DR$1:$DR$20,$DT$1:$DT$20),IF(AND($DQ$1>20,$DQ$1<24),LOOKUP(DR5,$DR$1:$DR$23,$DV$1:$DV$23),LOOKUP(DR3,$DR$1:$DR$32,$DY$1:$DY$32)))","v":""},{"$f":"COUNT(G40,G41,M44)","v":0},{"$f":"COUNTIF(CZ39:CZ44,AZ41)","v":6},{"$f":"BA41-(BB41+BD41)","v":-12},{"$f":"COUNTIF(DA39:DA44,AZ41)","v":6},{"$f":"SUM(D40:F40,D41:F41,J44:L44)","v":0},{"$f":"SUM(D39:F39,D42:F42,J43:L43)","v":0},{"$f":"BE41-BF41","v":0},{"$f":"IF(BA41=0,0,BB41*2+BD41*1)","v":0},{"$f":"IF(BH41>=BH42,AZ41,AZ42)","v":""},{"$f":"VLOOKUP(BI41,AZ41:BH44,9,FALSE)","v":0},{"$f":"IF(BJ41>=BJ43,BI41,BI43)","v":""},{"$f":"VLOOKUP(BK41,AZ41:BH44,9,FALSE)","v":0},{"$f":"IF(BL41>=BL44,BK41,BK44)","v":""},{"$f":"VLOOKUP(BM41,AZ41:BH44,9,FALSE)","v":0},{"$f":"VLOOKUP(BM41,AZ41:BH44,8,FALSE)","v":0},{"$f":"IF(AND(BN41=BN42,BO42>BO41),BM42,BM41)","v":""},{"$f":"VLOOKUP(BP41,AZ41:BH44,9,FALSE)","v":0},{"$f":"VLOOKUP(BP41,AZ41:BH44,8,FALSE)","v":0},{"$f":"IF(AND(BQ41=BQ43,BR43>BR41),BP43,BP41)","v":""},{"$f":"VLOOKUP(BS41,AZ41:BH44,9,FALSE)","v":0},{"$f":"VLOOKUP(BS41,AZ41:BH44,8,FALSE)","v":0},{"$f":"IF(AND(BT41=BT44,BU44>BU41),BS44,BS41)","v":""},{"$f":"VLOOKUP(BV41,AZ41:BH44,9,FALSE)","v":0},{"$f":"VLOOKUP(BV41,AZ41:BH44,8,FALSE)","v":0},{"$f":"VLOOKUP(BV41,AZ41:BH44,6,FALSE)","v":0},{"$f":"IF(AND(BW41=BW42,BX41=BX42,BY42>BY41),BV42,BV41)","v":""},{"$f":"VLOOKUP(BZ41,AZ41:BH44,9,FALSE)","v":0},{"$f":"VLOOKUP(BZ41,AZ41:BH44,8,FALSE)","v":0},{"$f":"VLOOKUP(BZ41,AZ41:BH44,6,FALSE)","v":0},{"$f":"IF(AND(CA41=CA43,CB41=CB43,CC43>CC41),BZ43,BZ41)","v":""},{"$f":"VLOOKUP(CD41,AZ41:BH44,9,FALSE)","v":0},{"$f":"VLOOKUP(CD41,AZ41:BH44,8,FALSE)","v":0},{"$f":"VLOOKUP(CD41,AZ41:BH44,6,FALSE)","v":0},{"$f":"IF(AND(CE41=CE44,CF41=CF44,CG44>CG41),CD44,CD41)","v":""},{"$f":"VLOOKUP(CH41,AZ41:BH44,9,FALSE)","v":0},{"$f":"VLOOKUP(CH41,AZ41:BH44,8,FALSE)","v":0},{"$f":"VLOOKUP(CH41,AZ41:BH44,6,FALSE)","v":0},null,null,null,{"$f":"CH41","v":""},{"$f":"VLOOKUP(CO41,AZ41:BH44,2,FALSE)","v":0},{"$f":"VLOOKUP(CO41,AZ41:BH44,3,FALSE)","v":6},{"$f":"VLOOKUP(CO41,AZ41:BH44,4,FALSE)","v":-12},{"$f":"VLOOKUP(CO41,AZ41:BH44,5,FALSE)","v":6},{"$f":"VLOOKUP(CO41,AZ41:BH44,6,FALSE)","v":0},{"$f":"VLOOKUP(CO41,AZ41:BH44,7,FALSE)","v":0},{"$f":"VLOOKUP(CO41,AZ41:BH44,8,FALSE)","v":0},{"$f":"VLOOKUP(CO41,AZ41:BH44,9,FALSE)","v":0},null,null,{"$f":"IF(G41<>\"\",IF(G41>G42,C41,IF(G42>G41,C42,\"Empate\")),\"\")","v":""},{"$f":"IF(G41<>\"\",IF(G41<G42,C41,IF(G42<G41,C42,\"Empate\")),\"\")","v":""},null,null,null,null,null,null,null,null,null,null,null,null,null,null,null,null,null,1,6,{"$f":"IF($D$43=\"\",\"1º Melhor 2º\",VLOOKUP(DS41,$EF$40:$EP$44,3,FALSE))","v":"1º Melhor 2º"},{"$f":"IF(D51=\"\",\"1º Grupo F\",AM49)","v":"1º Grupo F"},{"$f":"IF(D51=\"\",\"1º Grupo F\",AM49)","v":"1º Grupo F"},null,null,null,null,null,null,null,"B",{"$f":"COUNTIF($EQ$40:$EQ$44,CONCATENATE(\">=\",EQ41))","v":4},{"$f":"AL18","v":""},"","","","","","","","","",{"$error":"#VALUE!"},4]
[null,25,{"$f":"AZ43","v":""},null,null,null,{"$f":"IF(ISBLANK(D41),\"\",SUM(IF(D42>D41,1,0)+(IF(E42>E41,1,0)+(IF(F42>F41,1,0)))))","v":""},26,{"$f":"IF(I41=\"\",\"\",AZ42)","v":""},null,null,null,{"$f":"IF(ISBLANK(J41),\"\",SUM(IF(J42>J41,1,0)+(IF(K42>K41,1,0)+(IF(L42>L41,1,0)))))","v":""},null,null,null,null,null,null,null,null,null,"Jogo Nº",{"$f":"CONCATENATE($A$4,\" \",SUM($H$68+11))","v":"SH-InfA 59"},null,null,null,null,null,null,null,null,null,null,null,7,null,"2º","",0,6,-12,6,0,0,0,0,{"$f":"IF(AND($DQ$1>=17,$DQ$1<=20),AW42,IF(AND($DQ$1>=21,$DQ$1<=23),AX42,AY42))","v":14},9,8,14,{"$f":"IF($DQ$1<=20,LOOKUP(DR9,$DR$1:$DR$20,$DT$1:$DT$20),IF(AND($DQ$1>20,$DQ$1<24),LOOKUP(DR8,$DR$1:$DR$23,$DV$1:$DV$23),LOOKUP(DR14,$DR$1:$DR$32,$DY$1:$DY$32)))","v":""},{"$f":"COUNT(G39,M42,G44)","v":0},{"$f":"COUNTIF(CZ39:CZ44,AZ42)","v":6},{"$f":"BA42-(BB42+BD42)","v":-12},{"$f":"COUNTIF(DA39:DA44,AZ42)","v":6},{"$f":"SUM(D39:F39,J42:L42,D44:F44)","v":0},{"$f":"SUM(D40:F40,J41:L41,D43:F43)","v":0},{"$f":"BE42-BF42","v":0},{"$f":"IF(BA42=0,0,BB42*2+BD42*1)","v":0},{"$f":"IF(BH42<=BH41,AZ42,AZ41)","v":""},{"$f":"VLOOKUP(BI42,AZ41:BH44,9,FALSE)","v":0},{"$f":"IF(BJ42>=BJ44,BI42,BI44)","v":""},{"$f":"VLOOKUP(BK42,AZ41:BH44,9,FALSE)","v":0},{"$f":"IF(BL42>=BL43,BK42,BK43)","v":""},{"$f":"VLOOKUP(BM42,AZ41:BH44,9,FALSE)","v":0},{"$f":"VLOOKUP(BM42,AZ41:BH44,8,FALSE)","v":0},{"$f":"IF(AND(BN41=BN42,BO42>BO41),BM41,BM42)","v":""},{"$f":"VLOOKUP(BP42,AZ41:BH44,9,FALSE)","v":0},{"$f":"VLOOKUP(BP42,AZ41:BH44,8,FALSE)","v":0},{"$f":"IF(AND(BQ42=BQ44,BR44>BR42),BP44,BP42)","v":""},{"$f":"VLOOKUP(BS42,AZ41:BH44,9,FALSE)","v":0},{"$f":"VLOOKUP(BS42,AZ41:BH44,8,FALSE)","v":0},{"$f":"IF(AND(BT42=BT43,BU43>BU42),BS43,BS42)","v":""},{"$f":"VLOOKUP(BV42,AZ41:BH44,9,FALSE)","v":0},{"$f":"VLOOKUP(BV42,AZ41:BH44,8,FALSE)","v":0},{"$f":"VLOOKUP(BV42,AZ41:BH44,6,FALSE)","v":0},{"$f":"IF(AND(BW41=BW42,BX41=BX42,BY42>BY41),BV41,BV42)","v":""},{"$f":"VLOOKUP(BZ42,AZ41:BH44,9,FALSE)","v":0},{"$f":"VLOOKUP(BZ42,AZ41:BH44,8,FALSE)","v":0},{"$f":"VLOOKUP(BZ42,AZ41:BH44,6,FALSE)","v":0},{"$f":"IF(AND(CA42=CA44,CB42=CB44,CC44>CC42),BZ44,BZ42)","v":""},{"$f":"VLOOKUP(CD42,AZ41:BH44,9,FALSE)","v":0},{"$f":"VLOOKUP(CD42,AZ41:BH44,8,FALSE)","v":0},{"$f":"VLOOKUP(CD42,AZ41:BH44,6,FALSE)","v":0},{"$f":"IF(AND(CE42=CE43,CF42=CF43,CG43>CG42),CD43,CD42)","v":""},{"$f":"VLOOKUP(CH42,AZ41:BH44,9,FALSE)","v":0},{"$f":"VLOOKUP(CH42,AZ41:BH44,8,FALSE)","v":0},{"$f":"VLOOKUP(CH42,AZ41:BH44,6,FALSE)","v":0},null,null,null,{"$f":"CH42","v":""},{"$f":"VLOOKUP(CO42,AZ41:BH44,2,FALSE)","v":0},{"$f":"VLOOKUP(CO42,AZ41:BH44,3,FALSE)","v":6},{"$f":"VLOOKUP(CO42,AZ41:BH44,4,FALSE)","v":-12},{"$f":"VLOOKUP(CO42,AZ41:BH44,5,FALSE)","v":6},{"$f":"VLOOKUP(CO42,AZ41:BH44,6,FALSE)","v":0},{"$f":"VLOOKUP(CO42,AZ41:BH44,7,FALSE)","v":0},{"$f":"VLOOKUP(CO42,AZ41:BH44,8,FALSE)","v":0},{"$f":"VLOOKUP(CO42,AZ41:BH44,9,FALSE)","v":0},null,null,{"$f":"IF(M41<>\"\",IF(M41>M42,I41,IF(M42>M41,I42,\"Empate\")),\"\")","v":""},{"$f":"IF(M41<>\"\",IF(M41<M42,I41,IF(M42<M41,I42,\"Empate\")),\"\")","v":""},null,null,null,null,null,null,null,null,null,null,null,null,null,null,null,null,null,2,7,{"$f":"IF($D$43=\"\",\"1º Melhor 2º\",VLOOKUP(DS42,$EF$40:$EP$44,3,FALSE))","v":"1º Melhor 2º"},{"$f":"IF(D11=\"\",\"2º Grupo A\",AM10)","v":"2º Grupo A"},{"$f":"IF(D59=\"\",\"1º Grupo G\",AM57)","v":"1º Grupo G"},null,null,null,null,null,null,null,"C",{"$f":"COUNTIF($EQ$40:$EQ$44,CONCATENATE(\">=\",EQ42))","v":4},{"$f":"AL26","v":""},"","","","","","","","","",{"$error":"#VALUE!"},3]
[null,{"$f":"$A$4","v":"SH-InfA"},{"$f":"AZ43","v":""},null,null,null,{"$f":"IF(ISBLANK(D43),\"\",SUM(IF(D43>D44,1,0)+(IF(E43>E44,1,0)+(IF(F43>F44,1,0)))))","v":""},{"$f":"$A$4","v":"SH-InfA"},{"$f":"AZ44","v":""},null,null,null,{"$f":"IF(ISBLANK(J43),\"\",SUM(IF(J43>J44,1,0)+(IF(K43>K44,1,0)+(IF(L43>L44,1,0)))))","v":""},null,null,null,null,null,null,null,null,null,{"$f":"IF(P40=\"Bye\",P41,IF(P41=\"Bye\",P40,IF(T40=T41,\"\",IF(T40>T41,P40,P41))))","v":"1º Grupo C"},null,null,null,{"$f":"IF(ISBLANK(X43),\"\",SUM(IF(X43>X44,1,0)+(IF(Y43>Y44,1,0)+(IF(Z43>Z44,1,0)))))","v":""},null,null,null,null,null,null,null,null,null,null,"3º","",0,6,-12,6,0,0,0,0,{"$f":"IF(AND($DQ$1>=17,$DQ$1<=20),AW43,IF(AND($DQ$1>=21,$DQ$1<=23),AX43,AY43))","v":19},14,14,19,{"$f":"IF($DQ$1<=20,LOOKUP(DR14,$DR$1:$DR$20,$DT$1:$DT$20),IF(AND($DQ$1>20,$DQ$1<24),LOOKUP(DR14,$DR$1:$DR$23,$DV$1:$DV$23),LOOKUP(DR19,$DR$1:$DR$32,$DY$1:$DY$32)))","v":""},{"$f":"COUNT(M39,G42,G43)","v":0},{"$f":"COUNTIF(CZ39:CZ44,AZ43)","v":6},{"$f":"BA43-(BB43+BD43)","v":-12},{"$f":"COUNTIF(DA39:DA44,AZ43)","v":6},{"$f":"SUM(J39:L39,D42:F42,D43:F43)","v":0},{"$f":"SUM(J40:L40,D41:F41,D44:F44)","v":0},{"$f":"BE43-BF43","v":0},{"$f":"IF(BA43=0,0,BB43*2+BD43*1)","v":0},{"$f":"IF(BH43>=BH44,AZ43,AZ44)","v":""},{"$f":"VLOOKUP(BI43,AZ41:BH44,9,FALSE)","v":0},{"$f":"IF(BJ43<=BJ41,BI43,BI41)","v":""},{"$f":"VLOOKUP(BK43,AZ41:BH44,9,FALSE)","v":0},{"$f":"IF(BL43<=BL42,BK43,BK42)","v":""},{"$f":"VLOOKUP(BM43,AZ41:BH44,9,FALSE)","v":0},{"$f":"VLOOKUP(BM43,AZ41:BH44,8,FALSE)","v":0},{"$f":"IF(AND(BN43=BN44,BO44>BO43),BM44,BM43)","v":""},{"$f":"VLOOKUP(BP43,AZ41:BH44,9,FALSE)","v":0},{"$f":"VLOOKUP(BP43,AZ41:BH44,8,FALSE)","v":0},{"$f":"IF(AND(BQ41=BQ43,BR43>BR41),BP41,BP43)","v":""},{"$f":"VLOOKUP(BS43,AZ41:BH44,9,FALSE)","v":0},{"$f":"VLOOKUP(BS43,AZ41:BH44,8,FALSE)","v":0},{"$f":"IF(AND(BT42=BT43,BU43>BU42),BS42,BS43)","v":""},{"$f":"VLOOKUP(BV43,AZ41:BH44,9,FALSE)","v":0},{"$f":"VLOOKUP(BV43,AZ41:BH44,8,FALSE)","v":0},{"$f":"VLOOKUP(BV43,AZ41:BH44,6,FALSE)","v":0},{"$f":"IF(AND(BW43=BW44,BX43=BX44,BY44>BY43),BV44,BV43)","v":""},{"$f":"VLOOKUP(BZ43,AZ41:BH44,9,FALSE)","v":0},{"$f":"VLOOKUP(BZ43,AZ41:BH44,8,FALSE)","v":0},{"$f":"VLOOKUP(BZ43,AZ41:BH44,6,FALSE)","v":0},{"$f":"IF(AND(CA41=CA43,CB41=CB43,CC42>CC41),BZ41,BZ43)","v":""},{"$f":"VLOOKUP(CD43,AZ41:BH44,9,FALSE)","v":0},{"$f":"VLOOKUP(CD43,AZ41:BH44,8,FALSE)","v":0},{"$f":"VLOOKUP(CD43,AZ41:BH44,6,FALSE)","v":0},{"$f":"IF(AND(CE42=CE43,CF42=CF43,CG43>CG42),CD42,CD43)","v":""},{"$f":"VLOOKUP(CH43,AZ41:BH44,9,FALSE)","v":0},{"$f":"VLOOKUP(CH43,AZ41:BH44,8,FALSE)","v":0},{"$f":"VLOOKUP(CH43,AZ41:BH44,6,FALSE)","v":0},null,null,null,{"$f":"CH43","v":""},{"$f":"VLOOKUP(CO43,AZ41:BH44,2,FALSE)","v":0},{"$f":"VLOOKUP(CO43,AZ41:BH44,3,FALSE)","v":6},{"$f":"VLOOKUP(CO43,AZ41:BH44,4,FALSE)","v":-12},{"$f":"VLOOKUP(CO43,AZ41:BH44,5,FALSE)","v":6},{"$f":"VLOOKUP(CO43,AZ41:BH44,6,FALSE)","v":0},{"$f":"VLOOKUP(CO43,AZ41:BH44,7,FALSE)","v":0},{"$f":"VLOOKUP(CO43,AZ41:BH44,8,FALSE)","v":0},{"$f":"VLOOKUP(CO43,AZ41:BH44,9,FALSE)","v":0},null,null,{"$f":"IF(M43<>\"\",IF(M43>M44,I43,IF(M44>M43,I44,\"Empate\")),\"\")","v":""},{"$f":"IF(M43<>\"\",IF(M43<M44,I43,IF(M44<M43,I44,\"Empate\")),\"\")","v":""},null,null,null,null,null,null,null,null,null,null,null,null,null,null,null,null,null,3,8,{"$f":"IF($D$43=\"\",\"1º Melhor 2º\",VLOOKUP(DS43,$EF$40:$EP$44,3,FALSE))","v":"1º Melhor 2º"},{"$f":"IF(D19=\"\",\"2º Grupo B\",AM18)","v":"2º Grupo B"},{"$f":"IF(D67=\"\",\"1º Grupo H\",AM65)","v":"1º Grupo H"},null,null,null,null,null,null,null,"D",{"$f":"COUNTIF($EQ$40:$EQ$44,CONCATENATE(\">=\",EQ43))","v":4},{"$f":"AL34","v":""},"","","","","","","","","",{"$error":"#VALUE!"},2]
[null,41,{"$f":"AZ42","v":""},null,null,null,{"$f":"IF(ISBLANK(D43),\"\",SUM(IF(D44>D43,1,0)+(IF(E44>E43,1,0)+(IF(F44>F43,1,0)))))","v":""},{"$f":"B44+1","v":42},{"$f":"IF(I43=\"\",\"\",AZ41)","v":""},null,null,null,{"$f":"IF(ISBLANK(J43),\"\",SUM(IF(J44>J43,1,0)+(IF(K44>K43,1,0)+(IF(L44>L43,1,0)))))","v":""},null,null,null,null,null,null,null,null,null,{"$f":"IF(P46=\"Bye\",P47,IF(P47=\"Bye\",P46,IF(T46=T47,\"\",IF(T46>T47,P46,P47))))","v":"1º Melhor 2º"},null,null,null,{"$f":"IF(ISBLANK(X43),\"\",SUM(IF(X44>X43,1,0)+(IF(Y44>Y43,1,0)+(IF(Z44>Z43,1,0)))))","v":""},null,null,null,null,null,null,null,null,null,null,{"$f":"IF(AM44=\"\",\"\",\"4º\")","v":""},{"$f":"CO44","v":""},{"$f":"IF(AM44=\"\",\"\",CP44)","v":""},{"$f":"IF(AM44=\"\",\"\",CQ44)","v":""},{"$f":"IF(AM44=\"\",\"\",CR44)","v":""},{"$f":"IF(AM44=\"\",\"\",CS44)","v":""},{"$f":"IF(AM44=\"\",\"\",CT44)","v":""},{"$f":"IF(AM44=\"\",\"\",CU44)","v":""},{"$f":"IF(AM44=\"\",\"\",CV44)","v":""},{"$f":"IF(AM44=\"\",\"\",CW44)","v":""},{"$f":"IF(AND($DQ$1>=17,$DQ$1<=20),AW44,IF(AND($DQ$1>=21,$DQ$1<=23),AX44,AY44))","v":30},19,19,30,{"$f":"IF($DQ$1<=20,LOOKUP(DR19,$DR$1:$DR$20,$DT$1:$DT$20),IF(AND($DQ$1>20,$DQ$1<24),LOOKUP(DR19,$DR$1:$DR$23,$DV$1:$DV$23),LOOKUP(DR30,$DR$1:$DR$32,$DY$1:$DY$32)))","v":""},{"$f":"COUNT(M40,M41,M43)","v":0},{"$f":"COUNTIF(CZ39:CZ44,AZ44)","v":6},{"$f":"BA44-(BB44+BD44)","v":-12},{"$f":"COUNTIF(DA39:DA44,AZ44)","v":6},{"$f":"SUM(J40:L40,J41:L41,J43:L43)","v":0},{"$f":"SUM(J39:L39,J42:L42,J44:L44)","v":0},{"$f":"BE44-BF44","v":0},{"$f":"IF(BA44=0,0,BB44*2+BD44*1)","v":0},{"$f":"IF(BH44<=BH43,AZ44,AZ43)","v":""},{"$f":"VLOOKUP(BI44,AZ41:BH44,9,FALSE)","v":0},{"$f":"IF(BJ44<=BJ42,BI44,BI42)","v":""},{"$f":"VLOOKUP(BK44,AZ41:BH44,9,FALSE)","v":0},{"$f":"IF(BL44<=BL41,BK44,BK41)","v":""},{"$f":"VLOOKUP(BM44,AZ41:BH44,9,FALSE)","v":0},{"$f":"VLOOKUP(BM44,AZ41:BH44,8,FALSE)","v":0},{"$f":"IF(AND(BN43=BN44,BO44>BO43),BM43,BM44)","v":""},{"$f":"VLOOKUP(BP44,AZ41:BH44,9,FALSE)","v":0},{"$f":"VLOOKUP(BP44,AZ41:BH44,8,FALSE)","v":0},{"$f":"IF(AND(BQ42=BQ44,BR44>BR42),BP42,BP44)","v":""},{"$f":"VLOOKUP(BS44,AZ41:BH44,9,FALSE)","v":0},{"$f":"VLOOKUP(BS44,AZ41:BH44,8,FALSE)","v":0},{"$f":"IF(AND(BT41=BT44,BU44>BU41),BS41,BS44)","v":""},{"$f":"VLOOKUP(BV44,AZ41:BH44,9,FALSE)","v":0},{"$f":"VLOOKUP(BV44,AZ41:BH44,8,FALSE)","v":0},{"$f":"VLOOKUP(BV44,AZ41:BH44,6,FALSE)","v":0},{"$f":"IF(AND(BW43=BW44,BX43=BX44,BY44>BY43),BV43,BV44)","v":""},{"$f":"VLOOKUP(BZ44,AZ41:BH44,9,FALSE)","v":0},{"$f":"VLOOKUP(BZ44,AZ41:BH44,8,FALSE)","v":0},{"$f":"VLOOKUP(BZ44,AZ41:BH44,6,FALSE)","v":0},{"$f":"IF(AND(CA42=CA44,CB42=CB44,CC44>CC42),BZ42,BZ44)","v":""},{"$f":"VLOOKUP(CD44,AZ41:BH44,9,FALSE)","v":0},{"$f":"VLOOKUP(CD44,AZ41:BH44,8,FALSE)","v":0},{"$f":"VLOOKUP(CD44,AZ41:BH44,6,FALSE)","v":0},{"$f":"IF(AND(CE41=CE44,CF41=CF44,CG44>CG41),CD41,CD44)","v":""},{"$f":"VLOOKUP(CH44,AZ41:BH44,9,FALSE)","v":0},{"$f":"VLOOKUP(CH44,AZ41:BH44,8,FALSE)","v":0},{"$f":"VLOOKUP(CH44,AZ41:BH44,6,FALSE)","v":0},null,null,null,{"$f":"CH44","v":""},{"$f":"VLOOKUP(CO44,AZ41:BH44,2,FALSE)","v":0},{"$f":"VLOOKUP(CO44,AZ41:BH44,3,FALSE)","v":6},{"$f":"VLOOKUP(CO44,AZ41:BH44,4,FALSE)","v":-12},{"$f":"VLOOKUP(CO44,AZ41:BH44,5,FALSE)","v":6},{"$f":"VLOOKUP(CO44,AZ41:BH44,6,FALSE)","v":0},{"$f":"VLOOKUP(CO44,AZ41:BH44,7,FALSE)","v":0},{"$f":"VLOOKUP(CO44,AZ41:BH44,8,FALSE)","v":0},{"$f":"VLOOKUP(CO44,AZ41:BH44,9,FALSE)","v":0},null,null,{"$f":"IF(G44<>\"\",IF(G44>G43,C44,IF(G43>G44,C43,\"Empate\")),\"\")","v":""},{"$f":"IF(G44<>\"\",IF(G44<G43,C44,IF(G43<G44,C43,\"Empate\")),\"\")","v":""},null,null,null,null,null,null,null,null,null,null,null,null,null,null,null,null,null,null,9,"Bye",{"$f":"IF(D27=\"\",\"2º Grupo C\",AM26)","v":"2º Grupo C"},{"$f":"IF(D59=\"\",\"2º Grupo G\",AM58)","v":"2º Grupo G"},null,null,null,null,null,null,null,"E",{"$f":"COUNTIF($EQ$40:$EQ$44,CONCATENATE(\">=\",EQ44))","v":1},{"$f":"AL42","v":"2º"},"",0,6,-12,6,0,0,0,0,1,1]
[null,null,null,null,null,null,null,null,null,null,null,null,null,null,null,"Jogo Nº",{"$f":"CONCATENATE($A$4,\" \",SUM($H$68+6))","v":"SH-InfA 54"},null,null,null,null,null,null,null,null,null,null,null,null,null,null,null,null,null,null,null,null,null,null,null,null,null,null,null,null,null,null,null,null,null,null,null,null,null,null,null,null,null,null,null,null,null,null,null,null,null,null,null,null,null,null,null,null,null,null,null,null,null,null,null,null,null,null,null,null,null,null,null,null,null,null,null,null,null,null,null,null,null,null,null,null,null,null,null,null,null,null,null,null,null,null,null,null,null,null,null,null,null,null,null,null,null,null,10,"Bye",{"$f":"IF(D35=\"\",\"2º Grupo D\",AM34)","v":"2º Grupo D"},{"$f":"IF(D67=\"\",\"2º Grupo H\",AM66)","v":"2º Grupo H"},null,null,null,null,null,null,null,"A",{"$f":"COUNTIF($EQ$45:$EQ$54,CONCATENATE(\">=\",EQ45))","v":4},{"$f":"AL11","v":""},"","","","","","","","","",{"$error":"#VALUE!"},10]
["Grupo F","NºJ","Jogadores",1,2,3,"R","NºJ","Jogadores",1,2,3,"R",null,11,{"$f":"IF($DQ$1<=20,LOOKUP(O46,$DT$36:$DT$51,$DU$36:$DU$51),IF(AND($DQ$1>20,$DQ$1<24),LOOKUP(O46,$DT$36:$DT$51,$DV$36:$DV$51),LOOKUP(O46,$DT$36:$DT$51,$DW$36:$DW$51)))","v":"Bye"},null,null,null,{"$f":"IF(ISBLANK(Q46),\"\",SUM(IF(Q46>Q47,1,0)+(IF(R46>R47,1,0)+(IF(S46>S47,1,0)))))","v":""},null,null,null,null,null,null,null,null,null,null,null,null,null,null,null,null,null,null,null,null,null,null,null,null,null,null,null,null,null,null,null,"Colocar Equipas",null,null,null,null,null,null,null,null,"Ordenar p/ Pts 1",null,"Ordenar p/ Pts 2",null,"Ordenar p/ Pts 3",null,null,"Ordenar p/ DG 1",null,null,"Ordenar p/ DG 2",null,null,"Ordenar p/ DG 3",null,null,null,"Ordenar p/ GM 1",null,null,null,"Ordenar p/ GM 2",null,null,null,"Ordenar p/ GM 3",null,null,null,null,null,null,null,null,null,null,null,null,null,null,null,null,null,"Vencedores","Derrotados",null,null,null,null,null,null,null,null,null,null,null,null,null,null,null,null,"Empates",null,11,"Bye",{"$f":"IF(D43=\"\",\"2º Grupo E\",AM42)","v":"2º Grupo E"},{"$f":"IF(D43=\"\",\"2º Grupo E\",AM42)","v":"2º Grupo E"},null,null,null,null,null,null,null,"B",4,{"$f":"AL19","v":""},"","","","","","","","","",{"$error":"#VALUE!"},9]
[null,{"$f":"$A$4","v":"SH-InfA"},{"$f":"AZ50","v":""},null,null,null,{"$f":"IF(ISBLANK(D47),\"\",SUM(IF(D47>D48,1,0)+(IF(E47>E48,1,0)+(IF(F47>F48,1,0)))))","v":""},{"$f":"$A$4","v":"SH-InfA"},{"$f":"IF(I48=\"\",\"\",AZ51)","v":""},null,null,null,{"$f":"IF(ISBLANK(J47),\"\",SUM(IF(J47>J48,1,0)+(IF(K47>K48,1,0)+(IF(L47>L48,1,0)))))","v":""},null,6,{"$f":"IF($DQ$1<=20,LOOKUP(O47,$DT$36:$DT$51,$DU$36:$DU$51),IF(AND($DQ$1>20,$DQ$1<24),LOOKUP(O47,$DT$36:$DT$51,$DV$36:$DV$51),LOOKUP(O47,$DT$36:$DT$51,$DW$36:$DW$51)))","v":"1º Melhor 2º"},null,null,null,{"$f":"IF(ISBLANK(Q46),\"\",SUM(IF(Q47>Q46,1,0)+(IF(R47>R46,1,0)+(IF(S47>S46,1,0)))))","v":""},null,null,null,null,null,null,null,null,null,null,null,null,null,null,null,null,null,null,"Classificação Grupo F",null,null,null,null,null,null,null,null,null,null,null,null,"Grupo F",null,null,null,null,null,null,null,null,null,null,null,null,null,null,null,null,null,null,null,null,null,null,null,null,null,null,null,null,null,null,null,null,null,null,null,null,null,null,null,null,null,null,null,null,null,null,null,null,null,null,null,{"$f":"IF(G48<>\"\",IF(G48>G47,C48,IF(G47>G48,C47,\"Empate\")),\"\")","v":""},{"$f":"IF(G48<>\"\",IF(G48<G47,C48,IF(G47<G48,C47,\"Empate\")),\"\")","v":""},null,null,null,null,null,null,null,null,null,null,null,null,null,null,null,null,"Gr6",null,12,"Bye",{"$f":"IF(D51=\"\",\"2º Grupo F\",AM50)","v":"2º Grupo F"},{"$f":"IF(D51=\"\",\"2º Grupo F\",AM50)","v":"2º Grupo F"},null,null,null,null,null,null,null,"C",4,{"$f":"AL27","v":""},"","","","","","","","","",{"$error":"#VALUE!"},8]
[null,{"$f":"H40+1","v":11},{"$f":"AZ49","v":""},null,null,null,{"$f":"IF(ISBLANK(D47),\"\",SUM(IF(D48>D47,1,0)+(IF(E48>E47,1,0)+(IF(F48>F47,1,0)))))","v":""},{"$f":"B48+1","v":12},{"$f":"AZ52","v":""},null,null,null,{"$f":"IF(ISBLANK(J47),\"\",SUM(IF(J48>J47,1,0)+(IF(K48>K47,1,0)+(IF(L48>L47,1,0)))))","v":""},null,null,null,null,null,null,null,null,null,null,null,null,null,null,null,null,"Jogo Nº",{"$f":"CONCATENATE($A$4,\" \",SUM($H$68+14))","v":"SH-InfA 62"},null,null,null,null,null,null,"Cl",{"$f":"AZ48","v":"Jogadores"},"Jg","V","E","D","PM","PS","DP","Pt.",null,null,null,null,"Jogadores","Jg","V","E","D","GM","GS","DG","Pts","Equipas","Pts","Equipas","Pts","Equipas","Pts","DG","Equipas","Pts","DG","Equipas","Pts","DG","Equipas","Pts","DG","GM","Equipas","Pts","DG","GM","Equipas","Pts","DG","GM","Equipas","Pts","DG","GM",null,null,null,"Equipas","Jg","V","D","E","GM","GS","DG","Pts",null,null,{"$f":"IF(M47<>\"\",IF(M47>M48,I47,IF(M48>M47,I48,\"Empate\")),\"\")","v":""},{"$f":"IF(M47<>\"\",IF(M47<M48,I47,IF(M48<M47,I48,\"Empate\")),\"\")","v":""},null,null,null,null,null,null,null,null,null,null,null,null,null,null,null,null,1,null,13,"Bye",{"$f":"IF($D$51=\"\",\"1º Melhor 3º\",VLOOKUP(DR48,$EF$58:$EP$63,3,FALSE))","v":"1º Melhor 3º"},{"$f":"IF(D27=\"\",\"2º Grupo C\",AM26)","v":"2º Grupo C"},null,null,null,null,null,null,null,"D",4,{"$f":"AL35","v":""},"","","","","","","","","",{"$error":"#VALUE!"},7]
[null,{"$f":"$A$4","v":"SH-InfA"},{"$f":"AZ49","v":""},null,null,null,{"$f":"IF(ISBLANK(D49),\"\",SUM(IF(D49>D50,1,0)+(IF(E49>E50,1,0)+(IF(F49>F50,1,0)))))","v":""},{"$f":"$A$4","v":"SH-InfA"},{"$f":"AZ52","v":""},null,null,null,{"$f":"IF(ISBLANK(J49),\"\",SUM(IF(J49>J50,1,0)+(IF(K49>K50,1,0)+(IF(L49>L50,1,0)))))","v":""},null,null,null,null,null,null,null,null,null,null,null,null,null,null,null,null,{"$f":"IF(AA43=AA44,\"\",IF(AA43>AA44,W43,W44))","v":""},null,null,null,{"$f":"IF(ISBLANK(AE49),\"\",SUM(IF(AE49>AE50,1,0)+(IF(AF49>AF50,1,0)+(IF(AG49>AG50,1,0)))))","v":""},null,4,null,{"$f":"IF(AM49=\"\",\"\",\"1º\")","v":""},{"$f":"CO49","v":""},{"$f":"IF(AM49=\"\",\"\",CP49)","v":""},{"$f":"IF(AM49=\"\",\"\",CQ49)","v":""},{"$f":"IF(AM49=\"\",\"\",CR49)","v":""},{"$f":"IF(AM49=\"\",\"\",CS49)","v":""},{"$f":"IF(AM49=\"\",\"\",CT49)","v":""},{"$f":"IF(AM49=\"\",\"\",CU49)","v":""},{"$f":"IF(AM49=\"\",\"\",CV49)","v":""},{"$f":"IF(AM49=\"\",\"\",CW49)","v":""},{"$f":"IF(AND($DQ$1>=17,$DQ$1<=20),AW49,IF(AND($DQ$1>=21,$DQ$1<=23),AX49,AY49))","v":6}," ",2,6,{"$f":"IF($DQ$1<=20,\"\",IF(AND($DQ$1>20,$DQ$1<24),LOOKUP(DR2,$DR$1:$DR$23,$DV$1:$DV$23),LOOKUP(DR6,$DR$1:$DR$32,$DY$1:$DY$32)))","v":""},{"$f":"COUNT(G48,G49,M52)","v":0},{"$f":"COUNTIF(CZ47:CZ52,AZ49)","v":6},{"$f":"BA49-(BB49+BD49)","v":-12},{"$f":"COUNTIF(DA47:DA52,AZ49)","v":6},{"$f":"SUM(D48:F48,D49:F49,J52:L52)","v":0},{"$f":"SUM(D47:F47,D50:F50,J51:L51)","v":0},{"$f":"BE49-BF49","v":0},{"$f":"IF(BA49=0,0,BB49*2+BD49*1)","v":0},{"$f":"IF(BH49>=BH50,AZ49,AZ50)","v":""},{"$f":"VLOOKUP(BI49,AZ49:BH52,9,FALSE)","v":0},{"$f":"IF(BJ49>=BJ51,BI49,BI51)","v":""},{"$f":"VLOOKUP(BK49,AZ49:BH52,9,FALSE)","v":0},{"$f":"IF(BL49>=BL52,BK49,BK52)","v":""},{"$f":"VLOOKUP(BM49,AZ49:BH52,9,FALSE)","v":0},{"$f":"VLOOKUP(BM49,AZ49:BH52,8,FALSE)","v":0},{"$f":"IF(AND(BN49=BN50,BO50>BO49),BM50,BM49)","v":""},{"$f":"VLOOKUP(BP49,AZ49:BH52,9,FALSE)","v":0},{"$f":"VLOOKUP(BP49,AZ49:BH52,8,FALSE)","v":0},{"$f":"IF(AND(BQ49=BQ51,BR51>BR49),BP51,BP49)","v":""},{"$f":"VLOOKUP(BS49,AZ49:BH52,9,FALSE)","v":0},{"$f":"VLOOKUP(BS49,AZ49:BH52,8,FALSE)","v":0},{"$f":"IF(AND(BT49=BT52,BU52>BU49),BS52,BS49)","v":""},{"$f":"VLOOKUP(BV49,AZ49:BH52,9,FALSE)","v":0},{"$f":"VLOOKUP(BV49,AZ49:BH52,8,FALSE)","v":0},{"$f":"VLOOKUP(BV49,AZ49:BH52,6,FALSE)","v":0},{"$f":"IF(AND(BW49=BW50,BX49=BX50,BY50>BY49),BV50,BV49)","v":""},{"$f":"VLOOKUP(BZ49,AZ49:BH52,9,FALSE)","v":0},{"$f":"VLOOKUP(BZ49,AZ49:BH52,8,FALSE)","v":0},{"$f":"VLOOKUP(BZ49,AZ49:BH52,6,FALSE)","v":0},{"$f":"IF(AND(CA49=CA51,CB49=CB51,CC51>CC49),BZ51,BZ49)","v":""},{"$f":"VLOOKUP(CD49,AZ49:BH52,9,FALSE)","v":0},{"$f":"VLOOKUP(CD49,AZ49:BH52,8,FALSE)","v":0},{"$f":"VLOOKUP(CD49,AZ49:BH52,6,FALSE)","v":0},{"$f":"IF(AND(CE49=CE52,CF49=CF52,CG52>CG49),CD52,CD49)","v":""},{"$f":"VLOOKUP(CH49,AZ49:BH52,9,FALSE)","v":0},{"$f":"VLOOKUP(CH49,AZ49:BH52,8,FALSE)","v":0},{"$f":"VLOOKUP(CH49,AZ49:BH52,6,FALSE)","v":0},null,null,null,{"$f":"CH49","v":""},{"$f":"VLOOKUP(CO49,AZ49:BH52,2,FALSE)","v":0},{"$f":"VLOOKUP(CO49,AZ49:BH52,3,FALSE)","v":6},{"$f":"VLOOKUP(CO49,AZ49:BH52,4,FALSE)","v":-12},{"$f":"VLOOKUP(CO49,AZ49:BH52,5,FALSE)","v":6},{"$f":"VLOOKUP(CO49,AZ49:BH52,6,FALSE)","v":0},{"$f":"VLOOKUP(CO49,AZ49:BH52,7,FALSE)","v":0},{"$f":"VLOOKUP(CO49,AZ49:BH52,8,FALSE)","v":0},{"$f":"VLOOKUP(CO49,AZ49:BH52,9,FALSE)","v":0},null,null,{"$f":"IF(G49<>\"\",IF(G49>G50,C49,IF(G50>G49,C50,\"Empate\")),\"\")","v":""},{"$f":"IF(G49<>\"\",IF(G49<G50,C49,IF(G50<G49,C50,\"Empate\")),\"\")","v":""},null,null,null,null,null,null,null,null,null,null,null,null,null,null,null,null,2,null,14,"Bye",{"$f":"IF($D$51=\"\",\"2º Melhor 3º\",VLOOKUP(DR49,$EF$58:$EP$63,3,FALSE))","v":"2º Melhor 3º"},{"$f":"IF(D35=\"\",\"2º Grupo D\",AM34)","v":"2º Grupo D"},null,null,null,null,null,null,null,"E",1,{"$f":"AL43","v":"3º"},"",0,6,-12,6,0,0,0,0,6,6]
[null,{"$f":"H42+1","v":27},{"$f":"AZ51","v":""},null,null,null,{"$f":"IF(ISBLANK(D49),\"\",SUM(IF(D50>D49,1,0)+(IF(E50>E49,1,0)+(IF(F50>F49,1,0)))))","v":""},{"$f":"B50+1","v":28},{"$f":"IF(I49=\"\",\"\",AZ50)","v":""},null,null,null,{"$f":"IF(ISBLANK(J49),\"\",SUM(IF(J50>J49,1,0)+(IF(K50>K49,1,0)+(IF(L50>L49,1,0)))))","v":""},null,null,null,null,null,null,null,null,null,null,null,null,null,null,null,null,{"$f":"IF(AA56=AA57,\"\",IF(AA56>AA57,W56,W57))","v":""},null,null,null,{"$f":"IF(ISBLANK(AE49),\"\",SUM(IF(AE50>AE49,1,0)+(IF(AF50>AF49,1,0)+(IF(AG50>AG49,1,0)))))","v":""},null,6,null,{"$f":"IF(AM50=\"\",\"\",\"2º\")","v":""},{"$f":"CO50","v":""},{"$f":"IF(AM50=\"\",\"\",CP50)","v":""},{"$f":"IF(AM50=\"\",\"\",CQ50)","v":""},{"$f":"IF(AM50=\"\",\"\",CR50)","v":""},{"$f":"IF(AM50=\"\",\"\",CS50)","v":""},{"$f":"IF(AM50=\"\",\"\",CT50)","v":""},{"$f":"IF(AM50=\"\",\"\",CU50)","v":""},{"$f":"IF(AM50=\"\",\"\",CV50)","v":""},{"$f":"IF(AM50=\"\",\"\",CW50)","v":""},{"$f":"IF(AND($DQ$1>=17,$DQ$1<=20),AW50,IF(AND($DQ$1>=21,$DQ$1<=23),AX50,AY50))","v":11}," ",11,11,{"$f":"IF($DQ$1<=20,\"\",IF(AND($DQ$1>20,$DQ$1<24),LOOKUP(DR11,$DR$1:$DR$23,$DV$1:$DV$23),LOOKUP(DR11,$DR$1:$DR$32,$DY$1:$DY$32)))","v":""},{"$f":"COUNT(G47,M50,G52)","v":0},{"$f":"COUNTIF(CZ47:CZ52,AZ50)","v":6},{"$f":"BA50-(BB50+BD50)","v":-12},{"$f":"COUNTIF(DA47:DA52,AZ50)","v":6},{"$f":"SUM(D47:F47,J50:L50,D52:F52)","v":0},{"$f":"SUM(D48:F48,J49:L49,D51:F51)","v":0},{"$f":"BE50-BF50","v":0},{"$f":"IF(BA50=0,0,BB50*2+BD50*1)","v":0},{"$f":"IF(BH50<=BH49,AZ50,AZ49)","v":""},{"$f":"VLOOKUP(BI50,AZ49:BH52,9,FALSE)","v":0},{"$f":"IF(BJ50>=BJ52,BI50,BI52)","v":""},{"$f":"VLOOKUP(BK50,AZ49:BH52,9,FALSE)","v":0},{"$f":"IF(BL50>=BL51,BK50,BK51)","v":""},{"$f":"VLOOKUP(BM50,AZ49:BH52,9,FALSE)","v":0},{"$f":"VLOOKUP(BM50,AZ49:BH52,8,FALSE)","v":0},{"$f":"IF(AND(BN49=BN50,BO50>BO49),BM49,BM50)","v":""},{"$f":"VLOOKUP(BP50,AZ49:BH52,9,FALSE)","v":0},{"$f":"VLOOKUP(BP50,AZ49:BH52,8,FALSE)","v":0},{"$f":"IF(AND(BQ50=BQ52,BR52>BR50),BP52,BP50)","v":""},{"$f":"VLOOKUP(BS50,AZ49:BH52,9,FALSE)","v":0},{"$f":"VLOOKUP(BS50,AZ49:BH52,8,FALSE)","v":0},{"$f":"IF(AND(BT50=BT51,BU51>BU50),BS51,BS50)","v":""},{"$f":"VLOOKUP(BV50,AZ49:BH52,9,FALSE)","v":0},{"$f":"VLOOKUP(BV50,AZ49:BH52,8,FALSE)","v":0},{"$f":"VLOOKUP(BV50,AZ49:BH52,6,FALSE)","v":0},{"$f":"IF(AND(BW49=BW50,BX49=BX50,BY50>BY49),BV49,BV50)","v":""},{"$f":"VLOOKUP(BZ50,AZ49:BH52,9,FALSE)","v":0},{"$f":"VLOOKUP(BZ50,AZ49:BH52,8,FALSE)","v":0},{"$f":"VLOOKUP(BZ50,AZ49:BH52,6,FALSE)","v":0},{"$f":"IF(AND(CA50=CA52,CB50=CB52,CC52>CC50),BZ52,BZ50)","v":""},{"$f":"VLOOKUP(CD50,AZ49:BH52,9,FALSE)","v":0},{"$f":"VLOOKUP(CD50,AZ49:BH52,8,FALSE)","v":0},{"$f":"VLOOKUP(CD50,AZ49:BH52,6,FALSE)","v":0},{"$f":"IF(AND(CE50=CE51,CF50=CF51,CG51>CG50),CD51,CD50)","v":""},{"$f":"VLOOKUP(CH50,AZ49:BH52,9,FALSE)","v":0},{"$f":"VLOOKUP(CH50,AZ49:BH52,8,FALSE)","v":0},{"$f":"VLOOKUP(CH50,AZ49:BH52,6,FALSE)","v":0},null,null,null,{"$f":"CH50","v":""},{"$f":"VLOOKUP(CO50,AZ49:BH52,2,FALSE)","v":0},{"$f":"VLOOKUP(CO50,AZ49:BH52,3,FALSE)","v":6},{"$f":"VLOOKUP(CO50,AZ49:BH52,4,FALSE)","v":-12},{"$f":"VLOOKUP(CO50,AZ49:BH52,5,FALSE)","v":6},{"$f":"VLOOKUP(CO50,AZ49:BH52,6,FALSE)","v":0},{"$f":"VLOOKUP(CO50,AZ49:BH52,7,FALSE)","v":0},{"$f":"VLOOKUP(CO50,AZ49:BH52,8,FALSE)","v":0},{"$f":"VLOOKUP(CO50,AZ49:BH52,9,FALSE)","v":0},null,null,{"$f":"IF(M49<>\"\",IF(M49>M50,I49,IF(M50>M49,I50,\"Empate\")),\"\")","v":""},{"$f":"IF(M49<>\"\",IF(M49<M50,I49,IF(M50<M49,I50,\"Empate\")),\"\")","v":""},null,null,null,null,null,null,null,null,null,null,null,null,null,null,null,"Empates",3,null,15,"Bye",{"$f":"IF($D$51=\"\",\"3º Melhor 3º\",VLOOKUP(DR50,$EF$58:$EP$63,3,FALSE))","v":"3º Melhor 3º"},{"$f":"IF(D11=\"\",\"2º Grupo A\",AM10)","v":"2º Grupo A"},null,null,null,null,null,null,null,"A",2,{"$f":"AL12","v":""},"","","","","",{"$f":"IF($EH$50=\"\",-0.1,AR12)","v":-0.1},{"$f":"IF($EH$50=\"\",-0.1,AS12)","v":-0.1},{"$f":"IF($EH$50=\"\",-0.1,AT12)","v":-0.1},{"$f":"IF($EH$50=\"\",-0.1,AU12)","v":-0.1},-100005,5]
[null,{"$f":"$A$4","v":"SH-InfA"},{"$f":"AZ51","v":""},null,null,null,{"$f":"IF(ISBLANK(D51),\"\",SUM(IF(D51>D52,1,0)+(IF(E51>E52,1,0)+(IF(F51>F52,1,0)))))","v":""},{"$f":"$A$4","v":"SH-InfA"},{"$f":"AZ52","v":""},null,null,null,{"$f":"IF(ISBLANK(J51),\"\",SUM(IF(J51>J52,1,0)+(IF(K51>K52,1,0)+(IF(L51>L52,1,0)))))","v":""},null,null,null,null,null,null,null,null,null,null,null,null,null,null,null,null,null,null,null,null,null,null,null,null,{"$f":"IF(AM51=\"\",\"\",\"3º\")","v":""},{"$f":"CO51","v":""},{"$f":"IF(AM51=\"\",\"\",CP51)","v":""},{"$f":"IF(AM51=\"\",\"\",CQ51)","v":""},{"$f":"IF(AM51=\"\",\"\",CR51)","v":""},{"$f":"IF(AM51=\"\",\"\",CS51)","v":""},{"$f":"IF(AM51=\"\",\"\",CT51)","v":""},{"$f":"IF(AM51=\"\",\"\",CU51)","v":""},{"$f":"IF(AM51=\"\",\"\",CV51)","v":""},{"$f":"IF(AM51=\"\",\"\",CW51)","v":""},{"$f":"IF(AND($DQ$1>=17,$DQ$1<=20),AW51,IF(AND($DQ$1>=21,$DQ$1<=23),AX51,AY51))","v":22}," ",17,22,{"$f":"IF($DQ$1<=20,\"\",IF(AND($DQ$1>20,$DQ$1<24),LOOKUP(DR17,$DR$1:$DR$23,$DV$1:$DV$23),LOOKUP(DR22,$DR$1:$DR$32,$DY$1:$DY$32)))","v":""},{"$f":"COUNT(M47,G50,G51)","v":0},{"$f":"COUNTIF(CZ47:CZ52,AZ51)","v":6},{"$f":"BA51-(BB51+BD51)","v":-12},{"$f":"COUNTIF(DA47:DA52,AZ51)","v":6},{"$f":"SUM(J47:L47,D50:F50,D51:F51)","v":0},{"$f":"SUM(J48:L48,D49:F49,D52:F52)","v":0},{"$f":"BE51-BF51","v":0},{"$f":"IF(BA51=0,0,BB51*2+BD51*1)","v":0},{"$f":"IF(BH51>=BH52,AZ51,AZ52)","v":""},{"$f":"VLOOKUP(BI51,AZ49:BH52,9,FALSE)","v":0},{"$f":"IF(BJ51<=BJ49,BI51,BI49)","v":""},{"$f":"VLOOKUP(BK51,AZ49:BH52,9,FALSE)","v":0},{"$f":"IF(BL51<=BL50,BK51,BK50)","v":""},{"$f":"VLOOKUP(BM51,AZ49:BH52,9,FALSE)","v":0},{"$f":"VLOOKUP(BM51,AZ49:BH52,8,FALSE)","v":0},{"$f":"IF(AND(BN51=BN52,BO52>BO51),BM52,BM51)","v":""},{"$f":"VLOOKUP(BP51,AZ49:BH52,9,FALSE)","v":0},{"$f":"VLOOKUP(BP51,AZ49:BH52,8,FALSE)","v":0},{"$f":"IF(AND(BQ49=BQ51,BR51>BR49),BP49,BP51)","v":""},{"$f":"VLOOKUP(BS51,AZ49:BH52,9,FALSE)","v":0},{"$f":"VLOOKUP(BS51,AZ49:BH52,8,FALSE)","v":0},{"$f":"IF(AND(BT50=BT51,BU51>BU50),BS50,BS51)","v":""},{"$f":"VLOOKUP(BV51,AZ49:BH52,9,FALSE)","v":0},{"$f":"VLOOKUP(BV51,AZ49:BH52,8,FALSE)","v":0},{"$f":"VLOOKUP(BV51,AZ49:BH52,6,FALSE)","v":0},{"$f":"IF(AND(BW51=BW52,BX51=BX52,BY52>BY51),BV52,BV51)","v":""},{"$f":"VLOOKUP(BZ51,AZ49:BH52,9,FALSE)","v":0},{"$f":"VLOOKUP(BZ51,AZ49:BH52,8,FALSE)","v":0},{"$f":"VLOOKUP(BZ51,AZ49:BH52,6,FALSE)","v":0},{"$f":"IF(AND(CA49=CA51,CB49=CB51,CC50>CC49),BZ49,BZ51)","v":""},{"$f":"VLOOKUP(CD51,AZ49:BH52,9,FALSE)","v":0},{"$f":"VLOOKUP(CD51,AZ49:BH52,8,FALSE)","v":0},{"$f":"VLOOKUP(CD51,AZ49:BH52,6,FALSE)","v":0},{"$f":"IF(AND(CE50=CE51,CF50=CF51,CG51>CG50),CD50,CD51)","v":""},{"$f":"VLOOKUP(CH51,AZ49:BH52,9,FALSE)","v":0},{"$f":"VLOOKUP(CH51,AZ49:BH52,8,FALSE)","v":0},{"$f":"VLOOKUP(CH51,AZ49:BH52,6,FALSE)","v":0},null,null,null,{"$f":"CH51","v":""},{"$f":"VLOOKUP(CO51,AZ49:BH52,2,FALSE)","v":0},{"$f":"VLOOKUP(CO51,AZ49:BH52,3,FALSE)","v":6},{"$f":"VLOOKUP(CO51,AZ49:BH52,4,FALSE)","v":-12},{"$f":"VLOOKUP(CO51,AZ49:BH52,5,FALSE)","v":6},{"$f":"VLOOKUP(CO51,AZ49:BH52,6,FALSE)","v":0},{"$f":"VLOOKUP(CO51,AZ49:BH52,7,FALSE)","v":0},{"$f":"VLOOKUP(CO51,AZ49:BH52,8,FALSE)","v":0},{"$f":"VLOOKUP(CO51,AZ49:BH52,9,FALSE)","v":0},null,null,{"$f":"IF(M51<>\"\",IF(M51>M52,I51,IF(M52>M51,I52,\"Empate\")),\"\")","v":""},{"$f":"IF(M51<>\"\",IF(M51<M52,I51,IF(M52<M51,I52,\"Empate\")),\"\")","v":""},null,null,null,null,null,null,null,null,null,null,null,null,null,null,null,"Gr8",4,null,16,"Bye",{"$f":"IF($D$51=\"\",\"4º Melhor 3º\",VLOOKUP(DR51,$EF$58:$EP$63,3,FALSE))","v":"4º Melhor 3º"},{"$f":"IF(D19=\"\",\"2º Grupo B\",AM18)","v":"2º Grupo B"},null,null,null,null,null,null,null,"B",3,{"$f":"AL20","v":""},"","","","","",{"$f":"IF($EH$51=\"\",-0.1,AR20)","v":-0.1},{"$f":"IF($EH$51=\"\",-0.1,AS20)","v":-0.1},{"$f":"IF($EH$51=\"\",-0.1,AT20)","v":-0.1},{"$f":"IF($EH$51=\"\",-0.1,AU20)","v":-0.1},-100006,4]
[null,{"$f":"H44+1","v":43},{"$f":"AZ50","v":""},null,null,null,{"$f":"IF(ISBLANK(D51),\"\",SUM(IF(D52>D51,1,0)+(IF(E52>E51,1,0)+(IF(F52>F51,1,0)))))","v":""},{"$f":"B52+1","v":44},{"$f":"IF(I51=\"\",\"\",AZ49)","v":""},null,null,null,{"$f":"IF(ISBLANK(J51),\"\",SUM(IF(J52>J51,1,0)+(IF(K52>K51,1,0)+(IF(L52>L51,1,0)))))","v":""},null,null,"Jogo Nº",{"$f":"CONCATENATE($A$4,\" \",SUM($H$68+7))","v":"SH-InfA 55"},null,null,null,null,null,null,null,null,null,null,null,null,null,null,null,null,null,null,null,null,{"$f":"IF(AM52=\"\",\"\",\"4º\")","v":""},{"$f":"CO52","v":""},{"$f":"IF(AM52=\"\",\"\",CP52)","v":""},{"$f":"IF(AM52=\"\",\"\",CQ52)","v":""},{"$f":"IF(AM52=\"\",\"\",CR52)","v":""},{"$f":"IF(AM52=\"\",\"\",CS52)","v":""},{"$f":"IF(AM52=\"\",\"\",CT52)","v":""},{"$f":"IF(AM52=\"\",\"\",CU52)","v":""},{"$f":"IF(AM52=\"\",\"\",CV52)","v":""},{"$f":"IF(AM52=\"\",\"\",CW52)","v":""},{"$f":"IF(AND($DQ$1>=17,$DQ$1<=20),AW52,IF(AND($DQ$1>=21,$DQ$1<=23),AX52,AY52))","v":27}," ",23,27,{"$f":"IF($DQ$1<=20,\"\",IF(AND($DQ$1>20,$DQ$1<24),LOOKUP(DR23,$DR$1:$DR$23,$DV$1:$DV$23),LOOKUP(DR27,$DR$1:$DR$32,$DY$1:$DY$32)))","v":""},{"$f":"COUNT(M48,M49,M51)","v":0},{"$f":"COUNTIF(CZ47:CZ52,AZ52)","v":6},{"$f":"BA52-(BB52+BD52)","v":-12},{"$f":"COUNTIF(DA47:DA52,AZ52)","v":6},{"$f":"SUM(J48:L48,J49:L49,J51:L51)","v":0},{"$f":"SUM(J47:L47,J50:L50,J52:L52)","v":0},{"$f":"BE52-BF52","v":0},{"$f":"IF(BA52=0,0,BB52*2+BD52*1)","v":0},{"$f":"IF(BH52<=BH51,AZ52,AZ51)","v":""},{"$f":"VLOOKUP(BI52,AZ49:BH52,9,FALSE)","v":0},{"$f":"IF(BJ52<=BJ50,BI52,BI50)","v":""},{"$f":"VLOOKUP(BK52,AZ49:BH52,9,FALSE)","v":0},{"$f":"IF(BL52<=BL49,BK52,BK49)","v":""},{"$f":"VLOOKUP(BM52,AZ49:BH52,9,FALSE)","v":0},{"$f":"VLOOKUP(BM52,AZ49:BH52,8,FALSE)","v":0},{"$f":"IF(AND(BN51=BN52,BO52>BO51),BM51,BM52)","v":""},{"$f":"VLOOKUP(BP52,AZ49:BH52,9,FALSE)","v":0},{"$f":"VLOOKUP(BP52,AZ49:BH52,8,FALSE)","v":0},{"$f":"IF(AND(BQ50=BQ52,BR52>BR50),BP50,BP52)","v":""},{"$f":"VLOOKUP(BS52,AZ49:BH52,9,FALSE)","v":0},{"$f":"VLOOKUP(BS52,AZ49:BH52,8,FALSE)","v":0},{"$f":"IF(AND(BT49=BT52,BU52>BU49),BS49,BS52)","v":""},{"$f":"VLOOKUP(BV52,AZ49:BH52,9,FALSE)","v":0},{"$f":"VLOOKUP(BV52,AZ49:BH52,8,FALSE)","v":0},{"$f":"VLOOKUP(BV52,AZ49:BH52,6,FALSE)","v":0},{"$f":"IF(AND(BW51=BW52,BX51=BX52,BY52>BY51),BV51,BV52)","v":""},{"$f":"VLOOKUP(BZ52,AZ49:BH52,9,FALSE)","v":0},{"$f":"VLOOKUP(BZ52,AZ49:BH52,8,FALSE)","v":0},{"$f":"VLOOKUP(BZ52,AZ49:BH52,6,FALSE)","v":0},{"$f":"IF(AND(CA50=CA52,CB50=CB52,CC52>CC50),BZ50,BZ52)","v":""},{"$f":"VLOOKUP(CD52,AZ49:BH52,9,FALSE)","v":0},{"$f":"VLOOKUP(CD52,AZ49:BH52,8,FALSE)","v":0},{"$f":"VLOOKUP(CD52,AZ49:BH52,6,FALSE)","v":0},{"$f":"IF(AND(CE49=CE52,CF49=CF52,CG52>CG49),CD49,CD52)","v":""},{"$f":"VLOOKUP(CH52,AZ49:BH52,9,FALSE)","v":0},{"$f":"VLOOKUP(CH52,AZ49:BH52,8,FALSE)","v":0},{"$f":"VLOOKUP(CH52,AZ49:BH52,6,FALSE)","v":0},null,null,null,{"$f":"CH52","v":""},{"$f":"VLOOKUP(CO52,AZ49:BH52,2,FALSE)","v":0},{"$f":"VLOOKUP(CO52,AZ49:BH52,3,FALSE)","v":6},{"$f":"VLOOKUP(CO52,AZ49:BH52,4,FALSE)","v":-12},{"$f":"VLOOKUP(CO52,AZ49:BH52,5,FALSE)","v":6},{"$f":"VLOOKUP(CO52,AZ49:BH52,6,FALSE)","v":0},{"$f":"VLOOKUP(CO52,AZ49:BH52,7,FALSE)","v":0},{"$f":"VLOOKUP(CO52,AZ49:BH52,8,FALSE)","v":0},{"$f":"VLOOKUP(CO52,AZ49:BH52,9,FALSE)","v":0},null,null,{"$f":"IF(G52<>\"\",IF(G52>G51,C52,IF(G51>G52,C51,\"Empate\")),\"\")","v":""},{"$f":"IF(G52<>\"\",IF(G52<G51,C52,IF(G51<G52,C51,\"Empate\")),\"\")","v":""},null,null,null,null,null,null,null,null,null,null,null,null,null,null,null,1,5,4,17,{"$f":"IF($D$43=\"\",\"\",VLOOKUP(DS52,$EF$40:$EP$44,3,FALSE))","v":""},{"$f":"IF($D$51=\"\",\"\",VLOOKUP(DR52,$EF$58:$EP$63,3,FALSE))","v":""},{"$f":"IF($D$51=\"\",\"\",VLOOKUP(DQ52,$EF$74:$EP$89,3,FALSE))","v":""},null,null,null,null,null,null,null,"C",4,{"$f":"AL28","v":""},"","","","","",{"$f":"IF($EH$52=\"\",-0.1,AR28)","v":-0.1},{"$f":"IF($EH$52=\"\",-0.1,AS28)","v":-0.1},{"$f":"IF($EH$52=\"\",-0.1,AT28)","v":-0.1},{"$f":"IF($EH$52=\"\",-0.1,AU28)","v":-0.1},-100007,3]
[null,null,null,null,null,null,null,null,null,null,null,null,null,null,7,{"$f":"IF($DQ$1<=20,LOOKUP(O53,$DT$36:$DT$51,$DU$36:$DU$51),IF(AND($DQ$1>20,$DQ$1<24),LOOKUP(O53,$DT$36:$DT$51,$DV$36:$DV$51),LOOKUP(O53,$DT$36:$DT$51,$DW$36:$DW$51)))","v":"1º Melhor 2º"},null,null,null,{"$f":"IF(ISBLANK(Q53),\"\",SUM(IF(Q53>Q54,1,0)+(IF(R53>R54,1,0)+(IF(S53>S54,1,0)))))","v":""},null,null,null,null,null,null,null,null,null,null,null,null,null,null,null,null,null,null,null,null,null,null,null,null,null,null,null,null,null,null,null,null,null,null,null,null,null,null,null,null,null,null,null,null,null,null,null,null,null,null,null,null,null,null,null,null,null,null,null,null,null,null,null,null,null,null,null,null,null,null,null,null,null,null,null,null,null,null,null,null,null,null,null,null,null,null,null,null,null,null,null,null,null,null,null,null,null,null,null,null,2,6,5,18,{"$f":"IF($D$43=\"\",\"\",VLOOKUP(DS53,$EF$40:$EP$44,3,FALSE))","v":""},{"$f":"IF($D$51=\"\",\"\",VLOOKUP(DR53,$EF$58:$EP$63,3,FALSE))","v":""},"",null,null,null,null,null,null,null,"D",5,{"$f":"AL36","v":""},"","","","","",{"$f":"IF($EH$53=\"\",-0.1,AR36)","v":-0.1},{"$f":"IF($EH$53=\"\",-0.1,AS36)","v":-0.1},{"$f":"IF($EH$53=\"\",-0.1,AT36)","v":-0.1},{"$f":"IF($EH$53=\"\",-0.1,AU36)","v":-0.1},-100008,2]
["Grupo G","NºJ","Jogadores",1,2,3,"R","NºJ","Jogadores",1,2,3,"R",null,10,{"$f":"IF($DQ$1<=20,LOOKUP(O54,$DT$36:$DT$51,$DU$36:$DU$51),IF(AND($DQ$1>20,$DQ$1<24),LOOKUP(O54,$DT$36:$DT$51,$DV$36:$DV$51),LOOKUP(O54,$DT$36:$DT$51,$DW$36:$DW$51)))","v":"Bye"},null,null,null,{"$f":"IF(ISBLANK(Q53),\"\",SUM(IF(Q54>Q53,1,0)+(IF(R54>R53,1,0)+(IF(S54>S53,1,0)))))","v":""},null,null,null,null,null,null,null,null,null,null,null,null,null,null,null,null,null,null,null,null,null,null,null,null,null,null,null,null,null,null,null,"Colocar Equipas",null,null,null,null,null,null,null,null,"Ordenar p/ Pts 1",null,"Ordenar p/ Pts 2",null,"Ordenar p/ Pts 3",null,null,"Ordenar p/ DG 1",null,null,"Ordenar p/ DG 2",null,null,"Ordenar p/ DG 3",null,null,null,"Ordenar p/ GM 1",null,null,null,"Ordenar p/ GM 2",null,null,null,"Ordenar p/ GM 3",null,null,null,null,null,null,null,null,null,null,null,null,null,null,null,null,null,"Vencedores","Derrotados",null,null,null,null,null,null,null,null,null,null,null,null,null,null,null,3,1,1,19,{"$f":"IF($D$43=\"\",\"\",VLOOKUP(DS54,$EF$45:$EP$54,3,FALSE))","v":""},{"$f":"IF($D$51=\"\",\"\",VLOOKUP(DR54,$EF$64:$EP$69,3,FALSE))","v":""},"",null,null,null,null,null,null,null,"E",6,{"$f":"AL44","v":""},"","","","","",{"$f":"IF($EH$54=\"\",-0.1,AR44)","v":-0.1},{"$f":"IF($EH$54=\"\",-0.1,AS44)","v":-0.1},{"$f":"IF($EH$54=\"\",-0.1,AT44)","v":-0.1},{"$f":"IF($EH$54=\"\",-0.1,AU44)","v":-0.1},-100009,1]
[null,{"$f":"$A$4","v":"SH-InfA"},{"$f":"AZ58","v":""},null,null,null,{"$f":"IF(ISBLANK(D55),\"\",SUM(IF(D55>D56,1,0)+(IF(E55>E56,1,0)+(IF(F55>F56,1,0)))))","v":""},{"$f":"$A$4","v":"SH-InfA"},{"$f":"IF(I56=\"\",\"\",AZ59)","v":""},null,null,null,{"$f":"IF(ISBLANK(J55),\"\",SUM(IF(J55>J56,1,0)+(IF(K55>K56,1,0)+(IF(L55>L56,1,0)))))","v":""},null,null,null,null,null,null,null,null,null,"Jogo Nº",{"$f":"CONCATENATE($A$4,\" \",SUM($H$68+12))","v":"SH-InfA 60"},null,null,null,null,null,null,null,null,null,null,null,null,null,null,"Classificação Grupo G",null,null,null,null,null,null,null,null,null,null,null,null,"Grupo G",null,null,null,null,null,null,null,null,null,null,null,null,null,null,null,null,null,null,null,null,null,null,null,null,null,null,null,null,null,null,null,null,null,null,null,null,null,null,null,null,null,null,null,null,null,null,null,null,null,null,null,{"$f":"IF(G56<>\"\",IF(G56>G55,C56,IF(G55>G56,C55,\"Empate\")),\"\")","v":""},{"$f":"IF(G56<>\"\",IF(G56<G55,C56,IF(G55<G56,C55,\"Empate\")),\"\")","v":""},null,null,null,null,null,null,null,null,null,null,null,null,null,null,null,4,2,2,20,"","",""]
[null,{"$f":"H48+1","v":13},{"$f":"AZ57","v":""},null,null,null,{"$f":"IF(ISBLANK(D55),\"\",SUM(IF(D56>D55,1,0)+(IF(E56>E55,1,0)+(IF(F56>F55,1,0)))))","v":""},{"$f":"B56+1","v":14},{"$f":"AZ60","v":""},null,null,null,{"$f":"IF(ISBLANK(J55),\"\",SUM(IF(J56>J55,1,0)+(IF(K56>K55,1,0)+(IF(L56>L55,1,0)))))","v":""},null,null,null,null,null,null,null,null,null,{"$f":"IF(P53=\"Bye\",P54,IF(P54=\"Bye\",P53,IF(T53=T54,\"\",IF(T53>T54,P53,P54))))","v":"1º Melhor 2º"},null,null,null,{"$f":"IF(ISBLANK(X56),\"\",SUM(IF(X56>X57,1,0)+(IF(Y56>Y57,1,0)+(IF(Z56>Z57,1,0)))))","v":""},null,null,null,null,null,null,null,null,null,null,"Cl",{"$f":"AZ56","v":"Jogadores"},"Jg","V","E","D","PM","PS","DP","Pt.",null," ",null,null,"Jogadores","Jg","V","E","D","GM","GS","DG","Pts","Equipas","Pts","Equipas","Pts","Equipas","Pts","DG","Equipas","Pts","DG","Equipas","Pts","DG","Equipas","Pts","DG","GM","Equipas","Pts","DG","GM","Equipas","Pts","DG","GM","Equipas","Pts","DG","GM",null,null,null,"Equipas","Jg","V","D","E","GM","GS","DG","Pts",null,null,{"$f":"IF(M55<>\"\",IF(M55>M56,I55,IF(M56>M55,I56,\"Empate\")),\"\")","v":""},{"$f":"IF(M55<>\"\",IF(M55<M56,I55,IF(M56<M55,I56,\"Empate\")),\"\")","v":""},null,null,null,null,null,null,null,null,null,null,null,null,null,null,null,5,3,3,21,"","","",null,null,null,null,null,null,null,"GRUPO de 6",null,"4 melhores 3ºs"]
[null,{"$f":"$A$4","v":"SH-InfA"},{"$f":"AZ57","v":""},null,null,null,{"$f":"IF(ISBLANK(D57),\"\",SUM(IF(D57>D58,1,0)+(IF(E57>E58,1,0)+(IF(F57>F58,1,0)))))","v":""},{"$f":"$A$4","v":"SH-InfA"},{"$f":"AZ60","v":""},null,null,null,{"$f":"IF(ISBLANK(J57),\"\",SUM(IF(J57>J58,1,0)+(IF(K57>K58,1,0)+(IF(L57>L58,1,0)))))","v":""},null,null,null,null,null,null,null,null,null,{"$f":"IF(P59=\"Bye\",P60,IF(P60=\"Bye\",P59,IF(T59=T60,\"\",IF(T59>T60,P59,P60))))","v":"1º Grupo B"},null,null,null,{"$f":"IF(ISBLANK(X56),\"\",SUM(IF(X57>X56,1,0)+(IF(Y57>Y56,1,0)+(IF(Z57>Z56,1,0)))))","v":""},null,null,null,null,null,null,null,null,3,null,{"$f":"IF(AM57=\"\",\"\",\"1º\")","v":""},{"$f":"CO57","v":""},{"$f":"IF(AM57=\"\",\"\",CP57)","v":""},{"$f":"IF(AM57=\"\",\"\",CQ57)","v":""},{"$f":"IF(AM57=\"\",\"\",CR57)","v":""},{"$f":"IF(AM57=\"\",\"\",CS57)","v":""},{"$f":"IF(AM57=\"\",\"\",CT57)","v":""},{"$f":"IF(AM57=\"\",\"\",CU57)","v":""},{"$f":"IF(AM57=\"\",\"\",CV57)","v":""},{"$f":"IF(AM57=\"\",\"\",CW57)","v":""},{"$f":"IF(AND($DQ$1>=17,$DQ$1<=20),AW57,IF(AND($DQ$1>=21,$DQ$1<=23),AX57,AY57))","v":7}," "," ",7,{"$f":"IF($DQ$1<=20,\"\",IF(AND($DQ$1>20,$DQ$1<24),\"\",LOOKUP(DR7,$DR$1:$DR$32,$DY$1:$DY$32)))","v":""},{"$f":"COUNT(G56,G57,M60)","v":0},{"$f":"COUNTIF(CZ55:CZ60,AZ57)","v":6},{"$f":"BA57-(BB57+BD57)","v":-12},{"$f":"COUNTIF(DA55:DA60,AZ57)","v":6},{"$f":"SUM(D56:F56,D57:F57,J60:L60)","v":0},{"$f":"SUM(D55:F55,D58:F58,J59:L59)","v":0},{"$f":"BE57-BF57","v":0},{"$f":"IF(BA57=0,0,BB57*2+BD57*1)","v":0},{"$f":"IF(BH57>=BH58,AZ57,AZ58)","v":""},{"$f":"VLOOKUP(BI57,AZ57:BH60,9,FALSE)","v":0},{"$f":"IF(BJ57>=BJ59,BI57,BI59)","v":""},{"$f":"VLOOKUP(BK57,AZ57:BH60,9,FALSE)","v":0},{"$f":"IF(BL57>=BL60,BK57,BK60)","v":""},{"$f":"VLOOKUP(BM57,AZ57:BH60,9,FALSE)","v":0},{"$f":"VLOOKUP(BM57,AZ57:BH60,8,FALSE)","v":0},{"$f":"IF(AND(BN57=BN58,BO58>BO57),BM58,BM57)","v":""},{"$f":"VLOOKUP(BP57,AZ57:BH60,9,FALSE)","v":0},{"$f":"VLOOKUP(BP57,AZ57:BH60,8,FALSE)","v":0},{"$f":"IF(AND(BQ57=BQ59,BR59>BR57),BP59,BP57)","v":""},{"$f":"VLOOKUP(BS57,AZ57:BH60,9,FALSE)","v":0},{"$f":"VLOOKUP(BS57,AZ57:BH60,8,FALSE)","v":0},{"$f":"IF(AND(BT57=BT60,BU60>BU57),BS60,BS57)","v":""},{"$f":"VLOOKUP(BV57,AZ57:BH60,9,FALSE)","v":0},{"$f":"VLOOKUP(BV57,AZ57:BH60,8,FALSE)","v":0},{"$f":"VLOOKUP(BV57,AZ57:BH60,6,FALSE)","v":0},{"$f":"IF(AND(BW57=BW58,BX57=BX58,BY58>BY57),BV58,BV57)","v":""},{"$f":"VLOOKUP(BZ57,AZ57:BH60,9,FALSE)","v":0},{"$f":"VLOOKUP(BZ57,AZ57:BH60,8,FALSE)","v":0},{"$f":"VLOOKUP(BZ57,AZ57:BH60,6,FALSE)","v":0},{"$f":"IF(AND(CA57=CA59,CB57=CB59,CC59>CC57),BZ59,BZ57)","v":""},{"$f":"VLOOKUP(CD57,AZ57:BH60,9,FALSE)","v":0},{"$f":"VLOOKUP(CD57,AZ57:BH60,8,FALSE)","v":0},{"$f":"VLOOKUP(CD57,AZ57:BH60,6,FALSE)","v":0},{"$f":"IF(AND(CE57=CE60,CF57=CF60,CG60>CG57),CD60,CD57)","v":""},{"$f":"VLOOKUP(CH57,AZ57:BH60,9,FALSE)","v":0},{"$f":"VLOOKUP(CH57,AZ57:BH60,8,FALSE)","v":0},{"$f":"VLOOKUP(CH57,AZ57:BH60,6,FALSE)","v":0},null,null,null,{"$f":"CH57","v":""},{"$f":"VLOOKUP(CO57,AZ57:BH60,2,FALSE)","v":0},{"$f":"VLOOKUP(CO57,AZ57:BH60,3,FALSE)","v":6},{"$f":"VLOOKUP(CO57,AZ57:BH60,4,FALSE)","v":-12},{"$f":"VLOOKUP(CO57,AZ57:BH60,5,FALSE)","v":6},{"$f":"VLOOKUP(CO57,AZ57:BH60,6,FALSE)","v":0},{"$f":"VLOOKUP(CO57,AZ57:BH60,7,FALSE)","v":0},{"$f":"VLOOKUP(CO57,AZ57:BH60,8,FALSE)","v":0},{"$f":"VLOOKUP(CO57,AZ57:BH60,9,FALSE)","v":0},null,null,{"$f":"IF(G57<>\"\",IF(G57>G58,C57,IF(G58>G57,C58,\"Empate\")),\"\")","v":""},{"$f":"IF(G57<>\"\",IF(G57<G58,C57,IF(G58<G57,C58,\"Empate\")),\"\")","v":""},null,null,null,null,null,null,null,null,null,null,null,null,null,null,null,6,4,4,22,"","","",null,null,null,null,null,null,null,"21 a 23","Class","Cl","Jogadores","Jg","V","E","D","PM","PS","DP","Pt.","Rank"]
[null,{"$f":"H50+1","v":29},{"$f":"AZ59","v":""},null,null,null,{"$f":"IF(ISBLANK(D57),\"\",SUM(IF(D58>D57,1,0)+(IF(E58>E57,1,0)+(IF(F58>F57,1,0)))))","v":""},{"$f":"B58+1","v":30},{"$f":"IF(I57=\"\",\"\",AZ58)","v":""},null,null,null,{"$f":"IF(ISBLANK(J57),\"\",SUM(IF(J58>J57,1,0)+(IF(K58>K57,1,0)+(IF(L58>L57,1,0)))))","v":""},null,null,"Jogo Nº",{"$f":"CONCATENATE($A$4,\" \",SUM($H$68+8))","v":"SH-InfA 56"},null,null,null,null,null,null,null,null,null,null,null,null,null,null,null,null,null,null,5,null,{"$f":"IF(AM58=\"\",\"\",\"2º\")","v":""},{"$f":"CO58","v":""},{"$f":"IF(AM58=\"\",\"\",CP58)","v":""},{"$f":"IF(AM58=\"\",\"\",CQ58)","v":""},{"$f":"IF(AM58=\"\",\"\",CR58)","v":""},{"$f":"IF(AM58=\"\",\"\",CS58)","v":""},{"$f":"IF(AM58=\"\",\"\",CT58)","v":""},{"$f":"IF(AM58=\"\",\"\",CU58)","v":""},{"$f":"IF(AM58=\"\",\"\",CV58)","v":""},{"$f":"IF(AM58=\"\",\"\",CW58)","v":""},{"$f":"IF(AND($DQ$1>=17,$DQ$1<=20),AW58,IF(AND($DQ$1>=21,$DQ$1<=23),AX58,AY58))","v":10}," "," ",10,{"$f":"IF($DQ$1<=20,\"\",IF(AND($DQ$1>20,$DQ$1<24),\"\",LOOKUP(DR10,$DR$1:$DR$32,$DY$1:$DY$32)))","v":""},{"$f":"COUNT(G55,M58,G60)","v":0},{"$f":"COUNTIF(CZ55:CZ60,AZ58)","v":6},{"$f":"BA58-(BB58+BD58)","v":-12},{"$f":"COUNTIF(DA55:DA60,AZ58)","v":6},{"$f":"SUM(D55:F55,J58:L58,D60:F60)","v":0},{"$f":"SUM(D56:F56,J57:L57,D59:F59)","v":0},{"$f":"BE58-BF58","v":0},{"$f":"IF(BA58=0,0,BB58*2+BD58*1)","v":0},{"$f":"IF(BH58<=BH57,AZ58,AZ57)","v":""},{"$f":"VLOOKUP(BI58,AZ57:BH60,9,FALSE)","v":0},{"$f":"IF(BJ58>=BJ60,BI58,BI60)","v":""},{"$f":"VLOOKUP(BK58,AZ57:BH60,9,FALSE)","v":0},{"$f":"IF(BL58>=BL59,BK58,BK59)","v":""},{"$f":"VLOOKUP(BM58,AZ57:BH60,9,FALSE)","v":0},{"$f":"VLOOKUP(BM58,AZ57:BH60,8,FALSE)","v":0},{"$f":"IF(AND(BN57=BN58,BO58>BO57),BM57,BM58)","v":""},{"$f":"VLOOKUP(BP58,AZ57:BH60,9,FALSE)","v":0},{"$f":"VLOOKUP(BP58,AZ57:BH60,8,FALSE)","v":0},{"$f":"IF(AND(BQ58=BQ60,BR60>BR58),BP60,BP58)","v":""},{"$f":"VLOOKUP(BS58,AZ57:BH60,9,FALSE)","v":0},{"$f":"VLOOKUP(BS58,AZ57:BH60,8,FALSE)","v":0},{"$f":"IF(AND(BT58=BT59,BU59>BU58),BS59,BS58)","v":""},{"$f":"VLOOKUP(BV58,AZ57:BH60,9,FALSE)","v":0},{"$f":"VLOOKUP(BV58,AZ57:BH60,8,FALSE)","v":0},{"$f":"VLOOKUP(BV58,AZ57:BH60,6,FALSE)","v":0},{"$f":"IF(AND(BW57=BW58,BX57=BX58,BY58>BY57),BV57,BV58)","v":""},{"$f":"VLOOKUP(BZ58,AZ57:BH60,9,FALSE)","v":0},{"$f":"VLOOKUP(BZ58,AZ57:BH60,8,FALSE)","v":0},{"$f":"VLOOKUP(BZ58,AZ57:BH60,6,FALSE)","v":0},{"$f":"IF(AND(CA58=CA60,CB58=CB60,CC60>CC58),BZ60,BZ58)","v":""},{"$f":"VLOOKUP(CD58,AZ57:BH60,9,FALSE)","v":0},{"$f":"VLOOKUP(CD58,AZ57:BH60,8,FALSE)","v":0},{"$f":"VLOOKUP(CD58,AZ57:BH60,6,FALSE)","v":0},{"$f":"IF(AND(CE58=CE59,CF58=CF59,CG59>CG58),CD59,CD58)","v":""},{"$f":"VLOOKUP(CH58,AZ57:BH60,9,FALSE)","v":0},{"$f":"VLOOKUP(CH58,AZ57:BH60,8,FALSE)","v":0},{"$f":"VLOOKUP(CH58,AZ57:BH60,6,FALSE)","v":0},null,null,null,{"$f":"CH58","v":""},{"$f":"VLOOKUP(CO58,AZ57:BH60,2,FALSE)","v":0},{"$f":"VLOOKUP(CO58,AZ57:BH60,3,FALSE)","v":6},{"$f":"VLOOKUP(CO58,AZ57:BH60,4,FALSE)","v":-12},{"$f":"VLOOKUP(CO58,AZ57:BH60,5,FALSE)","v":6},{"$f":"VLOOKUP(CO58,AZ57:BH60,6,FALSE)","v":0},{"$f":"VLOOKUP(CO58,AZ57:BH60,7,FALSE)","v":0},{"$f":"VLOOKUP(CO58,AZ57:BH60,8,FALSE)","v":0},{"$f":"VLOOKUP(CO58,AZ57:BH60,9,FALSE)","v":0},null,null,{"$f":"IF(M57<>\"\",IF(M57>M58,I57,IF(M58>M57,I58,\"Empate\")),\"\")","v":""},{"$f":"IF(M57<>\"\",IF(M57<M58,I57,IF(M58<M57,I58,\"Empate\")),\"\")","v":""},null,null,null,null,null,null,null,null,null,null,null,null,null,null,null,7,5,5,23,"","","",null,null,null,null,null,null,null,"A",{"$f":"COUNTIF($EQ$58:$EQ$63,CONCATENATE(\">=\",EQ58))","v":5},{"$f":"AL11","v":""},"","","","","","","","","",{"$f":"EP58*1000000+(EM58-EN58)*10000+EM58*100+ER58","v":{"$error":"#VALUE!"}},6]
[null,{"$f":"$A$4","v":"SH-InfA"},{"$f":"AZ59","v":""},null,null,null,{"$f":"IF(ISBLANK(D59),\"\",SUM(IF(D59>D60,1,0)+(IF(E59>E60,1,0)+(IF(F59>F60,1,0)))))","v":""},{"$f":"$A$4","v":"SH-InfA"},{"$f":"AZ60","v":""},null,null,null,{"$f":"IF(ISBLANK(J59),\"\",SUM(IF(J59>J60,1,0)+(IF(K59>K60,1,0)+(IF(L59>L60,1,0)))))","v":""},null,15,{"$f":"IF($DQ$1<=20,LOOKUP(O59,$DT$36:$DT$51,$DU$36:$DU$51),IF(AND($DQ$1>20,$DQ$1<24),LOOKUP(O59,$DT$36:$DT$51,$DV$36:$DV$51),LOOKUP(O59,$DT$36:$DT$51,$DW$36:$DW$51)))","v":"Bye"},null,null,null,{"$f":"IF(ISBLANK(Q59),\"\",SUM(IF(Q59>Q60,1,0)+(IF(R59>R60,1,0)+(IF(S59>S60,1,0)))))","v":""},null,null,null,null,null,null,null,null,null,null,null,null,null,null,null,null,null,{"$f":"IF(AM59=\"\",\"\",\"3º\")","v":""},{"$f":"CO59","v":""},{"$f":"IF(AM59=\"\",\"\",CP59)","v":""},{"$f":"IF(AM59=\"\",\"\",CQ59)","v":""},{"$f":"IF(AM59=\"\",\"\",CR59)","v":""},{"$f":"IF(AM59=\"\",\"\",CS59)","v":""},{"$f":"IF(AM59=\"\",\"\",CT59)","v":""},{"$f":"IF(AM59=\"\",\"\",CU59)","v":""},{"$f":"IF(AM59=\"\",\"\",CV59)","v":""},{"$f":"IF(AM59=\"\",\"\",CW59)","v":""},{"$f":"IF(AND($DQ$1>=17,$DQ$1<=20),AW59,IF(AND($DQ$1>=21,$DQ$1<=23),AX59,AY59))","v":23}," "," ",23,{"$f":"IF($DQ$1<=20,\"\",IF(AND($DQ$1>20,$DQ$1<24),\"\",LOOKUP(DR23,$DR$1:$DR$32,$DY$1:$DY$32)))","v":""},{"$f":"COUNT(M55,G58,G59)","v":0},{"$f":"COUNTIF(CZ55:CZ60,AZ59)","v":6},{"$f":"BA59-(BB59+BD59)","v":-12},{"$f":"COUNTIF(DA55:DA60,AZ59)","v":6},{"$f":"SUM(J55:L55,D58:F58,D59:F59)","v":0},{"$f":"SUM(J56:L56,D57:F57,D60:F60)","v":0},{"$f":"BE59-BF59","v":0},{"$f":"IF(BA59=0,0,BB59*2+BD59*1)","v":0},{"$f":"IF(BH59>=BH60,AZ59,AZ60)","v":""},{"$f":"VLOOKUP(BI59,AZ57:BH60,9,FALSE)","v":0},{"$f":"IF(BJ59<=BJ57,BI59,BI57)","v":""},{"$f":"VLOOKUP(BK59,AZ57:BH60,9,FALSE)","v":0},{"$f":"IF(BL59<=BL58,BK59,BK58)","v":""},{"$f":"VLOOKUP(BM59,AZ57:BH60,9,FALSE)","v":0},{"$f":"VLOOKUP(BM59,AZ57:BH60,8,FALSE)","v":0},{"$f":"IF(AND(BN59=BN60,BO60>BO59),BM60,BM59)","v":""},{"$f":"VLOOKUP(BP59,AZ57:BH60,9,FALSE)","v":0},{"$f":"VLOOKUP(BP59,AZ57:BH60,8,FALSE)","v":0},{"$f":"IF(AND(BQ57=BQ59,BR59>BR57),BP57,BP59)","v":""},{"$f":"VLOOKUP(BS59,AZ57:BH60,9,FALSE)","v":0},{"$f":"VLOOKUP(BS59,AZ57:BH60,8,FALSE)","v":0},{"$f":"IF(AND(BT58=BT59,BU59>BU58),BS58,BS59)","v":""},{"$f":"VLOOKUP(BV59,AZ57:BH60,9,FALSE)","v":0},{"$f":"VLOOKUP(BV59,AZ57:BH60,8,FALSE)","v":0},{"$f":"VLOOKUP(BV59,AZ57:BH60,6,FALSE)","v":0},{"$f":"IF(AND(BW59=BW60,BX59=BX60,BY60>BY59),BV60,BV59)","v":""},{"$f":"VLOOKUP(BZ59,AZ57:BH60,9,FALSE)","v":0},{"$f":"VLOOKUP(BZ59,AZ57:BH60,8,FALSE)","v":0},{"$f":"VLOOKUP(BZ59,AZ57:BH60,6,FALSE)","v":0},{"$f":"IF(AND(CA57=CA59,CB57=CB59,CC58>CC57),BZ57,BZ59)","v":""},{"$f":"VLOOKUP(CD59,AZ57:BH60,9,FALSE)","v":0},{"$f":"VLOOKUP(CD59,AZ57:BH60,8,FALSE)","v":0},{"$f":"VLOOKUP(CD59,AZ57:BH60,6,FALSE)","v":0},{"$f":"IF(AND(CE58=CE59,CF58=CF59,CG59>CG58),CD58,CD59)","v":""},{"$f":"VLOOKUP(CH59,AZ57:BH60,9,FALSE)","v":0},{"$f":"VLOOKUP(CH59,AZ57:BH60,8,FALSE)","v":0},{"$f":"VLOOKUP(CH59,AZ57:BH60,6,FALSE)","v":0},null,null,null,{"$f":"CH59","v":""},{"$f":"VLOOKUP(CO59,AZ57:BH60,2,FALSE)","v":0},{"$f":"VLOOKUP(CO59,AZ57:BH60,3,FALSE)","v":6},{"$f":"VLOOKUP(CO59,AZ57:BH60,4,FALSE)","v":-12},{"$f":"VLOOKUP(CO59,AZ57:BH60,5,FALSE)","v":6},{"$f":"VLOOKUP(CO59,AZ57:BH60,6,FALSE)","v":0},{"$f":"VLOOKUP(CO59,AZ57:BH60,7,FALSE)","v":0},{"$f":"VLOOKUP(CO59,AZ57:BH60,8,FALSE)","v":0},{"$f":"VLOOKUP(CO59,AZ57:BH60,9,FALSE)","v":0},null,null,{"$f":"IF(M59<>\"\",IF(M59>M60,I59,IF(M60>M59,I60,\"Empate\")),\"\")","v":""},{"$f":"IF(M59<>\"\",IF(M59<M60,I59,IF(M60<M59,I60,\"Empate\")),\"\")","v":""},null,null,null,null,null,null,null,null,null,null,null,null,null,null,null,8,6,6,24,"","","",null,null,null,null,null,null,null,"B",5,{"$f":"AL19","v":""},"","","","","","","","","",{"$error":"#VALUE!"},5]
[null,{"$f":"H52+1","v":45},{"$f":"AZ58","v":""},null,null,null,{"$f":"IF(ISBLANK(D59),\"\",SUM(IF(D60>D59,1,0)+(IF(E60>E59,1,0)+(IF(F60>F59,1,0)))))","v":""},{"$f":"B60+1","v":46},{"$f":"IF(I59=\"\",\"\",AZ57)","v":""},null,null,null,{"$f":"IF(ISBLANK(J59),\"\",SUM(IF(J60>J59,1,0)+(IF(K60>K59,1,0)+(IF(L60>L59,1,0)))))","v":""},null,2,{"$f":"IF($DQ$1<=20,LOOKUP(O60,$DT$36:$DT$51,$DU$36:$DU$51),IF(AND($DQ$1>20,$DQ$1<24),LOOKUP(O60,$DT$36:$DT$51,$DV$36:$DV$51),LOOKUP(O60,$DT$36:$DT$51,$DW$36:$DW$51)))","v":"1º Grupo B"},null,null,null,{"$f":"IF(ISBLANK(Q59),\"\",SUM(IF(Q60>Q59,1,0)+(IF(R60>R59,1,0)+(IF(S60>S59,1,0)))))","v":""},null,null,null,null,null,null,null,null,null,null,null,null,null,null,null,null,null,{"$f":"IF(AM60=\"\",\"\",\"4º\")","v":""},{"$f":"CO60","v":""},{"$f":"IF(AM60=\"\",\"\",CP60)","v":""},{"$f":"IF(AM60=\"\",\"\",CQ60)","v":""},{"$f":"IF(AM60=\"\",\"\",CR60)","v":""},{"$f":"IF(AM60=\"\",\"\",CS60)","v":""},{"$f":"IF(AM60=\"\",\"\",CT60)","v":""},{"$f":"IF(AM60=\"\",\"\",CU60)","v":""},{"$f":"IF(AM60=\"\",\"\",CV60)","v":""},{"$f":"IF(AM60=\"\",\"\",CW60)","v":""},{"$f":"IF(AND($DQ$1>=17,$DQ$1<=20),AW60,IF(AND($DQ$1>=21,$DQ$1<=23),AX60,AY60))","v":26}," "," ",26,{"$f":"IF($DQ$1<=20,\"\",IF(AND($DQ$1>20,$DQ$1<24),\"\",LOOKUP(DR26,$DR$1:$DR$32,$DY$1:$DY$32)))","v":""},{"$f":"COUNT(M56,M57,M59)","v":0},{"$f":"COUNTIF(CZ55:CZ60,AZ60)","v":6},{"$f":"BA60-(BB60+BD60)","v":-12},{"$f":"COUNTIF(DA55:DA60,AZ60)","v":6},{"$f":"SUM(J56:L56,J57:L57,J59:L59)","v":0},{"$f":"SUM(J55:L55,J58:L58,J60:L60)","v":0},{"$f":"BE60-BF60","v":0},{"$f":"IF(BA60=0,0,BB60*2+BD60*1)","v":0},{"$f":"IF(BH60<=BH59,AZ60,AZ59)","v":""},{"$f":"VLOOKUP(BI60,AZ57:BH60,9,FALSE)","v":0},{"$f":"IF(BJ60<=BJ58,BI60,BI58)","v":""},{"$f":"VLOOKUP(BK60,AZ57:BH60,9,FALSE)","v":0},{"$f":"IF(BL60<=BL57,BK60,BK57)","v":""},{"$f":"VLOOKUP(BM60,AZ57:BH60,9,FALSE)","v":0},{"$f":"VLOOKUP(BM60,AZ57:BH60,8,FALSE)","v":0},{"$f":"IF(AND(BN59=BN60,BO60>BO59),BM59,BM60)","v":""},{"$f":"VLOOKUP(BP60,AZ57:BH60,9,FALSE)","v":0},{"$f":"VLOOKUP(BP60,AZ57:BH60,8,FALSE)","v":0},{"$f":"IF(AND(BQ58=BQ60,BR60>BR58),BP58,BP60)","v":""},{"$f":"VLOOKUP(BS60,AZ57:BH60,9,FALSE)","v":0},{"$f":"VLOOKUP(BS60,AZ57:BH60,8,FALSE)","v":0},{"$f":"IF(AND(BT57=BT60,BU60>BU57),BS57,BS60)","v":""},{"$f":"VLOOKUP(BV60,AZ57:BH60,9,FALSE)","v":0},{"$f":"VLOOKUP(BV60,AZ57:BH60,8,FALSE)","v":0},{"$f":"VLOOKUP(BV60,AZ57:BH60,6,FALSE)","v":0},{"$f":"IF(AND(BW59=BW60,BX59=BX60,BY60>BY59),BV59,BV60)","v":""},{"$f":"VLOOKUP(BZ60,AZ57:BH60,9,FALSE)","v":0},{"$f":"VLOOKUP(BZ60,AZ57:BH60,8,FALSE)","v":0},{"$f":"VLOOKUP(BZ60,AZ57:BH60,6,FALSE)","v":0},{"$f":"IF(AND(CA58=CA60,CB58=CB60,CC60>CC58),BZ58,BZ60)","v":""},{"$f":"VLOOKUP(CD60,AZ57:BH60,9,FALSE)","v":0},{"$f":"VLOOKUP(CD60,AZ57:BH60,8,FALSE)","v":0},{"$f":"VLOOKUP(CD60,AZ57:BH60,6,FALSE)","v":0},{"$f":"IF(AND(CE57=CE60,CF57=CF60,CG60>CG57),CD57,CD60)","v":""},{"$f":"VLOOKUP(CH60,AZ57:BH60,9,FALSE)","v":0},{"$f":"VLOOKUP(CH60,AZ57:BH60,8,FALSE)","v":0},{"$f":"VLOOKUP(CH60,AZ57:BH60,6,FALSE)","v":0},null,null,null,{"$f":"CH60","v":""},{"$f":"VLOOKUP(CO60,AZ57:BH60,2,FALSE)","v":0},{"$f":"VLOOKUP(CO60,AZ57:BH60,3,FALSE)","v":6},{"$f":"VLOOKUP(CO60,AZ57:BH60,4,FALSE)","v":-12},{"$f":"VLOOKUP(CO60,AZ57:BH60,5,FALSE)","v":6},{"$f":"VLOOKUP(CO60,AZ57:BH60,6,FALSE)","v":0},{"$f":"VLOOKUP(CO60,AZ57:BH60,7,FALSE)","v":0},{"$f":"VLOOKUP(CO60,AZ57:BH60,8,FALSE)","v":0},{"$f":"VLOOKUP(CO60,AZ57:BH60,9,FALSE)","v":0},null,null,{"$f":"IF(G60<>\"\",IF(G60>G59,C60,IF(G59>G60,C59,\"Empate\")),\"\")","v":""},{"$f":"IF(G60<>\"\",IF(G60<G59,C60,IF(G59<G60,C59,\"Empate\")),\"\")","v":""},null,null,null,null,null,null,null,null,null,null,null,null,null,null,null,9,6,7,25,"","","",null,null,null,null,null,null,null,"C",5,{"$f":"AL27","v":""},"","","","","","","","","",{"$error":"#VALUE!"},4]
[null,null,null,null,null,null,null,null,null,null,null,null,null,null,null,null,null,null,null,null,null,null,null,null,null,null,null,null,null,null,null,null,null,null,null,null,null,null,null,null,null,null,null,null,null,null,null,null,null,null,null,null,null,null,null,null,null,null,null,null,null,null,null,null,null,null,null,null,null,null,null,null,null,null,null,null,null,null,null,null,null,null,null,null,null,null,null,null,null,null,null,null,null,null,null,null,null,null,null,null,null,null,null,null,null,null,null,null,null,null,null,null,null,null,null,null,null,null,null,null,10,6,8,26,"","","",null,null,null,null,null,null,null,"D",5,{"$f":"AL35","v":""},"","","","","","","","","",{"$error":"#VALUE!"},3]
["Grupo H","NºJ","Jogadores",1,2,3,"R","NºJ","Jogadores",1,2,3,"R",null,null,null,null,null,null,null,null,null,null,null,null,null,null,null,null,null,null,null,null,null,null,null,null,null,null,null,null,null,null,null,null,null,null,null,null,null,null,"Colocar Equipas",null,null,null,null,null,null,null,null,"Ordenar p/ Pts 1",null,"Ordenar p/ Pts 2",null,"Ordenar p/ Pts 3",null,null,"Ordenar p/ DG 1",null,null,"Ordenar p/ DG 2",null,null,"Ordenar p/ DG 3",null,null,null,"Ordenar p/ GM 1",null,null,null,"Ordenar p/ GM 2",null,null,null,"Ordenar p/ GM 3",null,null,null,null,null,null,null,null,null,null,null,null,null,null,null,null,null,"Vencedores","Derrotados",null,null,null,null,null,null,null,null,null,null,null,null,null,null,null,11,null,9,27,"",null,"",null,null,null,null,null,null,null,"E",1,{"$f":"AL43","v":"3º"},"",0,6,-12,6,0,0,0,0,2,2]
[null,{"$f":"$A$4","v":"SH-InfA"},{"$f":"AZ66","v":""},null,null,null,{"$f":"IF(ISBLANK(D63),\"\",SUM(IF(D63>D64,1,0)+(IF(E63>E64,1,0)+(IF(F63>F64,1,0)))))","v":""},{"$f":"$A$4","v":"SH-InfA"},{"$f":"IF(I64=\"\",\"\",AZ67)","v":""},null,null,null,{"$f":"IF(ISBLANK(J63),\"\",SUM(IF(J63>J64,1,0)+(IF(K63>K64,1,0)+(IF(L63>L64,1,0)))))","v":""},null,null,null,null,null,null,null,null,null,null,null,null,null,null,null,null,null,null,null,null,null,null,null,null,null,"Classificação Grupo H",null,null,null,null,null,null,null,null,null,null,null,null,"Grupo H",null,null,null,null,null,null,null,null,null,null,null,null,null,null,null,null,null,null,null,null,null,null,null,null,null,null,null,null,null,null,null,null,null,null,null,null,null,null,null,null,null,null,null,null,null,null,null,null,null,null,null,{"$f":"IF(G64<>\"\",IF(G64>G63,C64,IF(G63>G64,C63,\"Empate\")),\"\")","v":""},{"$f":"IF(G64<>\"\",IF(G64<G63,C64,IF(G63<G64,C63,\"Empate\")),\"\")","v":""},null,null,null,null,null,null,null,null,null,null,null,null,null,null,null,12,null,10,28,"",null,"",null,null,null,null,null,null,null,"F",5,{"$f":"AL51","v":""},"","","","","","","","","",{"$error":"#VALUE!"},1]
[null,{"$f":"H56+1","v":15},{"$f":"AZ65","v":""},null,null,null,{"$f":"IF(ISBLANK(D63),\"\",SUM(IF(D64>D63,1,0)+(IF(E64>E63,1,0)+(IF(F64>F63,1,0)))))","v":""},{"$f":"B64+1","v":16},{"$f":"AZ68","v":""},null,null,null,{"$f":"IF(ISBLANK(J63),\"\",SUM(IF(J64>J63,1,0)+(IF(K64>K63,1,0)+(IF(L64>L63,1,0)))))","v":""},null,null,null,null,null,null,null,null,null,null,null,null,null,null,null,null,null,null,null,null,null,null,null,null,"Cl",{"$f":"AZ64","v":"Jogadores"},"Jg","V","E","D","PM","PS","DP","Pt.",null,null,null,null,"Jogadores","Jg","V","E","D","GM","GS","DG","Pts","Equipas","Pts","Equipas","Pts","Equipas","Pts","DG","Equipas","Pts","DG","Equipas","Pts","DG","Equipas","Pts","DG","GM","Equipas","Pts","DG","GM","Equipas","Pts","DG","GM","Equipas","Pts","DG","GM",null,null,null,"Equipas","Jg","V","D","E","GM","GS","DG","Pts",null,null,{"$f":"IF(M63<>\"\",IF(M63>M64,I63,IF(M64>M63,I64,\"Empate\")),\"\")","v":""},{"$f":"IF(M63<>\"\",IF(M63<M64,I63,IF(M64<M63,I64,\"Empate\")),\"\")","v":""},null,null,null,null,null,null,null,null,null,null,null,null,null,null,null,13,null,null,29,null,null,"",null,null,null,null,null,null,null,"A",{"$f":"COUNTIF($EQ$64:$EQ$69,CONCATENATE(\">=\",EQ64))","v":1},{"$f":"AL12","v":""},"","","","","",{"$f":"IF($EH$64=\"\",-0.1,AR12)","v":-0.1},{"$f":"IF($EH$64=\"\",-0.1,AS12)","v":-0.1},{"$f":"IF($EH$64=\"\",-0.1,AT12)","v":-0.1},{"$f":"IF($EH$64=\"\",-0.1,AU12)","v":-0.1},-100004,6]
[null,{"$f":"$A$4","v":"SH-InfA"},{"$f":"AZ65","v":""},null,null,null,{"$f":"IF(ISBLANK(D65),\"\",SUM(IF(D65>D66,1,0)+(IF(E65>E66,1,0)+(IF(F65>F66,1,0)))))","v":""},{"$f":"$A$4","v":"SH-InfA"},{"$f":"AZ68","v":""},null,null,null,{"$f":"IF(ISBLANK(J65),\"\",SUM(IF(J65>J66,1,0)+(IF(K65>K66,1,0)+(IF(L65>L66,1,0)))))","v":""},null,null,null,null,null,null,null,null,null,null,null,null,null,null,null,null,null,null,null,null,null,null,2,null,{"$f":"IF(AM65=\"\",\"\",\"1º\")","v":""},{"$f":"CO65","v":""},{"$f":"IF(AM65=\"\",\"\",CP65)","v":""},{"$f":"IF(AM65=\"\",\"\",CQ65)","v":""},{"$f":"IF(AM65=\"\",\"\",CR65)","v":""},{"$f":"IF(AM65=\"\",\"\",CS65)","v":""},{"$f":"IF(AM65=\"\",\"\",CT65)","v":""},{"$f":"IF(AM65=\"\",\"\",CU65)","v":""},{"$f":"IF(AM65=\"\",\"\",CV65)","v":""},{"$f":"IF(AM65=\"\",\"\",CW65)","v":""},{"$f":"IF(AND($DQ$1>=17,$DQ$1<=20),AW65,IF(AND($DQ$1>=21,$DQ$1<=23),AX65,AY65))","v":2}," "," ",2,{"$f":"IF($DQ$1<=20,\"\",IF(AND($DQ$1>20,$DQ$1<24),\"\",LOOKUP(DR2,$DR$1:$DR$32,$DY$1:$DY$32)))","v":""},{"$f":"COUNT(G64,G65,M68)","v":0},{"$f":"COUNTIF(CZ63:CZ68,AZ65)","v":6},{"$f":"BA65-(BB65+BD65)","v":-12},{"$f":"COUNTIF(DA63:DA68,AZ65)","v":6},{"$f":"SUM(D64:F64,D65:F65,J68:L68)","v":0},{"$f":"SUM(D63:F63,D66:F66,J67:L67)","v":0},{"$f":"BE65-BF65","v":0},{"$f":"IF(BA65=0,0,BB65*2+BD65*1)","v":0},{"$f":"IF(BH65>=BH66,AZ65,AZ66)","v":""},{"$f":"VLOOKUP(BI65,AZ65:BH68,9,FALSE)","v":0},{"$f":"IF(BJ65>=BJ67,BI65,BI67)","v":""},{"$f":"VLOOKUP(BK65,AZ65:BH68,9,FALSE)","v":0},{"$f":"IF(BL65>=BL68,BK65,BK68)","v":""},{"$f":"VLOOKUP(BM65,AZ65:BH68,9,FALSE)","v":0},{"$f":"VLOOKUP(BM65,AZ65:BH68,8,FALSE)","v":0},{"$f":"IF(AND(BN65=BN66,BO66>BO65),BM66,BM65)","v":""},{"$f":"VLOOKUP(BP65,AZ65:BH68,9,FALSE)","v":0},{"$f":"VLOOKUP(BP65,AZ65:BH68,8,FALSE)","v":0},{"$f":"IF(AND(BQ65=BQ67,BR67>BR65),BP67,BP65)","v":""},{"$f":"VLOOKUP(BS65,AZ65:BH68,9,FALSE)","v":0},{"$f":"VLOOKUP(BS65,AZ65:BH68,8,FALSE)","v":0},{"$f":"IF(AND(BT65=BT68,BU68>BU65),BS68,BS65)","v":""},{"$f":"VLOOKUP(BV65,AZ65:BH68,9,FALSE)","v":0},{"$f":"VLOOKUP(BV65,AZ65:BH68,8,FALSE)","v":0},{"$f":"VLOOKUP(BV65,AZ65:BH68,6,FALSE)","v":0},{"$f":"IF(AND(BW65=BW66,BX65=BX66,BY66>BY65),BV66,BV65)","v":""},{"$f":"VLOOKUP(BZ65,AZ65:BH68,9,FALSE)","v":0},{"$f":"VLOOKUP(BZ65,AZ65:BH68,8,FALSE)","v":0},{"$f":"VLOOKUP(BZ65,AZ65:BH68,6,FALSE)","v":0},{"$f":"IF(AND(CA65=CA67,CB65=CB67,CC67>CC65),BZ67,BZ65)","v":""},{"$f":"VLOOKUP(CD65,AZ65:BH68,9,FALSE)","v":0},{"$f":"VLOOKUP(CD65,AZ65:BH68,8,FALSE)","v":0},{"$f":"VLOOKUP(CD65,AZ65:BH68,6,FALSE)","v":0},{"$f":"IF(AND(CE65=CE68,CF65=CF68,CG68>CG65),CD68,CD65)","v":""},{"$f":"VLOOKUP(CH65,AZ65:BH68,9,FALSE)","v":0},{"$f":"VLOOKUP(CH65,AZ65:BH68,8,FALSE)","v":0},{"$f":"VLOOKUP(CH65,AZ65:BH68,6,FALSE)","v":0},null,null,null,{"$f":"CH65","v":""},{"$f":"VLOOKUP(CO65,AZ65:BH68,2,FALSE)","v":0},{"$f":"VLOOKUP(CO65,AZ65:BH68,3,FALSE)","v":6},{"$f":"VLOOKUP(CO65,AZ65:BH68,4,FALSE)","v":-12},{"$f":"VLOOKUP(CO65,AZ65:BH68,5,FALSE)","v":6},{"$f":"VLOOKUP(CO65,AZ65:BH68,6,FALSE)","v":0},{"$f":"VLOOKUP(CO65,AZ65:BH68,7,FALSE)","v":0},{"$f":"VLOOKUP(CO65,AZ65:BH68,8,FALSE)","v":0},{"$f":"VLOOKUP(CO65,AZ65:BH68,9,FALSE)","v":0},null,null,{"$f":"IF(G65<>\"\",IF(G65>G66,C65,IF(G66>G65,C66,\"Empate\")),\"\")","v":""},{"$f":"IF(G65<>\"\",IF(G65<G66,C65,IF(G66<G65,C66,\"Empate\")),\"\")","v":""},null,null,null,null,null,null,null,null,null,null,null,null,null,null,null,14,null,null,30,null,null,"",null,null,null,null,null,null,null,"B",2,{"$f":"AL20","v":""},"","","","","",{"$f":"IF($EH$65=\"\",-0.1,AR20)","v":-0.1},{"$f":"IF($EH$65=\"\",-0.1,AS20)","v":-0.1},{"$f":"IF($EH$65=\"\",-0.1,AT20)","v":-0.1},{"$f":"IF($EH$65=\"\",-0.1,AU20)","v":-0.1},-100005,5]
[null,{"$f":"H58+1","v":31},{"$f":"AZ67","v":""},null,null,null,{"$f":"IF(ISBLANK(D65),\"\",SUM(IF(D66>D65,1,0)+(IF(E66>E65,1,0)+(IF(F66>F65,1,0)))))","v":""},{"$f":"B66+1","v":32},{"$f":"IF(I65=\"\",\"\",AZ66)","v":""},null,null,null,{"$f":"IF(ISBLANK(J65),\"\",SUM(IF(J66>J65,1,0)+(IF(K66>K65,1,0)+(IF(L66>L65,1,0)))))","v":""},null,null,null,null,null,null,null,null,null,null,null,null,null,null,null,null,null,null,null,null,null,null,8,null,{"$f":"IF(AM66=\"\",\"\",\"2º\")","v":""},{"$f":"CO66","v":""},{"$f":"IF(AM66=\"\",\"\",CP66)","v":""},{"$f":"IF(AM66=\"\",\"\",CQ66)","v":""},{"$f":"IF(AM66=\"\",\"\",CR66)","v":""},{"$f":"IF(AM66=\"\",\"\",CS66)","v":""},{"$f":"IF(AM66=\"\",\"\",CT66)","v":""},{"$f":"IF(AM66=\"\",\"\",CU66)","v":""},{"$f":"IF(AM66=\"\",\"\",CV66)","v":""},{"$f":"IF(AM66=\"\",\"\",CW66)","v":""},{"$f":"IF(AND($DQ$1>=17,$DQ$1<=20),AW66,IF(AND($DQ$1>=21,$DQ$1<=23),AX66,AY66))","v":15}," "," ",15,{"$f":"IF($DQ$1<=20,\"\",IF(AND($DQ$1>20,$DQ$1<24),\"\",LOOKUP(DR15,$DR$1:$DR$32,$DY$1:$DY$32)))","v":""},{"$f":"COUNT(G63,M66,G68)","v":0},{"$f":"COUNTIF(CZ63:CZ68,AZ66)","v":6},{"$f":"BA66-(BB66+BD66)","v":-12},{"$f":"COUNTIF(DA63:DA68,AZ66)","v":6},{"$f":"SUM(D63:F63,J66:L66,D68:F68)","v":0},{"$f":"SUM(D64:F64,J65:L65,D67:F67)","v":0},{"$f":"BE66-BF66","v":0},{"$f":"IF(BA66=0,0,BB66*2+BD66*1)","v":0},{"$f":"IF(BH66<=BH65,AZ66,AZ65)","v":""},{"$f":"VLOOKUP(BI66,AZ65:BH68,9,FALSE)","v":0},{"$f":"IF(BJ66>=BJ68,BI66,BI68)","v":""},{"$f":"VLOOKUP(BK66,AZ65:BH68,9,FALSE)","v":0},{"$f":"IF(BL66>=BL67,BK66,BK67)","v":""},{"$f":"VLOOKUP(BM66,AZ65:BH68,9,FALSE)","v":0},{"$f":"VLOOKUP(BM66,AZ65:BH68,8,FALSE)","v":0},{"$f":"IF(AND(BN65=BN66,BO66>BO65),BM65,BM66)","v":""},{"$f":"VLOOKUP(BP66,AZ65:BH68,9,FALSE)","v":0},{"$f":"VLOOKUP(BP66,AZ65:BH68,8,FALSE)","v":0},{"$f":"IF(AND(BQ66=BQ68,BR68>BR66),BP68,BP66)","v":""},{"$f":"VLOOKUP(BS66,AZ65:BH68,9,FALSE)","v":0},{"$f":"VLOOKUP(BS66,AZ65:BH68,8,FALSE)","v":0},{"$f":"IF(AND(BT66=BT67,BU67>BU66),BS67,BS66)","v":""},{"$f":"VLOOKUP(BV66,AZ65:BH68,9,FALSE)","v":0},{"$f":"VLOOKUP(BV66,AZ65:BH68,8,FALSE)","v":0},{"$f":"VLOOKUP(BV66,AZ65:BH68,6,FALSE)","v":0},{"$f":"IF(AND(BW65=BW66,BX65=BX66,BY66>BY65),BV65,BV66)","v":""},{"$f":"VLOOKUP(BZ66,AZ65:BH68,9,FALSE)","v":0},{"$f":"VLOOKUP(BZ66,AZ65:BH68,8,FALSE)","v":0},{"$f":"VLOOKUP(BZ66,AZ65:BH68,6,FALSE)","v":0},{"$f":"IF(AND(CA66=CA68,CB66=CB68,CC68>CC66),BZ68,BZ66)","v":""},{"$f":"VLOOKUP(CD66,AZ65:BH68,9,FALSE)","v":0},{"$f":"VLOOKUP(CD66,AZ65:BH68,8,FALSE)","v":0},{"$f":"VLOOKUP(CD66,AZ65:BH68,6,FALSE)","v":0},{"$f":"IF(AND(CE66=CE67,CF66=CF67,CG67>CG66),CD67,CD66)","v":""},{"$f":"VLOOKUP(CH66,AZ65:BH68,9,FALSE)","v":0},{"$f":"VLOOKUP(CH66,AZ65:BH68,8,FALSE)","v":0},{"$f":"VLOOKUP(CH66,AZ65:BH68,6,FALSE)","v":0},null,null,null,{"$f":"CH66","v":""},{"$f":"VLOOKUP(CO66,AZ65:BH68,2,FALSE)","v":0},{"$f":"VLOOKUP(CO66,AZ65:BH68,3,FALSE)","v":6},{"$f":"VLOOKUP(CO66,AZ65:BH68,4,FALSE)","v":-12},{"$f":"VLOOKUP(CO66,AZ65:BH68,5,FALSE)","v":6},{"$f":"VLOOKUP(CO66,AZ65:BH68,6,FALSE)","v":0},{"$f":"VLOOKUP(CO66,AZ65:BH68,7,FALSE)","v":0},{"$f":"VLOOKUP(CO66,AZ65:BH68,8,FALSE)","v":0},{"$f":"VLOOKUP(CO66,AZ65:BH68,9,FALSE)","v":0},null,null,{"$f":"IF(M65<>\"\",IF(M65>M66,I65,IF(M66>M65,I66,\"Empate\")),\"\")","v":""},{"$f":"IF(M65<>\"\",IF(M65<M66,I65,IF(M66<M65,I66,\"Empate\")),\"\")","v":""},null,null,null,null,null,null,null,null,null,null,null,null,null,null,null,15,null,null,31,null,null,"",null,null,null,null,null,null,null,"C",3,{"$f":"AL28","v":""},"","","","","",{"$f":"IF($EH$66=\"\",-0.1,AR28)","v":-0.1},{"$f":"IF($EH$66=\"\",-0.1,AS28)","v":-0.1},{"$f":"IF($EH$66=\"\",-0.1,AT28)","v":-0.1},{"$f":"IF($EH$66=\"\",-0.1,AU28)","v":-0.1},-100006,4]
[null,{"$f":"$A$4","v":"SH-InfA"},{"$f":"AZ67","v":""},null,null,null,{"$f":"IF(ISBLANK(D67),\"\",SUM(IF(D67>D68,1,0)+(IF(E67>E68,1,0)+(IF(F67>F68,1,0)))))","v":""},{"$f":"$A$4","v":"SH-InfA"},{"$f":"AZ68","v":""},null,null,null,{"$f":"IF(ISBLANK(J67),\"\",SUM(IF(J67>J68,1,0)+(IF(K67>K68,1,0)+(IF(L67>L68,1,0)))))","v":""},null,null,null,null,null,null,null,null,null,null,null,null,null,null,null,null,null,null,null,null,null,null,null,null,{"$f":"IF(AM67=\"\",\"\",\"3º\")","v":""},{"$f":"CO67","v":""},{"$f":"IF(AM67=\"\",\"\",CP67)","v":""},{"$f":"IF(AM67=\"\",\"\",CQ67)","v":""},{"$f":"IF(AM67=\"\",\"\",CR67)","v":""},{"$f":"IF(AM67=\"\",\"\",CS67)","v":""},{"$f":"IF(AM67=\"\",\"\",CT67)","v":""},{"$f":"IF(AM67=\"\",\"\",CU67)","v":""},{"$f":"IF(AM67=\"\",\"\",CV67)","v":""},{"$f":"IF(AM67=\"\",\"\",CW67)","v":""},{"$f":"IF(AND($DQ$1>=17,$DQ$1<=20),AW67,IF(AND($DQ$1>=21,$DQ$1<=23),AX67,AY67))","v":18}," "," ",18,{"$f":"IF($DQ$1<=20,\"\",IF(AND($DQ$1>20,$DQ$1<24),\"\",LOOKUP(DR18,$DR$1:$DR$32,$DY$1:$DY$32)))","v":""},{"$f":"COUNT(M63,G66,G67)","v":0},{"$f":"COUNTIF(CZ63:CZ68,AZ67)","v":6},{"$f":"BA67-(BB67+BD67)","v":-12},{"$f":"COUNTIF(DA63:DA68,AZ67)","v":6},{"$f":"SUM(J63:L63,D66:F66,D67:F67)","v":0},{"$f":"SUM(J64:L64,D65:F65,D68:F68)","v":0},{"$f":"BE67-BF67","v":0},{"$f":"IF(BA67=0,0,BB67*2+BD67*1)","v":0},{"$f":"IF(BH67>=BH68,AZ67,AZ68)","v":""},{"$f":"VLOOKUP(BI67,AZ65:BH68,9,FALSE)","v":0},{"$f":"IF(BJ67<=BJ65,BI67,BI65)","v":""},{"$f":"VLOOKUP(BK67,AZ65:BH68,9,FALSE)","v":0},{"$f":"IF(BL67<=BL66,BK67,BK66)","v":""},{"$f":"VLOOKUP(BM67,AZ65:BH68,9,FALSE)","v":0},{"$f":"VLOOKUP(BM67,AZ65:BH68,8,FALSE)","v":0},{"$f":"IF(AND(BN67=BN68,BO68>BO67),BM68,BM67)","v":""},{"$f":"VLOOKUP(BP67,AZ65:BH68,9,FALSE)","v":0},{"$f":"VLOOKUP(BP67,AZ65:BH68,8,FALSE)","v":0},{"$f":"IF(AND(BQ65=BQ67,BR67>BR65),BP65,BP67)","v":""},{"$f":"VLOOKUP(BS67,AZ65:BH68,9,FALSE)","v":0},{"$f":"VLOOKUP(BS67,AZ65:BH68,8,FALSE)","v":0},{"$f":"IF(AND(BT66=BT67,BU67>BU66),BS66,BS67)","v":""},{"$f":"VLOOKUP(BV67,AZ65:BH68,9,FALSE)","v":0},{"$f":"VLOOKUP(BV67,AZ65:BH68,8,FALSE)","v":0},{"$f":"VLOOKUP(BV67,AZ65:BH68,6,FALSE)","v":0},{"$f":"IF(AND(BW67=BW68,BX67=BX68,BY68>BY67),BV68,BV67)","v":""},{"$f":"VLOOKUP(BZ67,AZ65:BH68,9,FALSE)","v":0},{"$f":"VLOOKUP(BZ67,AZ65:BH68,8,FALSE)","v":0},{"$f":"VLOOKUP(BZ67,AZ65:BH68,6,FALSE)","v":0},{"$f":"IF(AND(CA65=CA67,CB65=CB67,CC66>CC65),BZ65,BZ67)","v":""},{"$f":"VLOOKUP(CD67,AZ65:BH68,9,FALSE)","v":0},{"$f":"VLOOKUP(CD67,AZ65:BH68,8,FALSE)","v":0},{"$f":"VLOOKUP(CD67,AZ65:BH68,6,FALSE)","v":0},{"$f":"IF(AND(CE66=CE67,CF66=CF67,CG67>CG66),CD66,CD67)","v":""},{"$f":"VLOOKUP(CH67,AZ65:BH68,9,FALSE)","v":0},{"$f":"VLOOKUP(CH67,AZ65:BH68,8,FALSE)","v":0},{"$f":"VLOOKUP(CH67,AZ65:BH68,6,FALSE)","v":0},null,null,null,{"$f":"CH67","v":""},{"$f":"VLOOKUP(CO67,AZ65:BH68,2,FALSE)","v":0},{"$f":"VLOOKUP(CO67,AZ65:BH68,3,FALSE)","v":6},{"$f":"VLOOKUP(CO67,AZ65:BH68,4,FALSE)","v":-12},{"$f":"VLOOKUP(CO67,AZ65:BH68,5,FALSE)","v":6},{"$f":"VLOOKUP(CO67,AZ65:BH68,6,FALSE)","v":0},{"$f":"VLOOKUP(CO67,AZ65:BH68,7,FALSE)","v":0},{"$f":"VLOOKUP(CO67,AZ65:BH68,8,FALSE)","v":0},{"$f":"VLOOKUP(CO67,AZ65:BH68,9,FALSE)","v":0},null,null,{"$f":"IF(M67<>\"\",IF(M67>M68,I67,IF(M68>M67,I68,\"Empate\")),\"\")","v":""},{"$f":"IF(M67<>\"\",IF(M67<M68,I67,IF(M68<M67,I68,\"Empate\")),\"\")","v":""},null,null,null,null,null,null,null,null,null,null,null,null,null,null,null,16,null,null,32,null,null,"",null,null,null,null,null,null,null,"D",4,{"$f":"AL36","v":""},"","","","","",{"$f":"IF($EH$67=\"\",-0.1,AR36)","v":-0.1},{"$f":"IF($EH$67=\"\",-0.1,AS36)","v":-0.1},{"$f":"IF($EH$67=\"\",-0.1,AT36)","v":-0.1},{"$f":"IF($EH$67=\"\",-0.1,AU36)","v":-0.1},-100007,3]
[null,{"$f":"H60+1","v":47},{"$f":"AZ66","v":""},null,null,null,{"$f":"IF(ISBLANK(D67),\"\",SUM(IF(D68>D67,1,0)+(IF(E68>E67,1,0)+(IF(F68>F67,1,0)))))","v":""},{"$f":"B68+1","v":48},{"$f":"IF(I67=\"\",\"\",AZ65)","v":""},null,null,null,{"$f":"IF(ISBLANK(J67),\"\",SUM(IF(J68>J67,1,0)+(IF(K68>K67,1,0)+(IF(L68>L67,1,0)))))","v":""},null,null,null,null,null,null,null,null,null,null,null,null,null,null,null,null,null,null,null,null,null,null,null,null,{"$f":"IF(AM68=\"\",\"\",\"4º\")","v":""},{"$f":"CO68","v":""},{"$f":"IF(AM68=\"\",\"\",CP68)","v":""},{"$f":"IF(AM68=\"\",\"\",CQ68)","v":""},{"$f":"IF(AM68=\"\",\"\",CR68)","v":""},{"$f":"IF(AM68=\"\",\"\",CS68)","v":""},{"$f":"IF(AM68=\"\",\"\",CT68)","v":""},{"$f":"IF(AM68=\"\",\"\",CU68)","v":""},{"$f":"IF(AM68=\"\",\"\",CV68)","v":""},{"$f":"IF(AM68=\"\",\"\",CW68)","v":""},{"$f":"IF(AND($DQ$1>=17,$DQ$1<=20),AW68,IF(AND($DQ$1>=21,$DQ$1<=23),AX68,AY68))","v":31}," "," ",31,{"$f":"IF($DQ$1<=20,\"\",IF(AND($DQ$1>20,$DQ$1<24),\"\",LOOKUP(DR31,$DR$1:$DR$32,$DY$1:$DY$32)))","v":""},{"$f":"COUNT(M64,M65,M67)","v":0},{"$f":"COUNTIF(CZ63:CZ68,AZ68)","v":6},{"$f":"BA68-(BB68+BD68)","v":-12},{"$f":"COUNTIF(DA63:DA68,AZ68)","v":6},{"$f":"SUM(J64:L64,J65:L65,J67:L67)","v":0},{"$f":"SUM(J63:L63,J66:L66,J68:L68)","v":0},{"$f":"BE68-BF68","v":0},{"$f":"IF(BA68=0,0,BB68*2+BD68*1)","v":0},{"$f":"IF(BH68<=BH67,AZ68,AZ67)","v":""},{"$f":"VLOOKUP(BI68,AZ65:BH68,9,FALSE)","v":0},{"$f":"IF(BJ68<=BJ66,BI68,BI66)","v":""},{"$f":"VLOOKUP(BK68,AZ65:BH68,9,FALSE)","v":0},{"$f":"IF(BL68<=BL65,BK68,BK65)","v":""},{"$f":"VLOOKUP(BM68,AZ65:BH68,9,FALSE)","v":0},{"$f":"VLOOKUP(BM68,AZ65:BH68,8,FALSE)","v":0},{"$f":"IF(AND(BN67=BN68,BO68>BO67),BM67,BM68)","v":""},{"$f":"VLOOKUP(BP68,AZ65:BH68,9,FALSE)","v":0},{"$f":"VLOOKUP(BP68,AZ65:BH68,8,FALSE)","v":0},{"$f":"IF(AND(BQ66=BQ68,BR68>BR66),BP66,BP68)","v":""},{"$f":"VLOOKUP(BS68,AZ65:BH68,9,FALSE)","v":0},{"$f":"VLOOKUP(BS68,AZ65:BH68,8,FALSE)","v":0},{"$f":"IF(AND(BT65=BT68,BU68>BU65),BS65,BS68)","v":""},{"$f":"VLOOKUP(BV68,AZ65:BH68,9,FALSE)","v":0},{"$f":"VLOOKUP(BV68,AZ65:BH68,8,FALSE)","v":0},{"$f":"VLOOKUP(BV68,AZ65:BH68,6,FALSE)","v":0},{"$f":"IF(AND(BW67=BW68,BX67=BX68,BY68>BY67),BV67,BV68)","v":""},{"$f":"VLOOKUP(BZ68,AZ65:BH68,9,FALSE)","v":0},{"$f":"VLOOKUP(BZ68,AZ65:BH68,8,FALSE)","v":0},{"$f":"VLOOKUP(BZ68,AZ65:BH68,6,FALSE)","v":0},{"$f":"IF(AND(CA66=CA68,CB66=CB68,CC68>CC66),BZ66,BZ68)","v":""},{"$f":"VLOOKUP(CD68,AZ65:BH68,9,FALSE)","v":0},{"$f":"VLOOKUP(CD68,AZ65:BH68,8,FALSE)","v":0},{"$f":"VLOOKUP(CD68,AZ65:BH68,6,FALSE)","v":0},{"$f":"IF(AND(CE65=CE68,CF65=CF68,CG68>CG65),CD65,CD68)","v":""},{"$f":"VLOOKUP(CH68,AZ65:BH68,9,FALSE)","v":0},{"$f":"VLOOKUP(CH68,AZ65:BH68,8,FALSE)","v":0},{"$f":"VLOOKUP(CH68,AZ65:BH68,6,FALSE)","v":0},null,null,null,{"$f":"CH68","v":""},{"$f":"VLOOKUP(CO68,AZ65:BH68,2,FALSE)","v":0},{"$f":"VLOOKUP(CO68,AZ65:BH68,3,FALSE)","v":6},{"$f":"VLOOKUP(CO68,AZ65:BH68,4,FALSE)","v":-12},{"$f":"VLOOKUP(CO68,AZ65:BH68,5,FALSE)","v":6},{"$f":"VLOOKUP(CO68,AZ65:BH68,6,FALSE)","v":0},{"$f":"VLOOKUP(CO68,AZ65:BH68,7,FALSE)","v":0},{"$f":"VLOOKUP(CO68,AZ65:BH68,8,FALSE)","v":0},{"$f":"VLOOKUP(CO68,AZ65:BH68,9,FALSE)","v":0},null,null,{"$f":"IF(G68<>\"\",IF(G68>G67,C68,IF(G67>G68,C67,\"Empate\")),\"\")","v":""},{"$f":"IF(G68<>\"\",IF(G68<G67,C68,IF(G67<G68,C67,\"Empate\")),\"\")","v":""},null,null,null,null,null,null,null,null,null,null,null,null,null,null,null,null,null,null,null,null,null,null,null,null,null,null,null,null,null,"E",1,{"$f":"AL44","v":""},"","","","","","","","","",{"$error":"#VALUE!"},2]
[null,null,null,null,null,null,null,null,null,null,null,null,null,null,null,null,null,null,null,null,null,null,null,null,null,null,null,null,null,null,null,null,null,null,null,null,null,null,null,null,null,null,null,null,null,null,null,null,null,null,null,null,null,null,null,null,null,null,null,null,null,null,null,null,null,null,null,null,null,null,null,null,null,null,null,null,null,null,null,null,null,null,null,null,null,null,null,null,null,null,null,null,null,null,null,null,null,null,null,null,null,null,null,null,null,null,null,null,null,null,null,null,null,null,null,null,null,null,null,null,null,null,null,null,null,null,null,null,null,null,null,null,null,null,"F",5,{"$f":"AL52","v":""},"","","","","",{"$f":"IF($EH$69=\"\",-0.1,AR52)","v":-0.1},{"$f":"IF($EH$69=\"\",-0.1,AS52)","v":-0.1},{"$f":"IF($EH$69=\"\",-0.1,AT52)","v":-0.1},{"$f":"IF($EH$69=\"\",-0.1,AU52)","v":-0.1},-100009,1]
[]
[null,null,null,null,null,null,null,null,null,null,null,null,null,null,null,"Jogadores",null,null,null,null,null,null,null,null,null,null,null,null,null,"Ranking"]
[null,"Classificações 1ª Fase",null,null,null,null,null,null,null,null,null,null,"#",null,"NºJ","Nome (1º e último)",null,"Escola",null,null,null,null,null,"Abv.",null,null,"NºJ",null,null,"Nome","Pts",null,null,null,null,null,null,null,null,null,null,null,null,null,null,null,null,null,null,null,null,null,null,null,null,null,null,null,null,null,null,null,null,null,null,null,null,null,null,null,null,null,null,null,null,null,null,null,null,null,null,null,null,null,null,null,null,null,null,null,null,null,null,null,null,null,null,null,null,null,null,null,null,null,null,null,null,null,null,null,null,null,null,null,null,null,null,null,null,null,null,null,null,null,null,null,null,null,null,null,null,null,null,null,"GRUPO de 8",null,"3ºs e 4ºs"]
[null,null,null,null,null,null,null,null,null,null,null,null,1,null,{"$f":"IF(DF4=\"\",\"\",DF4)","v":""},{"$f":"IF(DG4=\"\",\"\",IF(DG4=\"Bye\",\"Bye\",CONCATENATE(DG4,\" \",\"(\",DI4,\")\")))","v":""},null,{"$f":"IF(DH4=\"\",\"\",DH4)","v":""},null,null,null,null,null,{"$f":"IF(DI4=\"\",\"\",DI4)","v":""},null,null,"1º",null,null,{"$f":"IF(AD37=\"\",\"\",AD37)","v":""},12,null,null,null,null,null,null,null,null,null,null,null,null,null,null,null,null,null,null,null,null,null,null,null,null,null,null,null,null,null,null,null,null,null,null,null,null,null,null,null,null,null,null,null,null,null,null,null,null,null,null,null,null,null,null,null,null,null,null,null,null,null,null,null,null,null,null,null,null,null,null,null,null,null,null,null,null,null,null,null,null,null,null,null,null,null,null,null,null,null,null,null,null,null,null,null,null,null,null,null,null,null,null,null,"24 a 32","Class","Cl","Jogadores","Jg","V","E","D","PM","PS","DP","Pt.","Rank"]
[null,"Grupo A",null,null,null,null,null,"Grupo B",null,null,null,null,2,null,"","",null,"",null,null,null,null,null,"",null,null,"2º",null,null,{"$f":"IF(AH34=AH35,\"\",IF(AH34>AH35,AD35,AD34))","v":""},11,null,null,null,null,null,null,null,null,null,null,null,null,null,null,null,null,null,null,null,null,null,null,null,null,null,null,null,null,null,null,null,null,null,null,null,null,null,null,null,null,null,null,null,null,null,null,null,null,null,null,null,null,null,null,null,null,null,null,null,null,null,null,null,null,null,null,null,null,null,null,null,null,null,null,null,null,null,null,null,null,null,null,null,null,null,null,null,null,null,null,null,null,null,null,null,null,null,null,null,null,null,null,null,"A",{"$f":"COUNTIF($EQ$74:$EQ$89,CONCATENATE(\">=\",EQ74))","v":1},{"$f":"AL11","v":""},"","","","","",{"$f":"IF($EH$74=\"\",-0.1,AR11)","v":-0.1},{"$f":"IF($EH$74=\"\",-0.1,AS11)","v":-0.1},{"$f":"IF($EH$74=\"\",-0.1,AT11)","v":-0.1},{"$f":"IF($EH$74=\"\",-0.1,AU11)","v":-0.1},{"$f":"EP74*1000000+(EM74-EN74)*10000+EM74*100+ER74","v":-99994},16]
[null,null,null,null,null,null,null,null,null,null,null,null,3,null,"","",null,"",null,null,null,null,null,"",null,null,"3º",null,null,{"$f":"IF(AH17=AH18,\"\",IF(AH17>AH18,AD18,AD17))","v":""},10,null,null,null,null,null,null,null,null,null,null,null,null,null,null,null,null,null,null,null,null,null,null,null,null,null,null,null,null,null,null,null,null,null,null,null,null,null,null,null,null,null,null,null,null,null,null,null,null,null,null,null,null,null,null,null,null,null,null,null,null,null,null,null,null,null,null,null,null,null,null,null,null,null,null,null,null,null,null,null,null,null,null,null,null,null,null,null,null,null,null,null,null,null,null,null,null,null,null,null,null,null,null,null,"A",2,"","","","","","",{"$f":"IF($EH$75=\"\",-0.1,AR12)","v":-0.1},{"$f":"IF($EH$75=\"\",-0.1,AS12)","v":-0.1},{"$f":"IF($EH$75=\"\",-0.1,AT12)","v":-0.1},{"$f":"IF($EH$75=\"\",-0.1,AU12)","v":-0.1},-99995,15]
[null,{"$f":"AL8","v":"Cl"},"Jogadores",{"$f":"AU8","v":"Pt."},null,null,null,{"$f":"AL16","v":"Cl"},"Jogadores",{"$f":"AU16","v":"Pt."},null,null,4,null,"","",null,"",null,null,null,null,null,"",null,null,"4º",null,null,{"$f":"IF(AH49=AH50,\"\",IF(AH49>AH50,AD50,AD49))","v":""},9,null,null,null,null,null,null,null,null,null,null,null,null,null,null,null,null,null,null,null,null,null,null,null,null,null,null,null,null,null,null,null,null,null,null,null,null,null,null,null,null,null,null,null,null,null,null,null,null,null,null,null,null,null,null,null,null,null,null,null,null,null,null,null,null,null,null,null,null,null,null,null,null,null,null,null,null,null,null,null,null,null,null,null,null,null,null,null,null,null,null,null,null,null,null,null,null,null,null,null,null,null,null,null,"B",3,{"$f":"AL19","v":""},"","","","","",{"$f":"IF($EH$76=\"\",-0.1,AR19)","v":-0.1},{"$f":"IF($EH$76=\"\",-0.1,AS19)","v":-0.1},{"$f":"IF($EH$76=\"\",-0.1,AT19)","v":-0.1},{"$f":"IF($EH$76=\"\",-0.1,AU19)","v":-0.1},-99996,14]
[null,"","",{"$f":"AU9","v":""},null,null,null,"","",{"$f":"AU17","v":""},null,null,5,null,"","",null,"",null,null,null,null,null,"",null,null,"5º",null,null,{"$f":"IF(AA11=AA12,\"\",IF(AA11>AA12,W12,W11))","v":""},8,null,null,null,null,null,null,null,null,null,null,null,null,null,null,null,null,null,null,null,null,null,null,null,null,null,null,null,null,null,null,null,null,null,null,null,null,null,null,null,null,null,null,null,null,null,null,null,null,null,null,null,null,null,null,null,null,null,null,null,null,null,null,null,null,null,null,null,null,null,null,null,null,null,null,null,null,null,null,null,null,null,null,null,null,null,null,null,null,null,null,null,null,null,null,null,null,null,null,null,null,null,null,null,"B",4,"","","","","","",{"$f":"IF($EH$77=\"\",-0.1,AR20)","v":-0.1},{"$f":"IF($EH$77=\"\",-0.1,AS20)","v":-0.1},{"$f":"IF($EH$77=\"\",-0.1,AT20)","v":-0.1},{"$f":"IF($EH$77=\"\",-0.1,AU20)","v":-0.1},-99997,13]
[null,"","",{"$f":"AU10","v":""},null,null,null,"","",{"$f":"AU18","v":""},null,null,6,null,"","",null,"",null,null,null,null,null,"",null,null,"6º",null,null,{"$f":"IF(AA24=AA25,\"\",IF(AA24>AA25,W25,W24))","v":""},8,null,null,null,null,null,null,null,null,null,null,null,null,null,null,null,null,null,null,null,null,null,null,null,null,null,null,null,null,null,null,null,null,null,null,null,null,null,null,null,null,null,null,null,null,null,null,null,null,null,null,null,null,null,null,null,null,null,null,null,null,null,null,null,null,null,null,null,null,null,null,null,null,null,null,null,null,null,null,null,null,null,null,null,null,null,null,null,null,null,null,null,null,null,null,null,null,null,null,null,null,null,null,null,"C",5,{"$f":"AL27","v":""},"","","","","",{"$f":"IF($EH$78=\"\",-0.1,AR27)","v":-0.1},{"$f":"IF($EH$78=\"\",-0.1,AS27)","v":-0.1},{"$f":"IF($EH$78=\"\",-0.1,AT27)","v":-0.1},{"$f":"IF($EH$78=\"\",-0.1,AU27)","v":-0.1},-99998,12]
[null,"","",{"$f":"AU11","v":""},null,null,null,"","",{"$f":"AU19","v":""},null,null,7,null,"","",null,"",null,null,null,null,null,"",null,null,"7º",null,null,{"$f":"IF(AA43=AA44,\"\",IF(AA43>AA44,W44,W43))","v":""},8,null,null,null,null,null,null,null,null,null,null,null,null,null,null,null,null,null,null,null,null,null,null,null,null,null,null,null,null,null,null,null,null,null,null,null,null,null,null,null,null,null,null,null,null,null,null,null,null,null,null,null,null,null,null,null,null,null,null,null,null,null,null,null,null,null,null,null,null,null,null,null,null,null,null,null,null,null,null,null,null,null,null,null,null,null,null,null,null,null,null,null,null,null,null,null,null,null,null,null,null,null,null,null,"C",6,"","","","","","",{"$f":"IF($EH$79=\"\",-0.1,AR28)","v":-0.1},{"$f":"IF($EH$79=\"\",-0.1,AS28)","v":-0.1},{"$f":"IF($EH$79=\"\",-0.1,AT28)","v":-0.1},{"$f":"IF($EH$79=\"\",-0.1,AU28)","v":-0.1},-99999,11]
[null,"","",{"$f":"AU12","v":""},null,null,null,"","",{"$f":"AU20","v":""},null,null,8,null,"","",null,"",null,null,null,null,null,"",null,null,"8º",null,null,{"$f":"IF(AA56=AA57,\"\",IF(AA56>AA57,W57,W56))","v":""},8,null,null,null,null,null,null,null,null,null,null,null,null,null,null,null,null,null,null,null,null,null,null,null,null,null,null,null,null,null,null,null,null,null,null,null,null,null,null,null,null,null,null,null,null,null,null,null,null,null,null,null,null,null,null,null,null,null,null,null,null,null,null,null,null,null,null,null,null,null,null,null,null,null,null,null,null,null,null,null,null,null,null,null,null,null,null,null,null,null,null,null,null,null,null,null,null,null,null,null,null,null,null,null,"D",7,{"$f":"AL35","v":""},"","","","","",{"$f":"IF($EH$80=\"\",-0.1,AR35)","v":-0.1},{"$f":"IF($EH$80=\"\",-0.1,AS35)","v":-0.1},{"$f":"IF($EH$80=\"\",-0.1,AT35)","v":-0.1},{"$f":"IF($EH$80=\"\",-0.1,AU35)","v":-0.1},-100000,10]
[null,"Grupo C",null,null,null,null,null,"Grupo D",null,null,null,null,9,null,"","",null,"",null,null,null,null,null,"",null,null,"9º",null,null,{"$f":"IF($DQ$1<=20,VLOOKUP(DT52,$DT$52:$DU$63,2,FALSE),IF(T8=T9,\"\",IF(T8>T9,P9,P8)))","v":""},4,null,null,null,null,null,null,null,null,null,null,null,null,null,null,null,null,null,null,null,null,null,null,null,null,null,null,null,null,null,null,null,null,null,null,null,null,null,null,null,null,null,null,null,null,null,null,null,null,null,null,null,null,null,null,null,null,null,null,null,null,null,null,null,null,null,null,null,null,null,null,null,null,null,null,null,null,null,null,null,null,null,null,null,null,null,null,null,null,null,null,null,null,null,null,null,null,null,null,null,null,null,null,null,"D",8,"","","","","","",{"$f":"IF($EH$81=\"\",-0.1,AR36)","v":-0.1},{"$f":"IF($EH$81=\"\",-0.1,AS36)","v":-0.1},{"$f":"IF($EH$81=\"\",-0.1,AT36)","v":-0.1},{"$f":"IF($EH$81=\"\",-0.1,AU36)","v":-0.1},-100001,9]
[null,null,null,null,null,null,null,null,null,null,null,null,10,null,"","",null,"",null,null,null,null,null,"",null,null,"10º",null,null,{"$f":"IF($DQ$1<=20,VLOOKUP(DT53,$DT$52:$DU$63,2,FALSE),IF(T14=T15,\"\",IF(T14>T15,P15,P14)))","v":""},4,null,null,null,null,null,null,null,null,null,null,null,null,null,null,null,null,null,null,null,null,null,null,null,null,null,null,null,null,null,null,null,null,null,null,null,null,null,null,null,null,null,null,null,null,null,null,null,null,null,null,null,null,null,null,null,null,null,null,null,null,null,null,null,null,null,null,null,null,null,null,null,null,null,null,null,null,null,null,null,null,null,null,null,null,null,null,null,null,null,null,null,null,null,null,null,null,null,null,null,null,null,null,null,"E",9,{"$f":"AL43","v":"3º"},"",0,6,-12,6,{"$f":"IF($EH$82=\"\",-0.1,AR43)","v":-0.1},{"$f":"IF($EH$82=\"\",-0.1,AS43)","v":-0.1},{"$f":"IF($EH$82=\"\",-0.1,AT43)","v":-0.1},{"$f":"IF($EH$82=\"\",-0.1,AU43)","v":-0.1},-100002,8]
[null,{"$f":"AL24","v":"Cl"},"Jogadores",{"$f":"AU24","v":"Pt."},null,null,null,{"$f":"AL32","v":"Cl"},"Jogadores",{"$f":"AU32","v":"Pt."},null,null,11,null,"","",null,"",null,null,null,null,null,"",null,null,"11º",null,null,{"$f":"IF($DQ$1<=20,VLOOKUP(DT54,$DT$52:$DU$63,2,FALSE),IF(T21=T22,\"\",IF(T21>T22,P22,P21)))","v":""},4,null,null,null,null,null,null,null,null,null,null,null,null,null,null,null,null,null,null,null,null,null,null,null,null,null,null,null,null,null,null,null,null,null,null,null,null,null,null,null,null,null,null,null,null,null,null,null,null,null,null,null,null,null,null,null,null,null,null,null,null,null,null,null,null,null,null,null,null,null,null,null,null,null,null,null,null,null,null,null,null,null,null,null,null,null,null,null,null,null,null,null,null,null,null,null,null,null,null,null,null,null,null,null,"E",10,"","","","","","",{"$f":"IF($EH$83=\"\",-0.1,AR44)","v":-0.1},{"$f":"IF($EH$83=\"\",-0.1,AS44)","v":-0.1},{"$f":"IF($EH$83=\"\",-0.1,AT44)","v":-0.1},{"$f":"IF($EH$83=\"\",-0.1,AU44)","v":-0.1},-100003,7]
[null,"","",{"$f":"AU25","v":""},null,null,null,"","",{"$f":"AU33","v":""},null,null,12,null,"","",null,"",null,null,null,null,null,"",null,null,"12º",null,null,{"$f":"IF($DQ$1<=20,VLOOKUP(DT55,$DT$52:$DU$63,2,FALSE),IF(T27=T28,\"\",IF(T27>T28,P28,P27)))","v":""},4,null,null,null,null,null,null,null,null,null,null,null,null,null,null,null,null,null,null,null,null,null,null,null,null,null,null,null,null,null,null,null,null,null,null,null,null,null,null,null,null,null,null,null,null,null,null,null,null,null,null,null,null,null,null,null,null,null,null,null,null,null,null,null,null,null,null,null,null,null,null,null,null,null,null,null,null,null,null,null,null,null,null,null,null,null,null,null,null,null,null,null,null,null,null,null,null,null,null,null,null,null,null,null,"F",11,{"$f":"AL51","v":""},"","","","","",{"$f":"IF($EH$84=\"\",-0.1,AR51)","v":-0.1},{"$f":"IF($EH$84=\"\",-0.1,AS51)","v":-0.1},{"$f":"IF($EH$84=\"\",-0.1,AT51)","v":-0.1},{"$f":"IF($EH$84=\"\",-0.1,AU51)","v":-0.1},-100004,6]
[null,"","",{"$f":"AU26","v":""},null,null,null,"","",{"$f":"AU34","v":""},null,null,13,null,"","",null,"",null,null,null,null,null,"",null,null,"13º",null,null,{"$f":"IF($DQ$1<=20,VLOOKUP(DT56,$DT$52:$DU$63,2,FALSE),IF(T40=T41,\"\",IF(T40>T41,P41,P40)))","v":""},4,null,null,null,null,null,null,null,null,null,null,null,null,null,null,null,null,null,null,null,null,null,null,null,null,null,null,null,null,null,null,null,null,null,null,null,null,null,null,null,null,null,null,null,null,null,null,null,null,null,null,null,null,null,null,null,null,null,null,null,null,null,null,null,null,null,null,null,null,null,null,null,null,null,null,null,null,null,null,null,null,null,null,null,null,null,null,null,null,null,null,null,null,null,null,null,null,null,null,null,null,null,null,null,"F",12,"","","","","","",{"$f":"IF($EH$85=\"\",-0.1,AR52)","v":-0.1},{"$f":"IF($EH$85=\"\",-0.1,AS52)","v":-0.1},{"$f":"IF($EH$85=\"\",-0.1,AT52)","v":-0.1},{"$f":"IF($EH$85=\"\",-0.1,AU52)","v":-0.1},-100005,5]
[null,"","",{"$f":"AU27","v":""},null,null,null,"","",{"$f":"AU35","v":""},null,null,14,null,"","",null,"",null,null,null,null,null,"",null,null,"14º",null,null,{"$f":"IF($DQ$1<=20,VLOOKUP(DT57,$DT$52:$DU$63,2,FALSE),IF(T46=T47,\"\",IF(T46>T47,P47,P46)))","v":""},4,null,null,null,null,null,null,null,null,null,null,null,null,null,null,null,null,null,null,null,null,null,null,null,null,null,null,null,null,null,null,null,null,null,null,null,null,null,null,null,null,null,null,null,null,null,null,null,null,null,null,null,null,null,null,null,null,null,null,null,null,null,null,null,null,null,null,null,null,null,null,null,null,null,null,null,null,null,null,null,null,null,null,null,null,null,null,null,null,null,null,null,null,null,null,null,null,null,null,null,null,null,null,null,"G",13,{"$f":"AL59","v":""},"","","","","",{"$f":"IF($EH$86=\"\",-0.1,AR59)","v":-0.1},{"$f":"IF($EH$86=\"\",-0.1,AS59)","v":-0.1},{"$f":"IF($EH$86=\"\",-0.1,AT59)","v":-0.1},{"$f":"IF($EH$86=\"\",-0.1,AU59)","v":-0.1},-100006,4]
[null,"","",{"$f":"AU28","v":""},null,null,null,"","",{"$f":"AU36","v":""},null,null,15,null,"","",null,"",null,null,null,null,null,"",null,null,"15º",null,null,{"$f":"IF($DQ$1<=20,VLOOKUP(DT58,$DT$52:$DU$63,2,FALSE),IF(T53=T54,\"\",IF(T53>T54,P54,P53)))","v":""},4,null,null,null,null,null,null,null,null,null,null,null,null,null,null,null,null,null,null,null,null,null,null,null,null,null,null,null,null,null,null,null,null,null,null,null,null,null,null,null,null,null,null,null,null,null,null,null,null,null,null,null,null,null,null,null,null,null,null,null,null,null,null,null,null,null,null,null,null,null,null,null,null,null,null,null,null,null,null,null,null,null,null,null,null,null,null,null,null,null,null,null,null,null,null,null,null,null,null,null,null,null,null,null,"G",14,"","","","","","",{"$f":"IF($EH$87=\"\",-0.1,AR60)","v":-0.1},{"$f":"IF($EH$87=\"\",-0.1,AS60)","v":-0.1},{"$f":"IF($EH$87=\"\",-0.1,AT60)","v":-0.1},{"$f":"IF($EH$87=\"\",-0.1,AU60)","v":-0.1},-100007,3]
[null,"Grupo E",null,null,null,null,null,"Grupo F",null,null,null,null,16,null,"","",null,"",null,null,null,null,null,"",null,null,"16º",null,null,{"$f":"IF($DQ$1<=20,VLOOKUP(DT59,$DT$52:$DU$63,2,FALSE),IF(T59=T60,\"\",IF(T59>T60,P60,P59)))","v":""},4,null,null,null,null,null,null,null,null,null,null,null,null,null,null,null,null,null,null,null,null,null,null,null,null,null,null,null,null,null,null,null,null,null,null,null,null,null,null,null,null,null,null,null,null,null,null,null,null,null,null,null,null,null,null,null,null,null,null,null,null,null,null,null,null,null,null,null,null,null,null,null,null,null,null,null,null,null,null,null,null,null,null,null,null,null,null,null,null,null,null,null,null,null,null,null,null,null,null,null,null,null,null,null,"H",15,{"$f":"AL67","v":""},"","","","","",{"$f":"IF($EH$88=\"\",-0.1,AR67)","v":-0.1},{"$f":"IF($EH$88=\"\",-0.1,AS67)","v":-0.1},{"$f":"IF($EH$88=\"\",-0.1,AT67)","v":-0.1},{"$f":"IF($EH$88=\"\",-0.1,AU67)","v":-0.1},-100008,2]
[null,null,null,null,null,null,null,null,null,null,null,null,17,null,"","",null,"",null,null,null,null,null,"",null,null,"17º",null,null,{"$f":"IF($DQ$1<=20,VLOOKUP(DT60,$DT$52:$DU$63,2,FALSE),IF(AND($DQ$1>20,$DQ$1<24),VLOOKUP(DT52,$DT$52:$DV$59,3,FALSE),VLOOKUP(DT52,$DT$52:$DW$67,4,FALSE)))","v":""},2,null,null,null,null,null,null,null,null,null,null,null,null,null,null,null,null,null,null,null,null,null,null,null,null,null,null,null,null,null,null,null,null,null,null,null,null,null,null,null,null,null,null,null,null,null,null,null,null,null,null,null,null,null,null,null,null,null,null,null,null,null,null,null,null,null,null,null,null,null,null,null,null,null,null,null,null,null,null,null,null,null,null,null,null,null,null,null,null,null,null,null,null,null,null,null,null,null,null,null,null,null,null,null,"H",16,"","","","","","",{"$f":"IF($EH$89=\"\",-0.1,AR68)","v":-0.1},{"$f":"IF($EH$89=\"\",-0.1,AS68)","v":-0.1},{"$f":"IF($EH$89=\"\",-0.1,AT68)","v":-0.1},{"$f":"IF($EH$89=\"\",-0.1,AU68)","v":-0.1},-100009,1]
[null,{"$f":"AL40","v":"Cl"},"Jogadores",{"$f":"AU40","v":"Pt."},null,null,null,{"$f":"AL48","v":"Cl"},"Jogadores",{"$f":"AU48","v":"Pt."},null,null,18,null,"","",null,"",null,null,null,null,null,"",null,null,"18º",null,null,{"$f":"IF($DQ$1<=20,VLOOKUP(DT61,$DT$52:$DU$63,2,FALSE),IF(AND($DQ$1>20,$DQ$1<24),VLOOKUP(DT53,$DT$52:$DV$59,3,FALSE),VLOOKUP(DT53,$DT$52:$DW$67,4,FALSE)))","v":""},2]
[null,"1º","",{"$f":"AU41","v":0},null,null,null,"","",{"$f":"AU49","v":""},null,null,19,null,"","",null,"",null,null,null,null,null,"",null,null,"19º",null,null,{"$f":"IF($DQ$1<=20,VLOOKUP(DT62,$DT$52:$DU$63,2,FALSE),IF(AND($DQ$1>20,$DQ$1<24),VLOOKUP(DT54,$DT$52:$DV$59,3,FALSE),VLOOKUP(DT54,$DT$52:$DW$67,4,FALSE)))","v":""},2]
[null,"2º","",{"$f":"AU42","v":0},null,null,null,"","",{"$f":"AU50","v":""},null,null,20,null,"","",null,"",null,null,null,null,null,"",null,null,"20º",null,null,{"$f":"IF($DQ$1<=20,VLOOKUP(DT63,$DT$52:$DU$63,2,FALSE),IF(AND($DQ$1>20,$DQ$1<24),VLOOKUP(DT55,$DT$52:$DV$59,3,FALSE),VLOOKUP(DT55,$DT$52:$DW$67,4,FALSE)))","v":""},2]
[null,"3º","",{"$f":"AU43","v":0},null,null,null,"","",{"$f":"AU51","v":""},null,null,21,null,"","",null,"",null,null,null,null,null,"",null,null,"21º",null,null,{"$f":"IF($DQ$1<=20,\"\",IF(AND($DQ$1>20,$DQ$1<24),VLOOKUP(DT56,$DT$52:$DV$59,3,FALSE),VLOOKUP(DT56,$DT$52:$DW$67,4,FALSE)))","v":""},2]
[null,"","",{"$f":"AU44","v":""},null,null,null,"","",{"$f":"AU52","v":""},null,null,22,null,"","",null,"",null,null,null,null,null,"",null,null,"22º",null,null,{"$f":"IF($DQ$1<=20,\"\",IF(AND($DQ$1>20,$DQ$1<24),VLOOKUP(DT57,$DT$52:$DV$59,3,FALSE),VLOOKUP(DT57,$DT$52:$DW$67,4,FALSE)))","v":""},2]
[null,"Grupo G",null,null,null,null,null,"Grupo H",null,null,null,null,23,null,"","",null,"",null,null,null,null,null,"",null,null,"23º",null,null,{"$f":"IF($DQ$1<=20,\"\",IF(AND($DQ$1>20,$DQ$1<24),VLOOKUP(DT58,$DT$52:$DV$59,3,FALSE),VLOOKUP(DT58,$DT$52:$DW$67,4,FALSE)))","v":""},2]
[null,null,null,null,null,null,null,null,null,null,null,null,24,null,"","",null,"",null,null,null,null,null,"",null,null,"24º",null,null,{"$f":"IF($DQ$1<=20,\"\",IF(AND($DQ$1>20,$DQ$1<24),VLOOKUP(DT59,$DT$52:$DV$59,3,FALSE),VLOOKUP(DT59,$DT$52:$DW$67,4,FALSE)))","v":""},2]
[null,{"$f":"AL56","v":"Cl"},"Jogadores",{"$f":"AU56","v":"Pt."},null,null,null,{"$f":"AL64","v":"Cl"},"Jogadores",{"$f":"AU64","v":"Pt."},null,null,25,null,"","",null,"",null,null,null,null,null,"",null,null,"25º",null,null,{"$f":"IF($DQ$1<=20,\"\",IF(AND($DQ$1>20,$DQ$1<24),\"\",VLOOKUP(DT60,$DT$52:$DW$67,4,FALSE)))","v":""},1]
[null,"","",{"$f":"AU57","v":""},null,null,null,"","",{"$f":"AU65","v":""},null,null,26,null,"","",null,"",null,null,null,null,null,"",null,null,"26º",null,null,{"$f":"IF($DQ$1<=20,\"\",IF(AND($DQ$1>20,$DQ$1<24),\"\",VLOOKUP(DT61,$DT$52:$DW$67,4,FALSE)))","v":""},1]
[null,"","",{"$f":"AU58","v":""},null,null,null,"","",{"$f":"AU66","v":""},null,null,27,null,"","",null,"",null,null,null,null,null,"",null,null,"27º",null,null,{"$f":"IF($DQ$1<=20,\"\",IF(AND($DQ$1>20,$DQ$1<24),\"\",VLOOKUP(DT62,$DT$52:$DW$67,4,FALSE)))","v":""},1]
[null,"","",{"$f":"AU59","v":""},null,null,null,"","",{"$f":"AU67","v":""},null,null,28,null,"","",null,"",null,null,null,null,null,"",null,null,"28º",null,null,{"$f":"VLOOKUP(DT63,$DT$52:$DW$67,4,FALSE)","v":""},1]
[null,"","",{"$f":"AU60","v":""},null,null,null,"","",{"$f":"AU68","v":""},null,null,29,null,"","",null,"",null,null,null,null,null,"",null,null,"29º",null,null,{"$f":"VLOOKUP(DT64,$DT$52:$DW$67,4,FALSE)","v":""},1]
[null,null,null,null,null,null,null,null,null,null,null,null,30,null,"","",null,"",null,null,null,null,null,"",null,null,"30º",null,null,{"$f":"VLOOKUP(DT65,$DT$52:$DW$67,4,FALSE)","v":""},1]
[null,null,null,null,null,null,null,null,null,null,null,null,31,null,"","",null,"",null,null,null,null,null,"",null,null,"31º",null,null,{"$f":"VLOOKUP(DT66,$DT$52:$DW$67,4,FALSE)","v":""},1]
[null,null,null,null,null,null,null,null,null,null,null,null,32,null,"","",null,"",null,null,null,null,null,"",null,null,"32º",null,null,{"$f":"VLOOKUP(DT67,$DT$52:$DW$67,4,FALSE)","v":""},1]
[]
[]
[null,null,null,null,null,null,null,null,null,null,null,null,null,null,null,null,null,null,null,null,null,null,null,null,null,null,null,null,null,null,null,null,null,null,null,null,null,null,null,null,null,null,null,null,null,null,null,null,null,null,null,null,null,null,null,null,null,null,null,null,null,null,null,null,null,null,null,null,null,null,null,null,null,null,null,null,null,null,null,null,null,null,null,null,null,null,null,null,null,null,null,null,null,null,null,null,null,null,null,null,null,null,null,null,null,null,null,null,"Por favor indicar nas observações os alunos com falta de comparência"]
[null,null,null,null,null,null,null,null,null,null,null,null,null,null,null,null,null,null,null,null,null,null,null,null,null,null,null,null,null,null,null,null,null,null,null,null,null,null,null,null,null,null,null,null,null,null,null,null,null,null,null,null,null,null,null,null,null,null,null,null,null,null,null,null,null,null,null,null,null,null,null,null,null,null,null,null,null,null,null,null,null,null,null,null,null,null,null,null,null,null,null,null,null,null,null,null,null,null,null,null,null,null,null,null,null,null,null,null,"Cl.","Nº J","Ranking","Pt."]
[null,null,null,null,null,null,null,null,null,null,null,null,null,null,null,null,null,null,null,null,null,null,null,null,null,null,null,null,null,null,null,null,null,null,null,null,null,null,null,null,null,null,null,null,null,null,null,null,null,null,null,null,null,null,null,null,null,null,null,null,null,null,null,null,null,null,null,null,null,null,null,null,null,null,null,null,null,null,null,null,null,null,null,null,null,null,null,null,null,null,null,null,null,null,null,null,null,null,null,null,null,null,null,null,null,null,null,null,"1º",null,{"$f":"IF(AH17=AH18,\"\",IF(AH17>AH18,AD17,AD18))","v":""},12]
[null,null,null,null,null,null,null,null,null,null,null,null,null,null,null,null,null,null,null,null,null,null,null,null,null,null,null,null,null,null,null,null,null,null,null,null,null,null,null,null,null,null,null,null,null,null,null,null,null,null,null,null,null,null,null,null,null,null,null,null,null,null,null,null,null,null,null,null,null,null,null,null,null,null,null,null,null,null,null,null,null,null,null,null,null,null,null,null,null,null,null,null,null,null,null,null,null,null,null,null,null,null,null,null,null,null,null,null,"2º",null,{"$f":"IF(AH17=AH18,\"\",IF(AH17<AH18,AD17,AD18))","v":""},11]
[null,null,null,null,null,null,null,null,null,null,null,null,null,null,null,null,null,null,null,null,null,null,null,null,null,null,null,null,null,null,null,null,null,null,null,null,null,null,null,null,null,null,null,null,null,null,null,null,null,null,null,null,null,null,null,null,null,null,null,null,null,null,null,null,null,null,null,null,null,null,null,null,null,null,null,null,null,null,null,null,null,null,null,null,null,null,null,null,null,null,null,null,null,null,null,null,null,null,null,null,null,null,null,null,null,null,null,null,"3º",null,{"$f":"IF(AA11=AA12,\"\",IF(AA11<AA12,W11,W12))","v":""},10]
[null,null,null,null,null,null,null,null,null,null,null,null,null,null,null,null,null,null,null,null,null,null,null,null,null,null,null,null,null,null,null,null,null,null,null,null,null,null,null,null,null,null,null,null,null,null,null,null,null,null,null,null,null,null,null,null,null,null,null,null,null,null,null,null,null,null,null,null,null,null,null,null,null,null,null,null,null,null,null,null,null,null,null,null,null,null,null,null,null,null,null,null,null,null,null,null,null,null,null,null,null,null,null,null,null,null,null,null,null,null,{"$f":"IF(AA24=AA25,\"\",IF(AA24<AA25,W24,W25))","v":""},10]
[null,null,null,null,null,null,null,null,null,null,null,null,null,null,null,null,null,null,null,null,null,null,null,null,null,null,null,null,null,null,null,null,null,null,null,null,null,null,null,null,null,null,null,null,null,null,null,null,null,null,null,null,null,null,null,null,null,null,null,null,null,null,null,null,null,null,null,null,null,null,null,null,null,null,null,null,null,null,null,null,null,null,null,null,null,null,null,null,null,null,null,null,null,null,null,null,null,null,null,null,null,null,null,null,null,null,null,null,"5ºs",null,{"$f":"IF(T8=T9,\"\",IF(T8<T9,P8,P9))","v":""},8]
[null,null,null,null,null,null,null,null,null,null,null,null,null,null,null,null,null,null,null,null,null,null,null,null,null,null,null,null,null,null,null,null,null,null,null,null,null,null,null,null,null,null,null,null,null,null,null,null,null,null,null,null,null,null,null,null,null,null,null,null,null,null,null,null,null,null,null,null,null,null,null,null,null,null,null,null,null,null,null,null,null,null,null,null,null,null,null,null,null,null,null,null,null,null,null,null,null,null,null,null,null,null,null,null,null,null,null,null,null,null,{"$f":"IF(T14=T15,\"\",IF(T14<T15,P14,P15))","v":""},8]
[null,null,null,null,null,null,null,null,null,null,null,null,null,null,null,null,null,null,null,null,null,null,null,null,null,null,null,null,null,null,null,null,null,null,null,null,null,null,null,null,null,null,null,null,null,null,null,null,null,null,null,null,null,null,null,null,null,null,null,null,null,null,null,null,null,null,null,null,null,null,null,null,null,null,null,null,null,null,null,null,null,null,null,null,null,null,null,null,null,null,null,null,null,null,null,null,null,null,null,null,null,null,null,null,null,null,null,null,null,null,{"$f":"IF(T21=T22,\"\",IF(T21<T22,P21,P22))","v":""},8]
[null,null,null,null,null,null,null,null,null,null,null,null,null,null,null,null,null,null,null,null,null,null,null,null,null,null,null,null,null,null,null,null,null,null,null,null,null,null,null,null,null,null,null,null,null,null,null,null,null,null,null,null,null,null,null,null,null,null,null,null,null,null,null,null,null,null,null,null,null,null,null,null,null,null,null,null,null,null,null,null,null,null,null,null,null,null,null,null,null,null,null,null,null,null,null,null,null,null,null,null,null,null,null,null,null,null,null,null,null,null,{"$f":"IF(T27=T28,\"\",IF(T27<T28,P27,P28))","v":""},8]
[null,null,null,null,null,null,null,null,null,null,null,null,null,null,null,null,null,null,null,null,null,null,null,null,null,null,null,null,null,null,null,null,null,null,null,null,null,null,null,null,null,null,null,null,null,null,null,null,null,null,null,null,null,null,null,null,null,null,null,null,null,null,null,null,null,null,null,null,null,null,null,null,null,null,null,null,null,null,null,null,null,null,null,null,null,null,null,null,null,null,null,null,null,null,null,null,null,null,null,null,null,null,null,null,null,null,null,null,"9ºs",null,{"$f":"IF($DQ$1<11,DU44,IF($DQ$1=11,DV44,DW48))","v":"Bye"},4]
[null,null,null,null,null,null,null,null,null,null,null,null,null,null,null,null,null,null,null,null,null,null,null,null,null,null,null,null,null,null,null,null,null,null,null,null,null,null,null,null,null,null,null,null,null,null,null,null,null,null,null,null,null,null,null,null,null,null,null,null,null,null,null,null,null,null,null,null,null,null,null,null,null,null,null,null,null,null,null,null,null,null,null,null,null,null,null,null,null,null,null,null,null,null,null,null,null,null,null,null,null,null,null,null,null,null,null,null,null,null,{"$f":"IF($DQ$1<11,DU45,IF($DQ$1=11,DV45,DW49))","v":"Bye"},4]
[null,null,null,null,null,null,null,null,null,null,null,null,null,null,null,null,null,null,null,null,null,null,null,null,null,null,null,null,null,null,null,null,null,null,null,null,null,null,null,null,null,null,null,null,null,null,null,null,null,null,null,null,null,null,null,null,null,null,null,null,null,null,null,null,null,null,null,null,null,null,null,null,null,null,null,null,null,null,null,null,null,null,null,null,null,null,null,null,null,null,null,null,null,null,null,null,null,null,null,null,null,null,null,null,null,null,null,null,null,null,{"$f":"IF($DQ$1<11,DU46,IF($DQ$1=11,DV46,DW46))","v":"Bye"},4]
[null,null,null,null,null,null,null,null,null,null,null,null,null,null,null,null,null,null,null,null,null,null,null,null,null,null,null,null,null,null,null,null,null,null,null,null,null,null,null,null,null,null,null,null,null,null,null,null,null,null,null,null,null,null,null,null,null,null,null,null,null,null,null,null,null,null,null,null,null,null,null,null,null,null,null,null,null,null,null,null,null,null,null,null,null,null,null,null,null,null,null,null,null,null,null,null,null,null,null,null,null,null,null,null,null,null,null,null,null,null,{"$f":"IF($DQ$1<11,DU47,IF($DQ$1=11,DV47,DW47))","v":"Bye"},4]
[null,null,null,null,null,null,null,null,null,null,null,null,null,null,null,null,null,null,null,null,null,null,null,null,null,null,null,null,null,null,null,null,null,null,null,null,null,null,null,null,null,null,null,null,null,null,null,null,null,null,null,null,null,null,null,null,null,null,null,null,null,null,null,null,null,null,null,null,null,null,null,null,null,null,null,null,null,null,null,null,null,null,null,null,null,null,null,null,null,null,null,null,null,null,null,null,null,null,null,null,null,null,null,null,null,null,null,null,"13º",null,{"$f":"IF($DQ$1<11,DU48,IF($DQ$1=11,DV48,#REF!))","v":"Bye"},2]
[null,null,null,null,null,null,null,null,null,null,null,null,null,null,null,null,null,null,null,null,null,null,null,null,null,null,null,null,null,null,null,null,null,null,null,null,null,null,null,null,null,null,null,null,null,null,null,null,null,null,null,null,null,null,null,null,null,null,null,null,null,null,null,null,null,null,null,null,null,null,null,null,null,null,null,null,null,null,null,null,null,null,null,null,null,null,null,null,null,null,null,null,null,null,null,null,null,null,null,null,null,null,null,null,null,null,null,null,null,null,{"$f":"IF($DQ$1<11,DU49,IF($DQ$1=11,DV49,#REF!))","v":"Bye"},2]
[null,null,null,null,null,null,null,null,null,null,null,null,null,null,null,null,null,null,null,null,null,null,null,null,null,null,null,null,null,null,null,null,null,null,null,null,null,null,null,null,null,null,null,null,null,null,null,null,null,null,null,null,null,null,null,null,null,null,null,null,null,null,null,null,null,null,null,null,null,null,null,null,null,null,null,null,null,null,null,null,null,null,null,null,null,null,null,null,null,null,null,null,null,null,null,null,null,null,null,null,null,null,null,null,null,null,null,null,null,null,{"$f":"IF($DQ$1<11,DU50,IF($DQ$1=11,DV50,DW44))","v":"Bye"},2]
[null,null,null,null,null,null,null,null,null,null,null,null,null,null,null,null,null,null,null,null,null,null,null,null,null,null,null,null,null,null,null,null,null,null,null,null,null,null,null,null,null,null,null,null,null,null,null,null,null,null,null,null,null,null,null,null,null,null,null,null,null,null,null,null,null,null,null,null,null,null,null,null,null,null,null,null,null,null,null,null,null,null,null,null,null,null,null,null,null,null,null,null,null,null,null,null,null,null,null,null,null,null,null,null,null,null,null,null,null,null,{"$f":"IF($DQ$1<11,DU51,IF($DQ$1=11,DV51,DW45))","v":"Bye"},2]

{"sheet":"Contactos","index":17,"n_rows":35,"n_cols":43,"rows_kept":35,"cut":false,"hidden":true,"merged":[[1,37,1,39],[1,40,1,42]]}
[null,null,null,null,null,null,null,null,null,null,null,null,null,null,null,"ver contactos",null,null,null,null,null,null,null,null,null,null,{"$f":"LARGE(AA3:AA18,1)","v":6},{"$f":"LARGE(AB3:AB18,1)","v":5},{"$f":"LARGE(AC3:AC18,1)","v":5},6,5,5,5,6,5,10]
["Zn","Zonas","Esc.Nº","I","II","III","Concelho","Localidade","Escola","Modalidade","escalão","Género","Prof.",null,"Email","Telefone","ctrl","I","II","III","Ord I","Ord II","Ord III",null,null,null,1,2,3,4,5,6,7,8,9,"Escolas",null,"Zona 1",null,null,"Zona 2"]
[1,1,1,1,4,8,"Vila do Bispo","Vila do Bispo","EB23 S. Vicente","Badminton","Vários","Misto","Vitor Rito","Vitor Rito","ritoprofef@gmail.com",968765244,1E-3,{"$f":"D3+Q3","v":1.0009999999999999},{"$f":"E3+Q3","v":4.0010000000000003},{"$f":"F3+Q3","v":8.0009999999999994},{"$f":"RANK(R3,$R$3:$R$18,1)","v":1},{"$f":"RANK(S3,$S$3:$S$18,1)","v":1},{"$f":"RANK(T3,$T$3:$T$18,1)","v":6},null,null,null,{"$f":"IF(AND(R3<$AB$2,R3>$AA$2),RANK(R3,$R$3:$R$18,1),0)","v":1},{"$f":"IF(AND(R3<$AC$2,R3>$AB$2),RANK(R3,$R$3:$R$18,1)-$AA$1,0)","v":0},{"$f":"IF(AND(R3<$AD$2,R3>$AC$2),RANK(R3,$R$3:$R$18,1)-SUM($AA$1+$AB$1),0)","v":0},{"$f":"IF(AND(S3<$AE$2,S3>$AD$2),RANK(S3,$S$3:$S$18,1),0)","v":1},{"$f":"IF(AND(S3<$AF$2,S3>$AE$2),RANK(S3,$S$3:$S$18,1)-$AD$1,0)","v":0},{"$f":"IF(AND(S3<$AG$2,S3>$AF$2),RANK(S3,$S$3:$S$18,1)-SUM($AD$1+$AE$1),0)","v":0},{"$f":"IF(AND(T3<$AH$2,T3>$AG$2),RANK(T3,$T$3:$T$18,1),0)","v":0},{"$f":"IF(AND(T3<$AI$2,T3>$AH$2),RANK(T3,$T$3:$T$18,1)-$AG$1,0)","v":1},{"$f":"IF(AND(T3<$AJ$1,T3>$AI$2),RANK(T3,$T$3:$T$18,1)-SUM($AG$1+$AH$1),0)","v":0},{"$f":"I3&\" (\"&H3&\")\"","v":"EB23 S. Vicente (Vila do Bispo)"},null,{"$f":"'[2]Calendário de Jogos'!B7","v":"Torneio 01"},{"$f":"'[2]Calendário de Jogos'!C7","v":"Torneio 04"},{"$f":"'[2]Calendário de Jogos'!D7","v":"Torneio 07"},{"$f":"'[2]Calendário de Jogos'!B37","v":"Torneio 10"},{"$f":"'[2]Calendário de Jogos'!C37","v":"Torneio 13"},{"$f":"'[2]Calendário de Jogos'!D37","v":"Torneio 16"}]
[1,1,2,1,4,7,"Lagos","Lagos","Sec. Júlio Dantas","Badminton","Vários","Misto","Rita Correia","Rita Correia","reta.correia@gmail.com",965818311,2E-3,1.002,{"$f":"E4+Q4","v":4.0019999999999998},{"$f":"F4+Q4","v":7.0019999999999998},2,{"$f":"RANK(S4,$S$3:$S$18,1)","v":2},{"$f":"RANK(T4,$T$3:$T$18,1)","v":1},null,null,null,{"$f":"IF(AND(R4<$AB$2,R4>$AA$2),RANK(R4,$R$3:$R$18,1),0)","v":2},{"$f":"IF(AND(R4<$AC$2,R4>$AB$2),RANK(R4,$R$3:$R$18,1)-$AA$1,0)","v":0},{"$f":"IF(AND(R4<$AD$2,R4>$AC$2),RANK(R4,$R$3:$R$18,1)-SUM($AA$1+$AB$1),0)","v":0},{"$f":"IF(AND(S4<$AE$2,S4>$AD$2),RANK(S4,$S$3:$S$18,1),0)","v":2},{"$f":"IF(AND(S4<$AF$2,S4>$AE$2),RANK(S4,$S$3:$S$18,1)-$AD$1,0)","v":0},{"$f":"IF(AND(S4<$AG$2,S4>$AF$2),RANK(S4,$S$3:$S$18,1)-SUM($AD$1+$AE$1),0)","v":0},{"$f":"IF(AND(T4<$AH$2,T4>$AG$2),RANK(T4,$T$3:$T$18,1),0)","v":1},{"$f":"IF(AND(T4<$AI$2,T4>$AH$2),RANK(T4,$T$3:$T$18,1)-$AG$1,0)","v":0},0,"Sec. Júlio Dantas (Lagos)",null,{"$f":"'[2]Calendário de Jogos'!B8","v":"EB23 S. Vicente (Vila do Bispo)"},{"$f":"'[2]Calendário de Jogos'!C8","v":"EB23 S. Vicente (Vila do Bispo)"},{"$f":"'[2]Calendário de Jogos'!D8","v":"Sec. Júlio Dantas (Lagos)"},{"$f":"'[2]Calendário de Jogos'!B38","v":"EB23 Profª D. Negrão (Albufeira)"},{"$f":"'[2]Calendário de Jogos'!C38","v":"EB23 Profª D. Negrão (Albufeira)"},{"$f":"'[2]Calendário de Jogos'!D38","v":"EB23 Profª D. Negrão (Albufeira)"}]
[1,1,3,1,5,8,"Lagos","Lagos","EB23 Nº1 Lagos","Badminton","Vários","Misto","Dulce Figueiredo","Dulce Figueiredo","dulcefigueiredo.lagos@gmail.com",917433766,3.0000000000000001E-3,1.0029999999999999,5.0030000000000001,8.0030000000000001,3,7,7,null,null,null,3,0,0,0,1,0,0,2,0,"EB23 Nº1 Lagos (Lagos)",null,{"$f":"'[2]Calendário de Jogos'!B9","v":"Sec. Júlio Dantas (Lagos)"},{"$f":"'[2]Calendário de Jogos'!C9","v":"Sec. Júlio Dantas (Lagos)"},{"$f":"'[2]Calendário de Jogos'!D9","v":"Sec. Poeta A. Aleixo (Portimão)"},{"$f":"'[2]Calendário de Jogos'!B39","v":"EB23 Dr Franc. Cabrita (Albufeira)"},{"$f":"'[2]Calendário de Jogos'!C39","v":"EB23 Dr Franc. Cabrita (Albufeira)"},{"$f":"'[2]Calendário de Jogos'!D39","v":"EB23 Dr Franc. Cabrita (Albufeira)"}]
[1,1,4,1,5,9,"Portimão","Alvor","EB23 D. João II","Badminton","Vários","Misto","Pedro Contreiras","Pedro Contreiras","pmcontreiras@gmail.com",966280249,4.0000000000000001E-3,1.004,5.0039999999999996,9.0039999999999996,4,8,12,null,null,null,4,0,0,0,2,0,0,0,1,"EB23 D. João II (Alvor)",null,{"$f":"'[2]Calendário de Jogos'!B10","v":"EB23 Nº1 Lagos (Lagos)"},{"$f":"'[2]Calendário de Jogos'!C10","v":"EBI Mex. Grande (Mex. Grande)"},{"$f":"'[2]Calendário de Jogos'!D10","v":"EB23 Rio Arade (Parchal)"},{"$f":"'[2]Calendário de Jogos'!B40","v":"EBI de Ferreiras (Ferreiras)"},{"$f":"'[2]Calendário de Jogos'!C40","v":"EBI de Ferreiras (Ferreiras)"},{"$f":"'[2]Calendário de Jogos'!D40","v":"EBI de Ferreiras (Ferreiras)"}]
[1,1,5,1,4,8,"Portimão","Mex. Grande","EBI Mex. Grande","Badminton","Vários","Misto","João Salgado Pires","João Salgado Pires","jespires@gmail.com",965478342,5.0000000000000001E-3,1.0049999999999999,4.0049999999999999,8.0050000000000008,5,3,8,null,null,null,5,0,0,3,0,0,0,3,0,"EBI Mex. Grande (Mex. Grande)",null,{"$f":"'[2]Calendário de Jogos'!B11","v":"EB23 D. João II (Alvor)"},{"$f":"'[2]Calendário de Jogos'!C11","v":"Sec. Poeta A. Aleixo (Portimão)"},{"$f":"'[2]Calendário de Jogos'!D11","v":"EB23 do Algoz (Algoz)"},{"$f":"'[2]Calendário de Jogos'!B41","v":"EB23 Dr. A.S. Agostinho (Almancil)"},{"$f":"'[2]Calendário de Jogos'!C41","v":"EB23 Dr. A.S. Agostinho (Almancil)"},{"$f":"'[2]Calendário de Jogos'!D41","v":"EB23 Dr. A.S. Agostinho (Almancil)"}]
[1,2,6,1,4,7,"Portimão","Portimão","Sec. Poeta A. Aleixo","Badminton","Iniciação","Misto","Joaquim Dionísio","Joaquim Dionísio","jdionisio@espaa.pt",919788535,6.0000000000000001E-3,1.006,4.0060000000000002,7.0060000000000002,6,4,2,null,null,null,6,0,0,4,0,0,2,0,0,"Sec. Poeta A. Aleixo (Portimão)",null,{"$f":"'[2]Calendário de Jogos'!B12","v":"EBI Mex. Grande (Mex. Grande)"},{"$f":"'[2]Calendário de Jogos'!C12","v":"EB23 de Monchique (Monchique)"},{"$f":"'[2]Calendário de Jogos'!D12","v":"EB23 João de Deus (S.B.Messines)"},{"$f":"'[2]Calendário de Jogos'!B42","v":"EB23 D. Dinis (Quarteira)"},{"$f":"'[2]Calendário de Jogos'!C42","v":"EB23 D. Dinis (Quarteira)"},{"$f":"'[2]Calendário de Jogos'!D42","v":"EB23 D. Dinis (Quarteira)"}]
[1,2,7,2,6,8,"Portimão","Portimão","EB23 Eng.N.Mergulhão","Badminton","Vários","Misto","Miguel Figueiredo","Miguel Figueiredo","lagos.miguelfigueiredo@gmail.com",918865710,7.0000000000000001E-3,2.0070000000000001,6.0069999999999997,8.0069999999999997,7,12,9,null,null,null,0,1,0,0,0,1,0,4,0,"EB23 Eng.N.Mergulhão (Portimão)",null,{"$f":"'[2]Calendário de Jogos'!B13","v":"Sec. Poeta A. Aleixo (Portimão)"},{"$f":"'[2]Calendário de Jogos'!C13","v":"EB23 Dr G. Domingues (Silves)"},{"$f":"'[2]Calendário de Jogos'!D13","v":0},{"$f":"'[2]Calendário de Jogos'!B43","v":0},{"$f":"'[2]Calendário de Jogos'!C43","v":0},{"$f":"'[2]Calendário de Jogos'!D43","v":0}]
[1,2,8,2,5,8,"Portimão","Portimão","EB23 Júdice Fialho","Badminton","Vários","Misto","Nuno Ribeiro","Nuno Ribeiro","ng_ribeiro@netcabo.pt",916839667,8.0000000000000002E-3,2.008,5.008,8.0079999999999991,8,9,10,null,null,null,0,2,0,0,3,0,0,5,0,"EB23 Júdice Fialho (Portimão)",null,{"$f":"'[2]Calendário de Jogos'!B14","v":0},{"$f":"'[2]Calendário de Jogos'!C14","v":0},{"$f":"'[2]Calendário de Jogos'!D14","v":0},{"$f":"'[2]Calendário de Jogos'!B44","v":0},{"$f":"'[2]Calendário de Jogos'!C44","v":0},{"$f":"'[2]Calendário de Jogos'!D44","v":0}]
[1,2,9,2,4,9,"Monchique","Monchique","EB23 de Monchique","Badminton","Vários","Misto","João Cristina","João Cristina","bcmonchique@sapo.pt",967398230,8.9999999999999993E-3,2.0089999999999999,4.0090000000000003,9.0090000000000003,9,5,13,null,null,null,0,3,0,5,0,0,0,0,2,"EB23 de Monchique (Monchique)",null,{"$f":"'[2]Calendário de Jogos'!B17","v":"Torneio 02"},{"$f":"'[2]Calendário de Jogos'!C17","v":"Torneio 05"},{"$f":"'[2]Calendário de Jogos'!D17","v":"Torneio 08"},{"$f":"'[2]Calendário de Jogos'!B47","v":"Torneio 11"},{"$f":"'[2]Calendário de Jogos'!C47","v":"Torneio 14"},{"$f":"'[2]Calendário de Jogos'!D47","v":"Torneio 17"}]
[1,2,10,2,6,7,"Lagoa","Parchal","EB23 Rio Arade","Badminton","Vários","Misto","Sandra Freitas","Sandra Freitas","smofreitas@iol.pt",917613139,0.01,2.0099999999999998,6.01,7.01,10,13,3,null,null,null,0,4,0,0,0,2,3,0,0,"EB23 Rio Arade (Parchal)",null,{"$f":"'[2]Calendário de Jogos'!B18","v":"EB23 Eng.N.Mergulhão (Portimão)"},{"$f":"'[2]Calendário de Jogos'!C18","v":"EB23 Nº1 Lagos (Lagos)"},{"$f":"'[2]Calendário de Jogos'!D18","v":"EB23 S. Vicente (Vila do Bispo)"},{"$f":"'[2]Calendário de Jogos'!B48","v":"Sec. de Loulé (Loulé)"},{"$f":"'[2]Calendário de Jogos'!C48","v":"Sec. de Loulé (Loulé)"},{"$f":"'[2]Calendário de Jogos'!D48","v":"Sec. de Loulé (Loulé)"}]
[1,3,11,2,5,9,"Lagoa","Estombar","EB23 João Conin","Badminton","Vários","Misto","Sara Martins","Sara Martins","profsaramartins@gmail.com",964071503,1.0999999999999999E-2,2.0110000000000001,5.0110000000000001,9.0109999999999992,11,10,14,null,null,null,0,5,0,0,4,0,0,0,3,"EB23 João Conin (Estombar)",null,{"$f":"'[2]Calendário de Jogos'!B19","v":"EB23 Júdice Fialho (Portimão)"},{"$f":"'[2]Calendário de Jogos'!C19","v":"EB23 D. João II (Alvor)"},{"$f":"'[2]Calendário de Jogos'!D19","v":"EB23 Nº1 Lagos (Lagos)"},{"$f":"'[2]Calendário de Jogos'!B49","v":"EB23 Pe J.C. Cabanita (Loulé)"},{"$f":"'[2]Calendário de Jogos'!C49","v":"EB23 Pe J.C. Cabanita (Loulé)"},{"$f":"'[2]Calendário de Jogos'!D49","v":"EB23 Pe J.C. Cabanita (Loulé)"}]
[1,3,12,3,6,9,"Lagoa","Lagoa","EB23 Jacinto Correia","Badminton","Vários","Misto","Nuno Saraiva","Nuno Saraiva","nuno30saraiva@hotmail.com",968414147,1.2E-2,3.012,6.0119999999999996,9.0120000000000005,12,14,15,null,null,null,0,0,1,0,0,3,0,0,4,"EB23 Jacinto Correia (Lagoa)",null,{"$f":"'[2]Calendário de Jogos'!B20","v":"EB23 de Monchique (Monchique)"},{"$f":"'[2]Calendário de Jogos'!C20","v":"EB23 Júdice Fialho (Portimão)"},{"$f":"'[2]Calendário de Jogos'!D20","v":"EBI Mex. Grande (Mex. Grande)"},{"$f":"'[2]Calendário de Jogos'!B50","v":"EB23 St. António (Faro)"},{"$f":"'[2]Calendário de Jogos'!C50","v":"EB23 St. António (Faro)"},{"$f":"'[2]Calendário de Jogos'!D50","v":"EB23 St. António (Faro)"}]
[1,3,13,3,6,7,"Silves","Algoz","EB23 do Algoz","Badminton","Vários","Misto","Rui Lopes","Paulo Águas/João Campaniço",null,null,1.2999999999999999E-2,3.0129999999999999,6.0129999999999999,7.0129999999999999,13,15,4,null,null,null,0,0,2,0,0,4,4,0,0,"EB23 do Algoz (Algoz)",null,{"$f":"'[2]Calendário de Jogos'!B21","v":"EB23 Rio Arade (Parchal)"},{"$f":"'[2]Calendário de Jogos'!C21","v":"EB23 João Conin (Estombar)"},{"$f":"'[2]Calendário de Jogos'!D21","v":"EB23 Eng.N.Mergulhão (Portimão)"},{"$f":"'[2]Calendário de Jogos'!B51","v":"EB23 P. Emiliano Costa (Estoi)"},{"$f":"'[2]Calendário de Jogos'!C51","v":"EB23 P. Emiliano Costa (Estoi)"},{"$f":"'[2]Calendário de Jogos'!D51","v":"EB23 P. Emiliano Costa (Estoi)"}]
[1,3,14,3,6,8,"Silves","Arm. Pêra","EB23 Dr A.C. Contreiras","Badminton","Vários","Misto","Paulo Águas","Rui Lopes","paulo_aguas@silvessul.com",963721291,1.4E-2,3.0139999999999998,6.0140000000000002,8.0139999999999993,14,16,11,null,null,null,0,0,3,0,0,5,0,6,0,"EB23 Dr A.C. Contreiras (Arm. Pêra)",null,{"$f":"'[2]Calendário de Jogos'!B22","v":"EB23 João Conin (Estombar)"},{"$f":"'[2]Calendário de Jogos'!C22","v":"EB23 João de Deus (S.B.Messines)"},{"$f":"'[2]Calendário de Jogos'!D22","v":"EB23 Júdice Fialho (Portimão)"},{"$f":"'[2]Calendário de Jogos'!B52","v":"EB23 Dr. J. Magalhães (Faro)"},{"$f":"'[2]Calendário de Jogos'!C52","v":"EB23 Dr. J. Magalhães (Faro)"},{"$f":"'[2]Calendário de Jogos'!D52","v":"EB23 Dr. J. Magalhães (Faro)"}]
[1,3,15,3,5,7,"Silves","S.B.Messines","EB23 João de Deus","Badminton","Vários","Misto","Ana Cristina Arez","Ana Cristina Arez","anacrsarez@gmail.com",919465168,1.4999999999999999E-2,3.0150000000000001,5.0149999999999997,7.0149999999999997,15,11,5,null,null,null,0,0,4,0,5,0,5,0,0,"EB23 João de Deus (S.B.Messines)",null,{"$f":"'[2]Calendário de Jogos'!B23","v":0},{"$f":"'[2]Calendário de Jogos'!C23","v":0},{"$f":"'[2]Calendário de Jogos'!D23","v":"EB23 Dr A.C. Contreiras (Arm. Pêra)"},{"$f":"'[2]Calendário de Jogos'!B53","v":0},{"$f":"'[2]Calendário de Jogos'!C53","v":0},{"$f":"'[2]Calendário de Jogos'!D53","v":0}]
[1,3,16,3,4,9,"Silves","Silves","EB23 Dr G. Domingues","Badminton","Vários","Misto","Carlos Alberto Lopes","Carlos Alberto Lopes","capalopes@gmail.com",968644883,1.6E-2,3.016,4.016,9.016,16,6,16,null,null,null,0,0,5,6,0,0,0,0,5,"EB23 Dr G. Domingues (Silves)",null,{"$f":"'[2]Calendário de Jogos'!B24","v":0},{"$f":"'[2]Calendário de Jogos'!C24","v":0},{"$f":"'[2]Calendário de Jogos'!D24","v":0},{"$f":"'[2]Calendário de Jogos'!B54","v":0},{"$f":"'[2]Calendário de Jogos'!C54","v":0},{"$f":"'[2]Calendário de Jogos'!D54","v":0}]
[2,4,17,10,13,16,"Albufeira","Albufeira","EB23 Profª D. Negrão","Badminton","Vários","Misto","João Marques","João Marques","joaomcmarques@hotmail.com",966589758,1E-3,10.000999999999999,13.000999999999999,16.001000000000001,{"$f":"RANK(R19,$R$19:$R$34,1)","v":1},{"$f":"RANK(S19,$S$19:$S$34,1)","v":1},{"$f":"RANK(T19,$T$19:$T$34,1)","v":1},null,null,null,{"$f":"LARGE(AA20:AA35,1)","v":0},{"$f":"LARGE(AB20:AB35,1)","v":0},{"$f":"LARGE(AC20:AC35,1)","v":0},0,0,0,0,0,0,null,null,{"$f":"'[2]Calendário de Jogos'!B27","v":"Torneio 03"},{"$f":"'[2]Calendário de Jogos'!C27","v":"Torneio 06"},{"$f":"'[2]Calendário de Jogos'!D27","v":"Torneio 09"},{"$f":"'[2]Calendário de Jogos'!B57","v":"Torneio 12"},{"$f":"'[2]Calendário de Jogos'!C57","v":"Torneio 15"},{"$f":"'[2]Calendário de Jogos'!D57","v":"Torneio 18"}]
[2,4,18,10,13,16,"Albufeira ","Albufeira","EB23 Dr Franc. Cabrita","Badminton","Vários ","Misto","Pedro Santos","Pedro Santos","pedro.santosef@gmail.com",963545332,2E-3,10.002000000000001,13.002000000000001,16.001999999999999,{"$f":"RANK(R20,$R$19:$R$34,1)","v":2},{"$f":"RANK(S20,$S$19:$S$34,1)","v":2},{"$f":"RANK(T20,$T$19:$T$34,1)","v":2},null,null,null,{"$f":"IF(AND(R19<$AB$2,R19>$AA$2),RANK(R19,$R$19:$R$34,1),0)","v":0},{"$f":"IF(AND(R19<$AC$2,R19>$AB$2),RANK(R19,$R$19:$R$34,1)-$AA$19,0)","v":0},{"$f":"IF(AND(R19<$AD$2,R19>$AC$2),RANK(R19,$R$19:$R$34,1)-SUM($AA$19+$AB$19),0)","v":0},{"$f":"IF(AND(S19<$AE$2,S19>$AD$2),RANK(S19,$S$19:$S$34,1),0)","v":0},{"$f":"IF(AND(S19<$AF$2,S19>$AE$2),RANK(S19,$S$19:$S$34,1)-$AD$19,0)","v":0},{"$f":"IF(AND(S19<$AG$2,S19>$AF$2),RANK(S19,$S$19:$S$34,1)-SUM($AD$19+$AE$19),0)","v":0},{"$f":"IF(AND(T19<$AH$2,T19>$AG$2),RANK(T19,$T$19:$T$34,1),0)","v":0},{"$f":"IF(AND(T19<$AI$2,T19>$AH$2),RANK(T19,$T$19:$T$34,1)-$AG$19,0)","v":0},{"$f":"IF(AND(T19<$AJ$1,T19>$AI$2),RANK(T19,$T$19:$T$34,1)-SUM($AG$19+$AH$19),0)","v":0},{"$f":"I19&\" (\"&H19&\")\"","v":"EB23 Profª D. Negrão (Albufeira)"},null,{"$f":"'[2]Calendário de Jogos'!B28","v":"EB23 Jacinto Correia (Lagoa)"},{"$f":"'[2]Calendário de Jogos'!C28","v":"EB23 Eng.N.Mergulhão (Portimão)"},{"$f":"'[2]Calendário de Jogos'!D28","v":"EB23 D. João II (Alvor)"},{"$f":"'[2]Calendário de Jogos'!B58","v":"Sec. Dr. F.F. Lopes (Olhão)"},{"$f":"'[2]Calendário de Jogos'!C58","v":"Sec. Dr. F.F. Lopes (Olhão)"},{"$f":"'[2]Calendário de Jogos'!D58","v":"Sec. Dr. F.F. Lopes (Olhão)"}]
[2,4,19,10,13,16,"Albufeira ","Ferreiras","EBI de Ferreiras","Badminton","Vários ","Misto","Rui Marques","Rui Marques","info@pcsalgarve.com",963069543,3.0000000000000001E-3,10.003,13.003,16.003,3,3,3,null,null,null,{"$f":"IF(AND(R20<$AB$2,R20>$AA$2),RANK(R20,$R$19:$R$34,1),0)","v":0},{"$f":"IF(AND(R20<$AC$2,R20>$AB$2),RANK(R20,$R$19:$R$34,1)-$AA$19,0)","v":0},{"$f":"IF(AND(R20<$AD$2,R20>$AC$2),RANK(R20,$R$19:$R$34,1)-SUM($AA$19+$AB$19),0)","v":0},{"$f":"IF(AND(S20<$AE$2,S20>$AD$2),RANK(S20,$S$19:$S$34,1),0)","v":0},{"$f":"IF(AND(S20<$AF$2,S20>$AE$2),RANK(S20,$S$19:$S$34,1)-$AD$19,0)","v":0},{"$f":"IF(AND(S20<$AG$2,S20>$AF$2),RANK(S20,$S$19:$S$34,1)-SUM($AD$19+$AE$19),0)","v":0},{"$f":"IF(AND(T20<$AH$2,T20>$AG$2),RANK(T20,$T$19:$T$34,1),0)","v":0},{"$f":"IF(AND(T20<$AI$2,T20>$AH$2),RANK(T20,$T$19:$T$34,1)-$AG$19,0)","v":0},{"$f":"IF(AND(T20<$AJ$1,T20>$AI$2),RANK(T20,$T$19:$T$34,1)-SUM($AG$19+$AH$19),0)","v":0},"EB23 Dr Franc. Cabrita (Albufeira)",null,{"$f":"'[2]Calendário de Jogos'!B29","v":"EB23 do Algoz (Algoz)"},{"$f":"'[2]Calendário de Jogos'!C29","v":"EB23 Rio Arade (Parchal)"},{"$f":"'[2]Calendário de Jogos'!D29","v":"EB23 de Monchique (Monchique)"},{"$f":"'[2]Calendário de Jogos'!B59","v":"EB23 Prof. P. Nogueira (Olhão)"},{"$f":"'[2]Calendário de Jogos'!C59","v":"EB23 Prof. P. Nogueira (Olhão)"},{"$f":"'[2]Calendário de Jogos'!D59","v":"EB23 Prof. P. Nogueira (Olhão)"}]
[2,4,20,10,13,16,"Loulé","Almancil","EB23 Dr. A.S. Agostinho","Badminton","Vários ","Misto","Carlos Oliveira","Carlos Oliveira","coliveira@avalmancil.pt",962353911,4.0000000000000001E-3,10.004,13.004,16.004000000000001,4,4,4,null,null,null,0,0,0,0,0,0,0,0,0,"EBI de Ferreiras (Ferreiras)",null,{"$f":"'[2]Calendário de Jogos'!B30","v":"EB23 Dr A.C. Contreiras (Arm. Pêra)"},{"$f":"'[2]Calendário de Jogos'!C30","v":"EB23 Jacinto Correia (Lagoa)"},{"$f":"'[2]Calendário de Jogos'!D30","v":"EB23 João Conin (Estombar)"},{"$f":"'[2]Calendário de Jogos'!B60","v":"EBI/JI JC Maia (Olhão)"},{"$f":"'[2]Calendário de Jogos'!C60","v":"EBI/JI JC Maia (Olhão)"},{"$f":"'[2]Calendário de Jogos'!D60","v":"EBI/JI JC Maia (Olhão)"}]
[2,4,21,10,13,16,"Loulé","Quarteira","EB23 D. Dinis","Badminton","Vários ","Misto","Paulo Dias","Paulo Dias","paulodias76@gmail.com",966381216,5.0000000000000001E-3,10.005000000000001,13.005000000000001,16.004999999999999,5,5,5,null,null,null,0,0,0,0,0,0,0,0,0,"EB23 Dr. A.S. Agostinho (Almancil)",null,{"$f":"'[2]Calendário de Jogos'!B31","v":"EB23 João de Deus (S.B.Messines)"},{"$f":"'[2]Calendário de Jogos'!C31","v":"EB23 do Algoz (Algoz)"},{"$f":"'[2]Calendário de Jogos'!D31","v":"EB23 Jacinto Correia (Lagoa)"},{"$f":"'[2]Calendário de Jogos'!B61","v":"EB23 D. Manuel I (Tavira)"},{"$f":"'[2]Calendário de Jogos'!C61","v":"EB23 D. Manuel I (Tavira)"},{"$f":"'[2]Calendário de Jogos'!D61","v":"EB23 D. Manuel I (Tavira)"}]
[2,5,22,11,14,17,"Loulé","Loulé","Sec. de Loulé","Badminton","Vários ","Misto","Sónia Botelho","Sónia Botelho","smbotelho@es-loule.edu.pt",968802093,6.0000000000000001E-3,11.006,14.006,17.006,6,6,6,null,null,null,0,0,0,0,0,0,0,0,0,"EB23 D. Dinis (Quarteira)",null,{"$f":"'[2]Calendário de Jogos'!B32","v":"EB23 Dr G. Domingues (Silves)"},{"$f":"'[2]Calendário de Jogos'!C32","v":"EB23 Dr A.C. Contreiras (Arm. Pêra)"},{"$f":"'[2]Calendário de Jogos'!D32","v":"EB23 Dr G. Domingues (Silves)"},{"$f":"'[2]Calendário de Jogos'!B62","v":"EB23 Inf. D. Fernando (Cacela)"},{"$f":"'[2]Calendário de Jogos'!C62","v":"EB23 Inf. D. Fernando (Cacela)"},{"$f":"'[2]Calendário de Jogos'!D62","v":"EB23 Inf. D. Fernando (Cacela)"}]
[2,5,23,11,14,17,"Loulé","Loulé","EB23 Pe J.C. Cabanita","Badminton","Vários ","Misto","Rosa Maria Lima Silva","Rosa Maria Lima Silva","rosilva62@iol.pt",966802826,7.0000000000000001E-3,11.007,14.007,17.007000000000001,7,7,7,null,null,null,0,0,0,0,0,0,0,0,0,"Sec. de Loulé (Loulé)",null,{"$f":"'[2]Calendário de Jogos'!B33","v":0},{"$f":"'[2]Calendário de Jogos'!C33","v":0},{"$f":"'[2]Calendário de Jogos'!D33","v":0},{"$f":"'[2]Calendário de Jogos'!B63","v":"EB23 D. José I (VRS António)"},{"$f":"'[2]Calendário de Jogos'!C63","v":"EB23 D. José I (VRS António)"},{"$f":"'[2]Calendário de Jogos'!D63","v":"EB23 D. José I (VRS António)"}]
[2,5,24,11,14,17,"Faro","Faro","EB23 St. António","Badminton ","Vários","Misto","João Pimenta","João Pimenta","jmvppimenta@gmail.com",936605368,8.0000000000000002E-3,11.007999999999999,14.007999999999999,17.007999999999999,8,8,8,null,null,null,0,0,0,0,0,0,0,0,0,"EB23 Pe J.C. Cabanita (Loulé)",null,{"$f":"'[2]Calendário de Jogos'!B34","v":0},{"$f":"'[2]Calendário de Jogos'!C34","v":0},{"$f":"'[2]Calendário de Jogos'!D34","v":0},{"$f":"'[2]Calendário de Jogos'!B64","v":0},{"$f":"'[2]Calendário de Jogos'!C64","v":0},{"$f":"'[2]Calendário de Jogos'!D64","v":0}]
[2,5,25,11,14,17,"Faro","Estoi","EB23 P. Emiliano Costa","Badminton","Todos","Misto","Susana Pereira","Susana Pereira","szuszita@hotmail.com",965461621,8.9999999999999993E-3,11.009,14.009,17.009,9,9,9,null,null,null,0,0,0,0,0,0,0,0,0,"EB23 St. António (Faro)"]
[2,5,26,11,14,17,"Faro","Faro","EB23 Dr. J. Magalhães","Badminton","Todos","Misto","Lídia Cereja","Lídia Cereja","lidia.m.cereja@gmail.com",967046418,0.01,11.01,14.01,17.010000000000002,10,10,10,null,null,null,0,0,0,0,0,0,0,0,0,"EB23 P. Emiliano Costa (Estoi)"]
[2,6,27,12,15,18,"Olhão","Olhão","Sec. Dr. F.F. Lopes","Badminton","Juv./ Jun.","Misto","José Cristina","José Cristina","jsilva@esffl.pt",918817388,1.0999999999999999E-2,12.010999999999999,15.010999999999999,18.010999999999999,11,11,11,null,null,null,0,0,0,0,0,0,0,0,0,"EB23 Dr. J. Magalhães (Faro)"]
[2,6,28,12,15,18,"Olhão","Olhão","EB23 Prof. P. Nogueira","Badminton","Vários","Misto","Luís Serrenho","Luís Serrenho","luisserrenho@gmail.com",917640956,1.2E-2,12.012,15.012,18.012,12,12,12,null,null,null,0,0,0,0,0,0,0,0,0,"Sec. Dr. F.F. Lopes (Olhão)"]
[2,6,29,12,15,18,"Olhão","Olhão","EBI/JI JC Maia","Badminton","Inf/Inic","Misto","Luís Fernandes","Luís Fernandes","luisfernandes@eb23jcmaia.pt",964112144,1.2999999999999999E-2,12.013,15.013,18.013000000000002,13,13,13,null,null,null,0,0,0,0,0,0,0,0,0,"EB23 Prof. P. Nogueira (Olhão)"]
[2,6,30,12,15,18,"Tavira","Tavira","EB23 D. Manuel I","Badminton","Vários","Misto","Graciete Pontes","Graciete Pontes","gracietepontes@gmail.com",967220131,1.4E-2,12.013999999999999,15.013999999999999,18.013999999999999,14,14,14,null,null,null,0,0,0,0,0,0,0,0,0,"EBI/JI JC Maia (Olhão)"]
[2,6,31,12,15,18,"V.R.S. António","Cacela","EB23 Inf. D. Fernando","Badminton","Vários","Misto","Nuno Martins","Nuno Martins","nunosmartins@hotmail.com",963011945,1.4999999999999999E-2,12.015000000000001,15.015000000000001,18.015000000000001,15,15,15,null,null,null,0,0,0,0,0,0,0,0,0,"EB23 D. Manuel I (Tavira)"]
[2,6,32,12,15,18,"V.R.S. António","VRS António","EB23 D. José I","Badminton","Vários","Misto","Carla Paiva","Carla Paiva","carlapaiva@msn.com",281510150,1.6E-2,12.016,15.016,18.015999999999998,16,16,16,null,null,null,0,0,0,0,0,0,0,0,0,"EB23 Inf. D. Fernando (Cacela)"]
[null,null,null,null,null,null,null,null,null,null,null,null,null,null,null,null,null,null,null,null,null,null,null,null,null,null,0,0,0,0,0,0,0,0,0,"EB23 D. José I (VRS António)"]

{"sheet":"Calendário","index":18,"n_rows":88,"n_cols":11,"rows_kept":88,"cut":false,"hidden":true,"merged":[[6,0,35,0],[6,4,65,4],[36,0,65,0],[0,0,0,4],[1,0,1,4],[2,0,2,4],[3,0,3,4]]}
["DIRECÇÃO REGIONAL DE EDUCAÇÃO DO ALGARVE"]
["Gabinete Coordenador do Desporto Escolar"]
["Badminton"]
["2016/2017"]
[]
["Zn","Concentração 1","Concentração 2","Concentração 3","Fase Regional"]
["Zona 1","Torneio Nº 01","Torneio Nº 04","Torneio Nº 07","Infantis A e B\n\n\n\n\nIniciados \n\n\n\n\n\nJuvenis \n\n\n\n\n\n\nJuniores \n\n"]
[null,null,null,null,null,1]
[null,null,null,null,null,2]
[null,null,null,null,null,3]
[null,null,null,null,null,4]
[null,null,null,null,null,5]
[null,null,null,null,null,6]
[null,"","","",null,7]
[]
[null,"Agrupamento de escolas do Algoz","EBI Mexilhoeira Grande","EB23 Rio Arade"]
[null,"Torneio Nº 02","Torneio Nº 05","Torneio Nº 08"]
[null,null,null,null,null,1]
[null,null,null,null,null,2]
[null,null,null,null,null,3]
[null,null,null,null,null,4]
[null,null,null,null,null,5]
[null,null,null,null,null,6]
[null,"","","",null,7]
[]
[null,"EB23 João Conin","EB23 João Conin","EB23 ACContreiras"]
[null,"Torneio Nº 03","Torneio Nº 06","Torneio Nº 09"]
[null,null,null,null,null,1]
[null,null,null,null,null,2]
[null,null,null,null,null,3]
[null,null,null,null,null,4]
[null,null,null,null,null,5]
[null,null,null,null,null,6]
[null,"","","",null,7]
[]
[null,"EB23 ACContreiras","EB23 Rio Arade","EB23 João Conin"]
["Zona 2","Torneio Nº 10","Torneio Nº 13","Torneio Nº 16"]
[null,null,null,null,null,1]
[null,null,null,null,null,2]
[null,null,null,null,null,3]
[null,null,null,null,null,4]
[null,null,null,null,null,5]
[null,null,null,null,null,6]
[null,"","","",null,7]
[]
[null,"EB23 D. Dinis","EB23 D. Dinis","EB23 D. Dinis"]
[null,"Torneio Nº 11","Torneio Nº 14","Torneio Nº 17"]
[null,null,null,null,null,1]
[null,null,null,null,null,2]
[null,null,null,null,null,3]
[null,null,null,null,null,4]
[null,null,null,null,null,5]
[null,null,null,null,null,6]
[null,"","","",null,7]
[]
[null,"Emiliano Costa - Estoi","Secundária de Loulé","EB23 Pe J.C. Cabanita (Loulé)"]
[null,"Torneio Nº 12","Torneio Nº 15","Torneio Nº 18"]
[null,null,null,null,null,1]
[null,null,null,null,null,2]
[null,null,null,null,null,3]
[null,null,null,null,null,4]
[null,null,null,null,null,5]
[null,null,null,null,null,6]
[null,"","","",null,7]
[]
[null,"Sec. Francisco F. Lopes","EB23 J.Carlos da Maia","Sec. Francisco F. Lopes"]
[null,null,null,null,null,null,null,null,"Torneio Nº 01",{"$f":"B15","v":"00:00:00"},{"$f":"B16","v":"Agrupamento de escolas do Algoz"}]
[null,null,null,null,null,null,null,null,"Torneio Nº 02",{"$f":"B25","v":"00:00:00"},{"$f":"B26","v":"EB23 João Conin"}]
[null,null,null,null,null,null,null,null,"Torneio Nº 03",{"$f":"B35","v":"00:00:00"},{"$f":"B36","v":"EB23 ACContreiras"}]
[null,null,null,null,null,null,null,null,"Torneio Nº 04",{"$f":"C15","v":"00:00:00"},{"$f":"C16","v":"EBI Mexilhoeira Grande"}]
[null,null,null,null,null,null,null,null,"Torneio Nº 05",{"$f":"C25","v":"00:00:00"},{"$f":"C26","v":"EB23 João Conin"}]
[null,null,null,null,null,null,null,null,"Torneio Nº 06",{"$f":"C35","v":"00:00:00"},{"$f":"C36","v":"EB23 Rio Arade"}]
[null,null,null,null,null,null,null,null,"Torneio Nº 07",{"$f":"D15","v":"00:00:00"},{"$f":"D16","v":"EB23 Rio Arade"}]
[null,null,null,null,null,null,null,null,"Torneio Nº 08",{"$f":"D25","v":"00:00:00"},{"$f":"D26","v":"EB23 ACContreiras"}]
[null,null,null,null,null,null,null,null,"Torneio Nº 09",{"$f":"D35","v":"00:00:00"},{"$f":"D36","v":"EB23 João Conin"}]
[null,null,null,null,null,null,null,null,"Torneio Nº 10",{"$f":"B45","v":"00:00:00"},{"$f":"B46","v":"EB23 D. Dinis"}]
[null,null,null,null,null,null,null,null,"Torneio Nº 11",{"$f":"B55","v":"00:00:00"},{"$f":"B56","v":"Emiliano Costa - Estoi"}]
[null,null,null,null,null,null,null,null,"Torneio Nº 12",{"$f":"B65","v":"00:00:00"},{"$f":"B66","v":"Sec. Francisco F. Lopes"}]
[null,null,null,null,null,null,null,null,"Torneio Nº 13",{"$f":"C45","v":"00:00:00"},{"$f":"C46","v":"EB23 D. Dinis"}]
[null,null,null,null,null,null,null,null,"Torneio Nº 14",{"$f":"C55","v":"00:00:00"},{"$f":"C56","v":"Secundária de Loulé"}]
[null,null,null,null,null,null,null,null,"Torneio Nº 15",{"$f":"C65","v":"00:00:00"},{"$f":"C66","v":"EB23 J.Carlos da Maia"}]
[null,null,null,null,null,null,null,null,"Torneio Nº 16",{"$f":"D45","v":"00:00:00"},{"$f":"D46","v":"EB23 D. Dinis"}]
[null,null,null,null,null,null,null,null,"Torneio Nº 17",{"$f":"D55","v":"00:00:00"},{"$f":"D56","v":"EB23 Pe J.C. Cabanita (Loulé)"}]
[null,null,null,null,null,null,null,null,"Torneio Nº 18",{"$f":"D65","v":"00:00:00"},{"$f":"D66","v":"Sec. Francisco F. Lopes"}]
[null,null,null,null,null,null,null,null,"Reg. InfantisA e B","2011-05-25","Emiliano Costa - Estoi"]
[null,null,null,null,null,null,null,null,"Reg. Iniciados","2011-04-06","EB23 João Conin"]
[null,null,null,null,null,null,null,null,"Reg. Juvenis","2011-04-06","EB23 Rio Arade"]
[null,null,null,null,null,null,null,null,"Reg. Juniores","2011-04-06","EB23 João Conin"]

{"sheet":"34","index":19,"n_rows":88,"n_cols":173,"rows_kept":88,"cut":false,"hidden":true,"merged":[[3,0,3,1],[3,2,3,7],[2,8,2,17],[1,8,1,17],[8,9,8,11],[5,9,5,11],[7,9,7,11],[5,13,7,13],[5,12,7,12],[4,9,4,11],[3,15,3,21],[41,131,41,133],[41,135,41,136],[11,9,11,11],[31,131,31,133],[31,135,31,136],[32,131,32,133],[32,135,32,136],[9,9,9,11],[9,12,11,12],[9,13,11,13],[24,57,24,58],[22,8,22,9],[22,15,22,16],[14,21,14,22],[14,28,14,29],[26,64,27,64],[8,64,9,64],[12,64,13,64],[16,64,17,64],[20,64,21,64],[28,135,28,136],[29,17,31,17],[14,77,14,81],[14,57,14,58],[39,135,39,136],[34,131,34,133],[34,135,34,136],[35,131,35,133],[35,135,35,136],[36,131,36,133],[36,135,36,136],[40,131,40,133],[40,135,40,136],[9,138,9,148],[10,131,10,133],[19,135,19,136],[18,131,18,133],[18,135,18,136],[17,131,17,133],[17,135,17,136],[16,131,16,133],[16,135,16,136],[15,131,15,133],[15,135,15,136],[14,131,14,133],[14,135,14,136],[13,131,13,133],[13,135,13,136],[12,131,12,133],[12,135,12,136],[9,131,9,136],[10,135,10,136],[11,131,11,133],[11,135,11,136],[6,64,7,64],[30,21,30,22],[30,28,30,29],[30,77,30,81],[30,57,30,58],[19,89,19,93],[25,89,25,93],[24,89,24,93],[14,89,14,93],[29,89,29,92],[29,24,31,24],[29,57,29,58],[30,64,31,64],[28,64,29,64],[9,57,9,58],[8,57,8,58],[15,57,15,58],[13,57,13,58],[12,57,12,58],[22,83,22,87],[26,71,26,75],[27,24,27,28],[6,57,6,58],[7,57,7,58],[36,64,37,64],[31,57,31,58],[10,64,11,64],[14,64,15,64],[18,64,19,64],[22,64,23,64],[24,64,25,64],[36,57,36,58],[37,57,37,58],[35,57,35,58],[22,57,22,58],[20,57,20,58],[21,57,21,58],[28,57,28,58],[10,57,10,58],[34,71,34,75],[34,57,34,58],[33,57,33,58],[34,30,34,34],[34,37,34,41],[32,57,32,58],[34,64,35,64],[32,64,33,64],[19,131,19,133],[26,131,26,133],[10,30,10,34],[10,37,10,41],[10,71,10,75],[19,57,19,58],[18,30,18,34],[18,37,18,41],[18,71,18,75],[18,57,18,58],[17,57,17,58],[16,57,16,58],[87,131,88,133],[87,134,92,139],[25,131,25,133],[25,135,25,136],[24,131,24,133],[24,135,24,136],[23,131,23,133],[23,135,23,136],[90,131,91,133],[33,131,33,133],[33,135,33,136],[28,131,28,133],[29,131,29,133],[29,135,29,136],[30,131,30,133],[30,135,30,136],[42,131,42,133],[42,135,42,136],[37,131,37,133],[37,135,37,136],[38,131,38,133],[38,135,38,136],[27,131,27,133],[39,131,39,133],[2,66,2,70],[27,135,27,136],[14,165,15,165],[21,11,23,11],[21,13,23,13],[21,4,23,4],[21,6,23,6],[27,57,27,58],[26,30,26,34],[26,37,26,41],[26,57,26,58],[25,57,25,58],[23,57,23,58],[20,135,20,136],[22,131,22,133],[22,135,22,136],[21,131,21,133],[21,135,21,136],[20,131,20,133],[26,135,26,136],[13,17,15,17],[13,24,15,24],[11,24,11,28],[11,57,11,58]]}
[null,null,null,null,null,null,null,null,"Direcção Regional de Educação do Algarve"]
[null,null,null,null,null,null,null,null,{"$f":"\"Ano Lectivo \"&Apoio!$F$10","v":"Ano Lectivo 2017/2018"},null,null,null,null,null,null,null,null,null,null,null,null,null,null,null,null,null,null,null,null,null,null,null,null,null,null,null,null,null,null,null,null,null,null,null,null,null,null,null,null,null,null,null,null,null,null,null,null,null,null,null,null,null,null,null,null,null,null,null,null,null,null,null,null,null,null,null,null,null,null,null,null,null,null,null,null,null,null,null,null,null,null,null,null,null,null,null,null,null,null,null,null,null,null,null,null,null,null,null,null,null,null,null,null,null,null,null,null,null,null,null,null,null,null,null,null,null,null,null,null,{"$f":"SUM(DZ4:DZ21)","v":0}]
[null,null,null,null,null,null,null,null,null,null,null,null,null,null,null,null,null,null,null,null,null,null,null,null,null,null,null,null,null,null,null,null,null,null,null,null,null,null,null,null,null,null,null,null,null,null,null,null,null,null,null,null,null,null,null,null,null,null,null,null,null,null,null,null,null,null,{"$f":"'Ficha de Inscrição'!$A$5","v":"Torneio Nº 4"},null,null,null,null,null,null,null,null,null,null,null,null,null,null,null,null,null,null,null,null,null,null,null,null,null,null,null,null,null,null,null,null,null,null,null,null,null,null,null,null,null,null,null,null,null,null,null,null,null,null,null,null,null,null,null,null,null,null,null,null,null,null,{"$f":"SUM(DZ4:DZ21)","v":0}]
["PH-Juv",null,{"$f":"LOOKUP(A4,Apoio!N9:N39,Apoio!O9:O39)","v":"Pares Homens - Juvenis"},null,null,null,null,null,null,null,null,null,null,null,null,{"$f":"\"Escola: \"&'Ficha de Inscrição'!$D$4","v":"Escola: ACav.Silva"},null,null,null,null,null,null,null,null,null,null,null,null,null,null,null,null,null,null,null,null,null,null,null,null,null,null,null,null,null,null,null,null,null,null,null,null,null,null,null,null,null,null,null,null,null,null,null,null,null,null,null,null,null,null,null,null,null,null,null,null,null,null,null,null,null,null,null,null,null,null,null,null,null,null,null,null,null,null,null,null,null,null,null,null,null,null,null,null,null,null,null,null,null,null,null,null,null,null,null,null,null,null,null,null,null,null,null,null,null,null,null,null,null,{"$f":"IF(ISBLANK(#REF!),COUNTA(EK13:$EK$28),0)","v":0}]
[null,null,null,null,null,null,null,null,{"$f":"IF(R11=R19,IF(V11=\"Bye\",V19,IF(V19=\"Bye\",V11)),(IF(ISBLANK(S11),\"\",IF(R11>R19,V19,V11))))","v":false},null,null,null,null,null,null,null,null,null,null,null,null,null,null,null,null,null,null,null,null,null,null,null,null,null,null,null,null,null,null,null,null,null,null,null,null,null,null,null,null,null,null,null,null,null,null,null,null,null,null,null,null,null,null,null,null,null,null,null,null,null,null,null,null,null,null,null,null,null,null,null,null,null,null,null,null,null,null,null,null,null,null,null,null,null,null,null,null,null,null,null,null,null,null,null,null,null,null,null,null,null,null,null,null,null,null,null,null,null,null,null,null,null,null,null,null,null,null,null,null,{"$f":"IF(ISBLANK(EK13),COUNTA(EK14:$EK$28),0)","v":0}]
[null,null,{"$f":"IF(E6=E8,IF(I6=\"Bye\",I8,IF(I8=\"Bye\",I6)),(IF(ISBLANK(F6),\"\",IF(E6>E8,I6,I8))))","v":false},null,{"$f":"IF(ISBLANK(F6),\"\",SUM(IF(F6>F8,1,0)+(IF(G6>G8,1,0)+(IF(H6>H8,1,0)))))","v":""},null,null,null,{"$f":"IF(I5=FALSE,\"\",I5)","v":""},"(V 16)",null,null,"Apuramento","5.º e 6.º Class.",null,{"$f":"IF(E6=E8,IF(I6=\"Bye\",I8,IF(I8=\"Bye\",I6)),(IF(ISBLANK(F6),\"\",IF(E6>E8,I8,I6))))","v":false},null,null,null,null,null,null,null,null,null,null,null,null,null,null,null,null,null,null,null,null,null,null,null,null,null,null,null,null,null,null,null,null,null,null,null,null,null,null,null,null,null,null,null,null,null,null,null,null,null,null,null,null,null,null,null,null,null,null,null,null,null,null,null,null,null,null,null,null,null,null,null,null,null,null,null,null,null,null,null,"Ordenar p/ DG 3",null,null,null,"Ordenar p/ GM 1",null,null,null,"Ordenar p/ GM 2",null,null,null,"Ordenar p/ GM 3",null,null,null,null,null,null,null,null,null,null,null,null,null,null,null,null,null,"Vencedores","Derrotados",null,null,{"$f":"IF(ISBLANK(#REF!),COUNTA(EK14:$EK$28),0)","v":0}]
[null,null,{"$f":"IF(C6=FALSE,\"\",C6)","v":""},null,null,null,null,null,{"$f":"IF(R27=R35,IF(V27=\"Bye\",V35,IF(V35=\"Bye\",V27)),(IF(ISBLANK(S27),\"\",IF(R27>R35,V35,V27))))","v":false},null,null,null,null,null,null,{"$f":"IF(P6=FALSE,\"\",P6)","v":""},null,null,null,null,null,null,null,null,null,null,null,null,null,null,null,null,null,null,null,null,null,null,null,null,null,null,null,null,null,null,null,{"$f":"IF(AY8=AY10,IF(BC8=\"Bye\",BC10,IF(BC10=\"Bye\",BC8)),(IF(ISBLANK(AZ8),\"\",IF(AY8>AY10,BC8,BC10))))","v":false},null,null,null,null,null,null,{"$f":"IF(BL7=BL8,IF(BH7=\"Bye\",BH8,IF(BH8=\"Bye\",BH7)),(IF(ISBLANK(BI7),\"\",IF(BL7>BL8,BH8,BH7))))","v":false},null,null,1,null,{"$f":"EK12","v":"Paulo Águas"},null,null,null,{"$f":"IF(ISBLANK(BI7),\"\",SUM(IF(BI7>BI8,1,0)+(IF(BJ7>BJ8,1,0)+(IF(BK7>BK8,1,0)))))","v":""},"P1",{"$f":"IF(BL7=BL8,IF(BH7=\"Bye\",BH8,IF(BH8=\"Bye\",BH7)),(IF(ISBLANK(BI7),\"\",IF(BL7>BL8,BH7,BH8))))","v":false},null,null,null,null,"P17",null,null,null,null,null,null,null,null,null,null,null,null,null,null,null,null,null,null,null,null,null,null,null,null,null,null,null,null,null,null,null,null,null,null,null,null,null,null,null,null,null,null,null,null,null,null,null,null,null,null,null,null,null,null,{"$f":"IF(#REF!<>\"\",IF(#REF!>I7,#REF!,IF(I7>#REF!,C7,\"Empate\")),\"\")","v":{"$error":"#REF!"}},{"$f":"IF(#REF!<>\"\",IF(#REF!<I7,#REF!,IF(I7<#REF!,C7,\"Empate\")),\"\")","v":{"$error":"#REF!"}},null,null,{"$f":"IF(ISBLANK(EK14),COUNTA(EK15:$EK$28),0)","v":0}]
[null,null,"5ºClassificado",null,{"$f":"IF(ISBLANK(F8),\"\",SUM(IF(F8>F6,1,0)+(IF(G8>G6,1,0)+(IF(H8>H6,1,0)))))","v":""},null,null,null,{"$f":"IF(I7=FALSE,\"\",I7)","v":""},"(V 17)",null,null,null,null,null,"6ºClassificado",null,null,null,null,null,null,null,null,null,null,null,null,null,null,null,null,null,null,{"$f":"IF(AL9=AL13,IF(AP9=\"Bye\",AP13,IF(AP13=\"Bye\",AP9)),(IF(ISBLANK(AM9),\"\",IF(AL9>AL13,AP9,AP13))))","v":false},null,null,null,null,null,null,{"$f":"IF(AR9=AR10,IF(AV8=\"Bye\",AV10,IF(AV10=\"Bye\",AV8)),(IF(ISBLANK(AS8),\"\",IF(AR8>AR10,AV8,AV10))))","v":false},null,{"$f":"IF(ISBLANK(AS8),\"\",SUM(IF(AS8>AS10,1,0)+(IF(AT8>AT10,1,0)+(IF(AU8>AU10,1,0)))))","v":""},null,null,null,{"$f":"IF(AV7=FALSE,\"\",AV7)","v":""},null,null,{"$f":"IF(ISBLANK(AZ8),\"\",SUM(IF(AZ8>AZ10,1,0)+(IF(BA8>BA10,1,0)+(IF(BB8>BB10,1,0)))))","v":""},null,null,null,{"$f":"IF(BC7=FALSE,\"\",BC7)","v":""},null,null,2,null,{"$f":"EK13","v":"b"},null,null,null,{"$f":"IF(ISBLANK(BI7),\"\",SUM(IF(BI8>BI7,1,0)+(IF(BJ8>BJ7,1,0)+(IF(BK8>BK7,1,0)))))","v":""},null,{"$f":"IF(BN7=FALSE,\"\",BN7)","v":""},null,null,null,{"$f":"IF(ISBLANK(BO8),\"\",SUM(IF(BO8>BO10,1,0)+(IF(BP8>BP10,1,0)+(IF(BQ8>BQ10,1,0)))))","v":""},null,{"$f":"IF(BR8=BR10,IF(BN8=\"Bye\",BN10,IF(BN10=\"Bye\",BN8)),(IF(ISBLANK(BO8),\"\",IF(BR8>BR10,BN8,BN10))))","v":false},null,null,null,null,"P41"]
[null,null,null,null,null,null,null,null,{"$f":"IF(Y11=Y19,IF(AC11=\"Bye\",AC19,IF(AC19=\"Bye\",AC11)),(IF(ISBLANK(Z11),\"\",IF(Y11>Y19,AC19,AC11))))","v":false},null,null,null,null,null,null,null,null,null,null,null,null,null,null,null,null,null,null,null,null,null,{"$f":"IF(ISBLANK(AF9),\"\",SUM(IF(AF9>AF13,1,0)+(IF(AG9>AG13,1,0)+(IF(AH9>AH13,1,0)))))","v":""},null,null,null,{"$f":"IF(AI8=FALSE,\"\",AI8)","v":""},null,null,{"$f":"IF(ISBLANK(AM9),\"\",SUM(IF(AM9>AM13,1,0)+(IF(AN9>AN13,1,0)+(IF(AO9>AO13,1,0)))))","v":""},null,null,null,{"$f":"IF(AP8=FALSE,\"\",AP8)","v":""},null,null,null,"P34",null,{"$f":"IF(BR36=BR38,IF(BN36=\"Bye\",BN38,IF(BN38=\"Bye\",BN36)),(IF(ISBLANK(BO36),\"\",IF(BR36>BR38,BN38,BN36))))","v":false},null,null,null,null,"P19",null,{"$f":"IF(BL9=BL10,IF(BH9=\"Bye\",BH10,IF(BH10=\"Bye\",BH9)),(IF(ISBLANK(BI9),\"\",IF(BL9>BL10,BH10,BH9))))","v":false},null,null,3,null,"c",null,null,null,{"$f":"IF(ISBLANK(BI9),\"\",SUM(IF(BI9>BI10,1,0)+(IF(BJ9>BJ10,1,0)+(IF(BK9>BK10,1,0)))))","v":""},"P2",{"$f":"IF(BL9=BL10,IF(BH9=\"Bye\",BH10,IF(BH10=\"Bye\",BH9)),(IF(ISBLANK(BI9),\"\",IF(BL9>BL10,BH9,BH10))))","v":false},null,"(V1)",null,null,null,{"$f":"IF(BT8=FALSE,\"\",BT8)","v":""},null,null,null,{"$f":"IF(ISBLANK(BU9),\"\",SUM(IF(BU9>BU13,1,0)+(IF(BV9>BV13,1,0)+(IF(BW9>BW13,1,0)))))","v":""},null,null,null,null,null,null,null,null,null,null,null,null,null,null,null,null,null,null,null,{"$f":"IF(AND(#REF!=CP9,CQ9>#REF!),#REF!,CO9)","v":{"$error":"#REF!"}},{"$f":"VLOOKUP(CR9,BM8:BX9,9,FALSE)","v":{"$error":"#REF!"}},{"$f":"VLOOKUP(CR9,BM8:BX9,8,FALSE)","v":{"$error":"#REF!"}},{"$f":"VLOOKUP(CR9,BM8:BX9,6,FALSE)","v":{"$error":"#REF!"}},{"$f":"IF(AND(CS9=#REF!,CT9=#REF!,#REF!>CU9),#REF!,CR9)","v":{"$error":"#REF!"}},{"$f":"VLOOKUP(CV9,BM8:BX9,9,FALSE)","v":{"$error":"#REF!"}},{"$f":"VLOOKUP(CV9,BM8:BX9,8,FALSE)","v":{"$error":"#REF!"}},{"$f":"VLOOKUP(CV9,BM8:BX9,6,FALSE)","v":{"$error":"#REF!"}},{"$f":"IF(AND(CW8=CW9,CX8=CX9,#REF!>CY8),CV8,CV9)","v":{"$error":"#REF!"}},{"$f":"VLOOKUP(CZ9,BM8:BX9,9,FALSE)","v":{"$error":"#REF!"}},{"$f":"VLOOKUP(CZ9,BM8:BX9,8,FALSE)","v":{"$error":"#REF!"}},{"$f":"VLOOKUP(CZ9,BM8:BX9,6,FALSE)","v":{"$error":"#REF!"}},{"$f":"IF(AND(#REF!=DA9,#REF!=DB9,DC9>#REF!),#REF!,CZ9)","v":{"$error":"#REF!"}},{"$f":"VLOOKUP(DD9,BM8:BX9,9,FALSE)","v":{"$error":"#REF!"}},{"$f":"VLOOKUP(DD9,BM8:BX9,8,FALSE)","v":{"$error":"#REF!"}},{"$f":"VLOOKUP(DD9,BM8:BX9,6,FALSE)","v":{"$error":"#REF!"}},null,null,null,{"$f":"DD9","v":{"$error":"#REF!"}},{"$f":"VLOOKUP(DK9,BM8:BX9,2,FALSE)","v":{"$error":"#REF!"}},{"$f":"VLOOKUP(DK9,BM8:BX9,3,FALSE)","v":{"$error":"#REF!"}},{"$f":"VLOOKUP(DK9,BM8:BX9,4,FALSE)","v":{"$error":"#REF!"}},{"$f":"VLOOKUP(DK9,BM8:BX9,5,FALSE)","v":{"$error":"#REF!"}},{"$f":"VLOOKUP(DK9,BM8:BX9,6,FALSE)","v":{"$error":"#REF!"}},{"$f":"VLOOKUP(DK9,BM8:BX9,7,FALSE)","v":{"$error":"#REF!"}},{"$f":"VLOOKUP(DK9,BM8:BX9,8,FALSE)","v":{"$error":"#REF!"}},{"$f":"VLOOKUP(DK9,BM8:BX9,9,FALSE)","v":{"$error":"#REF!"}},null,null,{"$f":"IF(Q9<>\"\",IF(Q9>#REF!,K9,IF(#REF!>Q9,#REF!,\"Empate\")),\"\")","v":""},{"$f":"IF(Q9<>\"\",IF(Q9<#REF!,K9,IF(#REF!<Q9,#REF!,\"Empate\")),\"\")","v":""},null,null,{"$f":"IF(ISBLANK(EK16),COUNTA(EK17:$EK$28),0)","v":0},null,null,null,null,null,null,null,null,null,null,null,null,null,null,null,null,null,null,null,null,null,null,null,null,null,null,null,null,null,null,null,null,null,null,null,"PROCV($EU$12;$AE$9:$AI$13;2;FALSO)"]
[null,null,{"$f":"IF(E10=E12,IF(I10=\"Bye\",I12,IF(I12=\"Bye\",I10)),(IF(ISBLANK(F10),\"\",IF(E10>E12,I10,I12))))","v":false},null,{"$f":"IF(ISBLANK(F10),\"\",SUM(IF(F10>F12,1,0)+(IF(G10>G12,1,0)+(IF(H10>H12,1,0)))))","v":""},null,null,null,{"$f":"IF(I9=FALSE,\"\",I9)","v":""},"(V 18)",null,null,"Apuramento","7.º e 8.º Class.",null,{"$f":"IF(E10=E12,IF(I10=\"Bye\",I12,IF(I12=\"Bye\",I10)),(IF(ISBLANK(F10),\"\",IF(E10>E12,I12,I10))))","v":false},null,null,null,null,null,{"$f":"IF(Y11=Y19,IF(AC11=\"Bye\",AC19,IF(AC19=\"Bye\",AC11)),(IF(ISBLANK(Z11),\"\",IF(Y11>Y19,AC11,AC19))))","v":false},null,null,null,null,null,null,{"$f":"IF(AE9=AE13,IF(AI9=\"Bye\",AI13,IF(AI13=\"Bye\",AI9)),(IF(ISBLANK(AF9),\"\",IF(AE9>AE13,AI9,AI13))))","v":false},null,null,null,null,null,null,null,null,null,null,null,null,null,null,{"$f":"IF(ISBLANK(AS8),\"\",SUM(IF(AS10>AS8,1,0)+(IF(AT10>AT8,1,0)+(IF(AU10>AU8,1,0)))))","v":""},null,null,null,{"$f":"IF(AV9=FALSE,\"\",AV9)","v":""},"(V8)",null,{"$f":"IF(ISBLANK(AZ8),\"\",SUM(IF(AZ10>AZ8,1,0)+(IF(BA10>BA8,1,0)+(IF(BB10>BB8,1,0)))))","v":""},null,null,null,{"$f":"IF(BC9=FALSE,\"\",BC9)","v":""},null,null,4,null,"d",null,null,null,{"$f":"IF(ISBLANK(BI9),\"\",SUM(IF(BI10>BI9,1,0)+(IF(BJ10>BJ9,1,0)+(IF(BK10>BK9,1,0)))))","v":""},null,{"$f":"IF(BN9=FALSE,\"\",BN9)","v":""},null,null,null,{"$f":"IF(ISBLANK(BO8),\"\",SUM(IF(BO10>BO8,1,0)+(IF(BP10>BP8,1,0)+(IF(BQ10>BQ8,1,0)))))","v":""},null,null,null,null,null,null,null,{"$f":"IF(BX9=BX13,IF(BT9=\"Bye\",BT13,IF(BT13=\"Bye\",BT13)),(IF(ISBLANK(BU9),\"\",IF(BX9>BX13,BT9,BT13))))","v":false},null,null,null,null,"P53",null,null,null,null,null,null,null,null,null,null,null,null,null,null,null,null,null,null,null,null,null,null,null,null,null,null,null,null,null,null,null,null,null,null,null,null,null,null,null,null,null,null,null,null,null,null,{"$f":"IF(ISBLANK(EK17),COUNTA(EK18:$EK$28),0)","v":0},null,"Classificação"]
[null,null,{"$f":"IF(C10=FALSE,\"\",C10)","v":""},null,null,null,null,null,{"$f":"IF(Y27=Y35,IF(AC27=\"Bye\",AC35,IF(AC35=\"Bye\",AC27)),(IF(ISBLANK(Z27),\"\",IF(Y27>Y35,AC35,AC27))))","v":false},null,null,null,null,null,null,{"$f":"IF(P10=FALSE,\"\",P10)","v":""},null,{"$f":"IF(ISBLANK(S11),\"\",SUM(IF(S11>S19,1,0)+(IF(T11>T19,1,0)+(IF(U11>U19,1,0)))))","v":""},null,null,null,{"$f":"IF(V10=FALSE,\"\",V10)","v":""},null,null,{"$f":"IF(ISBLANK(Z11),\"\",SUM(IF(Z11>Z19,1,0)+(IF(AA11>AA19,1,0)+(IF(AB11>AB19,1,0)))))","v":""},null,null,null,{"$f":"IF(AC10=FALSE,\"\",AC10)","v":""},null,"P49",null,null,null,null,null,null,"P43",null,null,null,null,null,null,null,null,null,{"$f":"IF(AY12=AY14,IF(BC12=\"Bye\",BC14,IF(BC14=\"Bye\",BC12)),(IF(ISBLANK(AZ12),\"\",IF(AY12>AY14,BC12,BC14))))","v":false},null,null,null,null,null,null,{"$f":"IF(BL11=BL12,IF(BH11=\"Bye\",BH12,IF(BH12=\"Bye\",BH11)),(IF(ISBLANK(BI11),\"\",IF(BL11>BL12,BH12,BH11))))","v":false},null,null,5,null,"e",null,null,null,{"$f":"IF(ISBLANK(BI11),\"\",SUM(IF(BI11>BI12,1,0)+(IF(BJ11>BJ12,1,0)+(IF(BK11>BK12,1,0)))))","v":""},"P3",{"$f":"IF(BL11=BL12,IF(BH11=\"Bye\",BH12,IF(BH12=\"Bye\",BH11)),(IF(ISBLANK(BI11),\"\",IF(BL11>BL12,BH11,BH12))))","v":false},null,null,null,null,"P18","(V9)",null,null,null,null,null,{"$f":"IF(BZ10=FALSE,\"\",BZ10)","v":""},null,null,null,{"$f":"IF(ISBLANK(CA11),\"\",SUM(IF(CA11>CA19,1,0)+(IF(CB11>CB19,1,0)+(IF(CC11>CC19,1,0)))))","v":""},null,null,null,null,null,null,null,null,null,null,null,null,null,null,null,null,null,null,null,null,null,null,null,null,null,null,null,null,null,null,null,null,null,null,null,null,null,null,null,null,null,null,null,{"$f":"IF(#REF!<>\"\",IF(#REF!>I11,#REF!,IF(I11>#REF!,C11,\"Empate\")),\"\")","v":{"$error":"#REF!"}},{"$f":"IF(#REF!<>\"\",IF(#REF!<I11,#REF!,IF(I11<#REF!,C11,\"Empate\")),\"\")","v":{"$error":"#REF!"}},null,null,{"$f":"IF(ISBLANK(EK18),COUNTA(EK19:$EK$28),0)","v":0},null,"NºJ",null,null,"Nome","Pts",null,null,"Ordem","Nº","Nome (1º e último)","Escola","Abv.","Ano Nasc.","Escalão","Sexo","Observações","Insc. Prova",null,null,"VENCIDO (P49)","PM","PS","DIF","VENCIDO (P50)","PM","PM","DIF","VENCIDO (P51)","PM","PS","DIF","VENCIDO (P52)","PM","PM","DIF","VENCIDO (P49)",null,null,null,null,null,"PAULO JORGE NOBRE DOS SANTOS ÁGUAS"]
[null,null,"7ºClassificado",null,{"$f":"IF(ISBLANK(F12),\"\",SUM(IF(F12>F10,1,0)+(IF(G12>G10,1,0)+(IF(H12>H10,1,0)))))","v":""},null,null,null,{"$f":"IF(I11=FALSE,\"\",I11)","v":""},"(V 19)",null,null,null,null,null,"8ºClassificado",null,null,null,null,null,null,null,null,null,null,null,null,null,null,null,null,null,null,{"$f":"IF(BX17=BX21,IF(BT17=\"Bye\",BT21,IF(BT21=\"Bye\",BT21)),(IF(ISBLANK(BU17),\"\",IF(BX17>BX21,BT21,BT17))))","v":false},null,null,null,null,null,null,{"$f":"IF(AR13=AR14,IF(AV12=\"Bye\",AV14,IF(AV14=\"Bye\",AV12)),(IF(ISBLANK(AS12),\"\",IF(AR12>AR14,AV12,AV14))))","v":false},null,{"$f":"IF(ISBLANK(AS12),\"\",SUM(IF(AS12>AS14,1,0)+(IF(AT12>AT14,1,0)+(IF(AU12>AU14,1,0)))))","v":""},null,null,null,{"$f":"IF(AV11=FALSE,\"\",AV11)","v":""},null,null,{"$f":"IF(ISBLANK(AZ12),\"\",SUM(IF(AZ12>AZ14,1,0)+(IF(BA12>BA14,1,0)+(IF(BB12>BB14,1,0)))))","v":""},null,null,null,{"$f":"IF(BC11=FALSE,\"\",BC11)","v":""},null,null,6,null,"f",null,null,null,{"$f":"IF(ISBLANK(BI11),\"\",SUM(IF(BI12>BI11,1,0)+(IF(BJ12>BJ11,1,0)+(IF(BK12>BK11,1,0)))))","v":""},null,{"$f":"IF(BN11=FALSE,\"\",BN11)","v":""},null,null,null,{"$f":"IF(ISBLANK(BO12),\"\",SUM(IF(BO12>BO14,1,0)+(IF(BP12>BP14,1,0)+(IF(BQ12>BQ14,1,0)))))","v":""},null,{"$f":"IF(BR12=BR14,IF(BN12=\"Bye\",BN14,IF(BN14=\"Bye\",BN12)),(IF(ISBLANK(BO12),\"\",IF(BR12>BR14,BN12,BN14))))","v":false},null,null,null,null,null,null,null,null,null,null,null,null,null,null,null,null,null,null,null,null,null,null,null,{"$f":"IF(AND(CP12=#REF!,#REF!>CQ12),#REF!,CO12)","v":{"$error":"#REF!"}},{"$f":"VLOOKUP(CR12,BM12:BX13,9,FALSE)","v":{"$error":"#REF!"}},{"$f":"VLOOKUP(CR12,BM12:BX13,8,FALSE)","v":{"$error":"#REF!"}},{"$f":"VLOOKUP(CR12,BM12:BX13,6,FALSE)","v":{"$error":"#REF!"}},{"$f":"IF(AND(CS12=#REF!,CT12=#REF!,#REF!>CU12),#REF!,CR12)","v":{"$error":"#REF!"}},{"$f":"VLOOKUP(CV12,BM12:BX13,9,FALSE)","v":{"$error":"#REF!"}},{"$f":"VLOOKUP(CV12,BM12:BX13,8,FALSE)","v":{"$error":"#REF!"}},{"$f":"VLOOKUP(CV12,BM12:BX13,6,FALSE)","v":{"$error":"#REF!"}},{"$f":"IF(AND(CW12=CW13,CX12=CX13,CY13>CY12),CV13,CV12)","v":{"$error":"#REF!"}},{"$f":"VLOOKUP(CZ12,BM12:BX13,9,FALSE)","v":{"$error":"#REF!"}},{"$f":"VLOOKUP(CZ12,BM12:BX13,8,FALSE)","v":{"$error":"#REF!"}},{"$f":"VLOOKUP(CZ12,BM12:BX13,6,FALSE)","v":{"$error":"#REF!"}},{"$f":"IF(AND(DA12=#REF!,DB12=#REF!,#REF!>DC12),#REF!,CZ12)","v":{"$error":"#REF!"}},{"$f":"VLOOKUP(DD12,BM12:BX13,9,FALSE)","v":{"$error":"#REF!"}},{"$f":"VLOOKUP(DD12,BM12:BX13,8,FALSE)","v":{"$error":"#REF!"}},{"$f":"VLOOKUP(DD12,BM12:BX13,6,FALSE)","v":{"$error":"#REF!"}},null,null,null,{"$f":"DD12","v":{"$error":"#REF!"}},{"$f":"VLOOKUP(DK12,BM12:BX13,2,FALSE)","v":{"$error":"#REF!"}},{"$f":"VLOOKUP(DK12,BM12:BX13,3,FALSE)","v":{"$error":"#REF!"}},{"$f":"VLOOKUP(DK12,BM12:BX13,4,FALSE)","v":{"$error":"#REF!"}},{"$f":"VLOOKUP(DK12,BM12:BX13,5,FALSE)","v":{"$error":"#REF!"}},{"$f":"VLOOKUP(DK12,BM12:BX13,6,FALSE)","v":{"$error":"#REF!"}},{"$f":"VLOOKUP(DK12,BM12:BX13,7,FALSE)","v":{"$error":"#REF!"}},{"$f":"VLOOKUP(DK12,BM12:BX13,8,FALSE)","v":{"$error":"#REF!"}},{"$f":"VLOOKUP(DK12,BM12:BX13,9,FALSE)","v":{"$error":"#REF!"}},null,null,{"$f":"IF(I12<>\"\",IF(I12>#REF!,C12,IF(#REF!>I12,#REF!,\"Empate\")),\"\")","v":""},{"$f":"IF(I12<>\"\",IF(I12<#REF!,C12,IF(#REF!<I12,#REF!,\"Empate\")),\"\")","v":""},null,null,{"$f":"IF(ISBLANK(EK19),COUNTA(EK20:$EK$28),0)","v":0},null,"1º",null,null,{"$f":"CL25","v":""},12,null,null,1,null,"Paulo Águas",null,null,null,null,null,null,null,null,null,null,{"$f":"VLOOKUP($EU$12,$AE$9:$AI$13,2,FALSE)","v":{"$error":"#N/A"}},null,null,null,null,null,null,null,null,null,null,null,null,null,"PROCV($FK$12;;2;FALSO)",{"$f":"IF(AE13=AE9,IF(AI13=\"Bye\",AI9,IF(AI9=\"Bye\",AI13)),(IF(ISBLANK(AF9),\"\",IF(AE13>AE9,AI9,AI13))))","v":false}]
[null,null,null,null,null,null,null,null,null,null,null,null,null,null,null,null,null,null,null,null,null,null,null,null,null,null,null,null,null,null,{"$f":"IF(ISBLANK(AF9),\"\",SUM(IF(AF13>AF9,1,0)+(IF(AG13>AG9,1,0)+(IF(AH13>AH9,1,0)))))","v":""},null,null,null,{"$f":"IF(AI12=FALSE,\"\",AI12)","v":""},"(V10)",null,{"$f":"IF(ISBLANK(AM13),\"\",SUM(IF(AM13>AM9,1,0)+(IF(AN13>AN9,1,0)+(IF(AO13>AO9,1,0)))))","v":""},null,null,null,{"$f":"IF(AP12=FALSE,\"\",AP12)","v":""},null,null,null,"P35",null,{"$f":"IF(BR32=BR34,IF(BN32=\"Bye\",BN34,IF(BN34=\"Bye\",BN32)),(IF(ISBLANK(BO32),\"\",IF(BR32>BR34,BN34,BN32))))","v":false},null,null,null,null,"P20",null,{"$f":"IF(BL13=BL14,IF(BH13=\"Bye\",BH14,IF(BH14=\"Bye\",BH13)),(IF(ISBLANK(BI13),\"\",IF(BL13>BL14,BH14,BH13))))","v":false},null,null,7,null,"g",null,null,null,{"$f":"IF(ISBLANK(BI13),\"\",SUM(IF(BI13>BI14,1,0)+(IF(BJ13>BJ14,1,0)+(IF(BK13>BK14,1,0)))))","v":""},"P4",{"$f":"IF(BL13=BL14,IF(BH13=\"Bye\",BH14,IF(BH14=\"Bye\",BH13)),(IF(ISBLANK(BI13),\"\",IF(BL13>BL14,BH13,BH14))))","v":false},null,"(V2)",null,null,null,{"$f":"IF(BT12=FALSE,\"\",BT12)","v":""},null,null,null,{"$f":"IF(ISBLANK(BU13),\"\",SUM(IF(BU13>BU9,1,0)+(IF(BV13>BV9,1,0)+(IF(BW13>BW9,1,0)))))","v":""},null,null,null,null,null,null,null,null,null,null,null,null,null,null,null,null,null,null,null,{"$f":"IF(AND(#REF!=CP13,CQ13>#REF!),#REF!,CO13)","v":{"$error":"#REF!"}},{"$f":"VLOOKUP(CR13,BM12:BX13,9,FALSE)","v":{"$error":"#REF!"}},{"$f":"VLOOKUP(CR13,BM12:BX13,8,FALSE)","v":{"$error":"#REF!"}},{"$f":"VLOOKUP(CR13,BM12:BX13,6,FALSE)","v":{"$error":"#REF!"}},{"$f":"IF(AND(CS13=#REF!,CT13=#REF!,#REF!>CU13),#REF!,CR13)","v":{"$error":"#REF!"}},{"$f":"VLOOKUP(CV13,BM12:BX13,9,FALSE)","v":{"$error":"#REF!"}},{"$f":"VLOOKUP(CV13,BM12:BX13,8,FALSE)","v":{"$error":"#REF!"}},{"$f":"VLOOKUP(CV13,BM12:BX13,6,FALSE)","v":{"$error":"#REF!"}},{"$f":"IF(AND(CW12=CW13,CX12=CX13,#REF!>CY12),CV12,CV13)","v":{"$error":"#REF!"}},{"$f":"VLOOKUP(CZ13,BM12:BX13,9,FALSE)","v":{"$error":"#REF!"}},{"$f":"VLOOKUP(CZ13,BM12:BX13,8,FALSE)","v":{"$error":"#REF!"}},{"$f":"VLOOKUP(CZ13,BM12:BX13,6,FALSE)","v":{"$error":"#REF!"}},{"$f":"IF(AND(#REF!=DA13,#REF!=DB13,DC13>#REF!),#REF!,CZ13)","v":{"$error":"#REF!"}},{"$f":"VLOOKUP(DD13,BM12:BX13,9,FALSE)","v":{"$error":"#REF!"}},{"$f":"VLOOKUP(DD13,BM12:BX13,8,FALSE)","v":{"$error":"#REF!"}},{"$f":"VLOOKUP(DD13,BM12:BX13,6,FALSE)","v":{"$error":"#REF!"}},null,null,null,{"$f":"DD13","v":{"$error":"#REF!"}},{"$f":"VLOOKUP(DK13,BM12:BX13,2,FALSE)","v":{"$error":"#REF!"}},{"$f":"VLOOKUP(DK13,BM12:BX13,3,FALSE)","v":{"$error":"#REF!"}},{"$f":"VLOOKUP(DK13,BM12:BX13,4,FALSE)","v":{"$error":"#REF!"}},{"$f":"VLOOKUP(DK13,BM12:BX13,5,FALSE)","v":{"$error":"#REF!"}},{"$f":"VLOOKUP(DK13,BM12:BX13,6,FALSE)","v":{"$error":"#REF!"}},{"$f":"VLOOKUP(DK13,BM12:BX13,7,FALSE)","v":{"$error":"#REF!"}},{"$f":"VLOOKUP(DK13,BM12:BX13,8,FALSE)","v":{"$error":"#REF!"}},{"$f":"VLOOKUP(DK13,BM12:BX13,9,FALSE)","v":{"$error":"#REF!"}},null,null,{"$f":"IF(Q13<>\"\",IF(Q13>#REF!,K13,IF(#REF!>Q13,#REF!,\"Empate\")),\"\")","v":""},{"$f":"IF(Q13<>\"\",IF(Q13<#REF!,K13,IF(#REF!<Q13,#REF!,\"Empate\")),\"\")","v":""},null,null,{"$f":"IF(ISBLANK(EK20),COUNTA(EK21:$EK$28),0)","v":0},null,"2º",null,null,{"$f":"IF(E12=CL23,CL23,CL29)","v":""},11,null,null,2,null,"b"]
[null,null,null,null,null,null,null,null,{"$f":"IF(L15=L31,IF(P15=\"Bye\",P31,IF(P31=\"Bye\",P15)),(IF(ISBLANK(M15),\"\",IF(L15>L31,P15,P31))))","v":false},null,null,null,null,null,null,{"$f":"IF(R11=R19,IF(V11=\"Bye\",V19,IF(V19=\"Bye\",V11)),(IF(ISBLANK(S11),\"\",IF(R11>R19,V11,V19))))","v":false},null,"Vencido",null,null,null,null,null,null,"Vencido",null,null,null,null,null,null,null,null,null,null,null,null,null,null,null,null,null,null,{"$f":"IF(ISBLANK(AS12),\"\",SUM(IF(AS14>AS12,1,0)+(IF(AT14>AT12,1,0)+(IF(AU14>AU12,1,0)))))","v":""},null,null,null,{"$f":"IF(AV13=FALSE,\"\",AV13)","v":""},"(V7)",null,{"$f":"IF(ISBLANK(AZ12),\"\",SUM(IF(AZ14>AZ12,1,0)+(IF(BA14>BA12,1,0)+(IF(BB14>BB12,1,0)))))","v":""},null,null,null,{"$f":"IF(BC13=FALSE,\"\",BC13)","v":""},null,null,8,null,"h",null,null,null,{"$f":"IF(ISBLANK(BI13),\"\",SUM(IF(BI14>BI13,1,0)+(IF(BJ14>BJ13,1,0)+(IF(BK14>BK13,1,0)))))","v":""},null,{"$f":"IF(BN13=FALSE,\"\",BN13)","v":""},null,null,null,{"$f":"IF(ISBLANK(BO12),\"\",SUM(IF(BO14>BO12,1,0)+(IF(BP14>BP12,1,0)+(IF(BQ14>BQ12,1,0)))))","v":""},null,null,null,null,null,null,null,null,null,null,null,null,null,{"$f":"IF(CD11=CD19,IF(BZ11=\"Bye\",BZ19,IF(BZ19=\"Bye\",BZ19)),(IF(ISBLANK(CA11),\"\",IF(CD11>CD19,BZ11,BZ19))))","v":false},null,null,null,null,"P59",null,null,null,null,null,null,null,null,null,null,null,null,null,null,null,null,null,null,null,null,null,null,null,null,null,null,null,null,null,null,null,null,null,null,null,null,null,null,null,null,{"$f":"IF(ISBLANK(EK21),COUNTA(EK22:$EK$28),0)","v":0},null,"3º",null,null,{"$f":"IF(E15=E31,\"\",IF(E15>E31,I31,I15))","v":""},10,null,null,3,null,"c",null,null,null,null,null,null,null,null,null,null,null,null,null,null,null,null,null,null,null,null,null,null,null,null,null,null,null,null,null,"PM","PS","DIF"]
[null,null,null,null,{"$f":"IF(ISBLANK(F15),\"\",SUM(IF(F15>F31,1,0)+(IF(G15>G31,1,0)+(IF(H15>H31,1,0)))))","v":""},null,null,null,{"$f":"IF(I14=FALSE,\"\",I14)","v":""},null,null,{"$f":"IF(ISBLANK(M15),\"\",SUM(IF(M15>M31,1,0)+(IF(N15>N31,1,0)+(IF(O15>O31,1,0)))))","v":""},null,null,null,{"$f":"IF(P14=FALSE,\"\",P14)","v":""},null,null,null,16,null,"P57",null,null,null,null,18,null,"P55",null,null,null,null,null,null,null,null,null,null,null,null,null,null,null,null,null,null,{"$f":"IF(AY16=AY18,IF(BC16=\"Bye\",BC18,IF(BC18=\"Bye\",BC16)),(IF(ISBLANK(AZ16),\"\",IF(AY16>AY18,BC16,BC18))))","v":false},null,null,null,null,null,null,{"$f":"IF(BL15=BL16,IF(BH15=\"Bye\",BH16,IF(BH16=\"Bye\",BH15)),(IF(ISBLANK(BI15),\"\",IF(BL15>BL16,BH16,BH15))))","v":false},null,null,9,null,"iiiiiiiiiiiiiiiiiiiiiiiii",null,null,null,{"$f":"IF(ISBLANK(BI15),\"\",SUM(IF(BI15>BI16,1,0)+(IF(BJ15>BJ16,1,0)+(IF(BK15>BK16,1,0)))))","v":""},"P5",{"$f":"IF(BL15=BL16,IF(BH15=\"Bye\",BH16,IF(BH16=\"Bye\",BH15)),(IF(ISBLANK(BI15),\"\",IF(BL15>BL16,BH15,BH16))))","v":false},null,null,null,null,"P21",null,null,null,null,null,null,"(V13)",null,null,null,null,null,{"$f":"IF(CF14=FALSE,\"\",CF14)","v":""},null,null,null,{"$f":"IF(ISBLANK(CG15),\"\",SUM(IF(CG15>CG31,1,0)+(IF(CH15>CH31,1,0)+(IF(CI15>CI31,1,0)))))","v":""},null,"FINALÍSSIMA",null,null,null,null,null,null,null,null,null,null,null,null,null,null,null,null,null,null,null,null,null,null,null,null,null,null,null,null,null,null,null,null,null,null,null,{"$f":"IF(#REF!<>\"\",IF(#REF!>I15,#REF!,IF(I15>#REF!,C15,\"Empate\")),\"\")","v":{"$error":"#REF!"}},{"$f":"IF(#REF!<>\"\",IF(#REF!<I15,#REF!,IF(I15<#REF!,C15,\"Empate\")),\"\")","v":{"$error":"#REF!"}},null,null,{"$f":"IF(ISBLANK(EK22),COUNTA(EK23:$EK$28),0)","v":0},null,"4º",null,null,{"$f":"IF(L15=L31,\"\",IF(L15>L31,P31,P15))","v":""},9,null,null,4,null,"d",null,null,null,null,null,null,null,null,null,null,"p49",null,null,null,null,null,null,null,null,null,null,null,null,null,{"$f":"IF(AE13=AE9,IF(AI13=\"Bye\",AI9,IF(AI9=\"Bye\",AI13)),(IF(ISBLANK(AF9),\"\",IF(AE13>AE9,AI9,AI13))))","v":false},{"$f":"$AI$9","v":""},{"$f":"$AH$9","v":0},{"$f":"$AG$9","v":0},{"$f":"$AF$9","v":0},{"$f":"FL15+FM15+FN15","v":0},{"$f":"FL16+FM16+FN16","v":0},{"$f":"FO15-FP15","v":0}]
[null,null,null,null,null,null,null,null,null,null,null,null,null,null,null,null,null,null,null,null,null,null,null,null,null,null,null,null,null,null,null,null,null,null,{"$f":"IF(AL17=AL21,IF(AP17=\"Bye\",AP21,IF(AP21=\"Bye\",AP17)),(IF(ISBLANK(AM17),\"\",IF(AL17>AL21,AP17,AP21))))","v":false},null,null,null,null,null,null,{"$f":"IF(AR17=AR18,IF(AV16=\"Bye\",AV18,IF(AV18=\"Bye\",AV16)),(IF(ISBLANK(AS16),\"\",IF(AR16>AR18,AV16,AV18))))","v":false},null,{"$f":"IF(ISBLANK(AS16),\"\",SUM(IF(AS16>AS18,1,0)+(IF(AT16>AT18,1,0)+(IF(AU16>AU18,1,0)))))","v":""},null,null,null,{"$f":"IF(AV15=FALSE,\"\",AV15)","v":""},null,null,{"$f":"IF(ISBLANK(AZ16),\"\",SUM(IF(AZ16>AZ18,1,0)+(IF(BA16>BA18,1,0)+(IF(BB16>BB18,1,0)))))","v":""},null,null,null,{"$f":"IF(BC15=FALSE,\"\",BC15)","v":""},null,null,10,null,"JOAO",null,null,null,{"$f":"IF(ISBLANK(BI15),\"\",SUM(IF(BI16>BI15,1,0)+(IF(BJ16>BJ15,1,0)+(IF(BK16>BK15,1,0)))))","v":""},null,{"$f":"IF(BN15=FALSE,\"\",BN15)","v":""},null,null,null,{"$f":"IF(ISBLANK(BO16),\"\",SUM(IF(BO16>BO18,1,0)+(IF(BP16>BP18,1,0)+(IF(BQ16>BQ18,1,0)))))","v":""},null,{"$f":"IF(BR16=BR18,IF(BN16=\"Bye\",BN18,IF(BN18=\"Bye\",BN16)),(IF(ISBLANK(BO16),\"\",IF(BR16>BR18,BN16,BN18))))","v":false},null,null,null,null,"P42",null,null,null,null,null,null,null,null,null,null,null,null,null,null,null,null,null,"P63",{"$f":"IF(AND(CP16=#REF!,#REF!>CQ16),#REF!,CO16)","v":{"$error":"#REF!"}},{"$f":"VLOOKUP(CR16,BM16:BX17,9,FALSE)","v":{"$error":"#REF!"}},{"$f":"VLOOKUP(CR16,BM16:BX17,8,FALSE)","v":{"$error":"#REF!"}},{"$f":"VLOOKUP(CR16,BM16:BX17,6,FALSE)","v":{"$error":"#REF!"}},{"$f":"IF(AND(CS16=#REF!,CT16=#REF!,#REF!>CU16),#REF!,CR16)","v":{"$error":"#REF!"}},{"$f":"VLOOKUP(CV16,BM16:BX17,9,FALSE)","v":{"$error":"#REF!"}},{"$f":"VLOOKUP(CV16,BM16:BX17,8,FALSE)","v":{"$error":"#REF!"}},{"$f":"VLOOKUP(CV16,BM16:BX17,6,FALSE)","v":{"$error":"#REF!"}},{"$f":"IF(AND(CW16=CW17,CX16=CX17,CY17>CY16),CV17,CV16)","v":{"$error":"#REF!"}},{"$f":"VLOOKUP(CZ16,BM16:BX17,9,FALSE)","v":{"$error":"#REF!"}},{"$f":"VLOOKUP(CZ16,BM16:BX17,8,FALSE)","v":{"$error":"#REF!"}},{"$f":"VLOOKUP(CZ16,BM16:BX17,6,FALSE)","v":{"$error":"#REF!"}},{"$f":"IF(AND(DA16=#REF!,DB16=#REF!,#REF!>DC16),#REF!,CZ16)","v":{"$error":"#REF!"}},{"$f":"VLOOKUP(DD16,BM16:BX17,9,FALSE)","v":{"$error":"#REF!"}},{"$f":"VLOOKUP(DD16,BM16:BX17,8,FALSE)","v":{"$error":"#REF!"}},{"$f":"VLOOKUP(DD16,BM16:BX17,6,FALSE)","v":{"$error":"#REF!"}},null,null,null,{"$f":"DD16","v":{"$error":"#REF!"}},{"$f":"VLOOKUP(DK16,BM16:BX17,2,FALSE)","v":{"$error":"#REF!"}},{"$f":"VLOOKUP(DK16,BM16:BX17,3,FALSE)","v":{"$error":"#REF!"}},{"$f":"VLOOKUP(DK16,BM16:BX17,4,FALSE)","v":{"$error":"#REF!"}},{"$f":"VLOOKUP(DK16,BM16:BX17,5,FALSE)","v":{"$error":"#REF!"}},{"$f":"VLOOKUP(DK16,BM16:BX17,6,FALSE)","v":{"$error":"#REF!"}},{"$f":"VLOOKUP(DK16,BM16:BX17,7,FALSE)","v":{"$error":"#REF!"}},{"$f":"VLOOKUP(DK16,BM16:BX17,8,FALSE)","v":{"$error":"#REF!"}},{"$f":"VLOOKUP(DK16,BM16:BX17,9,FALSE)","v":{"$error":"#REF!"}},null,null,{"$f":"IF(I16<>\"\",IF(I16>#REF!,C16,IF(#REF!>I16,#REF!,\"Empate\")),\"\")","v":""},{"$f":"IF(I16<>\"\",IF(I16<#REF!,C16,IF(#REF!<I16,#REF!,\"Empate\")),\"\")","v":""},null,null,{"$f":"IF(ISBLANK(EK23),COUNTA(EK24:$EK$28),0)","v":0},null,"5º",null,null,{"$f":"IF(E6=E8,\"\",IF(E6>E8,I6,I8))","v":""},8,null,null,5,null,"e",null,null,null,null,null,null,null,null,null,null,null,null,null,null,null,null,null,null,null,null,null,null,null,null,null,{"$f":"$AI$13","v":""},{"$f":"$AH$13","v":0},{"$f":"$AG$13","v":0},{"$f":"$AF$13","v":0},0,{"$f":"FL15+FM15+FN15","v":0},0]
[null,null,null,null,null,null,null,null,null,null,null,null,null,null,null,null,null,null,null,null,null,null,null,null,null,null,null,null,null,null,{"$f":"IF(ISBLANK(AF17),\"\",SUM(IF(AF17>AF21,1,0)+(IF(AG17>AG21,1,0)+(IF(AH17>AH21,1,0)))))","v":""},null,null,null,{"$f":"IF(AI16=FALSE,\"\",AI16)","v":""},null,null,{"$f":"IF(ISBLANK(AM17),\"\",SUM(IF(AM17>AM21,1,0)+(IF(AN17>AN21,1,0)+(IF(AO17>AO21,1,0)))))","v":""},null,null,null,{"$f":"IF(AP16=FALSE,\"\",AP16)","v":""},null,null,null,"P36",null,{"$f":"IF(BR28=BR30,IF(BN28=\"Bye\",BN30,IF(BN30=\"Bye\",BN28)),(IF(ISBLANK(BO28),\"\",IF(BR28>BR30,BN30,BN28))))","v":false},null,null,null,null,"P23",null,{"$f":"IF(BL17=BL18,IF(BH17=\"Bye\",BH18,IF(BH18=\"Bye\",BH17)),(IF(ISBLANK(BI17),\"\",IF(BL17>BL18,BH18,BH17))))","v":false},null,null,11,null,"k",null,null,null,{"$f":"IF(ISBLANK(BI17),\"\",SUM(IF(BI17>BI18,1,0)+(IF(BJ17>BJ18,1,0)+(IF(BK17>BK18,1,0)))))","v":""},"P6",{"$f":"IF(BL17=BL18,IF(BH17=\"Bye\",BH18,IF(BH18=\"Bye\",BH17)),(IF(ISBLANK(BI17),\"\",IF(BL17>BL18,BH17,BH18))))","v":false},null,"(V3)",null,null,null,{"$f":"IF(BT16=FALSE,\"\",BT16)","v":""},null,null,null,{"$f":"IF(ISBLANK(BU17),\"\",SUM(IF(BU17>BU21,1,0)+(IF(BV17>BV21,1,0)+(IF(BW17>BW21,1,0)))))","v":""},null,null,null,null,null,null,null,null,null,null,null,null,null,{"$f":"IF(CP23=CP29,\"\",IF(CP23>CP29,\"\",CL23))","v":""},null,null,null,{"$f":"IF(ISBLANK(CM17),\"\",SUM(IF(CM17>CM19,1,0)+(IF(CN17>CN19,1,0)+(IF(CO17>CO19,1,0)))))","v":""},null,{"$f":"IF(AND(#REF!=CP17,CQ17>#REF!),#REF!,CO17)","v":{"$error":"#REF!"}},{"$f":"VLOOKUP(CR17,BM16:BX17,9,FALSE)","v":{"$error":"#REF!"}},{"$f":"VLOOKUP(CR17,BM16:BX17,8,FALSE)","v":{"$error":"#REF!"}},{"$f":"VLOOKUP(CR17,BM16:BX17,6,FALSE)","v":{"$error":"#REF!"}},{"$f":"IF(AND(CS17=#REF!,CT17=#REF!,#REF!>CU17),#REF!,CR17)","v":{"$error":"#REF!"}},{"$f":"VLOOKUP(CV17,BM16:BX17,9,FALSE)","v":{"$error":"#REF!"}},{"$f":"VLOOKUP(CV17,BM16:BX17,8,FALSE)","v":{"$error":"#REF!"}},{"$f":"VLOOKUP(CV17,BM16:BX17,6,FALSE)","v":{"$error":"#REF!"}},{"$f":"IF(AND(CW16=CW17,CX16=CX17,#REF!>CY16),CV16,CV17)","v":{"$error":"#REF!"}},{"$f":"VLOOKUP(CZ17,BM16:BX17,9,FALSE)","v":{"$error":"#REF!"}},{"$f":"VLOOKUP(CZ17,BM16:BX17,8,FALSE)","v":{"$error":"#REF!"}},{"$f":"VLOOKUP(CZ17,BM16:BX17,6,FALSE)","v":{"$error":"#REF!"}},{"$f":"IF(AND(#REF!=DA17,#REF!=DB17,DC17>#REF!),#REF!,CZ17)","v":{"$error":"#REF!"}},{"$f":"VLOOKUP(DD17,BM16:BX17,9,FALSE)","v":{"$error":"#REF!"}},{"$f":"VLOOKUP(DD17,BM16:BX17,8,FALSE)","v":{"$error":"#REF!"}},{"$f":"VLOOKUP(DD17,BM16:BX17,6,FALSE)","v":{"$error":"#REF!"}},null,null,null,{"$f":"DD17","v":{"$error":"#REF!"}},{"$f":"VLOOKUP(DK17,BM16:BX17,2,FALSE)","v":{"$error":"#REF!"}},{"$f":"VLOOKUP(DK17,BM16:BX17,3,FALSE)","v":{"$error":"#REF!"}},{"$f":"VLOOKUP(DK17,BM16:BX17,4,FALSE)","v":{"$error":"#REF!"}},{"$f":"VLOOKUP(DK17,BM16:BX17,5,FALSE)","v":{"$error":"#REF!"}},{"$f":"VLOOKUP(DK17,BM16:BX17,6,FALSE)","v":{"$error":"#REF!"}},{"$f":"VLOOKUP(DK17,BM16:BX17,7,FALSE)","v":{"$error":"#REF!"}},{"$f":"VLOOKUP(DK17,BM16:BX17,8,FALSE)","v":{"$error":"#REF!"}},{"$f":"VLOOKUP(DK17,BM16:BX17,9,FALSE)","v":{"$error":"#REF!"}},null,null,{"$f":"IF(Q17<>\"\",IF(Q17>#REF!,K17,IF(#REF!>Q17,#REF!,\"Empate\")),\"\")","v":""},{"$f":"IF(Q17<>\"\",IF(Q17<#REF!,K17,IF(#REF!<Q17,#REF!,\"Empate\")),\"\")","v":""},null,null,{"$f":"IF(ISBLANK(#REF!),COUNTA(EK24:$EK$28),0)","v":0},null,"6º",null,null,{"$f":"IF(E6=E8,\"\",IF(E6>E8,I8,I6))","v":""},8,null,null,6,null,"f",null,null,null,null,null,null,null,null,null,null,"P50",null,null,null,null,null,null,null,null,null,null,null,null,null,"P50",{"$f":"$AI$17","v":""},{"$f":"$AH$17","v":0},{"$f":"$AG$17","v":0},{"$f":"$AF$17","v":0},0,{"$f":"FL18+FM18+FN18","v":0},0]
[null,null,null,null,null,null,null,null,null,null,null,null,null,null,null,null,null,null,null,null,null,{"$f":"IF(CD27=CD35,IF(BZ27=\"Bye\",BZ35,IF(BZ35=\"Bye\",BZ35)),(IF(ISBLANK(CA27),\"\",IF(CD27>CD35,BZ35,BZ27))))","v":false},null,null,null,null,null,null,{"$f":"IF(AE17=AE21,IF(AI17=\"Bye\",AI21,IF(AI21=\"Bye\",AI17)),(IF(ISBLANK(AF17),\"\",IF(AE17>AE21,AI17,AI21))))","v":false},null,null,null,null,null,null,null,null,null,null,null,null,null,null,{"$f":"IF(ISBLANK(AS16),\"\",SUM(IF(AS18>AS16,1,0)+(IF(AT18>AT16,1,0)+(IF(AU18>AU16,1,0)))))","v":""},null,null,null,{"$f":"IF(AV17=FALSE,\"\",AV17)","v":""},"(V6)",null,{"$f":"IF(ISBLANK(AZ16),\"\",SUM(IF(AZ18>AZ16,1,0)+(IF(BA18>BA16,1,0)+(IF(BB18>BB16,1,0)))))","v":""},null,null,null,{"$f":"IF(BC17=FALSE,\"\",BC17)","v":""},null,null,12,null,"LLLL",null,null,null,{"$f":"IF(ISBLANK(BI17),\"\",SUM(IF(BI18>BI17,1,0)+(IF(BJ18>BJ17,1,0)+(IF(BK18>BK17,1,0)))))","v":""},null,{"$f":"IF(BN17=FALSE,\"\",BN17)","v":""},null,null,null,{"$f":"IF(ISBLANK(BO16),\"\",SUM(IF(BO18>BO16,1,0)+(IF(BP18>BP16,1,0)+(IF(BQ18>BQ16,1,0)))))","v":""},null,null,null,null,null,null,null,{"$f":"IF(BX17=BX21,IF(BT17=\"Bye\",BT21,IF(BT21=\"Bye\",BT21)),(IF(ISBLANK(BU17),\"\",IF(BX17>BX21,BT17,BT21))))","v":false},null,null,null,null,null,null,null,null,null,null,null,null,null,null,null,null,null,null,null,null,null,null,null,null,null,null,null,null,null,null,null,null,null,null,null,null,null,null,null,null,null,null,null,null,null,null,null,null,null,null,null,{"$f":"IF(ISBLANK(EK25),COUNTA(EK26:$EK$28),0)","v":0},null,"7º",null,null,{"$f":"IF(E10=E12,\"\",IF(E10>E12,I10,I12))","v":""},8,null,null,7,null,"g",null,null,null,null,null,null,null,null,null,null,null,null,null,null,null,null,null,null,null,null,null,null,null,null,null,{"$f":"$AI$21","v":""},{"$f":"$AH$21","v":0},{"$f":"$AG$21","v":0},{"$f":"$AF$21","v":0},0,{"$f":"FL17+FM17+FN17","v":0},0]
[null,null,null,null,null,null,null,null,null,null,null,null,null,null,null,null,null,{"$f":"IF(ISBLANK(S19),\"\",SUM(IF(S19>S11,1,0)+(IF(T19>T11,1,0)+(IF(U19>U11,1,0)))))","v":""},null,null,null,{"$f":"IF(V18=FALSE,\"\",V18)","v":""},"(V14)",null,{"$f":"IF(ISBLANK(Z19),\"\",SUM(IF(Z19>Z11,1,0)+(IF(AA19>AA11,1,0)+(IF(AB19>AB11,1,0)))))","v":""},null,null,null,{"$f":"IF(AC18=FALSE,\"\",AC18)","v":""},null,"P50",null,null,null,null,null,null,"P44",null,null,null,null,null,null,null,null,null,{"$f":"IF(AY20=AY22,IF(BC20=\"Bye\",BC22,IF(BC22=\"Bye\",BC20)),(IF(ISBLANK(AZ20),\"\",IF(AY20>AY22,BC20,BC22))))","v":false},null,null,null,null,null,null,{"$f":"IF(BL19=BL20,IF(BH19=\"Bye\",BH20,IF(BH20=\"Bye\",BH19)),(IF(ISBLANK(BI19),\"\",IF(BL19>BL20,BH20,BH19))))","v":false},null,null,13,null,"m",null,null,null,{"$f":"IF(ISBLANK(BI19),\"\",SUM(IF(BI19>BI20,1,0)+(IF(BJ19>BJ20,1,0)+(IF(BK19>BK20,1,0)))))","v":""},"P7",{"$f":"IF(BL19=BL20,IF(BH19=\"Bye\",BH20,IF(BH20=\"Bye\",BH19)),(IF(ISBLANK(BI19),\"\",IF(BL19>BL20,BH19,BH20))))","v":false},null,null,null,null,"P22","(V10)",null,null,null,null,null,{"$f":"IF(BZ18=FALSE,\"\",BZ18)","v":""},null,null,null,{"$f":"IF(ISBLANK(CA19),\"\",SUM(IF(CA19>CA11,1,0)+(IF(CB19>CB11,1,0)+(IF(CC19>CC11,1,0)))))","v":""},null,null,null,null,null,null,null,{"$f":"IF($CP$23=$CP$29,\"\",IF($CP$23>$CP$29,\"\",$CL$29))","v":""},null,null,null,{"$f":"IF(ISBLANK(CM19),\"\",SUM(IF(CM19>CM17,1,0)+(IF(CN19>CN17,1,0)+(IF(CO19>CO17,1,0)))))","v":""},null,null,null,null,null,null,null,null,null,null,null,null,null,null,null,null,null,null,null,null,null,null,null,null,null,null,null,null,null,null,null,{"$f":"IF(#REF!<>\"\",IF(#REF!>I19,#REF!,IF(I19>#REF!,C19,\"Empate\")),\"\")","v":{"$error":"#REF!"}},{"$f":"IF(#REF!<>\"\",IF(#REF!<I19,#REF!,IF(I19<#REF!,C19,\"Empate\")),\"\")","v":{"$error":"#REF!"}},null,null,{"$f":"IF(ISBLANK(EK26),COUNTA(EK27:$EK$28),0)","v":0},null,"8º",null,null,{"$f":"IF(E10=E12,\"\",IF(E10>E12,I12,I10))","v":""},8,null,null,8,null,"h",null,null,null,null,null,null,null,null,null,null,"P51",null,null,null,null,null,null,null,null,null,null,null,null,null,"P51",{"$f":"$AI$25","v":""},{"$f":"$AF$25","v":0},{"$f":"$AG$25","v":0},{"$f":"$AH$25","v":0},0,{"$f":"FL20+FM20+FN20","v":0},0]
[null,null,null,null,null,null,null,null,null,null,null,null,null,null,null,null,null,null,null,null,null,null,null,null,null,null,null,null,null,null,null,null,null,null,{"$f":"IF(BX9=BX13,IF(BT9=\"Bye\",BT13,IF(BT13=\"Bye\",BT13)),(IF(ISBLANK(BU9),\"\",IF(BX9>BX13,BT13,BT9))))","v":false},null,null,null,null,null,null,{"$f":"IF(AR21=AR22,IF(AV20=\"Bye\",AV22,IF(AV22=\"Bye\",AV20)),(IF(ISBLANK(AS20),\"\",IF(AR20>AR22,AV20,AV22))))","v":false},null,{"$f":"IF(ISBLANK(AS20),\"\",SUM(IF(AS20>AS22,1,0)+(IF(AT20>AT22,1,0)+(IF(AU20>AU22,1,0)))))","v":""},null,null,null,{"$f":"IF(AV19=FALSE,\"\",AV19)","v":""},null,null,{"$f":"IF(ISBLANK(AZ20),\"\",SUM(IF(AZ20>AZ22,1,0)+(IF(BA20>BA22,1,0)+(IF(BB20>BB22,1,0)))))","v":""},null,null,null,{"$f":"IF(BC19=FALSE,\"\",BC19)","v":""},null,null,14,null,"n",null,null,null,{"$f":"IF(ISBLANK(BI19),\"\",SUM(IF(BI20>BI19,1,0)+(IF(BJ20>BJ19,1,0)+(IF(BK20>BK19,1,0)))))","v":""},null,{"$f":"IF(BN19=FALSE,\"\",BN19)","v":""},null,null,null,{"$f":"IF(ISBLANK(BO20),\"\",SUM(IF(BO20>BO22,1,0)+(IF(BP20>BP22,1,0)+(IF(BQ20>BQ22,1,0)))))","v":""},null,{"$f":"IF(BR20=BR22,IF(BN20=\"Bye\",BN22,IF(BN22=\"Bye\",BN20)),(IF(ISBLANK(BO20),\"\",IF(BR20>BR22,BN20,BN22))))","v":false},null,null,null,null,null,null,null,null,null,null,null,null,null,null,null,null,null,null,null,null,null,null,null,{"$f":"IF(AND(CP20=#REF!,#REF!>CQ20),#REF!,CO20)","v":{"$error":"#REF!"}},{"$f":"VLOOKUP(CR20,BM20:BX21,9,FALSE)","v":{"$error":"#REF!"}},{"$f":"VLOOKUP(CR20,BM20:BX21,8,FALSE)","v":{"$error":"#REF!"}},{"$f":"VLOOKUP(CR20,BM20:BX21,6,FALSE)","v":{"$error":"#REF!"}},{"$f":"IF(AND(CS20=#REF!,CT20=#REF!,#REF!>CU20),#REF!,CR20)","v":{"$error":"#REF!"}},{"$f":"VLOOKUP(CV20,BM20:BX21,9,FALSE)","v":{"$error":"#REF!"}},{"$f":"VLOOKUP(CV20,BM20:BX21,8,FALSE)","v":{"$error":"#REF!"}},{"$f":"VLOOKUP(CV20,BM20:BX21,6,FALSE)","v":{"$error":"#REF!"}},{"$f":"IF(AND(CW20=CW21,CX20=CX21,CY21>CY20),CV21,CV20)","v":{"$error":"#REF!"}},{"$f":"VLOOKUP(CZ20,BM20:BX21,9,FALSE)","v":{"$error":"#REF!"}},{"$f":"VLOOKUP(CZ20,BM20:BX21,8,FALSE)","v":{"$error":"#REF!"}},{"$f":"VLOOKUP(CZ20,BM20:BX21,6,FALSE)","v":{"$error":"#REF!"}},{"$f":"IF(AND(DA20=#REF!,DB20=#REF!,#REF!>DC20),#REF!,CZ20)","v":{"$error":"#REF!"}},{"$f":"VLOOKUP(DD20,BM20:BX21,9,FALSE)","v":{"$error":"#REF!"}},{"$f":"VLOOKUP(DD20,BM20:BX21,8,FALSE)","v":{"$error":"#REF!"}},{"$f":"VLOOKUP(DD20,BM20:BX21,6,FALSE)","v":{"$error":"#REF!"}},null,null,null,{"$f":"DD20","v":{"$error":"#REF!"}},{"$f":"VLOOKUP(DK20,BM20:BX21,2,FALSE)","v":{"$error":"#REF!"}},{"$f":"VLOOKUP(DK20,BM20:BX21,3,FALSE)","v":{"$error":"#REF!"}},{"$f":"VLOOKUP(DK20,BM20:BX21,4,FALSE)","v":{"$error":"#REF!"}},{"$f":"VLOOKUP(DK20,BM20:BX21,5,FALSE)","v":{"$error":"#REF!"}},{"$f":"VLOOKUP(DK20,BM20:BX21,6,FALSE)","v":{"$error":"#REF!"}},{"$f":"VLOOKUP(DK20,BM20:BX21,7,FALSE)","v":{"$error":"#REF!"}},{"$f":"VLOOKUP(DK20,BM20:BX21,8,FALSE)","v":{"$error":"#REF!"}},{"$f":"VLOOKUP(DK20,BM20:BX21,9,FALSE)","v":{"$error":"#REF!"}},null,null,{"$f":"IF(I20<>\"\",IF(I20>#REF!,C20,IF(#REF!>I20,#REF!,\"Empate\")),\"\")","v":""},{"$f":"IF(I20<>\"\",IF(I20<#REF!,C20,IF(#REF!<I20,#REF!,\"Empate\")),\"\")","v":""},null,null,{"$f":"IF(ISBLANK(EK27),COUNTA(EK28:$EK$28),0)","v":0},null,"9º",null,null,{"$f":"IF(AE9=AE13,IF(AI9=\"Bye\",AI13,IF(AI13=\"Bye\",AI9)),(IF(ISBLANK(AF9),\"\",IF(AE9>AE13,AI13,AI9))))","v":false},6,null,null,9,null,"iiiiiiiiiiiiiiiiiiiiiiiii",null,null,null,null,null,null,null,null,null,null,null,null,null,null,null,null,null,null,null,null,null,null,null,null,null,{"$f":"$AI$29","v":""},{"$f":"$AF$29","v":0},{"$f":"$AG$29","v":0},{"$f":"$AH$29","v":0},0,{"$f":"FL19+FM19+FN19","v":0},0]
[null,null,null,null,null,null,null,null,null,null,null,null,null,null,null,null,null,null,null,null,null,null,null,null,null,null,null,null,null,null,{"$f":"IF(ISBLANK(AF17),\"\",SUM(IF(AF21>AF17,1,0)+(IF(AG21>AG17,1,0)+(IF(AH21>AH17,1,0)))))","v":""},null,null,null,{"$f":"IF(AI20=FALSE,\"\",AI20)","v":""},"(V9)",null,{"$f":"IF(ISBLANK(AM21),\"\",SUM(IF(AM21>AM17,1,0)+(IF(AN21>AN17,1,0)+(IF(AO21>AO17,1,0)))))","v":""},null,null,null,{"$f":"IF(AP20=FALSE,\"\",AP20)","v":""},null,null,null,"P37",null,{"$f":"IF(BR24=BR26,IF(BN24=\"Bye\",BN26,IF(BN26=\"Bye\",BN24)),(IF(ISBLANK(BO24),\"\",IF(BR24>BR26,BN26,BN24))))","v":false},null,null,null,null,"P24",null,{"$f":"IF(BL21=BL22,IF(BH21=\"Bye\",BH22,IF(BH22=\"Bye\",BH21)),(IF(ISBLANK(BI21),\"\",IF(BL21>BL22,BH22,BH21))))","v":false},null,null,15,null,"o",null,null,null,{"$f":"IF(ISBLANK(BI21),\"\",SUM(IF(BI21>BI22,1,0)+(IF(BJ21>BJ22,1,0)+(IF(BK21>BK22,1,0)))))","v":""},"P8",{"$f":"IF(BL21=BL22,IF(BH21=\"Bye\",BH22,IF(BH22=\"Bye\",BH21)),(IF(ISBLANK(BI21),\"\",IF(BL21>BL22,BH21,BH22))))","v":false},null,"(V4)",null,null,null,{"$f":"IF(BT20=FALSE,\"\",BT20)","v":""},null,null,null,{"$f":"IF(ISBLANK(BU21),\"\",SUM(IF(BU21>BU17,1,0)+(IF(BV21>BV17,1,0)+(IF(BW21>BW17,1,0)))))","v":""},null,null,null,null,null,null,null,null,null,null,null,null,null,null,null,null,null,null,null,{"$f":"IF(AND(#REF!=CP21,CQ21>#REF!),#REF!,CO21)","v":{"$error":"#REF!"}},{"$f":"VLOOKUP(CR21,BM20:BX21,9,FALSE)","v":{"$error":"#REF!"}},{"$f":"VLOOKUP(CR21,BM20:BX21,8,FALSE)","v":{"$error":"#REF!"}},{"$f":"VLOOKUP(CR21,BM20:BX21,6,FALSE)","v":{"$error":"#REF!"}},{"$f":"IF(AND(CS21=#REF!,CT21=#REF!,#REF!>CU21),#REF!,CR21)","v":{"$error":"#REF!"}},{"$f":"VLOOKUP(CV21,BM20:BX21,9,FALSE)","v":{"$error":"#REF!"}},{"$f":"VLOOKUP(CV21,BM20:BX21,8,FALSE)","v":{"$error":"#REF!"}},{"$f":"VLOOKUP(CV21,BM20:BX21,6,FALSE)","v":{"$error":"#REF!"}},{"$f":"IF(AND(CW20=CW21,CX20=CX21,#REF!>CY20),CV20,CV21)","v":{"$error":"#REF!"}},{"$f":"VLOOKUP(CZ21,BM20:BX21,9,FALSE)","v":{"$error":"#REF!"}},{"$f":"VLOOKUP(CZ21,BM20:BX21,8,FALSE)","v":{"$error":"#REF!"}},{"$f":"VLOOKUP(CZ21,BM20:BX21,6,FALSE)","v":{"$error":"#REF!"}},{"$f":"IF(AND(#REF!=DA21,#REF!=DB21,DC21>#REF!),#REF!,CZ21)","v":{"$error":"#REF!"}},{"$f":"VLOOKUP(DD21,BM20:BX21,9,FALSE)","v":{"$error":"#REF!"}},{"$f":"VLOOKUP(DD21,BM20:BX21,8,FALSE)","v":{"$error":"#REF!"}},{"$f":"VLOOKUP(DD21,BM20:BX21,6,FALSE)","v":{"$error":"#REF!"}},null,null,null,{"$f":"DD21","v":{"$error":"#REF!"}},{"$f":"VLOOKUP(DK21,BM20:BX21,2,FALSE)","v":{"$error":"#REF!"}},{"$f":"VLOOKUP(DK21,BM20:BX21,3,FALSE)","v":{"$error":"#REF!"}},{"$f":"VLOOKUP(DK21,BM20:BX21,4,FALSE)","v":{"$error":"#REF!"}},{"$f":"VLOOKUP(DK21,BM20:BX21,5,FALSE)","v":{"$error":"#REF!"}},{"$f":"VLOOKUP(DK21,BM20:BX21,6,FALSE)","v":{"$error":"#REF!"}},{"$f":"VLOOKUP(DK21,BM20:BX21,7,FALSE)","v":{"$error":"#REF!"}},{"$f":"VLOOKUP(DK21,BM20:BX21,8,FALSE)","v":{"$error":"#REF!"}},{"$f":"VLOOKUP(DK21,BM20:BX21,9,FALSE)","v":{"$error":"#REF!"}},null,null,{"$f":"IF(Q21<>\"\",IF(Q21>#REF!,K21,IF(#REF!>Q21,#REF!,\"Empate\")),\"\")","v":""},{"$f":"IF(Q21<>\"\",IF(Q21<#REF!,K21,IF(#REF!<Q21,#REF!,\"Empate\")),\"\")","v":""},null,null,{"$f":"IF(ISBLANK(EK28),COUNTA(EC$86:$EC87),0)","v":0},null,"10º",null,null,{"$f":"IF(AE17=AE21,IF(AI17=\"Bye\",AI21,IF(AI21=\"Bye\",AI17)),(IF(ISBLANK(AF17),\"\",IF(AE17>AE21,AI21,AI17))))","v":false},6,null,null,10,null,"JOAO",null,null,null,null,null,null,null,null,null,null,"P52",null,null,null,null,null,null,null,null,null,null,null,null,null,"P52",{"$f":"$AI$33","v":""},{"$f":"$AF$33","v":0},{"$f":"$AG$33","v":0},{"$f":"$AH$33","v":0},0,{"$f":"FL22+FM22+FN22","v":0},0]
[null,null,{"$f":"IF(E15=E31,IF(I15=\"Bye\",I31,IF(I39=\"Bye\",I15)),(IF(ISBLANK(F15),\"\",IF(E15>E31,I15,I31))))","v":false},null,"Vencido",null,"3º Classificado",null,null,null,null,"Vencido",null,"4º Classificado",null,null,null,null,null,null,null,null,null,null,null,null,null,null,null,null,null,null,null,null,null,null,null,null,null,null,null,null,null,{"$f":"IF(ISBLANK(AS20),\"\",SUM(IF(AS22>AS20,1,0)+(IF(AT22>AT20,1,0)+(IF(AU22>AU20,1,0)))))","v":""},null,null,null,{"$f":"IF(AV21=FALSE,\"\",AV21)","v":""},"(V5)",null,{"$f":"IF(ISBLANK(AZ20),\"\",SUM(IF(AZ22>AZ20,1,0)+(IF(BA22>BA20,1,0)+(IF(BB22>BB20,1,0)))))","v":""},null,null,null,{"$f":"IF(BC21=FALSE,\"\",BC21)","v":""},null,null,16,null,"p",null,null,null,{"$f":"IF(ISBLANK(BI21),\"\",SUM(IF(BI22>BI21,1,0)+(IF(BJ22>BJ21,1,0)+(IF(BK22>BK21,1,0)))))","v":""},null,{"$f":"IF(BN21=FALSE,\"\",BN21)","v":""},null,null,null,{"$f":"IF(ISBLANK(BO20),\"\",SUM(IF(BO22>BO20,1,0)+(IF(BP22>BP20,1,0)+(IF(BQ22>BQ20,1,0)))))","v":""},null,null,null,null,null,null,null,null,null,null,null,null,null,null,null,null,null,null,null,null,null,null,null,"P62",null,null,null,null,null,null,null,null,null,null,null,null,null,null,null,null,null,null,null,null,null,null,null,null,null,null,null,null,null,null,null,null,null,null,null,null,null,"11º",null,null,{"$f":"IF(AE25=AE29,IF(AI25=\"Bye\",AI29,IF(AI29=\"Bye\",AI25)),(IF(ISBLANK(AF25),\"\",IF(AE25>AE29,AI29,AI25))))","v":false},6,null,null,11,null,"k",null,null,null,null,null,null,null,null,null,null,null,null,null,null,null,null,null,null,null,null,null,null,null,null,null,{"$f":"$AI$37","v":""},{"$f":"$AF$37","v":0},{"$f":"$AG$37","v":0},{"$f":"$AH$37","v":0},0,{"$f":"FL21+FM21+FN21","v":0},0]
[null,null,{"$f":"IF(C22=FALSE,\"\",C22)","v":""},null,null,null,null,null,"P61",null,null,null,null,null,null,"P60",null,null,null,null,null,null,null,null,null,null,null,null,null,null,null,null,null,null,null,null,null,null,null,null,null,null,null,null,null,null,null,{"$f":"IF(AY24=AY26,IF(BC24=\"Bye\",BC26,IF(BC26=\"Bye\",BC24)),(IF(ISBLANK(AZ24),\"\",IF(AY24>AY26,BC24,BC26))))","v":false},null,null,null,null,null,null,{"$f":"IF(BL23=BL24,IF(BH23=\"Bye\",BH24,IF(BH24=\"Bye\",BH23)),(IF(ISBLANK(BI23),\"\",IF(BL23>BL24,BH24,BH23))))","v":false},null,null,17,null,"q",null,null,null,{"$f":"IF(ISBLANK(BI23),\"\",SUM(IF(BI23>BI24,1,0)+(IF(BJ23>BJ24,1,0)+(IF(BK23>BK24,1,0)))))","v":""},"P9",{"$f":"IF(BL23=BL24,IF(BH23=\"Bye\",BH24,IF(BH24=\"Bye\",BH23)),(IF(ISBLANK(BI23),\"\",IF(BL23>BL24,BH23,BH24))))","v":false},null,null,null,null,"P25",null,null,null,null,null,null,null,null,null,null,null,null,"(V15)",null,null,null,null,null,{"$f":"IF(CJ15=CJ31,\"\",IF(CJ15>CJ31,CF15,CF31))","v":""},null,null,null,{"$f":"IF(ISBLANK(CM23),\"\",SUM(IF(CM23>CM29,1,0)+(IF(CN23>CN29,1,0)+(IF(CO23>CO29,1,0)))))","v":""},null,null,null,null,null,null,null,null,null,null,null,null,null,null,null,null,null,null,null,null,null,null,null,null,null,null,null,null,null,null,null,{"$f":"IF(#REF!<>\"\",IF(#REF!>I23,#REF!,IF(I23>#REF!,C23,\"Empate\")),\"\")","v":{"$error":"#REF!"}},{"$f":"IF(#REF!<>\"\",IF(#REF!<I23,#REF!,IF(I23<#REF!,C23,\"Empate\")),\"\")","v":{"$error":"#REF!"}},null,null,null,null,"12º",null,null,{"$f":"IF(AE33=AE37,IF(AI33=\"Bye\",AI37,IF(AI37=\"Bye\",AI33)),(IF(ISBLANK(AF33),\"\",IF(AE33>AE37,AI37,AI33))))","v":false},6,null,null,12,null,"LLLL"]
[null,null,"Vencedor P61",null,null,null,null,null,null,null,null,null,null,null,null,null,null,null,null,null,null,null,null,null,null,null,null,null,null,null,null,null,null,null,{"$f":"IF(AL25=AL29,IF(AP25=\"Bye\",AP29,IF(AP29=\"Bye\",AP25)),(IF(ISBLANK(AM25),\"\",IF(AL25>AL29,AP25,AP29))))","v":false},null,null,null,null,null,null,{"$f":"IF(AR25=AR26,IF(AV24=\"Bye\",AV26,IF(AV26=\"Bye\",AV24)),(IF(ISBLANK(AS24),\"\",IF(AR24>AR26,AV24,AV26))))","v":false},null,{"$f":"IF(ISBLANK(AS24),\"\",SUM(IF(AS24>AS26,1,0)+(IF(AT24>AT26,1,0)+(IF(AU24>AU26,1,0)))))","v":""},null,null,null,{"$f":"IF(AV23=FALSE,\"\",AV23)","v":""},null,null,{"$f":"IF(ISBLANK(AZ24),\"\",SUM(IF(AZ24>AZ26,1,0)+(IF(BA24>BA26,1,0)+(IF(BB24>BB26,1,0)))))","v":""},null,null,null,{"$f":"IF(BC23=FALSE,\"\",BC23)","v":""},null,null,18,null,"r",null,null,null,{"$f":"IF(ISBLANK(BI23),\"\",SUM(IF(BI24>BI23,1,0)+(IF(BJ24>BJ23,1,0)+(IF(BK24>BK23,1,0)))))","v":""},null,{"$f":"IF(BN23=FALSE,\"\",BN23)","v":""},null,null,null,{"$f":"IF(ISBLANK(BO24),\"\",SUM(IF(BO24>BO26,1,0)+(IF(BP24>BP26,1,0)+(IF(BQ24>BQ26,1,0)))))","v":""},null,{"$f":"IF(BR24=BR26,IF(BN24=\"Bye\",BN26,IF(BN26=\"Bye\",BN24)),(IF(ISBLANK(BO24),\"\",IF(BR24>BR26,BN24,BN26))))","v":false},null,null,null,null,null,null,null,null,null,null,null,null,null,null,null,null,null,null,null,null,null,null,null,{"$f":"IF(AND(CP24=CP25,CQ25>CQ24),CO25,CO24)","v":0},{"$f":"VLOOKUP(CR24,BM24:BX25,9,FALSE)","v":{"$error":"#N/A"}},{"$f":"VLOOKUP(CR24,BM24:BX25,8,FALSE)","v":{"$error":"#N/A"}},{"$f":"VLOOKUP(CR24,BM24:BX25,6,FALSE)","v":{"$error":"#N/A"}},{"$f":"IF(AND(#REF!=CS24,#REF!=CT24,CU24>#REF!),#REF!,CR24)","v":{"$error":"#REF!"}},{"$f":"VLOOKUP(CV24,BM24:BX25,9,FALSE)","v":{"$error":"#REF!"}},{"$f":"VLOOKUP(CV24,BM24:BX25,8,FALSE)","v":{"$error":"#REF!"}},{"$f":"VLOOKUP(CV24,BM24:BX25,6,FALSE)","v":{"$error":"#REF!"}},{"$f":"IF(AND(CW24=#REF!,CX24=#REF!,#REF!>CY24),#REF!,CV24)","v":{"$error":"#REF!"}},{"$f":"VLOOKUP(CZ24,BM24:BX25,9,FALSE)","v":{"$error":"#REF!"}},{"$f":"VLOOKUP(CZ24,BM24:BX25,8,FALSE)","v":{"$error":"#REF!"}},{"$f":"VLOOKUP(CZ24,BM24:BX25,6,FALSE)","v":{"$error":"#REF!"}},{"$f":"IF(AND(DA24=DA25,DB24=DB25,DC25>DC24),CZ25,CZ24)","v":{"$error":"#REF!"}},{"$f":"VLOOKUP(DD24,BM24:BX25,9,FALSE)","v":{"$error":"#REF!"}},{"$f":"VLOOKUP(DD24,BM24:BX25,8,FALSE)","v":{"$error":"#REF!"}},{"$f":"VLOOKUP(DD24,BM24:BX25,6,FALSE)","v":{"$error":"#REF!"}},null,null,null,{"$f":"DD24","v":{"$error":"#REF!"}},{"$f":"VLOOKUP(DK24,BM24:BX25,2,FALSE)","v":{"$error":"#REF!"}},{"$f":"VLOOKUP(DK24,BM24:BX25,3,FALSE)","v":{"$error":"#REF!"}},{"$f":"VLOOKUP(DK24,BM24:BX25,4,FALSE)","v":{"$error":"#REF!"}},{"$f":"VLOOKUP(DK24,BM24:BX25,5,FALSE)","v":{"$error":"#REF!"}},{"$f":"VLOOKUP(DK24,BM24:BX25,6,FALSE)","v":{"$error":"#REF!"}},{"$f":"VLOOKUP(DK24,BM24:BX25,7,FALSE)","v":{"$error":"#REF!"}},{"$f":"VLOOKUP(DK24,BM24:BX25,8,FALSE)","v":{"$error":"#REF!"}},{"$f":"VLOOKUP(DK24,BM24:BX25,9,FALSE)","v":{"$error":"#REF!"}},null,null,{"$f":"IF(#REF!<>\"\",IF(#REF!>Q24,#REF!,IF(Q24>#REF!,K24,\"Empate\")),\"\")","v":{"$error":"#REF!"}},{"$f":"IF(#REF!<>\"\",IF(#REF!<Q24,#REF!,IF(Q24<#REF!,K24,\"Empate\")),\"\")","v":{"$error":"#REF!"}},null,null,null,null,"13º",null,null,{"$f":"IF(AL9=AL13,IF(AP9=\"Bye\",AP13,IF(AP13=\"Bye\",AP9)),(IF(ISBLANK(AM9),\"\",IF(AL9>AL13,AP13,AP9))))","v":false},4,null,null,13,null,"m"]
[null,null,null,null,null,null,null,null,null,null,null,null,null,null,null,null,null,null,null,null,null,null,null,null,null,null,null,null,null,null,{"$f":"IF(ISBLANK(AF25),\"\",SUM(IF(AF25>AF29,1,0)+(IF(AG25>AG29,1,0)+(IF(AH25>AH29,1,0)))))","v":""},null,null,null,{"$f":"IF(AI24=FALSE,\"\",AI24)","v":""},null,null,{"$f":"IF(ISBLANK(AM25),\"\",SUM(IF(AM25>AM29,1,0)+(IF(AN25>AN29,1,0)+(IF(AO25>AO29,1,0)))))","v":""},null,null,null,{"$f":"IF(AP24=FALSE,\"\",AP24)","v":""},null,null,null,"P38",null,{"$f":"IF(BR20=BR22,IF(BN20=\"Bye\",BN22,IF(BN22=\"Bye\",BN20)),(IF(ISBLANK(BO20),\"\",IF(BR20>BR22,BN22,BN20))))","v":false},null,null,null,null,"P27",null,{"$f":"IF(BL25=BL26,IF(BH25=\"Bye\",BH26,IF(BH26=\"Bye\",BH25)),(IF(ISBLANK(BI25),\"\",IF(BL25>BL26,BH26,BH25))))","v":false},null,null,19,null,"s",null,null,null,{"$f":"IF(ISBLANK(BI25),\"\",SUM(IF(BI25>BI26,1,0)+(IF(BJ25>BJ26,1,0)+(IF(BK25>BK26,1,0)))))","v":""},"P10",{"$f":"IF(BL25=BL26,IF(BH25=\"Bye\",BH26,IF(BH26=\"Bye\",BH25)),(IF(ISBLANK(BI25),\"\",IF(BL25>BL26,BH25,BH26))))","v":false},null,"(V5)",null,null,null,{"$f":"IF(BT24=FALSE,\"\",BT24)","v":""},null,null,null,{"$f":"IF(ISBLANK(BU25),\"\",SUM(IF(BU25>BU29,1,0)+(IF(BV25>BV29,1,0)+(IF(BW25>BW29,1,0)))))","v":""},null,null,null,null,null,null,null,null,null,null,null,null,null,{"$f":"IF(CP23=CP29,\"\",IF(CP23>CP29,CL23,IF(CP17=CP19,\"\",IF(CP17<CP19,CL19,CL17))))","v":""},null,null,null,null,null,{"$f":"IF(AND(CP24=CP25,CQ25>CQ24),CO24,CO25)","v":0},{"$f":"VLOOKUP(CR25,BM24:BX25,9,FALSE)","v":{"$error":"#N/A"}},{"$f":"VLOOKUP(CR25,BM24:BX25,8,FALSE)","v":{"$error":"#N/A"}},{"$f":"VLOOKUP(CR25,BM24:BX25,6,FALSE)","v":{"$error":"#N/A"}},{"$f":"IF(AND(CS25=#REF!,CT25=#REF!,#REF!>CU25),#REF!,CR25)","v":{"$error":"#N/A"}},{"$f":"VLOOKUP(CV25,BM24:BX25,9,FALSE)","v":{"$error":"#N/A"}},{"$f":"VLOOKUP(CV25,BM24:BX25,8,FALSE)","v":{"$error":"#N/A"}},{"$f":"VLOOKUP(CV25,BM24:BX25,6,FALSE)","v":{"$error":"#N/A"}},{"$f":"IF(AND(#REF!=CW25,#REF!=CX25,CY24>#REF!),#REF!,CV25)","v":{"$error":"#REF!"}},{"$f":"VLOOKUP(CZ25,BM24:BX25,9,FALSE)","v":{"$error":"#REF!"}},{"$f":"VLOOKUP(CZ25,BM24:BX25,8,FALSE)","v":{"$error":"#REF!"}},{"$f":"VLOOKUP(CZ25,BM24:BX25,6,FALSE)","v":{"$error":"#REF!"}},{"$f":"IF(AND(DA24=DA25,DB24=DB25,DC25>DC24),CZ24,CZ25)","v":{"$error":"#REF!"}},{"$f":"VLOOKUP(DD25,BM24:BX25,9,FALSE)","v":{"$error":"#REF!"}},{"$f":"VLOOKUP(DD25,BM24:BX25,8,FALSE)","v":{"$error":"#REF!"}},{"$f":"VLOOKUP(DD25,BM24:BX25,6,FALSE)","v":{"$error":"#REF!"}},null,null,null,{"$f":"DD25","v":{"$error":"#REF!"}},{"$f":"VLOOKUP(DK25,BM24:BX25,2,FALSE)","v":{"$error":"#REF!"}},{"$f":"VLOOKUP(DK25,BM24:BX25,3,FALSE)","v":{"$error":"#REF!"}},{"$f":"VLOOKUP(DK25,BM24:BX25,4,FALSE)","v":{"$error":"#REF!"}},{"$f":"VLOOKUP(DK25,BM24:BX25,5,FALSE)","v":{"$error":"#REF!"}},{"$f":"VLOOKUP(DK25,BM24:BX25,6,FALSE)","v":{"$error":"#REF!"}},{"$f":"VLOOKUP(DK25,BM24:BX25,7,FALSE)","v":{"$error":"#REF!"}},{"$f":"VLOOKUP(DK25,BM24:BX25,8,FALSE)","v":{"$error":"#REF!"}},{"$f":"VLOOKUP(DK25,BM24:BX25,9,FALSE)","v":{"$error":"#REF!"}},null,null,{"$f":"IF(Q25<>\"\",IF(Q25>#REF!,K25,IF(#REF!>Q25,#REF!,\"Empate\")),\"\")","v":""},{"$f":"IF(Q25<>\"\",IF(Q25<#REF!,K25,IF(#REF!<Q25,#REF!,\"Empate\")),\"\")","v":""},null,null,null,null,"14º",null,null,{"$f":"IF(AL17=AL21,IF(AP17=\"Bye\",AP21,IF(AP21=\"Bye\",AP17)),(IF(ISBLANK(AM17),\"\",IF(AL17>AL21,AP21,AP17))))","v":false},4,null,null,14,null,"n"]
[null,null,{"$f":"IF(E15=E31,IF(I15=\"Bye\",I31,IF(I43=\"Bye\",I15)),(IF(ISBLANK(F15),\"\",IF(E15>E31,I31,I15))))","v":false},null,null,null,null,null,null,null,null,null,null,null,null,null,null,null,null,null,null,{"$f":"IF(Y27=Y35,IF(AC27=\"Bye\",AC35,IF(AC35=\"Bye\",AC27)),(IF(ISBLANK(Z27),\"\",IF(Y27>Y35,AC27,AC35))))","v":false},null,null,null,null,null,null,{"$f":"IF(AE25=AE29,IF(AI25=\"Bye\",AI29,IF(AI29=\"Bye\",AI25)),(IF(ISBLANK(AF25),\"\",IF(AE25>AE29,AI25,AI29))))","v":false},null,null,null,null,null,null,null,null,null,null,null,null,null,null,{"$f":"IF(ISBLANK(AS24),\"\",SUM(IF(AS26>AS24,1,0)+(IF(AT26>AT24,1,0)+(IF(AU26>AU24,1,0)))))","v":""},null,null,null,{"$f":"IF(AV25=FALSE,\"\",AV25)","v":""},"(V4)",null,{"$f":"IF(ISBLANK(AZ24),\"\",SUM(IF(AZ26>AZ24,1,0)+(IF(BA26>BA24,1,0)+(IF(BB26>BB24,1,0)))))","v":""},null,null,null,{"$f":"IF(BC25=FALSE,\"\",BC25)","v":""},null,null,20,null,"t",null,null,null,{"$f":"IF(ISBLANK(BI25),\"\",SUM(IF(BI26>BI25,1,0)+(IF(BJ26>BJ25,1,0)+(IF(BK26>BK25,1,0)))))","v":""},null,{"$f":"IF(BN25=FALSE,\"\",BN25)","v":""},null,null,null,{"$f":"IF(ISBLANK(BO24),\"\",SUM(IF(BO26>BO24,1,0)+(IF(BP26>BP24,1,0)+(IF(BQ26>BQ24,1,0)))))","v":""},null,null,null,null,null,null,null,{"$f":"IF(BX25=BX29,IF(BT25=\"Bye\",BT29,IF(BT29=\"Bye\",BT29)),(IF(ISBLANK(BU25),\"\",IF(BX25>BX29,BT25,BT29))))","v":false},null,null,null,null,"P54",null,null,null,null,null,null,"CAMPEÃO",null,null,null,null,null,null,null,null,null,null,null,null,null,null,null,null,null,null,null,null,null,null,null,null,null,null,null,null,null,null,null,null,null,null,null,null,null,null,null,null,null,"15º",null,null,{"$f":"IF(AL25=AL29,IF(AP25=\"Bye\",AP29,IF(AP29=\"Bye\",AP25)),(IF(ISBLANK(AM25),\"\",IF(AL25>AL29,AP29AP25))))","v":false},4,null,null,15,null,"o"]
[null,null,{"$f":"IF(C26=FALSE,\"\",C26)","v":""},null,null,null,null,null,null,null,null,null,null,null,null,null,null,{"$f":"IF(ISBLANK(S27),\"\",SUM(IF(S27>S35,1,0)+(IF(T27>T35,1,0)+(IF(U27>U35,1,0)))))","v":""},null,null,null,{"$f":"IF(V26=FALSE,\"\",V26)","v":""},null,null,{"$f":"IF(ISBLANK(Z27),\"\",SUM(IF(Z27>Z35,1,0)+(IF(AA27>AA35,1,0)+(IF(AB27>AB35,1,0)))))","v":""},null,null,null,{"$f":"IF(AC26=FALSE,\"\",AC26)","v":""},null,"P51",null,null,null,null,null,null,"P47",null,null,null,null,null,null,null,null,null,{"$f":"IF(AY28=AY30,IF(BC28=\"Bye\",BC30,IF(BC30=\"Bye\",BC28)),(IF(ISBLANK(AZ28),\"\",IF(AY28>AY30,BC28,BC30))))","v":false},null,null,null,null,null,null,{"$f":"IF(BL27=BL28,IF(BH27=\"Bye\",BH28,IF(BH28=\"Bye\",BH27)),(IF(ISBLANK(BI27),\"\",IF(BL27>BL28,BH28,BH27))))","v":false},null,null,21,null,"u",null,null,null,{"$f":"IF(ISBLANK(BI27),\"\",SUM(IF(BI27>BI28,1,0)+(IF(BJ27>BJ28,1,0)+(IF(BK27>BK28,1,0)))))","v":""},"P11",{"$f":"IF(BL27=BL28,IF(BH27=\"Bye\",BH28,IF(BH28=\"Bye\",BH27)),(IF(ISBLANK(BI27),\"\",IF(BL27>BL28,BH27,BH28))))","v":false},null,null,null,null,"P26","(V11)",null,null,null,null,null,{"$f":"IF(BZ26=FALSE,\"\",BZ26)","v":""},null,null,null,{"$f":"IF(ISBLANK(CA27),\"\",SUM(IF(CA27>CA35,1,0)+(IF(CB27>CB35,1,0)+(IF(CC27>CC35,1,0)))))","v":""},null,null,null,null,null,null,null,null,null,null,null,null,null,null,null,null,null,null,null,null,null,null,null,null,null,null,null,null,null,null,null,null,null,null,null,null,null,null,null,null,null,null,null,{"$f":"IF(#REF!<>\"\",IF(#REF!>I27,#REF!,IF(I27>#REF!,C27,\"Empate\")),\"\")","v":{"$error":"#REF!"}},{"$f":"IF(#REF!<>\"\",IF(#REF!<I27,#REF!,IF(I27<#REF!,C27,\"Empate\")),\"\")","v":{"$error":"#REF!"}},null,null,null,null,"16º",null,null,{"$f":"IF(AL33=AL37,IF(AP33=\"Bye\",AP37,IF(AP37=\"Bye\",AP33)),(IF(ISBLANK(AM33),\"\",IF(AL33>AL37,AP37,AP33))))","v":""},4,null,null,16,null,"p"]
[null,null,"3º Class -Vencido - P61",null,null,null,null,null,null,null,null,null,null,null,null,null,null,null,null,null,null,null,null,null,null,null,null,null,null,null,null,null,null,null,{"$f":"IF(BX33=BX37,IF(BT33=\"Bye\",BT37,IF(BT37=\"Bye\",BT37)),(IF(ISBLANK(BU33),\"\",IF(BX33>BX37,BT37,BT33))))","v":false},null,null,null,null,null,null,{"$f":"IF(AR29=AR30,IF(AV28=\"Bye\",AV30,IF(AV30=\"Bye\",AV28)),(IF(ISBLANK(AS28),\"\",IF(AR28>AR30,AV28,AV30))))","v":false},null,{"$f":"IF(ISBLANK(AS28),\"\",SUM(IF(AS28>AS30,1,0)+(IF(AT28>AT30,1,0)+(IF(AU28>AU30,1,0)))))","v":""},null,null,null,{"$f":"IF(AV27=FALSE,\"\",AV27)","v":""},null,null,{"$f":"IF(ISBLANK(AZ28),\"\",SUM(IF(AZ28>AZ30,1,0)+(IF(BA28>BA30,1,0)+(IF(BB28>BB30,1,0)))))","v":""},null,null,null,{"$f":"IF(BC27=FALSE,\"\",BC27)","v":""},null,null,22,null,"v",null,null,null,{"$f":"IF(ISBLANK(BI27),\"\",SUM(IF(BI28>BI27,1,0)+(IF(BJ28>BJ27,1,0)+(IF(BK28>BK27,1,0)))))","v":""},null,{"$f":"IF(BN27=FALSE,\"\",BN27)","v":""},null,null,null,{"$f":"IF(ISBLANK(BO28),\"\",SUM(IF(BO28>BO30,1,0)+(IF(BP28>BP30,1,0)+(IF(BQ28>BQ30,1,0)))))","v":""},null,{"$f":"IF(BR28=BR30,IF(BN28=\"Bye\",BN30,IF(BN30=\"Bye\",BN28)),(IF(ISBLANK(BO28),\"\",IF(BR28>BR30,BN28,BN30))))","v":false},null,null,null,null,null,null,null,null,null,null,null,null,null,null,null,null,null,null,null,null,null,"P61",null,{"$f":"IF(AND(CP28=#REF!,#REF!>CQ28),#REF!,CO28)","v":{"$error":"#REF!"}},{"$f":"VLOOKUP(CR28,BM28:BX29,9,FALSE)","v":{"$error":"#REF!"}},{"$f":"VLOOKUP(CR28,BM28:BX29,8,FALSE)","v":{"$error":"#REF!"}},{"$f":"VLOOKUP(CR28,BM28:BX29,6,FALSE)","v":{"$error":"#REF!"}},{"$f":"IF(AND(CS28=#REF!,CT28=#REF!,#REF!>CU28),#REF!,CR28)","v":{"$error":"#REF!"}},{"$f":"VLOOKUP(CV28,BM28:BX29,9,FALSE)","v":{"$error":"#REF!"}},{"$f":"VLOOKUP(CV28,BM28:BX29,8,FALSE)","v":{"$error":"#REF!"}},{"$f":"VLOOKUP(CV28,BM28:BX29,6,FALSE)","v":{"$error":"#REF!"}},{"$f":"IF(AND(CW28=CW29,CX28=CX29,CY29>CY28),CV29,CV28)","v":{"$error":"#REF!"}},{"$f":"VLOOKUP(CZ28,BM28:BX29,9,FALSE)","v":{"$error":"#REF!"}},{"$f":"VLOOKUP(CZ28,BM28:BX29,8,FALSE)","v":{"$error":"#REF!"}},{"$f":"VLOOKUP(CZ28,BM28:BX29,6,FALSE)","v":{"$error":"#REF!"}},{"$f":"IF(AND(DA28=#REF!,DB28=#REF!,#REF!>DC28),#REF!,CZ28)","v":{"$error":"#REF!"}},{"$f":"VLOOKUP(DD28,BM28:BX29,9,FALSE)","v":{"$error":"#REF!"}},{"$f":"VLOOKUP(DD28,BM28:BX29,8,FALSE)","v":{"$error":"#REF!"}},{"$f":"VLOOKUP(DD28,BM28:BX29,6,FALSE)","v":{"$error":"#REF!"}},null,null,null,{"$f":"DD28","v":{"$error":"#REF!"}},{"$f":"VLOOKUP(DK28,BM28:BX29,2,FALSE)","v":{"$error":"#REF!"}},{"$f":"VLOOKUP(DK28,BM28:BX29,3,FALSE)","v":{"$error":"#REF!"}},{"$f":"VLOOKUP(DK28,BM28:BX29,4,FALSE)","v":{"$error":"#REF!"}},{"$f":"VLOOKUP(DK28,BM28:BX29,5,FALSE)","v":{"$error":"#REF!"}},{"$f":"VLOOKUP(DK28,BM28:BX29,6,FALSE)","v":{"$error":"#REF!"}},{"$f":"VLOOKUP(DK28,BM28:BX29,7,FALSE)","v":{"$error":"#REF!"}},{"$f":"VLOOKUP(DK28,BM28:BX29,8,FALSE)","v":{"$error":"#REF!"}},{"$f":"VLOOKUP(DK28,BM28:BX29,9,FALSE)","v":{"$error":"#REF!"}},null,null,{"$f":"IF(I28<>\"\",IF(I28>#REF!,C28,IF(#REF!>I28,#REF!,\"Empate\")),\"\")","v":""},{"$f":"IF(I28<>\"\",IF(I28<#REF!,C28,IF(#REF!<I28,#REF!,\"Empate\")),\"\")","v":""},null,null,null,null,"17º",null,null,{"$f":"IF(AR9=AR10,IF(AV8=\"Bye\",AV10,IF(AV10=\"Bye\",AV8)),(IF(ISBLANK(AS8),\"\",IF(AR8>AR10,AV10,AV8))))","v":false},2,null,null,17,null,"q"]
[null,null,null,null,null,null,null,null,null,null,null,null,null,null,null,null,null,null,null,null,null,null,null,null,null,null,null,null,null,null,{"$f":"IF(ISBLANK(AF25),\"\",SUM(IF(AF29>AF25,1,0)+(IF(AG29>AG25,1,0)+(IF(AH29>AH25,1,0)))))","v":""},null,null,null,{"$f":"IF(AI28=FALSE,\"\",AI28)","v":""},"(V12)",null,{"$f":"IF(ISBLANK(AM29),\"\",SUM(IF(AM29>AM25,1,0)+(IF(AN29>AN25,1,0)+(IF(AO29>AO25,1,0)))))","v":""},null,null,null,{"$f":"IF(AP28=FALSE,\"\",AP28)","v":""},null,null,null,"P39",null,{"$f":"IF(BR16=BR18,IF(BN16=\"Bye\",BN18,IF(BN18=\"Bye\",BN16)),(IF(ISBLANK(BO16),\"\",IF(BR16>BR18,BN18,BN16))))","v":false},null,null,null,null,"P28",null,{"$f":"IF(BL29=BL30,IF(BH29=\"Bye\",BH30,IF(BH30=\"Bye\",BH29)),(IF(ISBLANK(BI29),\"\",IF(BL29>BL30,BH30,BH29))))","v":false},null,null,23,null,"x",null,null,null,{"$f":"IF(ISBLANK(BI29),\"\",SUM(IF(BI29>BI30,1,0)+(IF(BJ29>BJ30,1,0)+(IF(BK29>BK30,1,0)))))","v":""},"P12",{"$f":"IF(BL29=BL30,IF(BH29=\"Bye\",BH30,IF(BH30=\"Bye\",BH29)),(IF(ISBLANK(BI29),\"\",IF(BL29>BL30,BH29,BH30))))","v":false},null,"(V6)",null,null,null,{"$f":"IF(BT28=FALSE,\"\",BT28)","v":""},null,null,null,{"$f":"IF(ISBLANK(BU29),\"\",SUM(IF(BU29>BU25,1,0)+(IF(BV29>BV25,1,0)+(IF(BW29>BW25,1,0)))))","v":""},null,null,null,null,null,null,null,null,null,null,null,null,null,{"$f":"IF(E15=E31,\"\",IF(E15>E31,I15,I31))","v":""},null,null,null,{"$f":"IF(ISBLANK(CM29),\"\",SUM(IF(CM29>CM23,1,0)+(IF(CN29>CN23,1,0)+(IF(CO29>CO23,1,0)))))","v":""},null,{"$f":"IF(AND(#REF!=CP29,CQ29>#REF!),#REF!,CO29)","v":{"$error":"#REF!"}},{"$f":"VLOOKUP(CR29,BM28:BX29,9,FALSE)","v":{"$error":"#REF!"}},{"$f":"VLOOKUP(CR29,BM28:BX29,8,FALSE)","v":{"$error":"#REF!"}},{"$f":"VLOOKUP(CR29,BM28:BX29,6,FALSE)","v":{"$error":"#REF!"}},{"$f":"IF(AND(CS29=#REF!,CT29=#REF!,#REF!>CU29),#REF!,CR29)","v":{"$error":"#REF!"}},{"$f":"VLOOKUP(CV29,BM28:BX29,9,FALSE)","v":{"$error":"#REF!"}},{"$f":"VLOOKUP(CV29,BM28:BX29,8,FALSE)","v":{"$error":"#REF!"}},{"$f":"VLOOKUP(CV29,BM28:BX29,6,FALSE)","v":{"$error":"#REF!"}},{"$f":"IF(AND(CW28=CW29,CX28=CX29,#REF!>CY28),CV28,CV29)","v":{"$error":"#REF!"}},{"$f":"VLOOKUP(CZ29,BM28:BX29,9,FALSE)","v":{"$error":"#REF!"}},{"$f":"VLOOKUP(CZ29,BM28:BX29,8,FALSE)","v":{"$error":"#REF!"}},{"$f":"VLOOKUP(CZ29,BM28:BX29,6,FALSE)","v":{"$error":"#REF!"}},{"$f":"IF(AND(#REF!=DA29,#REF!=DB29,DC29>#REF!),#REF!,CZ29)","v":{"$error":"#REF!"}},{"$f":"VLOOKUP(DD29,BM28:BX29,9,FALSE)","v":{"$error":"#REF!"}},{"$f":"VLOOKUP(DD29,BM28:BX29,8,FALSE)","v":{"$error":"#REF!"}},{"$f":"VLOOKUP(DD29,BM28:BX29,6,FALSE)","v":{"$error":"#REF!"}},null,null,null,{"$f":"DD29","v":{"$error":"#REF!"}},{"$f":"VLOOKUP(DK29,BM28:BX29,2,FALSE)","v":{"$error":"#REF!"}},{"$f":"VLOOKUP(DK29,BM28:BX29,3,FALSE)","v":{"$error":"#REF!"}},{"$f":"VLOOKUP(DK29,BM28:BX29,4,FALSE)","v":{"$error":"#REF!"}},{"$f":"VLOOKUP(DK29,BM28:BX29,5,FALSE)","v":{"$error":"#REF!"}},{"$f":"VLOOKUP(DK29,BM28:BX29,6,FALSE)","v":{"$error":"#REF!"}},{"$f":"VLOOKUP(DK29,BM28:BX29,7,FALSE)","v":{"$error":"#REF!"}},{"$f":"VLOOKUP(DK29,BM28:BX29,8,FALSE)","v":{"$error":"#REF!"}},{"$f":"VLOOKUP(DK29,BM28:BX29,9,FALSE)","v":{"$error":"#REF!"}},null,null,{"$f":"IF(Q29<>\"\",IF(Q29>#REF!,K29,IF(#REF!>Q29,#REF!,\"Empate\")),\"\")","v":""},{"$f":"IF(Q29<>\"\",IF(Q29<#REF!,K29,IF(#REF!<Q29,#REF!,\"Empate\")),\"\")","v":""},null,null,null,null,"18º",null,null,{"$f":"IF(AR13=AR14,IF(AV12=\"Bye\",AV14,IF(AV14=\"Bye\",AV12)),(IF(ISBLANK(AS12),\"\",IF(AR12>AR14,AV14,AV12))))","v":false},2,null,null,18,null,"r"]
[null,null,null,null,null,null,null,null,{"$f":"IF(CJ15=CJ31,IF(CF15=\"Bye\",CF31,IF(CF31=\"Bye\",CF31)),(IF(ISBLANK(CG15),\"\",IF(CJ15>CJ31,CF31,CF15))))","v":false},null,null,null,null,null,null,{"$f":"IF(R27=R35,IF(V27=\"Bye\",V35,IF(V35=\"Bye\",V27)),(IF(ISBLANK(S27),\"\",IF(R27>R35,V27,V35))))","v":false},null,"Vencido",null,null,null,null,null,null,"Vencido",null,null,null,null,null,null,null,null,null,null,null,null,null,null,null,null,null,null,{"$f":"IF(ISBLANK(AS28),\"\",SUM(IF(AS30>AS28,1,0)+(IF(AT30>AT28,1,0)+(IF(AU30>AU28,1,0)))))","v":""},null,null,null,{"$f":"IF(AV29=FALSE,\"\",AV29)","v":""},"(V3)",null,{"$f":"IF(ISBLANK(AZ28),\"\",SUM(IF(AZ30>AZ28,1,0)+(IF(BA30>BA28,1,0)+(IF(BB30>BB28,1,0)))))","v":""},null,null,null,{"$f":"IF(BC29=FALSE,\"\",BC29)","v":""},null,null,24,null,"z",null,null,null,{"$f":"IF(ISBLANK(BI29),\"\",SUM(IF(BI30>BI29,1,0)+(IF(BJ30>BJ29,1,0)+(IF(BK30>BK29,1,0)))))","v":""},null,{"$f":"IF(BN29=FALSE,\"\",BN29)","v":""},null,null,null,{"$f":"IF(ISBLANK(BO28),\"\",SUM(IF(BO30>BO28,1,0)+(IF(BP30>BP28,1,0)+(IF(BQ30>BQ28,1,0)))))","v":""},null,null,null,null,null,null,null,null,null,null,null,null,null,{"$f":"IF(CD27=CD35,IF(BZ27=\"Bye\",BZ35,IF(BZ35=\"Bye\",BZ35)),(IF(ISBLANK(CA27),\"\",IF(CD27>CD35,BZ27,BZ35))))","v":false},null,null,null,null,null,"Se o Vencedor for P61 então disputará uma finalíssima P63",null,null,null,null,null,null,null,null,null,null,null,null,null,null,null,null,null,null,null,null,null,null,null,null,null,null,null,null,null,null,null,null,null,null,null,null,null,null,null,null,null,"19º",null,null,{"$f":"IF(AR17=AR18,IF(AV16=\"Bye\",AV18,IF(AV18=\"Bye\",AV16)),(IF(ISBLANK(AS16),\"\",IF(AR16>AR18,AV18,AV16))))","v":false},2,null,null,19,null,"s"]
[null,null,null,null,{"$f":"IF(ISBLANK(F31),\"\",SUM(IF(F31>F15,1,0)+(IF(G31>G15,1,0)+(IF(H31>H15,1,0)))))","v":""},null,null,null,{"$f":"IF(I30=FALSE,\"\",I30)","v":""},"(V15)",null,{"$f":"IF(ISBLANK(M31),\"\",SUM(IF(M31>M15,1,0)+(IF(N31>N15,1,0)+(IF(O31>O15,1,0)))))","v":""},null,null,null,{"$f":"IF(P30=FALSE,\"\",P30)","v":""},null,null,null,17,null,"P58",null,null,null,null,19,null,"P56",null,null,null,null,null,null,null,null,null,null,null,null,null,null,null,null,null,null,{"$f":"IF(AY32=AY34,IF(BC32=\"Bye\",BC34,IF(BC34=\"Bye\",BC32)),(IF(ISBLANK(AZ32),\"\",IF(AY32>AY34,BC32,BC34))))","v":false},null,null,null,null,null,null,{"$f":"IF(BL31=BL32,IF(BH31=\"Bye\",BH32,IF(BH32=\"Bye\",BH31)),(IF(ISBLANK(BI31),\"\",IF(BL31>BL32,BH32,BH31))))","v":false},null,null,25,null,"aa",null,null,null,{"$f":"IF(ISBLANK(BI31),\"\",SUM(IF(BI31>BI32,1,0)+(IF(BJ31>BJ32,1,0)+(IF(BK31>BK32,1,0)))))","v":""},"P13",{"$f":"IF(BL31=BL32,IF(BH31=\"Bye\",BH32,IF(BH32=\"Bye\",BH31)),(IF(ISBLANK(BI31),\"\",IF(BL31>BL32,BH31,BH32))))","v":false},null,null,null,null,"P29",null,null,null,null,null,null,"(V14)",null,null,null,null,null,{"$f":"IF(CF30=FALSE,\"\",CF30)","v":""},null,null,null,{"$f":"IF(ISBLANK(CG31),\"\",SUM(IF(CG31>CG15,1,0)+(IF(CH31>CH15,1,0)+(IF(CI31>CI15,1,0)))))","v":""},null,null,null,null,null,null,null,null,null,null,null,null,null,null,null,null,null,null,null,null,null,null,null,null,null,null,null,null,null,null,null,null,null,null,null,null,null,{"$f":"IF(#REF!<>\"\",IF(#REF!>I31,#REF!,IF(I31>#REF!,C31,\"Empate\")),\"\")","v":{"$error":"#REF!"}},{"$f":"IF(#REF!<>\"\",IF(#REF!<I31,#REF!,IF(I31<#REF!,C31,\"Empate\")),\"\")","v":{"$error":"#REF!"}},null,null,null,null,"20º",null,null,{"$f":"IF(AR21=AR22,IF(AV20=\"Bye\",AV22,IF(AV22=\"Bye\",AV20)),(IF(ISBLANK(AS20),\"\",IF(AR20>AR22,AV22,AV20))))","v":false},2,null,null,20,null,"t"]
[null,null,null,null,null,null,null,null,null,null,null,null,null,null,null,null,null,null,null,null,null,null,null,null,null,null,null,null,null,null,null,null,null,null,{"$f":"IF(AL33=AL37,IF(AP33=\"Bye\",AP37,IF(AP37=\"Bye\",AP33)),(IF(ISBLANK(AM33),\"\",IF(AL33>AL37,AP33,AP37))))","v":""},null,null,null,null,null,null,{"$f":"IF(AR33=AR34,IF(AV32=\"Bye\",AV34,IF(AV34=\"Bye\",AV32)),(IF(ISBLANK(AS32),\"\",IF(AR32>AR34,AV32,AV34))))","v":false},null,{"$f":"IF(ISBLANK(AS32),\"\",SUM(IF(AS32>AS34,1,0)+(IF(AT32>AT34,1,0)+(IF(AU32>AU34,1,0)))))","v":""},null,null,null,{"$f":"IF(AV31=FALSE,\"\",AV31)","v":""},null,null,{"$f":"IF(ISBLANK(AZ32),\"\",SUM(IF(AZ32>AZ34,1,0)+(IF(BA32>BA34,1,0)+(IF(BB32>BB34,1,0)))))","v":""},null,null,null,{"$f":"IF(BC31=FALSE,\"\",BC31)","v":""},null,null,26,null,"bb",null,null,null,{"$f":"IF(ISBLANK(BI31),\"\",SUM(IF(BI32>BI31,1,0)+(IF(BJ32>BJ31,1,0)+(IF(BK32>BK31,1,0)))))","v":""},null,{"$f":"IF(BN31=FALSE,\"\",BN31)","v":""},null,null,null,{"$f":"IF(ISBLANK(BO32),\"\",SUM(IF(BO32>BO34,1,0)+(IF(BP32>BP34,1,0)+(IF(BQ32>BQ34,1,0)))))","v":""},null,{"$f":"IF(BR32=BR34,IF(BN32=\"Bye\",BN34,IF(BN34=\"Bye\",BN32)),(IF(ISBLANK(BO32),\"\",IF(BR32>BR34,BN32,BN34))))","v":false},null,null,null,null,"P46",null,null,null,null,null,null,null,null,null,null,null,null,null,null,null,null,null,null,{"$f":"IF(AND(CP32=#REF!,#REF!>CQ32),#REF!,CO32)","v":{"$error":"#REF!"}},{"$f":"VLOOKUP(CR32,BM32:BX33,9,FALSE)","v":{"$error":"#REF!"}},{"$f":"VLOOKUP(CR32,BM32:BX33,8,FALSE)","v":{"$error":"#REF!"}},{"$f":"VLOOKUP(CR32,BM32:BX33,6,FALSE)","v":{"$error":"#REF!"}},{"$f":"IF(AND(CS32=#REF!,CT32=#REF!,#REF!>CU32),#REF!,CR32)","v":{"$error":"#REF!"}},{"$f":"VLOOKUP(CV32,BM32:BX33,9,FALSE)","v":{"$error":"#REF!"}},{"$f":"VLOOKUP(CV32,BM32:BX33,8,FALSE)","v":{"$error":"#REF!"}},{"$f":"VLOOKUP(CV32,BM32:BX33,6,FALSE)","v":{"$error":"#REF!"}},{"$f":"IF(AND(CW32=CW33,CX32=CX33,CY33>CY32),CV33,CV32)","v":{"$error":"#REF!"}},{"$f":"VLOOKUP(CZ32,BM32:BX33,9,FALSE)","v":{"$error":"#REF!"}},{"$f":"VLOOKUP(CZ32,BM32:BX33,8,FALSE)","v":{"$error":"#REF!"}},{"$f":"VLOOKUP(CZ32,BM32:BX33,6,FALSE)","v":{"$error":"#REF!"}},{"$f":"IF(AND(DA32=#REF!,DB32=#REF!,#REF!>DC32),#REF!,CZ32)","v":{"$error":"#REF!"}},{"$f":"VLOOKUP(DD32,BM32:BX33,9,FALSE)","v":{"$error":"#REF!"}},{"$f":"VLOOKUP(DD32,BM32:BX33,8,FALSE)","v":{"$error":"#REF!"}},{"$f":"VLOOKUP(DD32,BM32:BX33,6,FALSE)","v":{"$error":"#REF!"}},null,null,null,{"$f":"DD32","v":{"$error":"#REF!"}},{"$f":"VLOOKUP(DK32,BM32:BX33,2,FALSE)","v":{"$error":"#REF!"}},{"$f":"VLOOKUP(DK32,BM32:BX33,3,FALSE)","v":{"$error":"#REF!"}},{"$f":"VLOOKUP(DK32,BM32:BX33,4,FALSE)","v":{"$error":"#REF!"}},{"$f":"VLOOKUP(DK32,BM32:BX33,5,FALSE)","v":{"$error":"#REF!"}},{"$f":"VLOOKUP(DK32,BM32:BX33,6,FALSE)","v":{"$error":"#REF!"}},{"$f":"VLOOKUP(DK32,BM32:BX33,7,FALSE)","v":{"$error":"#REF!"}},{"$f":"VLOOKUP(DK32,BM32:BX33,8,FALSE)","v":{"$error":"#REF!"}},{"$f":"VLOOKUP(DK32,BM32:BX33,9,FALSE)","v":{"$error":"#REF!"}},null,null,{"$f":"IF(I32<>\"\",IF(I32>#REF!,C32,IF(#REF!>I32,#REF!,\"Empate\")),\"\")","v":""},{"$f":"IF(I32<>\"\",IF(I32<#REF!,C32,IF(#REF!<I32,#REF!,\"Empate\")),\"\")","v":""},null,null,null,null,"21º",null,null,{"$f":"IF(AR25=AR26,IF(AV24=\"Bye\",AV26,IF(AV26=\"Bye\",AV24)),(IF(ISBLANK(AS24),\"\",IF(AR24>AR26,AV26,AV26))))","v":false},2,null,null,21,null,"u"]
[null,null,null,null,null,null,null,null,null,null,null,null,null,null,null,null,null,null,null,null,null,null,null,null,null,null,null,null,null,null,{"$f":"IF(ISBLANK(AF33),\"\",SUM(IF(AF33>AF37,1,0)+(IF(AG33>AG37,1,0)+(IF(AH33>AH37,1,0)))))","v":""},null,null,null,{"$f":"IF(AI32=FALSE,\"\",AI32)","v":""},null,null,{"$f":"IF(ISBLANK(AM33),\"\",SUM(IF(AM33>AM37,1,0)+(IF(AN33>AN37,1,0)+(IF(AO33>AO37,1,0)))))","v":3},11,1,11,{"$f":"IF(AP32=FALSE,\"\",AP32)","v":""},null,null,null,"P40",null,{"$f":"IF(BR12=BR14,IF(BN12=\"Bye\",BN14,IF(BN14=\"Bye\",BN12)),(IF(ISBLANK(BO12),\"\",IF(BR12>BR14,BN14,BN12))))","v":false},null,null,null,null,"P31",null,{"$f":"IF(BL33=BL34,IF(BH33=\"Bye\",BH34,IF(BH34=\"Bye\",BH33)),(IF(ISBLANK(BI33),\"\",IF(BL33>BL34,BH34,BH33))))","v":false},null,null,27,null,"cc",null,null,null,{"$f":"IF(ISBLANK(BI33),\"\",SUM(IF(BI33>BI34,1,0)+(IF(BJ33>BJ34,1,0)+(IF(BK33>BK34,1,0)))))","v":""},"P14",{"$f":"IF(BL33=BL34,IF(BH33=\"Bye\",BH34,IF(BH34=\"Bye\",BH33)),(IF(ISBLANK(BI33),\"\",IF(BL33>BL34,BH33,BH34))))","v":false},null,"(V7)",null,null,null,{"$f":"IF(BT32=FALSE,\"\",BT32)","v":""},null,null,null,{"$f":"IF(ISBLANK(BU33),\"\",SUM(IF(BU33>BU37,1,0)+(IF(BV33>BV37,1,0)+(IF(BW33>BW37,1,0)))))","v":""},null,null,null,null,null,null,null,null,null,null,null,null,null,null,null,null,null,null,null,{"$f":"IF(AND(#REF!=CP33,CQ33>#REF!),#REF!,CO33)","v":{"$error":"#REF!"}},{"$f":"VLOOKUP(CR33,BM32:BX33,9,FALSE)","v":{"$error":"#REF!"}},{"$f":"VLOOKUP(CR33,BM32:BX33,8,FALSE)","v":{"$error":"#REF!"}},{"$f":"VLOOKUP(CR33,BM32:BX33,6,FALSE)","v":{"$error":"#REF!"}},{"$f":"IF(AND(CS33=#REF!,CT33=#REF!,#REF!>CU33),#REF!,CR33)","v":{"$error":"#REF!"}},{"$f":"VLOOKUP(CV33,BM32:BX33,9,FALSE)","v":{"$error":"#REF!"}},{"$f":"VLOOKUP(CV33,BM32:BX33,8,FALSE)","v":{"$error":"#REF!"}},{"$f":"VLOOKUP(CV33,BM32:BX33,6,FALSE)","v":{"$error":"#REF!"}},{"$f":"IF(AND(CW32=CW33,CX32=CX33,#REF!>CY32),CV32,CV33)","v":{"$error":"#REF!"}},{"$f":"VLOOKUP(CZ33,BM32:BX33,9,FALSE)","v":{"$error":"#REF!"}},{"$f":"VLOOKUP(CZ33,BM32:BX33,8,FALSE)","v":{"$error":"#REF!"}},{"$f":"VLOOKUP(CZ33,BM32:BX33,6,FALSE)","v":{"$error":"#REF!"}},{"$f":"IF(AND(#REF!=DA33,#REF!=DB33,DC33>#REF!),#REF!,CZ33)","v":{"$error":"#REF!"}},{"$f":"VLOOKUP(DD33,BM32:BX33,9,FALSE)","v":{"$error":"#REF!"}},{"$f":"VLOOKUP(DD33,BM32:BX33,8,FALSE)","v":{"$error":"#REF!"}},{"$f":"VLOOKUP(DD33,BM32:BX33,6,FALSE)","v":{"$error":"#REF!"}},null,null,null,{"$f":"DD33","v":{"$error":"#REF!"}},{"$f":"VLOOKUP(DK33,BM32:BX33,2,FALSE)","v":{"$error":"#REF!"}},{"$f":"VLOOKUP(DK33,BM32:BX33,3,FALSE)","v":{"$error":"#REF!"}},{"$f":"VLOOKUP(DK33,BM32:BX33,4,FALSE)","v":{"$error":"#REF!"}},{"$f":"VLOOKUP(DK33,BM32:BX33,5,FALSE)","v":{"$error":"#REF!"}},{"$f":"VLOOKUP(DK33,BM32:BX33,6,FALSE)","v":{"$error":"#REF!"}},{"$f":"VLOOKUP(DK33,BM32:BX33,7,FALSE)","v":{"$error":"#REF!"}},{"$f":"VLOOKUP(DK33,BM32:BX33,8,FALSE)","v":{"$error":"#REF!"}},{"$f":"VLOOKUP(DK33,BM32:BX33,9,FALSE)","v":{"$error":"#REF!"}},null,null,{"$f":"IF(Q33<>\"\",IF(Q33>#REF!,K33,IF(#REF!>Q33,#REF!,\"Empate\")),\"\")","v":""},{"$f":"IF(Q33<>\"\",IF(Q33<#REF!,K33,IF(#REF!<Q33,#REF!,\"Empate\")),\"\")","v":""},null,null,null,null,"22º",null,null,{"$f":"IF(AR29=AR30,IF(AV28=\"Bye\",AV30,IF(AV30=\"Bye\",AV28)),(IF(ISBLANK(AS28),\"\",IF(AR28>AR30,AV30,AV28))))","v":false},2,null,null,22,null,"v"]
[null,null,null,null,null,null,null,null,null,null,null,null,null,null,null,null,null,null,null,null,null,{"$f":"IF(CD11=CD19,IF(BZ11=\"Bye\",BZ19,IF(BZ19=\"Bye\",BZ19)),(IF(ISBLANK(CA11),\"\",IF(CD11>CD19,BZ19,BZ11))))","v":false},null,null,null,null,null,null,{"$f":"IF(AE33=AE37,IF(AI33=\"Bye\",AI37,IF(AI37=\"Bye\",AI33)),(IF(ISBLANK(AF33),\"\",IF(AE33>AE37,AI33,AI37))))","v":false},null,null,null,null,null,null,null,null,null,null,null,null,null,null,{"$f":"IF(ISBLANK(AS32),\"\",SUM(IF(AS34>AS32,1,0)+(IF(AT34>AT32,1,0)+(IF(AU34>AU32,1,0)))))","v":""},null,null,null,{"$f":"IF(AV33=FALSE,\"\",AV33)","v":""},"(V2)",null,{"$f":"IF(ISBLANK(AZ32),\"\",SUM(IF(AZ34>AZ32,1,0)+(IF(BA34>BA32,1,0)+(IF(BB34>BB32,1,0)))))","v":""},null,null,null,{"$f":"IF(BC33=FALSE,\"\",BC33)","v":""},null,null,28,null,"dd",null,null,null,{"$f":"IF(ISBLANK(BI33),\"\",SUM(IF(BI34>BI33,1,0)+(IF(BJ34>BJ33,1,0)+(IF(BK34>BK33,1,0)))))","v":""},null,{"$f":"IF(BN33=FALSE,\"\",BN33)","v":""},null,null,null,{"$f":"IF(ISBLANK(BO32),\"\",SUM(IF(BO34>BO32,1,0)+(IF(BP34>BP32,1,0)+(IF(BQ34>BQ32,1,0)))))","v":""},null,null,null,null,null,null,null,{"$f":"IF(BX33=BX37,IF(BT33=\"Bye\",BT37,IF(BT37=\"Bye\",BT37)),(IF(ISBLANK(BU33),\"\",IF(BX33>BX37,BT33,BT37))))","v":false},null,null,null,null,null,null,null,null,null,null,null,null,null,null,null,null,null,null,null,null,null,null,null,null,null,null,null,null,null,null,null,null,null,null,null,null,null,null,null,null,null,null,null,null,null,null,null,null,null,null,null,null,null,"23º",null,null,{"$f":"IF(AR33=AR34,IF(AV32=\"Bye\",AV34,IF(AV34=\"Bye\",AV32)),(IF(ISBLANK(AS32),\"\",IF(AR32>AR34,AV34,AV33))))","v":false},2,null,null,23,null,"x"]
[null,null,null,null,null,null,null,null,null,null,null,null,null,null,null,null,null,{"$f":"IF(ISBLANK(S35),\"\",SUM(IF(S35>S27,1,0)+(IF(T35>T27,1,0)+(IF(U35>U27,1,0)))))","v":""},null,null,null,{"$f":"IF(V34=FALSE,\"\",V34)","v":""},"(V13)",null,{"$f":"IF(ISBLANK(Z35),\"\",SUM(IF(Z35>Z27,1,0)+(IF(AA35>AA27,1,0)+(IF(AB35>AB27,1,0)))))","v":""},null,null,null,{"$f":"IF(AC34=FALSE,\"\",AC34)","v":""},null,"P52",null,null,null,null,null,null,"P48",null,null,null,null,null,null,null,null,null,{"$f":"IF(AY36=AY38,IF(BC36=\"Bye\",BC38,IF(BC38=\"Bye\",BC36)),(IF(ISBLANK(AZ36),\"\",IF(AY36>AY38,BC36,BC38))))","v":false},null,null,null,null,null,null,{"$f":"IF(BL35=BL36,IF(BH35=\"Bye\",BH36,IF(BH36=\"Bye\",BH35)),(IF(ISBLANK(BI35),\"\",IF(BL35>BL36,BH36,BH35))))","v":false},null,null,29,null,"ee",null,null,null,{"$f":"IF(ISBLANK(BI35),\"\",SUM(IF(BI35>BI36,1,0)+(IF(BJ35>BJ36,1,0)+(IF(BK35>BK36,1,0)))))","v":""},"P15",{"$f":"IF(BL35=BL36,IF(BH35=\"Bye\",BH36,IF(BH36=\"Bye\",BH35)),(IF(ISBLANK(BI35),\"\",IF(BL35>BL36,BH35,BH36))))","v":false},null,null,null,null,"P30","(V12)",null,null,null,null,null,{"$f":"IF(BZ34=FALSE,\"\",BZ34)","v":""},null,null,null,{"$f":"IF(ISBLANK(CA35),\"\",SUM(IF(CA35>CA27,1,0)+(IF(CB35>CB27,1,0)+(IF(CC35>CC27,1,0)))))","v":""},null,null,null,null,null,null,null,null,null,null,null,null,null,null,null,null,null,null,null,null,null,null,null,null,null,null,null,null,null,null,null,null,null,null,null,null,null,null,null,null,null,null,null,{"$f":"IF(#REF!<>\"\",IF(#REF!>I35,#REF!,IF(I35>#REF!,C35,\"Empate\")),\"\")","v":{"$error":"#REF!"}},{"$f":"IF(#REF!<>\"\",IF(#REF!<I35,#REF!,IF(I35<#REF!,C35,\"Empate\")),\"\")","v":{"$error":"#REF!"}},null,null,null,null,"24º",null,null,{"$f":"IF(AR37=AR38,IF(AV36=\"Bye\",AV38,IF(AV38=\"Bye\",AV36)),(IF(ISBLANK(AS36),\"\",IF(AR36>AR38,AV38,AV36))))","v":false},2,null,null,24,null,"z"]
[null,null,null,null,null,null,null,null,null,null,null,null,null,null,null,null,null,null,null,null,null,null,null,null,null,null,null,null,null,null,null,null,null,null,{"$f":"IF(BX25=BX29,IF(BT25=\"Bye\",BT29,IF(BT29=\"Bye\",BT29)),(IF(ISBLANK(BU25),\"\",IF(BX25>BX29,BT29,BT25))))","v":false},null,null,null,null,null,null,{"$f":"IF(AR37=AR38,IF(AV36=\"Bye\",AV38,IF(AV38=\"Bye\",AV36)),(IF(ISBLANK(AS36),\"\",IF(AR36>AR38,AV36,AV38))))","v":false},null,{"$f":"IF(ISBLANK(AS36),\"\",SUM(IF(AS36>AS38,1,0)+(IF(AT36>AT38,1,0)+(IF(AU36>AU38,1,0)))))","v":""},null,null,null,{"$f":"IF(AV35=FALSE,\"\",AV35)","v":""},null,null,{"$f":"IF(ISBLANK(AZ36),\"\",SUM(IF(AZ36>AZ38,1,0)+(IF(BA36>BA38,1,0)+(IF(BB36>BB38,1,0)))))","v":""},null,null,null,{"$f":"IF(BC35=FALSE,\"\",BC35)","v":""},null,null,30,null,"ff",null,null,null,{"$f":"IF(ISBLANK(BI35),\"\",SUM(IF(BI36>BI35,1,0)+(IF(BJ36>BJ35,1,0)+(IF(BK36>BK35,1,0)))))","v":""},null,{"$f":"IF(BN35=FALSE,\"\",BN35)","v":""},null,null,null,{"$f":"IF(ISBLANK(BO36),\"\",SUM(IF(BO36>BO38,1,0)+(IF(BP36>BP38,1,0)+(IF(BQ36>BQ38,1,0)))))","v":""},null,{"$f":"IF(BR36=BR38,IF(BN36=\"Bye\",BN38,IF(BN38=\"Bye\",BN36)),(IF(ISBLANK(BO36),\"\",IF(BR36>BR38,BN36,BN38))))","v":false},null,null,null,null,null,null,null,null,null,null,null,null,null,null,null,null,null,null,null,null,null,null,null,{"$f":"IF(AND(CP36=#REF!,#REF!>CQ36),#REF!,CO36)","v":{"$error":"#REF!"}},{"$f":"VLOOKUP(CR36,BM36:BX37,9,FALSE)","v":{"$error":"#REF!"}},{"$f":"VLOOKUP(CR36,BM36:BX37,8,FALSE)","v":{"$error":"#REF!"}},{"$f":"VLOOKUP(CR36,BM36:BX37,6,FALSE)","v":{"$error":"#REF!"}},{"$f":"IF(AND(CS36=#REF!,CT36=#REF!,#REF!>CU36),#REF!,CR36)","v":{"$error":"#REF!"}},{"$f":"VLOOKUP(CV36,BM36:BX37,9,FALSE)","v":{"$error":"#REF!"}},{"$f":"VLOOKUP(CV36,BM36:BX37,8,FALSE)","v":{"$error":"#REF!"}},{"$f":"VLOOKUP(CV36,BM36:BX37,6,FALSE)","v":{"$error":"#REF!"}},{"$f":"IF(AND(CW36=CW37,CX36=CX37,CY37>CY36),CV37,CV36)","v":{"$error":"#REF!"}},{"$f":"VLOOKUP(CZ36,BM36:BX37,9,FALSE)","v":{"$error":"#REF!"}},{"$f":"VLOOKUP(CZ36,BM36:BX37,8,FALSE)","v":{"$error":"#REF!"}},{"$f":"VLOOKUP(CZ36,BM36:BX37,6,FALSE)","v":{"$error":"#REF!"}},{"$f":"IF(AND(DA36=#REF!,DB36=#REF!,#REF!>DC36),#REF!,CZ36)","v":{"$error":"#REF!"}},{"$f":"VLOOKUP(DD36,BM36:BX37,9,FALSE)","v":{"$error":"#REF!"}},{"$f":"VLOOKUP(DD36,BM36:BX37,8,FALSE)","v":{"$error":"#REF!"}},{"$f":"VLOOKUP(DD36,BM36:BX37,6,FALSE)","v":{"$error":"#REF!"}},null,null,null,{"$f":"DD36","v":{"$error":"#REF!"}},{"$f":"VLOOKUP(DK36,BM36:BX37,2,FALSE)","v":{"$error":"#REF!"}},{"$f":"VLOOKUP(DK36,BM36:BX37,3,FALSE)","v":{"$error":"#REF!"}},{"$f":"VLOOKUP(DK36,BM36:BX37,4,FALSE)","v":{"$error":"#REF!"}},{"$f":"VLOOKUP(DK36,BM36:BX37,5,FALSE)","v":{"$error":"#REF!"}},{"$f":"VLOOKUP(DK36,BM36:BX37,6,FALSE)","v":{"$error":"#REF!"}},{"$f":"VLOOKUP(DK36,BM36:BX37,7,FALSE)","v":{"$error":"#REF!"}},{"$f":"VLOOKUP(DK36,BM36:BX37,8,FALSE)","v":{"$error":"#REF!"}},{"$f":"VLOOKUP(DK36,BM36:BX37,9,FALSE)","v":{"$error":"#REF!"}},null,null,{"$f":"IF(I36<>\"\",IF(I36>#REF!,C36,IF(#REF!>I36,#REF!,\"Empate\")),\"\")","v":""},{"$f":"IF(I36<>\"\",IF(I36<#REF!,C36,IF(#REF!<I36,#REF!,\"Empate\")),\"\")","v":""},null,null,null,null,"25º",null,null,{"$f":"IF(AY8=AY10,IF(BC8=\"Bye\",BC10,IF(BC10=\"Bye\",BC8)),(IF(ISBLANK(AZ8),\"\",IF(AY8>AY10,BC10,BC8))))","v":false},1,null,null,25,null,"aa"]
[null,null,null,null,null,null,null,null,null,null,null,null,null,null,null,null,null,null,null,null,null,null,null,null,null,null,null,null,null,null,{"$f":"IF(ISBLANK(AF33),\"\",SUM(IF(AF37>AF33,1,0)+(IF(AG37>AG33,1,0)+(IF(AH37>AH33,1,0)))))","v":""},null,null,null,{"$f":"IF(AI36=FALSE,\"\",AI36)","v":""},"(V11)",null,{"$f":"IF(ISBLANK(AM37),\"\",SUM(IF(AM37>AM33,1,0)+(IF(AN37>AN33,1,0)+(IF(AO37>AO33,1,0)))))","v":""},null,null,null,{"$f":"IF(AP36=FALSE,\"\",AP36)","v":""},null,null,null,"P41",null,{"$f":"IF(BR8=BR10,IF(BN8=\"Bye\",BN10,IF(BN10=\"Bye\",BN8)),(IF(ISBLANK(BO8),\"\",IF(BR8>BR10,BN10,BN8))))","v":false},null,null,null,null,"P32",null,{"$f":"IF(BL37=BL38,IF(BH37=\"Bye\",BH38,IF(BH38=\"Bye\",BH37)),(IF(ISBLANK(BI37),\"\",IF(BL37>BL38,BH38,BH37))))","v":false},null,null,31,null,"gg",null,null,null,{"$f":"IF(ISBLANK(BI37),\"\",SUM(IF(BI37>BI38,1,0)+(IF(BJ37>BJ38,1,0)+(IF(BK37>BK38,1,0)))))","v":""},"P16",{"$f":"IF(BL37=BL38,IF(BH37=\"Bye\",BH38,IF(BH38=\"Bye\",BH37)),(IF(ISBLANK(BI37),\"\",IF(BL37>BL38,BH37,BH38))))","v":false},null,"(V8)",null,null,null,{"$f":"IF(BT36=FALSE,\"\",BT36)","v":""},null,null,null,{"$f":"IF(ISBLANK(BU37),\"\",SUM(IF(BU37>BU33,1,0)+(IF(BV37>BV33,1,0)+(IF(BW37>BW33,1,0)))))","v":""},null,null,null,null,null,null,null,null,null,null,null,null,null,null,null,null,null,null,null,{"$f":"IF(AND(#REF!=CP37,CQ37>#REF!),#REF!,CO37)","v":{"$error":"#REF!"}},{"$f":"VLOOKUP(CR37,BM36:BX37,9,FALSE)","v":{"$error":"#REF!"}},{"$f":"VLOOKUP(CR37,BM36:BX37,8,FALSE)","v":{"$error":"#REF!"}},{"$f":"VLOOKUP(CR37,BM36:BX37,6,FALSE)","v":{"$error":"#REF!"}},{"$f":"IF(AND(CS37=#REF!,CT37=#REF!,#REF!>CU37),#REF!,CR37)","v":{"$error":"#REF!"}},{"$f":"VLOOKUP(CV37,BM36:BX37,9,FALSE)","v":{"$error":"#REF!"}},{"$f":"VLOOKUP(CV37,BM36:BX37,8,FALSE)","v":{"$error":"#REF!"}},{"$f":"VLOOKUP(CV37,BM36:BX37,6,FALSE)","v":{"$error":"#REF!"}},{"$f":"IF(AND(CW36=CW37,CX36=CX37,#REF!>CY36),CV36,CV37)","v":{"$error":"#REF!"}},{"$f":"VLOOKUP(CZ37,BM36:BX37,9,FALSE)","v":{"$error":"#REF!"}},{"$f":"VLOOKUP(CZ37,BM36:BX37,8,FALSE)","v":{"$error":"#REF!"}},{"$f":"VLOOKUP(CZ37,BM36:BX37,6,FALSE)","v":{"$error":"#REF!"}},{"$f":"IF(AND(#REF!=DA37,#REF!=DB37,DC37>#REF!),#REF!,CZ37)","v":{"$error":"#REF!"}},{"$f":"VLOOKUP(DD37,BM36:BX37,9,FALSE)","v":{"$error":"#REF!"}},{"$f":"VLOOKUP(DD37,BM36:BX37,8,FALSE)","v":{"$error":"#REF!"}},{"$f":"VLOOKUP(DD37,BM36:BX37,6,FALSE)","v":{"$error":"#REF!"}},null,null,null,{"$f":"DD37","v":{"$error":"#REF!"}},{"$f":"VLOOKUP(DK37,BM36:BX37,2,FALSE)","v":{"$error":"#REF!"}},{"$f":"VLOOKUP(DK37,BM36:BX37,3,FALSE)","v":{"$error":"#REF!"}},{"$f":"VLOOKUP(DK37,BM36:BX37,4,FALSE)","v":{"$error":"#REF!"}},{"$f":"VLOOKUP(DK37,BM36:BX37,5,FALSE)","v":{"$error":"#REF!"}},{"$f":"VLOOKUP(DK37,BM36:BX37,6,FALSE)","v":{"$error":"#REF!"}},{"$f":"VLOOKUP(DK37,BM36:BX37,7,FALSE)","v":{"$error":"#REF!"}},{"$f":"VLOOKUP(DK37,BM36:BX37,8,FALSE)","v":{"$error":"#REF!"}},{"$f":"VLOOKUP(DK37,BM36:BX37,9,FALSE)","v":{"$error":"#REF!"}},null,null,{"$f":"IF(Q37<>\"\",IF(Q37>#REF!,K37,IF(#REF!>Q37,#REF!,\"Empate\")),\"\")","v":""},{"$f":"IF(Q37<>\"\",IF(Q37<#REF!,K37,IF(#REF!<Q37,#REF!,\"Empate\")),\"\")","v":""},null,null,null,null,"26º",null,null,{"$f":"IF(AY12=AY14,IF(BC12=\"Bye\",BC14,IF(BC14=\"Bye\",BC12)),(IF(ISBLANK(AZ12),\"\",IF(AY12>AY14,BC14,BC12))))","v":false},1,null,null,26,null,"bb"]
[null,null,null,null,null,null,null,null,null,null,null,null,null,null,null,null,null,null,null,null,null,null,null,null,null,null,null,null,null,null,null,null,null,null,null,null,null,null,null,null,null,null,null,{"$f":"IF(ISBLANK(AS36),\"\",SUM(IF(AS38>AS36,1,0)+(IF(AT38>AT36,1,0)+(IF(AU38>AU36,1,0)))))","v":""},null,null,null,{"$f":"IF(AV37=FALSE,\"\",AV37)","v":""},"(V1)",null,{"$f":"IF(ISBLANK(AZ36),\"\",SUM(IF(AZ38>AZ36,1,0)+(IF(BA38>BA36,1,0)+(IF(BB38>BB36,1,0)))))","v":""},null,null,null,{"$f":"IF(BC37=FALSE,\"\",BC37)","v":""},null,null,32,null,"hh",null,null,null,{"$f":"IF(ISBLANK(BI37),\"\",SUM(IF(BI38>BI37,1,0)+(IF(BJ38>BJ37,1,0)+(IF(BK38>BK37,1,0)))))","v":""},null,{"$f":"IF(BN37=FALSE,\"\",BN37)","v":""},null,null,null,{"$f":"IF(ISBLANK(BO36),\"\",SUM(IF(BO38>BO36,1,0)+(IF(BP38>BP36,1,0)+(IF(BQ38>BQ36,1,0)))))","v":""},null,null,null,null,null,null,null,null,null,null,null,null,null,null,null,null,null,null,null,null,null,null,null,null,null,null,null,null,null,null,null,null,null,null,null,null,null,null,null,null,null,null,null,null,null,null,null,null,null,null,null,null,null,null,null,null,null,null,null,null,null,"27º",null,null,{"$f":"IF(AY16=AY18,IF(BC16=\"Bye\",BC18,IF(BC18=\"Bye\",BC16)),(IF(ISBLANK(AZ16),\"\",IF(AY16>AY18,BC18,BC16))))","v":false},1,null,null,27,null,"cc"]
[null,null,null,null,null,null,null,null,null,null,null,null,null,null,null,null,null,null,null,null,null,null,null,null,null,null,null,null,null,null,null,null,null,null,null,null,null,null,null,null,null,null,null,null,null,null,null,null,null,null,null,null,null,null,null,null,null,null,null,null,null,null,null,null,null,null,null,null,null,null,null,null,null,null,null,null,null,null,null,null,null,null,null,null,null,null,null,null,null,null,null,null,null,null,null,null,null,null,null,null,null,null,null,null,null,null,null,null,null,null,null,null,null,null,null,null,null,null,null,null,null,null,null,null,null,null,null,null,null,null,null,"28º",null,null,{"$f":"IF(AY20=AY22,IF(BC20=\"Bye\",BC22,IF(BC22=\"Bye\",BC20)),(IF(ISBLANK(AZ20),\"\",IF(AY20>AY22,BC22,BC20))))","v":false},1,null,null,28,null,"dd"]
[null,null,null,null,null,null,null,null,null,null,null,null,null,null,null,null,null,null,null,null,null,null,null,null,null,null,null,null,null,null,null,null,null,null,null,null,null,null,null,null,null,null,null,null,null,null,null,null,null,null,null,null,null,null,null,null,null,null,null,null,null,null,null,null,null,null,null,null,null,null,null,null,null,null,null,null,null,null,null,null,null,null,null,null,null,null,null,null,null,null,null,null,null,null,null,null,null,null,null,null,null,null,null,null,null,null,null,null,null,null,null,null,null,null,null,null,null,null,null,null,null,null,null,null,null,null,null,null,null,null,null,"29º",null,null,{"$f":"IF(AY24=AY26,IF(BC24=\"Bye\",BC26,IF(BC26=\"Bye\",BC24)),(IF(ISBLANK(AZ24),\"\",IF(AY24>AY26,BC26,BC24))))","v":false},1,null,null,29,null,"ee"]
[null,null,null,null,null,null,null,null,null,null,null,null,null,null,null,null,null,null,null,null,null,null,null,null,null,null,null,null,null,null,null,null,null,null,null,null,null,null,null,null,null,null,null,null,null,null,null,null,null,null,null,null,null,null,null,null,null,null,null,null,null,null,null,null,null,null,null,null,null,null,null,null,null,null,null,null,null,null,null,null,null,null,null,null,null,null,null,null,null,null,null,null,null,null,null,null,null,null,null,null,null,null,null,null,null,null,null,null,null,null,null,null,null,null,null,null,null,null,null,null,null,null,null,null,null,null,null,null,null,null,null,"30º",null,null,{"$f":"IF(AY28=AY30,IF(BC28=\"Bye\",BC30,IF(BC30=\"Bye\",BC28)),(IF(ISBLANK(AZ28),\"\",IF(AY28>AY30,BC30,BC28))))","v":false},1,null,null,30,null,"ff"]
[null,null,null,null,null,null,null,null,null,null,null,null,null,null,null,null,null,null,null,null,null,null,null,null,null,null,null,null,null,null,null,null,null,null,null,null,null,null,null,null,null,null,null,null,null,null,null,null,null,null,null,null,null,null,null,null,null,null,null,null,null,null,null,null,null,null,null,null,null,null,null,null,null,null,null,null,null,null,null,null,null,null,null,null,null,null,null,null,null,null,null,null,null,null,null,null,null,null,null,null,null,null,null,null,null,null,null,null,null,null,null,null,null,null,null,null,null,null,null,null,null,null,null,null,null,null,null,null,null,null,null,"31º",null,null,{"$f":"IF(AY32=AY34,IF(BC32=\"Bye\",BC34,IF(BC34=\"Bye\",BC32)),(IF(ISBLANK(AZ32),\"\",IF(AY32>AY34,BC34,BC32))))","v":false},1,null,null,31,null,"gg"]
[null,null,null,null,null,null,null,null,null,null,null,null,null,null,null,null,null,null,null,null,null,null,null,null,null,null,null,null,null,null,null,null,null,null,null,null,null,null,null,null,null,null,null,null,null,null,null,null,null,null,null,null,null,null,null,null,null,null,null,null,null,null,null,null,null,null,null,null,null,null,null,null,null,null,null,null,null,null,null,null,null,null,null,null,null,null,null,null,null,null,null,null,null,null,null,null,null,null,null,null,null,null,null,null,null,null,null,null,null,null,null,null,null,null,null,null,null,null,null,null,null,null,null,null,null,null,null,null,null,null,null,"32º",null,null,{"$f":"IF(AY36=AY38,IF(BC36=\"Bye\",BC38,IF(BC38=\"Bye\",BC36)),(IF(ISBLANK(AZ36),\"\",IF(AY36>AY38,BC38,BC36))))","v":false},1,null,null,32,null,"hh"]
[]
[]
[]
[]
[]
[]
[]
[]
[]
[]
[]
[]
[]
[]
[]
[]
[]
[]
[]
[]
[]
[]
[]
[]
[]
[]
[]
[]
[]
[]
[]
[]
[]
[]
[]
[]
[]
[]
[]
[]
[]
[]
[]
[]
[null,null,null,null,null,null,null,null,null,null,null,null,null,null,null,null,null,null,null,null,null,null,null,null,null,null,null,null,null,null,null,null,null,null,null,null,null,null,null,null,null,null,null,null,null,null,null,null,null,null,null,null,null,null,null,null,null,null,null,null,null,null,null,null,null,null,null,null,null,null,null,null,null,null,null,null,null,null,null,null,null,null,null,null,null,null,null,null,null,null,null,null,null,null,null,null,null,null,null,null,null,null,null,null,null,null,null,null,null,null,null,null,null,null,null,null,null,null,null,null,null,null,null,null,null,null,null,null,null,null,null,null,null,null,{"$f":"IF(DZ2>0,#REF!,\"\")","v":""}]

{"sheet":"quadro322derrota","index":20,"n_rows":88,"n_cols":173,"rows_kept":88,"cut":false,"hidden":true,"merged":[[2,66,2,70],[3,0,3,1],[3,2,3,7],[3,15,3,21],[4,9,4,11],[5,9,5,11],[5,12,7,12],[5,13,7,13],[6,57,6,58],[6,64,7,64],[7,9,7,11],[7,57,7,58],[1,8,1,17],[2,8,2,17],[8,9,8,11],[8,57,8,58],[8,64,9,64],[9,9,9,11],[9,12,11,12],[9,13,11,13],[9,57,9,58],[11,9,11,11],[11,24,11,28],[11,131,11,133],[11,135,11,136],[12,57,12,58],[12,64,13,64],[12,131,12,133],[12,135,12,136],[9,131,9,136],[9,138,9,148],[10,30,10,34],[10,37,10,41],[10,57,10,58],[10,64,11,64],[10,71,10,75],[10,131,10,133],[10,135,10,136],[11,57,11,58],[13,17,15,17],[13,24,15,24],[13,57,13,58],[13,131,13,133],[13,135,13,136],[14,21,14,22],[14,28,14,29],[14,57,14,58],[14,64,15,64],[14,77,14,81],[16,135,16,136],[17,57,17,58],[17,131,17,133],[17,135,17,136],[14,89,14,93],[14,131,14,133],[14,135,14,136],[14,165,15,165],[15,57,15,58],[15,131,15,133],[15,135,15,136],[18,30,18,34],[18,37,18,41],[18,57,18,58],[18,64,19,64],[18,71,18,75],[18,131,18,133],[16,57,16,58],[16,64,17,64],[16,131,16,133],[18,135,18,136],[19,57,19,58],[19,89,19,93],[19,131,19,133],[19,135,19,136],[20,57,20,58],[20,64,21,64],[20,131,20,133],[20,135,20,136],[21,135,21,136],[22,83,22,87],[22,131,22,133],[22,135,22,136],[23,57,23,58],[23,131,23,133],[23,135,23,136],[21,4,23,4],[21,6,23,6],[21,11,23,11],[21,13,23,13],[21,57,21,58],[21,131,21,133],[22,8,22,9],[22,15,22,16],[22,57,22,58],[22,64,23,64],[24,57,24,58],[24,64,25,64],[24,89,24,93],[24,131,24,133],[24,135,24,136],[25,57,25,58],[25,89,25,93],[25,131,25,133],[25,135,25,136],[26,135,26,136],[27,24,27,28],[27,57,27,58],[27,131,27,133],[27,135,27,136],[28,57,28,58],[28,64,29,64],[28,131,28,133],[28,135,28,136],[26,30,26,34],[26,37,26,41],[26,57,26,58],[26,64,27,64],[26,71,26,75],[26,131,26,133],[29,17,31,17],[29,24,31,24],[29,57,29,58],[29,89,29,92],[29,131,29,133],[29,135,29,136],[30,21,30,22],[30,28,30,29],[30,57,30,58],[30,64,31,64],[32,135,32,136],[33,57,33,58],[33,131,33,133],[33,135,33,136],[30,77,30,81],[30,131,30,133],[30,135,30,136],[31,57,31,58],[31,131,31,133],[31,135,31,136],[34,30,34,34],[34,37,34,41],[34,57,34,58],[34,64,35,64],[34,71,34,75],[34,131,34,133],[32,57,32,58],[32,64,33,64],[32,131,32,133],[34,135,34,136],[35,57,35,58],[35,131,35,133],[35,135,35,136],[36,57,36,58],[36,64,37,64],[36,131,36,133],[36,135,36,136],[37,57,37,58],[37,131,37,133],[41,131,41,133],[41,135,41,136],[42,131,42,133],[42,135,42,136],[87,131,88,133],[87,134,92,139],[90,131,91,133],[37,135,37,136],[38,131,38,133],[38,135,38,136],[39,131,39,133],[39,135,39,136],[40,131,40,133],[40,135,40,136]]}
[null,null,null,null,null,null,null,null,"Direcção Regional de Educação do Algarve"]
[null,null,null,null,null,null,null,null,{"$f":"\"Ano Lectivo \"&Apoio!$F$10","v":"Ano Lectivo 2017/2018"},null,null,null,null,null,null,null,null,null,null,null,null,null,null,null,null,null,null,null,null,null,null,null,null,null,null,null,null,null,null,null,null,null,null,null,null,null,null,null,null,null,null,null,null,null,null,null,null,null,null,null,null,null,null,null,null,null,null,null,null,null,null,null,null,null,null,null,null,null,null,null,null,null,null,null,null,null,null,null,null,null,null,null,null,null,null,null,null,null,null,null,null,null,null,null,null,null,null,null,null,null,null,null,null,null,null,null,null,null,null,null,null,null,null,null,null,null,null,null,null,{"$f":"SUM(DZ4:DZ21)","v":0}]
[null,null,null,null,null,null,null,null,null,null,null,null,null,null,null,null,null,null,null,null,null,null,null,null,null,null,null,null,null,null,null,null,null,null,null,null,null,null,null,null,null,null,null,null,null,null,null,null,null,null,null,null,null,null,null,null,null,null,null,null,null,null,null,null,null,null,{"$f":"'Ficha de Inscrição'!$A$5","v":"Torneio Nº 4"},null,null,null,null,null,null,null,null,null,null,null,null,null,null,null,null,null,null,null,null,null,null,null,null,null,null,null,null,null,null,null,null,null,null,null,null,null,null,null,null,null,null,null,null,null,null,null,null,null,null,null,null,null,null,null,null,null,null,null,null,null,null,{"$f":"SUM(DZ4:DZ21)","v":0}]
["PH-Juv",null,{"$f":"LOOKUP(A4,Apoio!N9:N39,Apoio!O9:O39)","v":"Pares Homens - Juvenis"},null,null,null,null,null,null,null,null,null,null,null,null,{"$f":"\"Escola: \"&'Ficha de Inscrição'!$D$4","v":"Escola: ACav.Silva"},null,null,null,null,null,null,null,null,null,null,null,null,null,null,null,null,null,null,null,null,null,null,null,null,null,null,null,null,null,null,null,null,null,null,null,null,null,null,null,null,null,null,null,null,null,null,null,null,null,null,null,null,null,null,null,null,null,null,null,null,null,null,null,null,null,null,null,null,null,null,null,null,null,null,null,null,null,null,null,null,null,null,null,null,null,null,null,null,null,null,null,null,null,null,null,null,null,null,null,null,null,null,null,null,null,null,null,null,null,null,null,null,null,{"$f":"IF(ISBLANK(#REF!),COUNTA(EK13:$EK$28),0)","v":0}]
[null,null,null,null,null,null,null,null,{"$f":"IF(R11=R19,IF(V11=\"Bye\",V19,IF(V19=\"Bye\",V11)),(IF(ISBLANK(S11),\"\",IF(R11>R19,V19,V11))))","v":false},null,null,null,null,null,null,null,null,null,null,null,null,null,null,null,null,null,null,null,null,null,null,null,null,null,null,null,null,null,null,null,null,null,null,null,null,null,null,null,null,null,null,null,null,null,null,null,null,null,null,null,null,null,null,null,null,null,null,null,null,null,null,null,null,null,null,null,null,null,null,null,null,null,null,null,null,null,null,null,null,null,null,null,null,null,null,null,null,null,null,null,null,null,null,null,null,null,null,null,null,null,null,null,null,null,null,null,null,null,null,null,null,null,null,null,null,null,null,null,null,{"$f":"IF(ISBLANK(EK13),COUNTA(EK14:$EK$28),0)","v":0}]
[null,null,{"$f":"IF(E6=E8,IF(I6=\"Bye\",I8,IF(I8=\"Bye\",I6)),(IF(ISBLANK(F6),\"\",IF(E6>E8,I6,I8))))","v":false},null,{"$f":"IF(ISBLANK(F6),\"\",SUM(IF(F6>F8,1,0)+(IF(G6>G8,1,0)+(IF(H6>H8,1,0)))))","v":""},null,null,null,{"$f":"IF(I5=FALSE,\"\",I5)","v":""},"(V 16)",null,null,"Apuramento","5.º e 6.º Class.",null,{"$f":"IF(E6=E8,IF(I6=\"Bye\",I8,IF(I8=\"Bye\",I6)),(IF(ISBLANK(F6),\"\",IF(E6>E8,I8,I6))))","v":false},null,null,null,null,null,null,null,null,null,null,null,null,null,null,null,null,null,null,null,null,null,null,null,null,null,null,null,null,null,null,null,null,null,null,null,null,null,null,null,null,null,null,null,null,null,null,null,null,null,null,null,null,null,null,null,null,null,null,null,null,null,null,null,null,null,null,null,null,null,null,null,null,null,null,null,null,null,null,null,"Ordenar p/ DG 3",null,null,null,"Ordenar p/ GM 1",null,null,null,"Ordenar p/ GM 2",null,null,null,"Ordenar p/ GM 3",null,null,null,null,null,null,null,null,null,null,null,null,null,null,null,null,null,"Vencedores","Derrotados",null,null,{"$f":"IF(ISBLANK(#REF!),COUNTA(EK14:$EK$28),0)","v":0}]
[null,null,{"$f":"IF(C6=FALSE,\"\",C6)","v":""},null,null,null,null,null,{"$f":"IF(R27=R35,IF(V27=\"Bye\",V35,IF(V35=\"Bye\",V27)),(IF(ISBLANK(S27),\"\",IF(R27>R35,V35,V27))))","v":false},null,null,null,null,null,null,{"$f":"IF(P6=FALSE,\"\",P6)","v":""},null,null,null,null,null,null,null,null,null,null,null,null,null,null,null,null,null,null,null,null,null,null,null,null,null,null,null,null,null,null,null,{"$f":"IF(AY8=AY10,IF(BC8=\"Bye\",BC10,IF(BC10=\"Bye\",BC8)),(IF(ISBLANK(AZ8),\"\",IF(AY8>AY10,BC8,BC10))))","v":false},null,null,null,null,null,null,{"$f":"IF(BL7=BL8,IF(BH7=\"Bye\",BH8,IF(BH8=\"Bye\",BH7)),(IF(ISBLANK(BI7),\"\",IF(BL7>BL8,BH8,BH7))))","v":false},null,null,1,null,{"$f":"EK12","v":"gg"},null,null,null,{"$f":"IF(ISBLANK(BI7),\"\",SUM(IF(BI7>BI8,1,0)+(IF(BJ7>BJ8,1,0)+(IF(BK7>BK8,1,0)))))","v":""},"P1",{"$f":"IF(BL7=BL8,IF(BH7=\"Bye\",BH8,IF(BH8=\"Bye\",BH7)),(IF(ISBLANK(BI7),\"\",IF(BL7>BL8,BH7,BH8))))","v":false},null,null,null,null,"P17",null,null,null,null,null,null,null,null,null,null,null,null,null,null,null,null,null,null,null,null,null,null,null,null,null,null,null,null,null,null,null,null,null,null,null,null,null,null,null,null,null,null,null,null,null,null,null,null,null,null,null,null,null,null,{"$f":"IF(#REF!<>\"\",IF(#REF!>I7,#REF!,IF(I7>#REF!,C7,\"Empate\")),\"\")","v":{"$error":"#REF!"}},{"$f":"IF(#REF!<>\"\",IF(#REF!<I7,#REF!,IF(I7<#REF!,C7,\"Empate\")),\"\")","v":{"$error":"#REF!"}},null,null,{"$f":"IF(ISBLANK(EK14),COUNTA(EK15:$EK$28),0)","v":0}]
[null,null,"5ºClassificado",null,{"$f":"IF(ISBLANK(F8),\"\",SUM(IF(F8>F6,1,0)+(IF(G8>G6,1,0)+(IF(H8>H6,1,0)))))","v":""},null,null,null,{"$f":"IF(I7=FALSE,\"\",I7)","v":""},"(V 17)",null,null,null,null,null,"6ºClassificado",null,null,null,null,null,null,null,null,null,null,null,null,null,null,null,null,null,null,{"$f":"IF(AL9=AL13,IF(AP9=\"Bye\",AP13,IF(AP13=\"Bye\",AP9)),(IF(ISBLANK(AM9),\"\",IF(AL9>AL13,AP9,AP13))))","v":false},null,null,null,null,null,null,{"$f":"IF(AR8=AR10,IF(AV8=\"Bye\",AV10,IF(AV10=\"Bye\",AV8)),(IF(ISBLANK(AS8),\"\",IF(AR8>AR10,AV8,AV10))))","v":false},null,{"$f":"IF(ISBLANK(AS8),\"\",SUM(IF(AS8>AS10,1,0)+(IF(AT8>AT10,1,0)+(IF(AU8>AU10,1,0)))))","v":""},null,null,null,{"$f":"IF(AV7=FALSE,\"\",AV7)","v":""},null,null,{"$f":"IF(ISBLANK(AZ8),\"\",SUM(IF(AZ8>AZ10,1,0)+(IF(BA8>BA10,1,0)+(IF(BB8>BB10,1,0)))))","v":""},null,null,null,{"$f":"IF(BC7=FALSE,\"\",BC7)","v":""},null,null,2,null,{"$f":"EK13","v":"b"},null,null,null,{"$f":"IF(ISBLANK(BI7),\"\",SUM(IF(BI8>BI7,1,0)+(IF(BJ8>BJ7,1,0)+(IF(BK8>BK7,1,0)))))","v":""},null,{"$f":"IF(BN7=FALSE,\"\",BN7)","v":""},null,null,null,{"$f":"IF(ISBLANK(BO8),\"\",SUM(IF(BO8>BO10,1,0)+(IF(BP8>BP10,1,0)+(IF(BQ8>BQ10,1,0)))))","v":""},null,{"$f":"IF(BR8=BR10,IF(BN8=\"Bye\",BN10,IF(BN10=\"Bye\",BN8)),(IF(ISBLANK(BO8),\"\",IF(BR8>BR10,BN8,BN10))))","v":false},null,null,null,null,"P41"]
[null,null,null,null,null,null,null,null,{"$f":"IF(Y11=Y19,IF(AC11=\"Bye\",AC19,IF(AC19=\"Bye\",AC11)),(IF(ISBLANK(Z11),\"\",IF(Y11>Y19,AC19,AC11))))","v":false},null,null,null,null,null,null,null,null,null,null,null,null,null,null,null,null,null,null,null,null,null,{"$f":"IF(ISBLANK(AF9),\"\",SUM(IF(AF9>AF13,1,0)+(IF(AG9>AG13,1,0)+(IF(AH9>AH13,1,0)))))","v":""},null,null,null,{"$f":"IF(AI8=FALSE,\"\",AI8)","v":""},null,null,{"$f":"IF(ISBLANK(AM9),\"\",SUM(IF(AM9>AM13,1,0)+(IF(AN9>AN13,1,0)+(IF(AO9>AO13,1,0)))))","v":""},null,null,null,{"$f":"IF(AP8=FALSE,\"\",AP8)","v":""},null,null,null,"P33",null,{"$f":"IF(BR36=BR38,IF(BN36=\"Bye\",BN38,IF(BN38=\"Bye\",BN36)),(IF(ISBLANK(BO36),\"\",IF(BR36>BR38,BN38,BN36))))","v":false},null,null,null,null,"P19",null,{"$f":"IF(BL9=BL10,IF(BH9=\"Bye\",BH10,IF(BH10=\"Bye\",BH9)),(IF(ISBLANK(BI9),\"\",IF(BL9>BL10,BH10,BH9))))","v":false},null,null,3,null,"c",null,null,null,{"$f":"IF(ISBLANK(BI9),\"\",SUM(IF(BI9>BI10,1,0)+(IF(BJ9>BJ10,1,0)+(IF(BK9>BK10,1,0)))))","v":""},"P2",{"$f":"IF(BL9=BL10,IF(BH9=\"Bye\",BH10,IF(BH10=\"Bye\",BH9)),(IF(ISBLANK(BI9),\"\",IF(BL9>BL10,BH9,BH10))))","v":false},null,"(V1)",null,null,null,{"$f":"IF(BT8=FALSE,\"\",BT8)","v":""},null,null,null,{"$f":"IF(ISBLANK(BU9),\"\",SUM(IF(BU9>BU13,1,0)+(IF(BV9>BV13,1,0)+(IF(BW9>BW13,1,0)))))","v":""},null,null,null,null,null,null,null,null,null,null,null,null,null,null,null,null,null,null,null,{"$f":"IF(AND(#REF!=CP9,CQ9>#REF!),#REF!,CO9)","v":{"$error":"#REF!"}},{"$f":"VLOOKUP(CR9,BM8:BX9,9,FALSE)","v":{"$error":"#REF!"}},{"$f":"VLOOKUP(CR9,BM8:BX9,8,FALSE)","v":{"$error":"#REF!"}},{"$f":"VLOOKUP(CR9,BM8:BX9,6,FALSE)","v":{"$error":"#REF!"}},{"$f":"IF(AND(CS9=#REF!,CT9=#REF!,#REF!>CU9),#REF!,CR9)","v":{"$error":"#REF!"}},{"$f":"VLOOKUP(CV9,BM8:BX9,9,FALSE)","v":{"$error":"#REF!"}},{"$f":"VLOOKUP(CV9,BM8:BX9,8,FALSE)","v":{"$error":"#REF!"}},{"$f":"VLOOKUP(CV9,BM8:BX9,6,FALSE)","v":{"$error":"#REF!"}},{"$f":"IF(AND(CW8=CW9,CX8=CX9,#REF!>CY8),CV8,CV9)","v":{"$error":"#REF!"}},{"$f":"VLOOKUP(CZ9,BM8:BX9,9,FALSE)","v":{"$error":"#REF!"}},{"$f":"VLOOKUP(CZ9,BM8:BX9,8,FALSE)","v":{"$error":"#REF!"}},{"$f":"VLOOKUP(CZ9,BM8:BX9,6,FALSE)","v":{"$error":"#REF!"}},{"$f":"IF(AND(#REF!=DA9,#REF!=DB9,DC9>#REF!),#REF!,CZ9)","v":{"$error":"#REF!"}},{"$f":"VLOOKUP(DD9,BM8:BX9,9,FALSE)","v":{"$error":"#REF!"}},{"$f":"VLOOKUP(DD9,BM8:BX9,8,FALSE)","v":{"$error":"#REF!"}},{"$f":"VLOOKUP(DD9,BM8:BX9,6,FALSE)","v":{"$error":"#REF!"}},null,null,null,{"$f":"DD9","v":{"$error":"#REF!"}},{"$f":"VLOOKUP(DK9,BM8:BX9,2,FALSE)","v":{"$error":"#REF!"}},{"$f":"VLOOKUP(DK9,BM8:BX9,3,FALSE)","v":{"$error":"#REF!"}},{"$f":"VLOOKUP(DK9,BM8:BX9,4,FALSE)","v":{"$error":"#REF!"}},{"$f":"VLOOKUP(DK9,BM8:BX9,5,FALSE)","v":{"$error":"#REF!"}},{"$f":"VLOOKUP(DK9,BM8:BX9,6,FALSE)","v":{"$error":"#REF!"}},{"$f":"VLOOKUP(DK9,BM8:BX9,7,FALSE)","v":{"$error":"#REF!"}},{"$f":"VLOOKUP(DK9,BM8:BX9,8,FALSE)","v":{"$error":"#REF!"}},{"$f":"VLOOKUP(DK9,BM8:BX9,9,FALSE)","v":{"$error":"#REF!"}},null,null,{"$f":"IF(Q9<>\"\",IF(Q9>#REF!,K9,IF(#REF!>Q9,#REF!,\"Empate\")),\"\")","v":""},{"$f":"IF(Q9<>\"\",IF(Q9<#REF!,K9,IF(#REF!<Q9,#REF!,\"Empate\")),\"\")","v":""},null,null,{"$f":"IF(ISBLANK(EK16),COUNTA(EK17:$EK$28),0)","v":0},null,null,null,null,null,null,null,null,null,null,null,null,null,null,null,null,null,null,null,null,null,null,null,null,null,null,null,null,null,null,null,null,null,null,null,"PROCV($EU$12;$AE$9:$AI$13;2;FALSO)"]
[null,null,{"$f":"IF(E10=E12,IF(I10=\"Bye\",I12,IF(I12=\"Bye\",I10)),(IF(ISBLANK(F10),\"\",IF(E10>E12,I10,I12))))","v":false},null,{"$f":"IF(ISBLANK(F10),\"\",SUM(IF(F10>F12,1,0)+(IF(G10>G12,1,0)+(IF(H10>H12,1,0)))))","v":""},null,null,null,{"$f":"IF(I9=FALSE,\"\",I9)","v":""},"(V 18)",null,null,"Apuramento","7.º e 8.º Class.",null,{"$f":"IF(E10=E12,IF(I10=\"Bye\",I12,IF(I12=\"Bye\",I10)),(IF(ISBLANK(F10),\"\",IF(E10>E12,I12,I10))))","v":false},null,null,null,null,null,{"$f":"IF(Y11=Y19,IF(AC11=\"Bye\",AC19,IF(AC19=\"Bye\",AC11)),(IF(ISBLANK(Z11),\"\",IF(Y11>Y19,AC11,AC19))))","v":false},null,null,null,null,null,null,{"$f":"IF(AE9=AE13,IF(AI9=\"Bye\",AI13,IF(AI13=\"Bye\",AI9)),(IF(ISBLANK(AF9),\"\",IF(AE9>AE13,AI9,AI13))))","v":false},null,null,null,null,null,null,null,null,null,null,null,null,null,null,{"$f":"IF(ISBLANK(AS8),\"\",SUM(IF(AS10>AS8,1,0)+(IF(AT10>AT8,1,0)+(IF(AU10>AU8,1,0)))))","v":""},null,null,null,{"$f":"IF(AV9=FALSE,\"\",AV9)","v":""},"(V8)",null,{"$f":"IF(ISBLANK(AZ8),\"\",SUM(IF(AZ10>AZ8,1,0)+(IF(BA10>BA8,1,0)+(IF(BB10>BB8,1,0)))))","v":""},null,null,null,{"$f":"IF(BC9=FALSE,\"\",BC9)","v":""},null,null,4,null,"d",null,null,null,{"$f":"IF(ISBLANK(BI9),\"\",SUM(IF(BI10>BI9,1,0)+(IF(BJ10>BJ9,1,0)+(IF(BK10>BK9,1,0)))))","v":""},null,{"$f":"IF(BN9=FALSE,\"\",BN9)","v":""},null,null,null,{"$f":"IF(ISBLANK(BO8),\"\",SUM(IF(BO10>BO8,1,0)+(IF(BP10>BP8,1,0)+(IF(BQ10>BQ8,1,0)))))","v":""},null,null,null,null,null,null,null,{"$f":"IF(BX9=BX13,IF(BT9=\"Bye\",BT13,IF(BT13=\"Bye\",BT13)),(IF(ISBLANK(BU9),\"\",IF(BX9>BX13,BT9,BT13))))","v":false},null,null,null,null,"P53",null,null,null,null,null,null,null,null,null,null,null,null,null,null,null,null,null,null,null,null,null,null,null,null,null,null,null,null,null,null,null,null,null,null,null,null,null,null,null,null,null,null,null,null,null,null,{"$f":"IF(ISBLANK(EK17),COUNTA(EK18:$EK$28),0)","v":0},null,"Classificação"]
[null,null,{"$f":"IF(C10=FALSE,\"\",C10)","v":""},null,null,null,null,null,{"$f":"IF(Y27=Y35,IF(AC27=\"Bye\",AC35,IF(AC35=\"Bye\",AC27)),(IF(ISBLANK(Z27),\"\",IF(Y27>Y35,AC35,AC27))))","v":false},null,null,null,null,null,null,{"$f":"IF(P10=FALSE,\"\",P10)","v":""},null,{"$f":"IF(ISBLANK(S11),\"\",SUM(IF(S11>S19,1,0)+(IF(T11>T19,1,0)+(IF(U11>U19,1,0)))))","v":""},null,null,null,{"$f":"IF(V10=FALSE,\"\",V10)","v":""},null,null,{"$f":"IF(ISBLANK(Z11),\"\",SUM(IF(Z11>Z19,1,0)+(IF(AA11>AA19,1,0)+(IF(AB11>AB19,1,0)))))","v":""},null,null,null,{"$f":"IF(AC10=FALSE,\"\",AC10)","v":""},null,"P49",null,null,null,null,null,null,"P43",null,null,null,null,null,null,null,null,null,{"$f":"IF(AY12=AY14,IF(BC12=\"Bye\",BC14,IF(BC14=\"Bye\",BC12)),(IF(ISBLANK(AZ12),\"\",IF(AY12>AY14,BC12,BC14))))","v":false},null,null,null,null,null,null,{"$f":"IF(BL11=BL12,IF(BH11=\"Bye\",BH12,IF(BH12=\"Bye\",BH11)),(IF(ISBLANK(BI11),\"\",IF(BL11>BL12,BH12,BH11))))","v":false},null,null,5,null,"e",null,null,null,{"$f":"IF(ISBLANK(BI11),\"\",SUM(IF(BI11>BI12,1,0)+(IF(BJ11>BJ12,1,0)+(IF(BK11>BK12,1,0)))))","v":""},"P3",{"$f":"IF(BL11=BL12,IF(BH11=\"Bye\",BH12,IF(BH12=\"Bye\",BH11)),(IF(ISBLANK(BI11),\"\",IF(BL11>BL12,BH11,BH12))))","v":false},null,null,null,null,"P18","(V9)",null,null,null,null,null,{"$f":"IF(BZ10=FALSE,\"\",BZ10)","v":""},null,null,null,{"$f":"IF(ISBLANK(CA11),\"\",SUM(IF(CA11>CA19,1,0)+(IF(CB11>CB19,1,0)+(IF(CC11>CC19,1,0)))))","v":""},null,null,null,null,null,null,null,null,null,null,null,null,null,null,null,null,null,null,null,null,null,null,null,null,null,null,null,null,null,null,null,null,null,null,null,null,null,null,null,null,null,null,null,{"$f":"IF(#REF!<>\"\",IF(#REF!>I11,#REF!,IF(I11>#REF!,C11,\"Empate\")),\"\")","v":{"$error":"#REF!"}},{"$f":"IF(#REF!<>\"\",IF(#REF!<I11,#REF!,IF(I11<#REF!,C11,\"Empate\")),\"\")","v":{"$error":"#REF!"}},null,null,{"$f":"IF(ISBLANK(EK18),COUNTA(EK19:$EK$28),0)","v":0},null,"NºJ",null,null,"Nome","Pts",null,null,"Ordem","Nº","Nome (1º e último)","Escola","Abv.","Ano Nasc.","Escalão","Sexo","Observações","Insc. Prova",null,null,"VENCIDO (P49)","PM","PS","DIF","VENCIDO (P50)","PM","PM","DIF","VENCIDO (P51)","PM","PS","DIF","VENCIDO (P52)","PM","PM","DIF","VENCIDO (P49)",null,null,null,null,null,"PAULO JORGE NOBRE DOS SANTOS ÁGUAS"]
[null,null,"7ºClassificado",null,{"$f":"IF(ISBLANK(F12),\"\",SUM(IF(F12>F10,1,0)+(IF(G12>G10,1,0)+(IF(H12>H10,1,0)))))","v":""},null,null,null,{"$f":"IF(I11=FALSE,\"\",I11)","v":""},"(V 19)",null,null,null,null,null,"8ºClassificado",null,null,null,null,null,null,null,null,null,null,null,null,null,null,null,null,null,null,{"$f":"IF(BX17=BX21,IF(BT17=\"Bye\",BT21,IF(BT21=\"Bye\",BT21)),(IF(ISBLANK(BU17),\"\",IF(BX17>BX21,BT21,BT17))))","v":false},null,null,null,null,null,null,{"$f":"IF(AR12=AR14,IF(AV12=\"Bye\",AV14,IF(AV14=\"Bye\",AV12)),(IF(ISBLANK(AS12),\"\",IF(AR12>AR14,AV12,AV14))))","v":false},null,{"$f":"IF(ISBLANK(AS12),\"\",SUM(IF(AS12>AS14,1,0)+(IF(AT12>AT14,1,0)+(IF(AU12>AU14,1,0)))))","v":""},null,null,null,{"$f":"IF(AV11=FALSE,\"\",AV11)","v":""},null,null,{"$f":"IF(ISBLANK(AZ12),\"\",SUM(IF(AZ12>AZ14,1,0)+(IF(BA12>BA14,1,0)+(IF(BB12>BB14,1,0)))))","v":""},null,null,null,{"$f":"IF(BC11=FALSE,\"\",BC11)","v":""},null,null,6,null,"f",null,null,null,{"$f":"IF(ISBLANK(BI11),\"\",SUM(IF(BI12>BI11,1,0)+(IF(BJ12>BJ11,1,0)+(IF(BK12>BK11,1,0)))))","v":""},null,{"$f":"IF(BN11=FALSE,\"\",BN11)","v":""},null,null,null,{"$f":"IF(ISBLANK(BO12),\"\",SUM(IF(BO12>BO14,1,0)+(IF(BP12>BP14,1,0)+(IF(BQ12>BQ14,1,0)))))","v":""},null,{"$f":"IF(BR12=BR14,IF(BN12=\"Bye\",BN14,IF(BN14=\"Bye\",BN12)),(IF(ISBLANK(BO12),\"\",IF(BR12>BR14,BN12,BN14))))","v":false},null,null,null,null,null,null,null,null,null,null,null,null,null,null,null,null,null,null,null,null,null,null,null,{"$f":"IF(AND(CP12=#REF!,#REF!>CQ12),#REF!,CO12)","v":{"$error":"#REF!"}},{"$f":"VLOOKUP(CR12,BM12:BX13,9,FALSE)","v":{"$error":"#REF!"}},{"$f":"VLOOKUP(CR12,BM12:BX13,8,FALSE)","v":{"$error":"#REF!"}},{"$f":"VLOOKUP(CR12,BM12:BX13,6,FALSE)","v":{"$error":"#REF!"}},{"$f":"IF(AND(CS12=#REF!,CT12=#REF!,#REF!>CU12),#REF!,CR12)","v":{"$error":"#REF!"}},{"$f":"VLOOKUP(CV12,BM12:BX13,9,FALSE)","v":{"$error":"#REF!"}},{"$f":"VLOOKUP(CV12,BM12:BX13,8,FALSE)","v":{"$error":"#REF!"}},{"$f":"VLOOKUP(CV12,BM12:BX13,6,FALSE)","v":{"$error":"#REF!"}},{"$f":"IF(AND(CW12=CW13,CX12=CX13,CY13>CY12),CV13,CV12)","v":{"$error":"#REF!"}},{"$f":"VLOOKUP(CZ12,BM12:BX13,9,FALSE)","v":{"$error":"#REF!"}},{"$f":"VLOOKUP(CZ12,BM12:BX13,8,FALSE)","v":{"$error":"#REF!"}},{"$f":"VLOOKUP(CZ12,BM12:BX13,6,FALSE)","v":{"$error":"#REF!"}},{"$f":"IF(AND(DA12=#REF!,DB12=#REF!,#REF!>DC12),#REF!,CZ12)","v":{"$error":"#REF!"}},{"$f":"VLOOKUP(DD12,BM12:BX13,9,FALSE)","v":{"$error":"#REF!"}},{"$f":"VLOOKUP(DD12,BM12:BX13,8,FALSE)","v":{"$error":"#REF!"}},{"$f":"VLOOKUP(DD12,BM12:BX13,6,FALSE)","v":{"$error":"#REF!"}},null,null,null,{"$f":"DD12","v":{"$error":"#REF!"}},{"$f":"VLOOKUP(DK12,BM12:BX13,2,FALSE)","v":{"$error":"#REF!"}},{"$f":"VLOOKUP(DK12,BM12:BX13,3,FALSE)","v":{"$error":"#REF!"}},{"$f":"VLOOKUP(DK12,BM12:BX13,4,FALSE)","v":{"$error":"#REF!"}},{"$f":"VLOOKUP(DK12,BM12:BX13,5,FALSE)","v":{"$error":"#REF!"}},{"$f":"VLOOKUP(DK12,BM12:BX13,6,FALSE)","v":{"$error":"#REF!"}},{"$f":"VLOOKUP(DK12,BM12:BX13,7,FALSE)","v":{"$error":"#REF!"}},{"$f":"VLOOKUP(DK12,BM12:BX13,8,FALSE)","v":{"$error":"#REF!"}},{"$f":"VLOOKUP(DK12,BM12:BX13,9,FALSE)","v":{"$error":"#REF!"}},null,null,{"$f":"IF(I12<>\"\",IF(I12>#REF!,C12,IF(#REF!>I12,#REF!,\"Empate\")),\"\")","v":""},{"$f":"IF(I12<>\"\",IF(I12<#REF!,C12,IF(#REF!<I12,#REF!,\"Empate\")),\"\")","v":""},null,null,{"$f":"IF(ISBLANK(EK19),COUNTA(EK20:$EK$28),0)","v":0},null,"1º",null,null,{"$f":"CL25","v":""},12,null,null,1,null,"gg",null,null,null,null,null,null,null,null,null,null,{"$f":"VLOOKUP($EU$12,$AE$9:$AI$13,2,FALSE)","v":{"$error":"#N/A"}},null,null,null,null,null,null,null,null,null,null,null,null,null,"PROCV($FK$12;;2;FALSO)",{"$f":"IF(AE13=AE9,IF(AI13=\"Bye\",AI9,IF(AI9=\"Bye\",AI13)),(IF(ISBLANK(AF9),\"\",IF(AE13>AE9,AI9,AI13))))","v":false}]
[null,null,null,null,null,null,null,null,null,null,null,null,null,null,null,null,null,null,null,null,null,null,null,null,null,null,null,null,null,null,{"$f":"IF(ISBLANK(AF9),\"\",SUM(IF(AF13>AF9,1,0)+(IF(AG13>AG9,1,0)+(IF(AH13>AH9,1,0)))))","v":""},null,null,null,{"$f":"IF(AI12=FALSE,\"\",AI12)","v":""},"(V10)",null,{"$f":"IF(ISBLANK(AM13),\"\",SUM(IF(AM13>AM9,1,0)+(IF(AN13>AN9,1,0)+(IF(AO13>AO9,1,0)))))","v":""},null,null,null,{"$f":"IF(AP12=FALSE,\"\",AP12)","v":""},null,null,null,"P34",null,{"$f":"IF(BR32=BR34,IF(BN32=\"Bye\",BN34,IF(BN34=\"Bye\",BN32)),(IF(ISBLANK(BO32),\"\",IF(BR32>BR34,BN34,BN32))))","v":false},null,null,null,null,"P20",null,{"$f":"IF(BL13=BL14,IF(BH13=\"Bye\",BH14,IF(BH14=\"Bye\",BH13)),(IF(ISBLANK(BI13),\"\",IF(BL13>BL14,BH14,BH13))))","v":false},null,null,7,null,"g",null,null,null,{"$f":"IF(ISBLANK(BI13),\"\",SUM(IF(BI13>BI14,1,0)+(IF(BJ13>BJ14,1,0)+(IF(BK13>BK14,1,0)))))","v":""},"P4",{"$f":"IF(BL13=BL14,IF(BH13=\"Bye\",BH14,IF(BH14=\"Bye\",BH13)),(IF(ISBLANK(BI13),\"\",IF(BL13>BL14,BH13,BH14))))","v":false},null,"(V2)",null,null,null,{"$f":"IF(BT12=FALSE,\"\",BT12)","v":""},null,null,null,{"$f":"IF(ISBLANK(BU13),\"\",SUM(IF(BU13>BU9,1,0)+(IF(BV13>BV9,1,0)+(IF(BW13>BW9,1,0)))))","v":""},null,null,null,null,null,null,null,null,null,null,null,null,null,null,null,null,null,null,null,{"$f":"IF(AND(#REF!=CP13,CQ13>#REF!),#REF!,CO13)","v":{"$error":"#REF!"}},{"$f":"VLOOKUP(CR13,BM12:BX13,9,FALSE)","v":{"$error":"#REF!"}},{"$f":"VLOOKUP(CR13,BM12:BX13,8,FALSE)","v":{"$error":"#REF!"}},{"$f":"VLOOKUP(CR13,BM12:BX13,6,FALSE)","v":{"$error":"#REF!"}},{"$f":"IF(AND(CS13=#REF!,CT13=#REF!,#REF!>CU13),#REF!,CR13)","v":{"$error":"#REF!"}},{"$f":"VLOOKUP(CV13,BM12:BX13,9,FALSE)","v":{"$error":"#REF!"}},{"$f":"VLOOKUP(CV13,BM12:BX13,8,FALSE)","v":{"$error":"#REF!"}},{"$f":"VLOOKUP(CV13,BM12:BX13,6,FALSE)","v":{"$error":"#REF!"}},{"$f":"IF(AND(CW12=CW13,CX12=CX13,#REF!>CY12),CV12,CV13)","v":{"$error":"#REF!"}},{"$f":"VLOOKUP(CZ13,BM12:BX13,9,FALSE)","v":{"$error":"#REF!"}},{"$f":"VLOOKUP(CZ13,BM12:BX13,8,FALSE)","v":{"$error":"#REF!"}},{"$f":"VLOOKUP(CZ13,BM12:BX13,6,FALSE)","v":{"$error":"#REF!"}},{"$f":"IF(AND(#REF!=DA13,#REF!=DB13,DC13>#REF!),#REF!,CZ13)","v":{"$error":"#REF!"}},{"$f":"VLOOKUP(DD13,BM12:BX13,9,FALSE)","v":{"$error":"#REF!"}},{"$f":"VLOOKUP(DD13,BM12:BX13,8,FALSE)","v":{"$error":"#REF!"}},{"$f":"VLOOKUP(DD13,BM12:BX13,6,FALSE)","v":{"$error":"#REF!"}},null,null,null,{"$f":"DD13","v":{"$error":"#REF!"}},{"$f":"VLOOKUP(DK13,BM12:BX13,2,FALSE)","v":{"$error":"#REF!"}},{"$f":"VLOOKUP(DK13,BM12:BX13,3,FALSE)","v":{"$error":"#REF!"}},{"$f":"VLOOKUP(DK13,BM12:BX13,4,FALSE)","v":{"$error":"#REF!"}},{"$f":"VLOOKUP(DK13,BM12:BX13,5,FALSE)","v":{"$error":"#REF!"}},{"$f":"VLOOKUP(DK13,BM12:BX13,6,FALSE)","v":{"$error":"#REF!"}},{"$f":"VLOOKUP(DK13,BM12:BX13,7,FALSE)","v":{"$error":"#REF!"}},{"$f":"VLOOKUP(DK13,BM12:BX13,8,FALSE)","v":{"$error":"#REF!"}},{"$f":"VLOOKUP(DK13,BM12:BX13,9,FALSE)","v":{"$error":"#REF!"}},null,null,{"$f":"IF(Q13<>\"\",IF(Q13>#REF!,K13,IF(#REF!>Q13,#REF!,\"Empate\")),\"\")","v":""},{"$f":"IF(Q13<>\"\",IF(Q13<#REF!,K13,IF(#REF!<Q13,#REF!,\"Empate\")),\"\")","v":""},null,null,{"$f":"IF(ISBLANK(EK20),COUNTA(EK21:$EK$28),0)","v":0},null,"2º",null,null,{"$f":"IF(CP23=CP29,\"\",IF(CP23>CP29,CL29,IF(CP17=CP19,\"\",IF(CP17<CP19,CL17,CL19))))","v":""},11,null,null,2,null,"b"]
[null,null,null,null,null,null,null,null,{"$f":"IF(L15=L31,IF(P15=\"Bye\",P31,IF(P31=\"Bye\",P15)),(IF(ISBLANK(M15),\"\",IF(L15>L31,P15,P31))))","v":false},null,null,null,null,null,null,{"$f":"IF(R11=R19,IF(V11=\"Bye\",V19,IF(V19=\"Bye\",V11)),(IF(ISBLANK(S11),\"\",IF(R11>R19,V11,V19))))","v":false},null,"Vencido",null,null,null,null,null,null,"Vencido",null,null,null,null,null,null,null,null,null,null,null,null,null,null,null,null,null,null,{"$f":"IF(ISBLANK(AS12),\"\",SUM(IF(AS14>AS12,1,0)+(IF(AT14>AT12,1,0)+(IF(AU14>AU12,1,0)))))","v":""},null,null,null,{"$f":"IF(AV13=FALSE,\"\",AV13)","v":""},"(V7)",null,{"$f":"IF(ISBLANK(AZ12),\"\",SUM(IF(AZ14>AZ12,1,0)+(IF(BA14>BA12,1,0)+(IF(BB14>BB12,1,0)))))","v":""},null,null,null,{"$f":"IF(BC13=FALSE,\"\",BC13)","v":""},null,null,8,null,"h",null,null,null,{"$f":"IF(ISBLANK(BI13),\"\",SUM(IF(BI14>BI13,1,0)+(IF(BJ14>BJ13,1,0)+(IF(BK14>BK13,1,0)))))","v":""},null,{"$f":"IF(BN13=FALSE,\"\",BN13)","v":""},null,null,null,{"$f":"IF(ISBLANK(BO12),\"\",SUM(IF(BO14>BO12,1,0)+(IF(BP14>BP12,1,0)+(IF(BQ14>BQ12,1,0)))))","v":""},null,null,null,null,null,null,null,null,null,null,null,null,null,{"$f":"IF(CD11=CD19,IF(BZ11=\"Bye\",BZ19,IF(BZ19=\"Bye\",BZ19)),(IF(ISBLANK(CA11),\"\",IF(CD11>CD19,BZ11,BZ19))))","v":false},null,null,null,null,"P59",null,null,null,null,null,null,null,null,null,null,null,null,null,null,null,null,null,null,null,null,null,null,null,null,null,null,null,null,null,null,null,null,null,null,null,null,null,null,null,null,{"$f":"IF(ISBLANK(EK21),COUNTA(EK22:$EK$28),0)","v":0},null,"3º",null,null,{"$f":"IF(E15=E31,\"\",IF(E15>E31,I31,I15))","v":""},10,null,null,3,null,"c",null,null,null,null,null,null,null,null,null,null,null,null,null,null,null,null,null,null,null,null,null,null,null,null,null,null,null,null,null,"PM","PS","DIF"]
[null,null,null,null,{"$f":"IF(ISBLANK(F15),\"\",SUM(IF(F15>F31,1,0)+(IF(G15>G31,1,0)+(IF(H15>H31,1,0)))))","v":""},null,null,null,{"$f":"IF(I14=FALSE,\"\",I14)","v":""},null,null,{"$f":"IF(ISBLANK(M15),\"\",SUM(IF(M15>M31,1,0)+(IF(N15>N31,1,0)+(IF(O15>O31,1,0)))))","v":""},null,null,null,{"$f":"IF(P14=FALSE,\"\",P14)","v":""},null,null,null,16,null,"P57",null,null,null,null,18,null,"P55",null,null,null,null,null,null,null,null,null,null,null,null,null,null,null,null,null,null,{"$f":"IF(AY16=AY18,IF(BC16=\"Bye\",BC18,IF(BC18=\"Bye\",BC16)),(IF(ISBLANK(AZ16),\"\",IF(AY16>AY18,BC16,BC18))))","v":false},null,null,null,null,null,null,{"$f":"IF(BL15=BL16,IF(BH15=\"Bye\",BH16,IF(BH16=\"Bye\",BH15)),(IF(ISBLANK(BI15),\"\",IF(BL15>BL16,BH16,BH15))))","v":false},null,null,9,null,"iiiiiiiiiiiiiiiiiiiiiiiii",null,null,null,{"$f":"IF(ISBLANK(BI15),\"\",SUM(IF(BI15>BI16,1,0)+(IF(BJ15>BJ16,1,0)+(IF(BK15>BK16,1,0)))))","v":""},"P5",{"$f":"IF(BL15=BL16,IF(BH15=\"Bye\",BH16,IF(BH16=\"Bye\",BH15)),(IF(ISBLANK(BI15),\"\",IF(BL15>BL16,BH15,BH16))))","v":false},null,null,null,null,"P21",null,null,null,null,null,null,"(V13)",null,null,null,null,null,{"$f":"IF(CF14=FALSE,\"\",CF14)","v":""},null,null,null,{"$f":"IF(ISBLANK(CG15),\"\",SUM(IF(CG15>CG31,1,0)+(IF(CH15>CH31,1,0)+(IF(CI15>CI31,1,0)))))","v":""},null,"FINALÍSSIMA",null,null,null,null,null,null,null,null,null,null,null,null,null,null,null,null,null,null,null,null,null,null,null,null,null,null,null,null,null,null,null,null,null,null,null,{"$f":"IF(#REF!<>\"\",IF(#REF!>I15,#REF!,IF(I15>#REF!,C15,\"Empate\")),\"\")","v":{"$error":"#REF!"}},{"$f":"IF(#REF!<>\"\",IF(#REF!<I15,#REF!,IF(I15<#REF!,C15,\"Empate\")),\"\")","v":{"$error":"#REF!"}},null,null,{"$f":"IF(ISBLANK(EK22),COUNTA(EK23:$EK$28),0)","v":0},null,"4º",null,null,{"$f":"IF(L15=L31,\"\",IF(L15>L31,P31,P15))","v":""},9,null,null,4,null,"d",null,null,null,null,null,null,null,null,null,null,"p49",null,null,null,null,null,null,null,null,null,null,null,null,null,{"$f":"IF(AE13=AE9,IF(AI13=\"Bye\",AI9,IF(AI9=\"Bye\",AI13)),(IF(ISBLANK(AF9),\"\",IF(AE13>AE9,AI9,AI13))))","v":false},{"$f":"$AI$9","v":""},{"$f":"$AH$9","v":0},{"$f":"$AG$9","v":0},{"$f":"$AF$9","v":0},{"$f":"FL15+FM15+FN15","v":0},{"$f":"FL16+FM16+FN16","v":0},{"$f":"FO15-FP15","v":0}]
[null,null,null,null,null,null,null,null,null,null,null,null,null,null,null,null,null,null,null,null,null,null,null,null,null,null,null,null,null,null,null,null,null,null,{"$f":"IF(AL17=AL21,IF(AP17=\"Bye\",AP21,IF(AP21=\"Bye\",AP17)),(IF(ISBLANK(AM17),\"\",IF(AL17>AL21,AP17,AP21))))","v":false},null,null,null,null,null,null,{"$f":"IF(AR16=AR18,IF(AV16=\"Bye\",AV18,IF(AV18=\"Bye\",AV16)),(IF(ISBLANK(AS16),\"\",IF(AR16>AR18,AV16,AV18))))","v":false},null,{"$f":"IF(ISBLANK(AS16),\"\",SUM(IF(AS16>AS18,1,0)+(IF(AT16>AT18,1,0)+(IF(AU16>AU18,1,0)))))","v":""},null,null,null,{"$f":"IF(AV15=FALSE,\"\",AV15)","v":""},null,null,{"$f":"IF(ISBLANK(AZ16),\"\",SUM(IF(AZ16>AZ18,1,0)+(IF(BA16>BA18,1,0)+(IF(BB16>BB18,1,0)))))","v":""},null,null,null,{"$f":"IF(BC15=FALSE,\"\",BC15)","v":""},null,null,10,null,"JOAO",null,null,null,{"$f":"IF(ISBLANK(BI15),\"\",SUM(IF(BI16>BI15,1,0)+(IF(BJ16>BJ15,1,0)+(IF(BK16>BK15,1,0)))))","v":""},null,{"$f":"IF(BN15=FALSE,\"\",BN15)","v":""},null,null,null,{"$f":"IF(ISBLANK(BO16),\"\",SUM(IF(BO16>BO18,1,0)+(IF(BP16>BP18,1,0)+(IF(BQ16>BQ18,1,0)))))","v":""},null,{"$f":"IF(BR16=BR18,IF(BN16=\"Bye\",BN18,IF(BN18=\"Bye\",BN16)),(IF(ISBLANK(BO16),\"\",IF(BR16>BR18,BN16,BN18))))","v":false},null,null,null,null,"P42",null,null,null,null,null,null,null,null,null,null,null,null,null,null,null,null,null,"P63",{"$f":"IF(AND(CP16=#REF!,#REF!>CQ16),#REF!,CO16)","v":{"$error":"#REF!"}},{"$f":"VLOOKUP(CR16,BM16:BX17,9,FALSE)","v":{"$error":"#REF!"}},{"$f":"VLOOKUP(CR16,BM16:BX17,8,FALSE)","v":{"$error":"#REF!"}},{"$f":"VLOOKUP(CR16,BM16:BX17,6,FALSE)","v":{"$error":"#REF!"}},{"$f":"IF(AND(CS16=#REF!,CT16=#REF!,#REF!>CU16),#REF!,CR16)","v":{"$error":"#REF!"}},{"$f":"VLOOKUP(CV16,BM16:BX17,9,FALSE)","v":{"$error":"#REF!"}},{"$f":"VLOOKUP(CV16,BM16:BX17,8,FALSE)","v":{"$error":"#REF!"}},{"$f":"VLOOKUP(CV16,BM16:BX17,6,FALSE)","v":{"$error":"#REF!"}},{"$f":"IF(AND(CW16=CW17,CX16=CX17,CY17>CY16),CV17,CV16)","v":{"$error":"#REF!"}},{"$f":"VLOOKUP(CZ16,BM16:BX17,9,FALSE)","v":{"$error":"#REF!"}},{"$f":"VLOOKUP(CZ16,BM16:BX17,8,FALSE)","v":{"$error":"#REF!"}},{"$f":"VLOOKUP(CZ16,BM16:BX17,6,FALSE)","v":{"$error":"#REF!"}},{"$f":"IF(AND(DA16=#REF!,DB16=#REF!,#REF!>DC16),#REF!,CZ16)","v":{"$error":"#REF!"}},{"$f":"VLOOKUP(DD16,BM16:BX17,9,FALSE)","v":{"$error":"#REF!"}},{"$f":"VLOOKUP(DD16,BM16:BX17,8,FALSE)","v":{"$error":"#REF!"}},{"$f":"VLOOKUP(DD16,BM16:BX17,6,FALSE)","v":{"$error":"#REF!"}},null,null,null,{"$f":"DD16","v":{"$error":"#REF!"}},{"$f":"VLOOKUP(DK16,BM16:BX17,2,FALSE)","v":{"$error":"#REF!"}},{"$f":"VLOOKUP(DK16,BM16:BX17,3,FALSE)","v":{"$error":"#REF!"}},{"$f":"VLOOKUP(DK16,BM16:BX17,4,FALSE)","v":{"$error":"#REF!"}},{"$f":"VLOOKUP(DK16,BM16:BX17,5,FALSE)","v":{"$error":"#REF!"}},{"$f":"VLOOKUP(DK16,BM16:BX17,6,FALSE)","v":{"$error":"#REF!"}},{"$f":"VLOOKUP(DK16,BM16:BX17,7,FALSE)","v":{"$error":"#REF!"}},{"$f":"VLOOKUP(DK16,BM16:BX17,8,FALSE)","v":{"$error":"#REF!"}},{"$f":"VLOOKUP(DK16,BM16:BX17,9,FALSE)","v":{"$error":"#REF!"}},null,null,{"$f":"IF(I16<>\"\",IF(I16>#REF!,C16,IF(#REF!>I16,#REF!,\"Empate\")),\"\")","v":""},{"$f":"IF(I16<>\"\",IF(I16<#REF!,C16,IF(#REF!<I16,#REF!,\"Empate\")),\"\")","v":""},null,null,{"$f":"IF(ISBLANK(EK23),COUNTA(EK24:$EK$28),0)","v":0},null,"5º",null,null,{"$f":"IF(E6=E8,\"\",IF(E6>E8,I6,I8))","v":""},8,null,null,5,null,"e",null,null,null,null,null,null,null,null,null,null,null,null,null,null,null,null,null,null,null,null,null,null,null,null,null,{"$f":"$AI$13","v":""},{"$f":"$AH$13","v":0},{"$f":"$AG$13","v":0},{"$f":"$AF$13","v":0},0,{"$f":"FL15+FM15+FN15","v":0},0]
[null,null,null,null,null,null,null,null,null,null,null,null,null,null,null,null,null,null,null,null,null,null,null,null,null,null,null,null,null,null,{"$f":"IF(ISBLANK(AF17),\"\",SUM(IF(AF17>AF21,1,0)+(IF(AG17>AG21,1,0)+(IF(AH17>AH21,1,0)))))","v":""},null,null,null,{"$f":"IF(AI16=FALSE,\"\",AI16)","v":""},null,null,{"$f":"IF(ISBLANK(AM17),\"\",SUM(IF(AM17>AM21,1,0)+(IF(AN17>AN21,1,0)+(IF(AO17>AO21,1,0)))))","v":""},null,null,null,{"$f":"IF(AP16=FALSE,\"\",AP16)","v":""},null,null,null,"P35",null,{"$f":"IF(BR28=BR30,IF(BN28=\"Bye\",BN30,IF(BN30=\"Bye\",BN28)),(IF(ISBLANK(BO28),\"\",IF(BR28>BR30,BN30,BN28))))","v":false},null,null,null,null,"P23",null,{"$f":"IF(BL17=BL18,IF(BH17=\"Bye\",BH18,IF(BH18=\"Bye\",BH17)),(IF(ISBLANK(BI17),\"\",IF(BL17>BL18,BH18,BH17))))","v":false},null,null,11,null,"k",null,null,null,{"$f":"IF(ISBLANK(BI17),\"\",SUM(IF(BI17>BI18,1,0)+(IF(BJ17>BJ18,1,0)+(IF(BK17>BK18,1,0)))))","v":""},"P6",{"$f":"IF(BL17=BL18,IF(BH17=\"Bye\",BH18,IF(BH18=\"Bye\",BH17)),(IF(ISBLANK(BI17),\"\",IF(BL17>BL18,BH17,BH18))))","v":false},null,"(V3)",null,null,null,{"$f":"IF(BT16=FALSE,\"\",BT16)","v":""},null,null,null,{"$f":"IF(ISBLANK(BU17),\"\",SUM(IF(BU17>BU21,1,0)+(IF(BV17>BV21,1,0)+(IF(BW17>BW21,1,0)))))","v":""},null,null,null,null,null,null,null,null,null,null,null,null,null,{"$f":"IF(CP23=CP29,\"\",IF(CP23>CP29,\"\",CL23))","v":""},null,null,null,{"$f":"IF(ISBLANK(CM17),\"\",SUM(IF(CM17>CM19,1,0)+(IF(CN17>CN19,1,0)+(IF(CO17>CO19,1,0)))))","v":""},null,{"$f":"IF(AND(#REF!=CP17,CQ17>#REF!),#REF!,CO17)","v":{"$error":"#REF!"}},{"$f":"VLOOKUP(CR17,BM16:BX17,9,FALSE)","v":{"$error":"#REF!"}},{"$f":"VLOOKUP(CR17,BM16:BX17,8,FALSE)","v":{"$error":"#REF!"}},{"$f":"VLOOKUP(CR17,BM16:BX17,6,FALSE)","v":{"$error":"#REF!"}},{"$f":"IF(AND(CS17=#REF!,CT17=#REF!,#REF!>CU17),#REF!,CR17)","v":{"$error":"#REF!"}},{"$f":"VLOOKUP(CV17,BM16:BX17,9,FALSE)","v":{"$error":"#REF!"}},{"$f":"VLOOKUP(CV17,BM16:BX17,8,FALSE)","v":{"$error":"#REF!"}},{"$f":"VLOOKUP(CV17,BM16:BX17,6,FALSE)","v":{"$error":"#REF!"}},{"$f":"IF(AND(CW16=CW17,CX16=CX17,#REF!>CY16),CV16,CV17)","v":{"$error":"#REF!"}},{"$f":"VLOOKUP(CZ17,BM16:BX17,9,FALSE)","v":{"$error":"#REF!"}},{"$f":"VLOOKUP(CZ17,BM16:BX17,8,FALSE)","v":{"$error":"#REF!"}},{"$f":"VLOOKUP(CZ17,BM16:BX17,6,FALSE)","v":{"$error":"#REF!"}},{"$f":"IF(AND(#REF!=DA17,#REF!=DB17,DC17>#REF!),#REF!,CZ17)","v":{"$error":"#REF!"}},{"$f":"VLOOKUP(DD17,BM16:BX17,9,FALSE)","v":{"$error":"#REF!"}},{"$f":"VLOOKUP(DD17,BM16:BX17,8,FALSE)","v":{"$error":"#REF!"}},{"$f":"VLOOKUP(DD17,BM16:BX17,6,FALSE)","v":{"$error":"#REF!"}},null,null,null,{"$f":"DD17","v":{"$error":"#REF!"}},{"$f":"VLOOKUP(DK17,BM16:BX17,2,FALSE)","v":{"$error":"#REF!"}},{"$f":"VLOOKUP(DK17,BM16:BX17,3,FALSE)","v":{"$error":"#REF!"}},{"$f":"VLOOKUP(DK17,BM16:BX17,4,FALSE)","v":{"$error":"#REF!"}},{"$f":"VLOOKUP(DK17,BM16:BX17,5,FALSE)","v":{"$error":"#REF!"}},{"$f":"VLOOKUP(DK17,BM16:BX17,6,FALSE)","v":{"$error":"#REF!"}},{"$f":"VLOOKUP(DK17,BM16:BX17,7,FALSE)","v":{"$error":"#REF!"}},{"$f":"VLOOKUP(DK17,BM16:BX17,8,FALSE)","v":{"$error":"#REF!"}},{"$f":"VLOOKUP(DK17,BM16:BX17,9,FALSE)","v":{"$error":"#REF!"}},null,null,{"$f":"IF(Q17<>\"\",IF(Q17>#REF!,K17,IF(#REF!>Q17,#REF!,\"Empate\")),\"\")","v":""},{"$f":"IF(Q17<>\"\",IF(Q17<#REF!,K17,IF(#REF!<Q17,#REF!,\"Empate\")),\"\")","v":""},null,null,{"$f":"IF(ISBLANK(#REF!),COUNTA(EK24:$EK$28),0)","v":0},null,"6º",null,null,{"$f":"IF(E6=E8,\"\",IF(E6>E8,I8,I6))","v":""},8,null,null,6,null,"f",null,null,null,null,null,null,null,null,null,null,"P50",null,null,null,null,null,null,null,null,null,null,null,null,null,"P50",{"$f":"$AI$17","v":""},{"$f":"$AH$17","v":0},{"$f":"$AG$17","v":0},{"$f":"$AF$17","v":0},0,{"$f":"FL18+FM18+FN18","v":0},0]
[null,null,null,null,null,null,null,null,null,null,null,null,null,null,null,null,null,null,null,null,null,{"$f":"IF(CD27=CD35,IF(BZ27=\"Bye\",BZ35,IF(BZ35=\"Bye\",BZ35)),(IF(ISBLANK(CA27),\"\",IF(CD27>CD35,BZ35,BZ27))))","v":false},null,null,null,null,null,null,{"$f":"IF(AE17=AE21,IF(AI17=\"Bye\",AI21,IF(AI21=\"Bye\",AI17)),(IF(ISBLANK(AF17),\"\",IF(AE17>AE21,AI17,AI21))))","v":false},null,null,null,null,null,null,null,null,null,null,null,null,null,null,{"$f":"IF(ISBLANK(AS16),\"\",SUM(IF(AS18>AS16,1,0)+(IF(AT18>AT16,1,0)+(IF(AU18>AU16,1,0)))))","v":""},null,null,null,{"$f":"IF(AV17=FALSE,\"\",AV17)","v":""},"(V6)",null,{"$f":"IF(ISBLANK(AZ16),\"\",SUM(IF(AZ18>AZ16,1,0)+(IF(BA18>BA16,1,0)+(IF(BB18>BB16,1,0)))))","v":""},null,null,null,{"$f":"IF(BC17=FALSE,\"\",BC17)","v":""},null,null,12,null,"LLLL",null,null,null,{"$f":"IF(ISBLANK(BI17),\"\",SUM(IF(BI18>BI17,1,0)+(IF(BJ18>BJ17,1,0)+(IF(BK18>BK17,1,0)))))","v":""},null,{"$f":"IF(BN17=FALSE,\"\",BN17)","v":""},null,null,null,{"$f":"IF(ISBLANK(BO16),\"\",SUM(IF(BO18>BO16,1,0)+(IF(BP18>BP16,1,0)+(IF(BQ18>BQ16,1,0)))))","v":""},null,null,null,null,null,null,null,{"$f":"IF(BX17=BX21,IF(BT17=\"Bye\",BT21,IF(BT21=\"Bye\",BT21)),(IF(ISBLANK(BU17),\"\",IF(BX17>BX21,BT17,BT21))))","v":false},null,null,null,null,null,null,null,null,null,null,null,null,null,null,null,null,null,null,null,null,null,null,null,null,null,null,null,null,null,null,null,null,null,null,null,null,null,null,null,null,null,null,null,null,null,null,null,null,null,null,null,{"$f":"IF(ISBLANK(EK25),COUNTA(EK26:$EK$28),0)","v":0},null,"7º",null,null,{"$f":"IF(E10=E12,\"\",IF(E10>E12,I10,I12))","v":""},8,null,null,7,null,"g",null,null,null,null,null,null,null,null,null,null,null,null,null,null,null,null,null,null,null,null,null,null,null,null,null,{"$f":"$AI$21","v":""},{"$f":"$AH$21","v":0},{"$f":"$AG$21","v":0},{"$f":"$AF$21","v":0},0,{"$f":"FL17+FM17+FN17","v":0},0]
[null,null,null,null,null,null,null,null,null,null,null,null,null,null,null,null,null,{"$f":"IF(ISBLANK(S19),\"\",SUM(IF(S19>S11,1,0)+(IF(T19>T11,1,0)+(IF(U19>U11,1,0)))))","v":""},null,null,null,{"$f":"IF(V18=FALSE,\"\",V18)","v":""},"(V14)",null,{"$f":"IF(ISBLANK(Z19),\"\",SUM(IF(Z19>Z11,1,0)+(IF(AA19>AA11,1,0)+(IF(AB19>AB11,1,0)))))","v":""},null,null,null,{"$f":"IF(AC18=FALSE,\"\",AC18)","v":""},null,"P50",null,null,null,null,null,null,"P44",null,null,null,null,null,null,null,null,null,{"$f":"IF(AY20=AY22,IF(BC20=\"Bye\",BC22,IF(BC22=\"Bye\",BC20)),(IF(ISBLANK(AZ20),\"\",IF(AY20>AY22,BC20,BC22))))","v":false},null,null,null,null,null,null,{"$f":"IF(BL19=BL20,IF(BH19=\"Bye\",BH20,IF(BH20=\"Bye\",BH19)),(IF(ISBLANK(BI19),\"\",IF(BL19>BL20,BH20,BH19))))","v":false},null,null,13,null,"m",null,null,null,{"$f":"IF(ISBLANK(BI19),\"\",SUM(IF(BI19>BI20,1,0)+(IF(BJ19>BJ20,1,0)+(IF(BK19>BK20,1,0)))))","v":""},"P7",{"$f":"IF(BL19=BL20,IF(BH19=\"Bye\",BH20,IF(BH20=\"Bye\",BH19)),(IF(ISBLANK(BI19),\"\",IF(BL19>BL20,BH19,BH20))))","v":false},null,null,null,null,"P22","(V10)",null,null,null,null,null,{"$f":"IF(BZ18=FALSE,\"\",BZ18)","v":""},null,null,null,{"$f":"IF(ISBLANK(CA19),\"\",SUM(IF(CA19>CA11,1,0)+(IF(CB19>CB11,1,0)+(IF(CC19>CC11,1,0)))))","v":""},null,null,null,null,null,null,null,{"$f":"IF($CP$23=$CP$29,\"\",IF($CP$23>$CP$29,\"\",$CL$29))","v":""},null,null,null,{"$f":"IF(ISBLANK(CM19),\"\",SUM(IF(CM19>CM17,1,0)+(IF(CN19>CN17,1,0)+(IF(CO19>CO17,1,0)))))","v":""},null,null,null,null,null,null,null,null,null,null,null,null,null,null,null,null,null,null,null,null,null,null,null,null,null,null,null,null,null,null,null,{"$f":"IF(#REF!<>\"\",IF(#REF!>I19,#REF!,IF(I19>#REF!,C19,\"Empate\")),\"\")","v":{"$error":"#REF!"}},{"$f":"IF(#REF!<>\"\",IF(#REF!<I19,#REF!,IF(I19<#REF!,C19,\"Empate\")),\"\")","v":{"$error":"#REF!"}},null,null,{"$f":"IF(ISBLANK(EK26),COUNTA(EK27:$EK$28),0)","v":0},null,"8º",null,null,{"$f":"IF(E10=E12,\"\",IF(E10>E12,I12,I10))","v":""},8,null,null,8,null,"h",null,null,null,null,null,null,null,null,null,null,"P51",null,null,null,null,null,null,null,null,null,null,null,null,null,"P51",{"$f":"$AI$25","v":""},{"$f":"$AF$25","v":0},{"$f":"$AG$25","v":0},{"$f":"$AH$25","v":0},0,{"$f":"FL20+FM20+FN20","v":0},0]
[null,null,null,null,null,null,null,null,null,null,null,null,null,null,null,null,null,null,null,null,null,null,null,null,null,null,null,null,null,null,null,null,null,null,{"$f":"IF(BX9=BX13,IF(BT9=\"Bye\",BT13,IF(BT13=\"Bye\",BT13)),(IF(ISBLANK(BU9),\"\",IF(BX9>BX13,BT13,BT9))))","v":false},null,null,null,null,null,null,{"$f":"IF(AR20=AR22,IF(AV20=\"Bye\",AV22,IF(AV22=\"Bye\",AV20)),(IF(ISBLANK(AS20),\"\",IF(AR20>AR22,AV20,AV22))))","v":false},null,{"$f":"IF(ISBLANK(AS20),\"\",SUM(IF(AS20>AS22,1,0)+(IF(AT20>AT22,1,0)+(IF(AU20>AU22,1,0)))))","v":""},null,null,null,{"$f":"IF(AV19=FALSE,\"\",AV19)","v":""},null,null,{"$f":"IF(ISBLANK(AZ20),\"\",SUM(IF(AZ20>AZ22,1,0)+(IF(BA20>BA22,1,0)+(IF(BB20>BB22,1,0)))))","v":""},null,null,null,{"$f":"IF(BC19=FALSE,\"\",BC19)","v":""},null,null,14,null,"n",null,null,null,{"$f":"IF(ISBLANK(BI19),\"\",SUM(IF(BI20>BI19,1,0)+(IF(BJ20>BJ19,1,0)+(IF(BK20>BK19,1,0)))))","v":""},null,{"$f":"IF(BN19=FALSE,\"\",BN19)","v":""},null,null,null,{"$f":"IF(ISBLANK(BO20),\"\",SUM(IF(BO20>BO22,1,0)+(IF(BP20>BP22,1,0)+(IF(BQ20>BQ22,1,0)))))","v":""},null,{"$f":"IF(BR20=BR22,IF(BN20=\"Bye\",BN22,IF(BN22=\"Bye\",BN20)),(IF(ISBLANK(BO20),\"\",IF(BR20>BR22,BN20,BN22))))","v":false},null,null,null,null,null,null,null,null,null,null,null,null,null,null,null,null,null,null,null,null,null,null,null,{"$f":"IF(AND(CP20=#REF!,#REF!>CQ20),#REF!,CO20)","v":{"$error":"#REF!"}},{"$f":"VLOOKUP(CR20,BM20:BX21,9,FALSE)","v":{"$error":"#REF!"}},{"$f":"VLOOKUP(CR20,BM20:BX21,8,FALSE)","v":{"$error":"#REF!"}},{"$f":"VLOOKUP(CR20,BM20:BX21,6,FALSE)","v":{"$error":"#REF!"}},{"$f":"IF(AND(CS20=#REF!,CT20=#REF!,#REF!>CU20),#REF!,CR20)","v":{"$error":"#REF!"}},{"$f":"VLOOKUP(CV20,BM20:BX21,9,FALSE)","v":{"$error":"#REF!"}},{"$f":"VLOOKUP(CV20,BM20:BX21,8,FALSE)","v":{"$error":"#REF!"}},{"$f":"VLOOKUP(CV20,BM20:BX21,6,FALSE)","v":{"$error":"#REF!"}},{"$f":"IF(AND(CW20=CW21,CX20=CX21,CY21>CY20),CV21,CV20)","v":{"$error":"#REF!"}},{"$f":"VLOOKUP(CZ20,BM20:BX21,9,FALSE)","v":{"$error":"#REF!"}},{"$f":"VLOOKUP(CZ20,BM20:BX21,8,FALSE)","v":{"$error":"#REF!"}},{"$f":"VLOOKUP(CZ20,BM20:BX21,6,FALSE)","v":{"$error":"#REF!"}},{"$f":"IF(AND(DA20=#REF!,DB20=#REF!,#REF!>DC20),#REF!,CZ20)","v":{"$error":"#REF!"}},{"$f":"VLOOKUP(DD20,BM20:BX21,9,FALSE)","v":{"$error":"#REF!"}},{"$f":"VLOOKUP(DD20,BM20:BX21,8,FALSE)","v":{"$error":"#REF!"}},{"$f":"VLOOKUP(DD20,BM20:BX21,6,FALSE)","v":{"$error":"#REF!"}},null,null,null,{"$f":"DD20","v":{"$error":"#REF!"}},{"$f":"VLOOKUP(DK20,BM20:BX21,2,FALSE)","v":{"$error":"#REF!"}},{"$f":"VLOOKUP(DK20,BM20:BX21,3,FALSE)","v":{"$error":"#REF!"}},{"$f":"VLOOKUP(DK20,BM20:BX21,4,FALSE)","v":{"$error":"#REF!"}},{"$f":"VLOOKUP(DK20,BM20:BX21,5,FALSE)","v":{"$error":"#REF!"}},{"$f":"VLOOKUP(DK20,BM20:BX21,6,FALSE)","v":{"$error":"#REF!"}},{"$f":"VLOOKUP(DK20,BM20:BX21,7,FALSE)","v":{"$error":"#REF!"}},{"$f":"VLOOKUP(DK20,BM20:BX21,8,FALSE)","v":{"$error":"#REF!"}},{"$f":"VLOOKUP(DK20,BM20:BX21,9,FALSE)","v":{"$error":"#REF!"}},null,null,{"$f":"IF(I20<>\"\",IF(I20>#REF!,C20,IF(#REF!>I20,#REF!,\"Empate\")),\"\")","v":""},{"$f":"IF(I20<>\"\",IF(I20<#REF!,C20,IF(#REF!<I20,#REF!,\"Empate\")),\"\")","v":""},null,null,{"$f":"IF(ISBLANK(EK27),COUNTA(EK28:$EK$28),0)","v":0},null,"9º",null,null,{"$f":"IF(AE9=AE13,IF(AI9=\"Bye\",AI13,IF(AI13=\"Bye\",AI9)),(IF(ISBLANK(AF9),\"\",IF(AE9>AE13,AI13,AI9))))","v":false},6,null,null,9,null,"iiiiiiiiiiiiiiiiiiiiiiiii",null,null,null,null,null,null,null,null,null,null,null,null,null,null,null,null,null,null,null,null,null,null,null,null,null,{"$f":"$AI$29","v":""},{"$f":"$AF$29","v":0},{"$f":"$AG$29","v":0},{"$f":"$AH$29","v":0},0,{"$f":"FL19+FM19+FN19","v":0},0]
[null,null,null,null,null,null,null,null,null,null,null,null,null,null,null,null,null,null,null,null,null,null,null,null,null,null,null,null,null,null,{"$f":"IF(ISBLANK(AF17),\"\",SUM(IF(AF21>AF17,1,0)+(IF(AG21>AG17,1,0)+(IF(AH21>AH17,1,0)))))","v":""},null,null,null,{"$f":"IF(AI20=FALSE,\"\",AI20)","v":""},"(V9)",null,{"$f":"IF(ISBLANK(AM21),\"\",SUM(IF(AM21>AM17,1,0)+(IF(AN21>AN17,1,0)+(IF(AO21>AO17,1,0)))))","v":""},null,null,null,{"$f":"IF(AP20=FALSE,\"\",AP20)","v":""},null,null,null,"P36",null,{"$f":"IF(BR24=BR26,IF(BN24=\"Bye\",BN26,IF(BN26=\"Bye\",BN24)),(IF(ISBLANK(BO24),\"\",IF(BR24>BR26,BN26,BN24))))","v":false},null,null,null,null,"P24",null,{"$f":"IF(BL21=BL22,IF(BH21=\"Bye\",BH22,IF(BH22=\"Bye\",BH21)),(IF(ISBLANK(BI21),\"\",IF(BL21>BL22,BH22,BH21))))","v":false},null,null,15,null,"o",null,null,null,{"$f":"IF(ISBLANK(BI21),\"\",SUM(IF(BI21>BI22,1,0)+(IF(BJ21>BJ22,1,0)+(IF(BK21>BK22,1,0)))))","v":""},"P8",{"$f":"IF(BL21=BL22,IF(BH21=\"Bye\",BH22,IF(BH22=\"Bye\",BH21)),(IF(ISBLANK(BI21),\"\",IF(BL21>BL22,BH21,BH22))))","v":false},null,"(V4)",null,null,null,{"$f":"IF(BT20=FALSE,\"\",BT20)","v":""},null,null,null,{"$f":"IF(ISBLANK(BU21),\"\",SUM(IF(BU21>BU17,1,0)+(IF(BV21>BV17,1,0)+(IF(BW21>BW17,1,0)))))","v":""},null,null,null,null,null,null,null,null,null,null,null,null,null,null,null,null,null,null,null,{"$f":"IF(AND(#REF!=CP21,CQ21>#REF!),#REF!,CO21)","v":{"$error":"#REF!"}},{"$f":"VLOOKUP(CR21,BM20:BX21,9,FALSE)","v":{"$error":"#REF!"}},{"$f":"VLOOKUP(CR21,BM20:BX21,8,FALSE)","v":{"$error":"#REF!"}},{"$f":"VLOOKUP(CR21,BM20:BX21,6,FALSE)","v":{"$error":"#REF!"}},{"$f":"IF(AND(CS21=#REF!,CT21=#REF!,#REF!>CU21),#REF!,CR21)","v":{"$error":"#REF!"}},{"$f":"VLOOKUP(CV21,BM20:BX21,9,FALSE)","v":{"$error":"#REF!"}},{"$f":"VLOOKUP(CV21,BM20:BX21,8,FALSE)","v":{"$error":"#REF!"}},{"$f":"VLOOKUP(CV21,BM20:BX21,6,FALSE)","v":{"$error":"#REF!"}},{"$f":"IF(AND(CW20=CW21,CX20=CX21,#REF!>CY20),CV20,CV21)","v":{"$error":"#REF!"}},{"$f":"VLOOKUP(CZ21,BM20:BX21,9,FALSE)","v":{"$error":"#REF!"}},{"$f":"VLOOKUP(CZ21,BM20:BX21,8,FALSE)","v":{"$error":"#REF!"}},{"$f":"VLOOKUP(CZ21,BM20:BX21,6,FALSE)","v":{"$error":"#REF!"}},{"$f":"IF(AND(#REF!=DA21,#REF!=DB21,DC21>#REF!),#REF!,CZ21)","v":{"$error":"#REF!"}},{"$f":"VLOOKUP(DD21,BM20:BX21,9,FALSE)","v":{"$error":"#REF!"}},{"$f":"VLOOKUP(DD21,BM20:BX21,8,FALSE)","v":{"$error":"#REF!"}},{"$f":"VLOOKUP(DD21,BM20:BX21,6,FALSE)","v":{"$error":"#REF!"}},null,null,null,{"$f":"DD21","v":{"$error":"#REF!"}},{"$f":"VLOOKUP(DK21,BM20:BX21,2,FALSE)","v":{"$error":"#REF!"}},{"$f":"VLOOKUP(DK21,BM20:BX21,3,FALSE)","v":{"$error":"#REF!"}},{"$f":"VLOOKUP(DK21,BM20:BX21,4,FALSE)","v":{"$error":"#REF!"}},{"$f":"VLOOKUP(DK21,BM20:BX21,5,FALSE)","v":{"$error":"#REF!"}},{"$f":"VLOOKUP(DK21,BM20:BX21,6,FALSE)","v":{"$error":"#REF!"}},{"$f":"VLOOKUP(DK21,BM20:BX21,7,FALSE)","v":{"$error":"#REF!"}},{"$f":"VLOOKUP(DK21,BM20:BX21,8,FALSE)","v":{"$error":"#REF!"}},{"$f":"VLOOKUP(DK21,BM20:BX21,9,FALSE)","v":{"$error":"#REF!"}},null,null,{"$f":"IF(Q21<>\"\",IF(Q21>#REF!,K21,IF(#REF!>Q21,#REF!,\"Empate\")),\"\")","v":""},{"$f":"IF(Q21<>\"\",IF(Q21<#REF!,K21,IF(#REF!<Q21,#REF!,\"Empate\")),\"\")","v":""},null,null,{"$f":"IF(ISBLANK(EK28),COUNTA(EC$86:$EC87),0)","v":0},null,"10º",null,null,{"$f":"IF(AE17=AE21,IF(AI17=\"Bye\",AI21,IF(AI21=\"Bye\",AI17)),(IF(ISBLANK(AF17),\"\",IF(AE17>AE21,AI21,AI17))))","v":false},6,null,null,10,null,"JOAO",null,null,null,null,null,null,null,null,null,null,"P52",null,null,null,null,null,null,null,null,null,null,null,null,null,"P52",{"$f":"$AI$33","v":""},{"$f":"$AF$33","v":0},{"$f":"$AG$33","v":0},{"$f":"$AH$33","v":0},0,{"$f":"FL22+FM22+FN22","v":0},0]
[null,null,{"$f":"IF(E15=E31,IF(I15=\"Bye\",I31,IF(I39=\"Bye\",I15)),(IF(ISBLANK(F15),\"\",IF(E15>E31,I15,I31))))","v":false},null,"Vencido",null,"3º Classificado",null,null,null,null,"Vencido",null,"4º Classificado",null,null,null,null,null,null,null,null,null,null,null,null,null,null,null,null,null,null,null,null,null,null,null,null,null,null,null,null,null,{"$f":"IF(ISBLANK(AS20),\"\",SUM(IF(AS22>AS20,1,0)+(IF(AT22>AT20,1,0)+(IF(AU22>AU20,1,0)))))","v":""},null,null,null,{"$f":"IF(AV21=FALSE,\"\",AV21)","v":""},"(V5)",null,{"$f":"IF(ISBLANK(AZ20),\"\",SUM(IF(AZ22>AZ20,1,0)+(IF(BA22>BA20,1,0)+(IF(BB22>BB20,1,0)))))","v":""},null,null,null,{"$f":"IF(BC21=FALSE,\"\",BC21)","v":""},null,null,16,null,"p",null,null,null,{"$f":"IF(ISBLANK(BI21),\"\",SUM(IF(BI22>BI21,1,0)+(IF(BJ22>BJ21,1,0)+(IF(BK22>BK21,1,0)))))","v":""},null,{"$f":"IF(BN21=FALSE,\"\",BN21)","v":""},null,null,null,{"$f":"IF(ISBLANK(BO20),\"\",SUM(IF(BO22>BO20,1,0)+(IF(BP22>BP20,1,0)+(IF(BQ22>BQ20,1,0)))))","v":""},null,null,null,null,null,null,null,null,null,null,null,null,null,null,null,null,null,null,null,null,null,null,null,"P62",null,null,null,null,null,null,null,null,null,null,null,null,null,null,null,null,null,null,null,null,null,null,null,null,null,null,null,null,null,null,null,null,null,null,null,null,null,"11º",null,null,{"$f":"IF(AE25=AE29,IF(AI25=\"Bye\",AI29,IF(AI29=\"Bye\",AI25)),(IF(ISBLANK(AF25),\"\",IF(AE25>AE29,AI29,AI25))))","v":false},6,null,null,11,null,"k",null,null,null,null,null,null,null,null,null,null,null,null,null,null,null,null,null,null,null,null,null,null,null,null,null,{"$f":"$AI$37","v":""},{"$f":"$AF$37","v":0},{"$f":"$AG$37","v":0},{"$f":"$AH$37","v":0},0,{"$f":"FL21+FM21+FN21","v":0},0]
[null,null,{"$f":"IF(C22=FALSE,\"\",C22)","v":""},null,null,null,null,null,"P61",null,null,null,null,null,null,"P60",null,null,null,null,null,null,null,null,null,null,null,null,null,null,null,null,null,null,null,null,null,null,null,null,null,null,null,null,null,null,null,{"$f":"IF(AY24=AY26,IF(BC24=\"Bye\",BC26,IF(BC26=\"Bye\",BC24)),(IF(ISBLANK(AZ24),\"\",IF(AY24>AY26,BC24,BC26))))","v":false},null,null,null,null,null,null,{"$f":"IF(BL23=BL24,IF(BH23=\"Bye\",BH24,IF(BH24=\"Bye\",BH23)),(IF(ISBLANK(BI23),\"\",IF(BL23>BL24,BH24,BH23))))","v":false},null,null,17,null,"q",null,null,null,{"$f":"IF(ISBLANK(BI23),\"\",SUM(IF(BI23>BI24,1,0)+(IF(BJ23>BJ24,1,0)+(IF(BK23>BK24,1,0)))))","v":""},"P9",{"$f":"IF(BL23=BL24,IF(BH23=\"Bye\",BH24,IF(BH24=\"Bye\",BH23)),(IF(ISBLANK(BI23),\"\",IF(BL23>BL24,BH23,BH24))))","v":false},null,null,null,null,"P25",null,null,null,null,null,null,null,null,null,null,null,null,"(V15)",null,null,null,null,null,{"$f":"IF(CJ15=CJ31,\"\",IF(CJ15>CJ31,CF15,CF31))","v":""},null,null,null,{"$f":"IF(ISBLANK(CM23),\"\",SUM(IF(CM23>CM29,1,0)+(IF(CN23>CN29,1,0)+(IF(CO23>CO29,1,0)))))","v":""},null,null,null,null,null,null,null,null,null,null,null,null,null,null,null,null,null,null,null,null,null,null,null,null,null,null,null,null,null,null,null,{"$f":"IF(#REF!<>\"\",IF(#REF!>I23,#REF!,IF(I23>#REF!,C23,\"Empate\")),\"\")","v":{"$error":"#REF!"}},{"$f":"IF(#REF!<>\"\",IF(#REF!<I23,#REF!,IF(I23<#REF!,C23,\"Empate\")),\"\")","v":{"$error":"#REF!"}},null,null,null,null,"12º",null,null,{"$f":"IF(AE33=AE37,IF(AI33=\"Bye\",AI37,IF(AI37=\"Bye\",AI33)),(IF(ISBLANK(AF33),\"\",IF(AE33>AE37,AI37,AI33))))","v":false},6,null,null,12,null,"LLLL"]
[null,null,"Vencedor P61",null,null,null,null,null,null,null,null,null,null,null,null,null,null,null,null,null,null,null,null,null,null,null,null,null,null,null,null,null,null,null,{"$f":"IF(AL25=AL29,IF(AP25=\"Bye\",AP29,IF(AP29=\"Bye\",AP25)),(IF(ISBLANK(AM25),\"\",IF(AL25>AL29,AP25,AP29))))","v":false},null,null,null,null,null,null,{"$f":"IF(AR24=AR26,IF(AV24=\"Bye\",AV26,IF(AV26=\"Bye\",AV24)),(IF(ISBLANK(AS24),\"\",IF(AR24>AR26,AV24,AV26))))","v":false},null,{"$f":"IF(ISBLANK(AS24),\"\",SUM(IF(AS24>AS26,1,0)+(IF(AT24>AT26,1,0)+(IF(AU24>AU26,1,0)))))","v":""},null,null,null,{"$f":"IF(AV23=FALSE,\"\",AV23)","v":""},null,null,{"$f":"IF(ISBLANK(AZ24),\"\",SUM(IF(AZ24>AZ26,1,0)+(IF(BA24>BA26,1,0)+(IF(BB24>BB26,1,0)))))","v":""},null,null,null,{"$f":"IF(BC23=FALSE,\"\",BC23)","v":""},null,null,18,null,"r",null,null,null,{"$f":"IF(ISBLANK(BI23),\"\",SUM(IF(BI24>BI23,1,0)+(IF(BJ24>BJ23,1,0)+(IF(BK24>BK23,1,0)))))","v":""},null,{"$f":"IF(BN23=FALSE,\"\",BN23)","v":""},null,null,null,{"$f":"IF(ISBLANK(BO24),\"\",SUM(IF(BO24>BO26,1,0)+(IF(BP24>BP26,1,0)+(IF(BQ24>BQ26,1,0)))))","v":""},null,{"$f":"IF(BR24=BR26,IF(BN24=\"Bye\",BN26,IF(BN26=\"Bye\",BN24)),(IF(ISBLANK(BO24),\"\",IF(BR24>BR26,BN24,BN26))))","v":false},null,null,null,null,"P45",null,null,null,null,null,null,null,null,null,null,null,null,null,null,null,null,null,null,{"$f":"IF(AND(CP24=CP25,CQ25>CQ24),CO25,CO24)","v":0},{"$f":"VLOOKUP(CR24,BM24:BX25,9,FALSE)","v":{"$error":"#N/A"}},{"$f":"VLOOKUP(CR24,BM24:BX25,8,FALSE)","v":{"$error":"#N/A"}},{"$f":"VLOOKUP(CR24,BM24:BX25,6,FALSE)","v":{"$error":"#N/A"}},{"$f":"IF(AND(#REF!=CS24,#REF!=CT24,CU24>#REF!),#REF!,CR24)","v":{"$error":"#REF!"}},{"$f":"VLOOKUP(CV24,BM24:BX25,9,FALSE)","v":{"$error":"#REF!"}},{"$f":"VLOOKUP(CV24,BM24:BX25,8,FALSE)","v":{"$error":"#REF!"}},{"$f":"VLOOKUP(CV24,BM24:BX25,6,FALSE)","v":{"$error":"#REF!"}},{"$f":"IF(AND(CW24=#REF!,CX24=#REF!,#REF!>CY24),#REF!,CV24)","v":{"$error":"#REF!"}},{"$f":"VLOOKUP(CZ24,BM24:BX25,9,FALSE)","v":{"$error":"#REF!"}},{"$f":"VLOOKUP(CZ24,BM24:BX25,8,FALSE)","v":{"$error":"#REF!"}},{"$f":"VLOOKUP(CZ24,BM24:BX25,6,FALSE)","v":{"$error":"#REF!"}},{"$f":"IF(AND(DA24=DA25,DB24=DB25,DC25>DC24),CZ25,CZ24)","v":{"$error":"#REF!"}},{"$f":"VLOOKUP(DD24,BM24:BX25,9,FALSE)","v":{"$error":"#REF!"}},{"$f":"VLOOKUP(DD24,BM24:BX25,8,FALSE)","v":{"$error":"#REF!"}},{"$f":"VLOOKUP(DD24,BM24:BX25,6,FALSE)","v":{"$error":"#REF!"}},null,null,null,{"$f":"DD24","v":{"$error":"#REF!"}},{"$f":"VLOOKUP(DK24,BM24:BX25,2,FALSE)","v":{"$error":"#REF!"}},{"$f":"VLOOKUP(DK24,BM24:BX25,3,FALSE)","v":{"$error":"#REF!"}},{"$f":"VLOOKUP(DK24,BM24:BX25,4,FALSE)","v":{"$error":"#REF!"}},{"$f":"VLOOKUP(DK24,BM24:BX25,5,FALSE)","v":{"$error":"#REF!"}},{"$f":"VLOOKUP(DK24,BM24:BX25,6,FALSE)","v":{"$error":"#REF!"}},{"$f":"VLOOKUP(DK24,BM24:BX25,7,FALSE)","v":{"$error":"#REF!"}},{"$f":"VLOOKUP(DK24,BM24:BX25,8,FALSE)","v":{"$error":"#REF!"}},{"$f":"VLOOKUP(DK24,BM24:BX25,9,FALSE)","v":{"$error":"#REF!"}},null,null,{"$f":"IF(#REF!<>\"\",IF(#REF!>Q24,#REF!,IF(Q24>#REF!,K24,\"Empate\")),\"\")","v":{"$error":"#REF!"}},{"$f":"IF(#REF!<>\"\",IF(#REF!<Q24,#REF!,IF(Q24<#REF!,K24,\"Empate\")),\"\")","v":{"$error":"#REF!"}},null,null,null,null,"13º",null,null,{"$f":"IF(AL9=AL13,IF(AP9=\"Bye\",AP13,IF(AP13=\"Bye\",AP9)),(IF(ISBLANK(AM9),\"\",IF(AL9>AL13,AP13,AP9))))","v":false},4,null,null,13,null,"m"]
[null,null,null,null,null,null,null,null,null,null,null,null,null,null,null,null,null,null,null,null,null,null,null,null,null,null,null,null,null,null,{"$f":"IF(ISBLANK(AF25),\"\",SUM(IF(AF25>AF29,1,0)+(IF(AG25>AG29,1,0)+(IF(AH25>AH29,1,0)))))","v":""},null,null,null,{"$f":"IF(AI24=FALSE,\"\",AI24)","v":""},null,null,{"$f":"IF(ISBLANK(AM25),\"\",SUM(IF(AM25>AM29,1,0)+(IF(AN25>AN29,1,0)+(IF(AO25>AO29,1,0)))))","v":""},null,null,null,{"$f":"IF(AP24=FALSE,\"\",AP24)","v":""},null,null,null,"P37",null,{"$f":"IF(BR20=BR22,IF(BN20=\"Bye\",BN22,IF(BN22=\"Bye\",BN20)),(IF(ISBLANK(BO20),\"\",IF(BR20>BR22,BN22,BN20))))","v":false},null,null,null,null,"P27",null,{"$f":"IF(BL25=BL26,IF(BH25=\"Bye\",BH26,IF(BH26=\"Bye\",BH25)),(IF(ISBLANK(BI25),\"\",IF(BL25>BL26,BH26,BH25))))","v":false},null,null,19,null,"s",null,null,null,{"$f":"IF(ISBLANK(BI25),\"\",SUM(IF(BI25>BI26,1,0)+(IF(BJ25>BJ26,1,0)+(IF(BK25>BK26,1,0)))))","v":""},"P10",{"$f":"IF(BL25=BL26,IF(BH25=\"Bye\",BH26,IF(BH26=\"Bye\",BH25)),(IF(ISBLANK(BI25),\"\",IF(BL25>BL26,BH25,BH26))))","v":false},null,"(V5)",null,null,null,{"$f":"IF(BT24=FALSE,\"\",BT24)","v":""},null,null,null,{"$f":"IF(ISBLANK(BU25),\"\",SUM(IF(BU25>BU29,1,0)+(IF(BV25>BV29,1,0)+(IF(BW25>BW29,1,0)))))","v":""},null,null,null,null,null,null,null,null,null,null,null,null,null,{"$f":"IF(CP23=CP29,\"\",IF(CP23>CP29,CL23,IF(CP17=CP19,\"\",IF(CP17<CP19,CL19,CL17))))","v":""},null,null,null,null,null,{"$f":"IF(AND(CP24=CP25,CQ25>CQ24),CO24,CO25)","v":0},{"$f":"VLOOKUP(CR25,BM24:BX25,9,FALSE)","v":{"$error":"#N/A"}},{"$f":"VLOOKUP(CR25,BM24:BX25,8,FALSE)","v":{"$error":"#N/A"}},{"$f":"VLOOKUP(CR25,BM24:BX25,6,FALSE)","v":{"$error":"#N/A"}},{"$f":"IF(AND(CS25=#REF!,CT25=#REF!,#REF!>CU25),#REF!,CR25)","v":{"$error":"#N/A"}},{"$f":"VLOOKUP(CV25,BM24:BX25,9,FALSE)","v":{"$error":"#N/A"}},{"$f":"VLOOKUP(CV25,BM24:BX25,8,FALSE)","v":{"$error":"#N/A"}},{"$f":"VLOOKUP(CV25,BM24:BX25,6,FALSE)","v":{"$error":"#N/A"}},{"$f":"IF(AND(#REF!=CW25,#REF!=CX25,CY24>#REF!),#REF!,CV25)","v":{"$error":"#REF!"}},{"$f":"VLOOKUP(CZ25,BM24:BX25,9,FALSE)","v":{"$error":"#REF!"}},{"$f":"VLOOKUP(CZ25,BM24:BX25,8,FALSE)","v":{"$error":"#REF!"}},{"$f":"VLOOKUP(CZ25,BM24:BX25,6,FALSE)","v":{"$error":"#REF!"}},{"$f":"IF(AND(DA24=DA25,DB24=DB25,DC25>DC24),CZ24,CZ25)","v":{"$error":"#REF!"}},{"$f":"VLOOKUP(DD25,BM24:BX25,9,FALSE)","v":{"$error":"#REF!"}},{"$f":"VLOOKUP(DD25,BM24:BX25,8,FALSE)","v":{"$error":"#REF!"}},{"$f":"VLOOKUP(DD25,BM24:BX25,6,FALSE)","v":{"$error":"#REF!"}},null,null,null,{"$f":"DD25","v":{"$error":"#REF!"}},{"$f":"VLOOKUP(DK25,BM24:BX25,2,FALSE)","v":{"$error":"#REF!"}},{"$f":"VLOOKUP(DK25,BM24:BX25,3,FALSE)","v":{"$error":"#REF!"}},{"$f":"VLOOKUP(DK25,BM24:BX25,4,FALSE)","v":{"$error":"#REF!"}},{"$f":"VLOOKUP(DK25,BM24:BX25,5,FALSE)","v":{"$error":"#REF!"}},{"$f":"VLOOKUP(DK25,BM24:BX25,6,FALSE)","v":{"$error":"#REF!"}},{"$f":"VLOOKUP(DK25,BM24:BX25,7,FALSE)","v":{"$error":"#REF!"}},{"$f":"VLOOKUP(DK25,BM24:BX25,8,FALSE)","v":{"$error":"#REF!"}},{"$f":"VLOOKUP(DK25,BM24:BX25,9,FALSE)","v":{"$error":"#REF!"}},null,null,{"$f":"IF(Q25<>\"\",IF(Q25>#REF!,K25,IF(#REF!>Q25,#REF!,\"Empate\")),\"\")","v":""},{"$f":"IF(Q25<>\"\",IF(Q25<#REF!,K25,IF(#REF!<Q25,#REF!,\"Empate\")),\"\")","v":""},null,null,null,null,"14º",null,null,{"$f":"IF(AL17=AL21,IF(AP17=\"Bye\",AP21,IF(AP21=\"Bye\",AP17)),(IF(ISBLANK(AM17),\"\",IF(AL17>AL21,AP21,AP17))))","v":false},4,null,null,14,null,"n"]
[null,null,{"$f":"IF(E15=E31,IF(I15=\"Bye\",I31,IF(I43=\"Bye\",I15)),(IF(ISBLANK(F15),\"\",IF(E15>E31,I31,I15))))","v":false},null,null,null,null,null,null,null,null,null,null,null,null,null,null,null,null,null,null,{"$f":"IF(Y27=Y35,IF(AC27=\"Bye\",AC35,IF(AC35=\"Bye\",AC27)),(IF(ISBLANK(Z27),\"\",IF(Y27>Y35,AC27,AC35))))","v":false},null,null,null,null,null,null,{"$f":"IF(AE25=AE29,IF(AI25=\"Bye\",AI29,IF(AI29=\"Bye\",AI25)),(IF(ISBLANK(AF25),\"\",IF(AE25>AE29,AI25,AI29))))","v":false},null,null,null,null,null,null,null,null,null,null,null,null,null,null,{"$f":"IF(ISBLANK(AS24),\"\",SUM(IF(AS26>AS24,1,0)+(IF(AT26>AT24,1,0)+(IF(AU26>AU24,1,0)))))","v":""},null,null,null,{"$f":"IF(AV25=FALSE,\"\",AV25)","v":""},"(V4)",null,{"$f":"IF(ISBLANK(AZ24),\"\",SUM(IF(AZ26>AZ24,1,0)+(IF(BA26>BA24,1,0)+(IF(BB26>BB24,1,0)))))","v":""},null,null,null,{"$f":"IF(BC25=FALSE,\"\",BC25)","v":""},null,null,20,null,"t",null,null,null,{"$f":"IF(ISBLANK(BI25),\"\",SUM(IF(BI26>BI25,1,0)+(IF(BJ26>BJ25,1,0)+(IF(BK26>BK25,1,0)))))","v":""},null,{"$f":"IF(BN25=FALSE,\"\",BN25)","v":""},null,null,null,{"$f":"IF(ISBLANK(BO24),\"\",SUM(IF(BO26>BO24,1,0)+(IF(BP26>BP24,1,0)+(IF(BQ26>BQ24,1,0)))))","v":""},null,null,null,null,null,null,null,{"$f":"IF(BX25=BX29,IF(BT25=\"Bye\",BT29,IF(BT29=\"Bye\",BT29)),(IF(ISBLANK(BU25),\"\",IF(BX25>BX29,BT25,BT29))))","v":false},null,null,null,null,"P54",null,null,null,null,null,null,"CAMPEÃO",null,null,null,null,null,null,null,null,null,null,null,null,null,null,null,null,null,null,null,null,null,null,null,null,null,null,null,null,null,null,null,null,null,null,null,null,null,null,null,null,null,"15º",null,null,{"$f":"IF(AL25=AL29,IF(AP25=\"Bye\",AP29,IF(AP29=\"Bye\",AP25)),(IF(ISBLANK(AM25),\"\",IF(AL25>AL29,AP29AP25))))","v":false},4,null,null,15,null,"o"]
[null,null,{"$f":"IF(C26=FALSE,\"\",C26)","v":""},null,null,null,null,null,null,null,null,null,null,null,null,null,null,{"$f":"IF(ISBLANK(S27),\"\",SUM(IF(S27>S35,1,0)+(IF(T27>T35,1,0)+(IF(U27>U35,1,0)))))","v":""},null,null,null,{"$f":"IF(V26=FALSE,\"\",V26)","v":""},null,null,{"$f":"IF(ISBLANK(Z27),\"\",SUM(IF(Z27>Z35,1,0)+(IF(AA27>AA35,1,0)+(IF(AB27>AB35,1,0)))))","v":""},null,null,null,{"$f":"IF(AC26=FALSE,\"\",AC26)","v":""},null,"P51",null,null,null,null,null,null,"P47",null,null,null,null,null,null,null,null,null,{"$f":"IF(AY28=AY30,IF(BC28=\"Bye\",BC30,IF(BC30=\"Bye\",BC28)),(IF(ISBLANK(AZ28),\"\",IF(AY28>AY30,BC28,BC30))))","v":false},null,null,null,null,null,null,{"$f":"IF(BL27=BL28,IF(BH27=\"Bye\",BH28,IF(BH28=\"Bye\",BH27)),(IF(ISBLANK(BI27),\"\",IF(BL27>BL28,BH28,BH27))))","v":false},null,null,21,null,"u",null,null,null,{"$f":"IF(ISBLANK(BI27),\"\",SUM(IF(BI27>BI28,1,0)+(IF(BJ27>BJ28,1,0)+(IF(BK27>BK28,1,0)))))","v":""},"P11",{"$f":"IF(BL27=BL28,IF(BH27=\"Bye\",BH28,IF(BH28=\"Bye\",BH27)),(IF(ISBLANK(BI27),\"\",IF(BL27>BL28,BH27,BH28))))","v":false},null,null,null,null,"P26","(V11)",null,null,null,null,null,{"$f":"IF(BZ26=FALSE,\"\",BZ26)","v":""},null,null,null,{"$f":"IF(ISBLANK(CA27),\"\",SUM(IF(CA27>CA35,1,0)+(IF(CB27>CB35,1,0)+(IF(CC27>CC35,1,0)))))","v":""},null,null,null,null,null,null,null,null,null,null,null,null,null,null,null,null,null,null,null,null,null,null,null,null,null,null,null,null,null,null,null,null,null,null,null,null,null,null,null,null,null,null,null,{"$f":"IF(#REF!<>\"\",IF(#REF!>I27,#REF!,IF(I27>#REF!,C27,\"Empate\")),\"\")","v":{"$error":"#REF!"}},{"$f":"IF(#REF!<>\"\",IF(#REF!<I27,#REF!,IF(I27<#REF!,C27,\"Empate\")),\"\")","v":{"$error":"#REF!"}},null,null,null,null,"16º",null,null,{"$f":"IF(AL33=AL37,IF(AP33=\"Bye\",AP37,IF(AP37=\"Bye\",AP33)),(IF(ISBLANK(AM33),\"\",IF(AL33>AL37,AP37,AP33))))","v":false},4,null,null,16,null,"p"]
[null,null,"3º Class -Vencido - P61",null,null,null,null,null,null,null,null,null,null,null,null,null,null,null,null,null,null,null,null,null,null,null,null,null,null,null,null,null,null,null,{"$f":"IF(BX33=BX37,IF(BT33=\"Bye\",BT37,IF(BT37=\"Bye\",BT37)),(IF(ISBLANK(BU33),\"\",IF(BX33>BX37,BT37,BT33))))","v":false},null,null,null,null,null,null,{"$f":"IF(AR28=AR30,IF(AV28=\"Bye\",AV30,IF(AV30=\"Bye\",AV28)),(IF(ISBLANK(AS28),\"\",IF(AR28>AR30,AV28,AV30))))","v":false},null,{"$f":"IF(ISBLANK(AS28),\"\",SUM(IF(AS28>AS30,1,0)+(IF(AT28>AT30,1,0)+(IF(AU28>AU30,1,0)))))","v":""},null,null,null,{"$f":"IF(AV27=FALSE,\"\",AV27)","v":""},null,null,{"$f":"IF(ISBLANK(AZ28),\"\",SUM(IF(AZ28>AZ30,1,0)+(IF(BA28>BA30,1,0)+(IF(BB28>BB30,1,0)))))","v":""},null,null,null,{"$f":"IF(BC27=FALSE,\"\",BC27)","v":""},null,null,22,null,"v",null,null,null,{"$f":"IF(ISBLANK(BI27),\"\",SUM(IF(BI28>BI27,1,0)+(IF(BJ28>BJ27,1,0)+(IF(BK28>BK27,1,0)))))","v":""},null,{"$f":"IF(BN27=FALSE,\"\",BN27)","v":""},null,null,null,{"$f":"IF(ISBLANK(BO28),\"\",SUM(IF(BO28>BO30,1,0)+(IF(BP28>BP30,1,0)+(IF(BQ28>BQ30,1,0)))))","v":""},null,{"$f":"IF(BR28=BR30,IF(BN28=\"Bye\",BN30,IF(BN30=\"Bye\",BN28)),(IF(ISBLANK(BO28),\"\",IF(BR28>BR30,BN28,BN30))))","v":false},null,null,null,null,null,null,null,null,null,null,null,null,null,null,null,null,null,null,null,null,null,"P61",null,{"$f":"IF(AND(CP28=#REF!,#REF!>CQ28),#REF!,CO28)","v":{"$error":"#REF!"}},{"$f":"VLOOKUP(CR28,BM28:BX29,9,FALSE)","v":{"$error":"#REF!"}},{"$f":"VLOOKUP(CR28,BM28:BX29,8,FALSE)","v":{"$error":"#REF!"}},{"$f":"VLOOKUP(CR28,BM28:BX29,6,FALSE)","v":{"$error":"#REF!"}},{"$f":"IF(AND(CS28=#REF!,CT28=#REF!,#REF!>CU28),#REF!,CR28)","v":{"$error":"#REF!"}},{"$f":"VLOOKUP(CV28,BM28:BX29,9,FALSE)","v":{"$error":"#REF!"}},{"$f":"VLOOKUP(CV28,BM28:BX29,8,FALSE)","v":{"$error":"#REF!"}},{"$f":"VLOOKUP(CV28,BM28:BX29,6,FALSE)","v":{"$error":"#REF!"}},{"$f":"IF(AND(CW28=CW29,CX28=CX29,CY29>CY28),CV29,CV28)","v":{"$error":"#REF!"}},{"$f":"VLOOKUP(CZ28,BM28:BX29,9,FALSE)","v":{"$error":"#REF!"}},{"$f":"VLOOKUP(CZ28,BM28:BX29,8,FALSE)","v":{"$error":"#REF!"}},{"$f":"VLOOKUP(CZ28,BM28:BX29,6,FALSE)","v":{"$error":"#REF!"}},{"$f":"IF(AND(DA28=#REF!,DB28=#REF!,#REF!>DC28),#REF!,CZ28)","v":{"$error":"#REF!"}},{"$f":"VLOOKUP(DD28,BM28:BX29,9,FALSE)","v":{"$error":"#REF!"}},{"$f":"VLOOKUP(DD28,BM28:BX29,8,FALSE)","v":{"$error":"#REF!"}},{"$f":"VLOOKUP(DD28,BM28:BX29,6,FALSE)","v":{"$error":"#REF!"}},null,null,null,{"$f":"DD28","v":{"$error":"#REF!"}},{"$f":"VLOOKUP(DK28,BM28:BX29,2,FALSE)","v":{"$error":"#REF!"}},{"$f":"VLOOKUP(DK28,BM28:BX29,3,FALSE)","v":{"$error":"#REF!"}},{"$f":"VLOOKUP(DK28,BM28:BX29,4,FALSE)","v":{"$error":"#REF!"}},{"$f":"VLOOKUP(DK28,BM28:BX29,5,FALSE)","v":{"$error":"#REF!"}},{"$f":"VLOOKUP(DK28,BM28:BX29,6,FALSE)","v":{"$error":"#REF!"}},{"$f":"VLOOKUP(DK28,BM28:BX29,7,FALSE)","v":{"$error":"#REF!"}},{"$f":"VLOOKUP(DK28,BM28:BX29,8,FALSE)","v":{"$error":"#REF!"}},{"$f":"VLOOKUP(DK28,BM28:BX29,9,FALSE)","v":{"$error":"#REF!"}},null,null,{"$f":"IF(I28<>\"\",IF(I28>#REF!,C28,IF(#REF!>I28,#REF!,\"Empate\")),\"\")","v":""},{"$f":"IF(I28<>\"\",IF(I28<#REF!,C28,IF(#REF!<I28,#REF!,\"Empate\")),\"\")","v":""},null,null,null,null,"17º",null,null,{"$f":"IF(AR9=AR10,IF(AV8=\"Bye\",AV10,IF(AV10=\"Bye\",AV8)),(IF(ISBLANK(AS8),\"\",IF(AR8>AR10,AV10,AV8))))","v":false},2,null,null,17,null,"q"]
[null,null,null,null,null,null,null,null,null,null,null,null,null,null,null,null,null,null,null,null,null,null,null,null,null,null,null,null,null,null,{"$f":"IF(ISBLANK(AF25),\"\",SUM(IF(AF29>AF25,1,0)+(IF(AG29>AG25,1,0)+(IF(AH29>AH25,1,0)))))","v":""},null,null,null,{"$f":"IF(AI28=FALSE,\"\",AI28)","v":""},"(V12)",null,{"$f":"IF(ISBLANK(AM29),\"\",SUM(IF(AM29>AM25,1,0)+(IF(AN29>AN25,1,0)+(IF(AO29>AO25,1,0)))))","v":""},null,null,null,{"$f":"IF(AP28=FALSE,\"\",AP28)","v":""},null,null,null,"P38",null,{"$f":"IF(BR16=BR18,IF(BN16=\"Bye\",BN18,IF(BN18=\"Bye\",BN16)),(IF(ISBLANK(BO16),\"\",IF(BR16>BR18,BN18,BN16))))","v":false},null,null,null,null,"P28",null,{"$f":"IF(BL29=BL30,IF(BH29=\"Bye\",BH30,IF(BH30=\"Bye\",BH29)),(IF(ISBLANK(BI29),\"\",IF(BL29>BL30,BH30,BH29))))","v":false},null,null,23,null,"x",null,null,null,{"$f":"IF(ISBLANK(BI29),\"\",SUM(IF(BI29>BI30,1,0)+(IF(BJ29>BJ30,1,0)+(IF(BK29>BK30,1,0)))))","v":""},"P12",{"$f":"IF(BL29=BL30,IF(BH29=\"Bye\",BH30,IF(BH30=\"Bye\",BH29)),(IF(ISBLANK(BI29),\"\",IF(BL29>BL30,BH29,BH30))))","v":false},null,"(V6)",null,null,null,{"$f":"IF(BT28=FALSE,\"\",BT28)","v":""},null,null,null,{"$f":"IF(ISBLANK(BU29),\"\",SUM(IF(BU29>BU25,1,0)+(IF(BV29>BV25,1,0)+(IF(BW29>BW25,1,0)))))","v":""},null,null,null,null,null,null,null,null,null,null,null,null,null,{"$f":"IF(E15=E31,\"\",IF(E15>E31,I15,I31))","v":""},null,null,null,{"$f":"IF(ISBLANK(CM29),\"\",SUM(IF(CM29>CM23,1,0)+(IF(CN29>CN23,1,0)+(IF(CO29>CO23,1,0)))))","v":""},null,{"$f":"IF(AND(#REF!=CP29,CQ29>#REF!),#REF!,CO29)","v":{"$error":"#REF!"}},{"$f":"VLOOKUP(CR29,BM28:BX29,9,FALSE)","v":{"$error":"#REF!"}},{"$f":"VLOOKUP(CR29,BM28:BX29,8,FALSE)","v":{"$error":"#REF!"}},{"$f":"VLOOKUP(CR29,BM28:BX29,6,FALSE)","v":{"$error":"#REF!"}},{"$f":"IF(AND(CS29=#REF!,CT29=#REF!,#REF!>CU29),#REF!,CR29)","v":{"$error":"#REF!"}},{"$f":"VLOOKUP(CV29,BM28:BX29,9,FALSE)","v":{"$error":"#REF!"}},{"$f":"VLOOKUP(CV29,BM28:BX29,8,FALSE)","v":{"$error":"#REF!"}},{"$f":"VLOOKUP(CV29,BM28:BX29,6,FALSE)","v":{"$error":"#REF!"}},{"$f":"IF(AND(CW28=CW29,CX28=CX29,#REF!>CY28),CV28,CV29)","v":{"$error":"#REF!"}},{"$f":"VLOOKUP(CZ29,BM28:BX29,9,FALSE)","v":{"$error":"#REF!"}},{"$f":"VLOOKUP(CZ29,BM28:BX29,8,FALSE)","v":{"$error":"#REF!"}},{"$f":"VLOOKUP(CZ29,BM28:BX29,6,FALSE)","v":{"$error":"#REF!"}},{"$f":"IF(AND(#REF!=DA29,#REF!=DB29,DC29>#REF!),#REF!,CZ29)","v":{"$error":"#REF!"}},{"$f":"VLOOKUP(DD29,BM28:BX29,9,FALSE)","v":{"$error":"#REF!"}},{"$f":"VLOOKUP(DD29,BM28:BX29,8,FALSE)","v":{"$error":"#REF!"}},{"$f":"VLOOKUP(DD29,BM28:BX29,6,FALSE)","v":{"$error":"#REF!"}},null,null,null,{"$f":"DD29","v":{"$error":"#REF!"}},{"$f":"VLOOKUP(DK29,BM28:BX29,2,FALSE)","v":{"$error":"#REF!"}},{"$f":"VLOOKUP(DK29,BM28:BX29,3,FALSE)","v":{"$error":"#REF!"}},{"$f":"VLOOKUP(DK29,BM28:BX29,4,FALSE)","v":{"$error":"#REF!"}},{"$f":"VLOOKUP(DK29,BM28:BX29,5,FALSE)","v":{"$error":"#REF!"}},{"$f":"VLOOKUP(DK29,BM28:BX29,6,FALSE)","v":{"$error":"#REF!"}},{"$f":"VLOOKUP(DK29,BM28:BX29,7,FALSE)","v":{"$error":"#REF!"}},{"$f":"VLOOKUP(DK29,BM28:BX29,8,FALSE)","v":{"$error":"#REF!"}},{"$f":"VLOOKUP(DK29,BM28:BX29,9,FALSE)","v":{"$error":"#REF!"}},null,null,{"$f":"IF(Q29<>\"\",IF(Q29>#REF!,K29,IF(#REF!>Q29,#REF!,\"Empate\")),\"\")","v":""},{"$f":"IF(Q29<>\"\",IF(Q29<#REF!,K29,IF(#REF!<Q29,#REF!,\"Empate\")),\"\")","v":""},null,null,null,null,"18º",null,null,{"$f":"IF(AR13=AR14,IF(AV12=\"Bye\",AV14,IF(AV14=\"Bye\",AV12)),(IF(ISBLANK(AS12),\"\",IF(AR12>AR14,AV14,AV12))))","v":false},2,null,null,18,null,"r"]
[null,null,null,null,null,null,null,null,{"$f":"IF(CJ15=CJ31,IF(CF15=\"Bye\",CF31,IF(CF31=\"Bye\",CF31)),(IF(ISBLANK(CG15),\"\",IF(CJ15>CJ31,CF31,CF15))))","v":false},null,null,null,null,null,null,{"$f":"IF(R27=R35,IF(V27=\"Bye\",V35,IF(V35=\"Bye\",V27)),(IF(ISBLANK(S27),\"\",IF(R27>R35,V27,V35))))","v":false},null,"Vencido",null,null,null,null,null,null,"Vencido",null,null,null,null,null,null,null,null,null,null,null,null,null,null,null,null,null,null,{"$f":"IF(ISBLANK(AS28),\"\",SUM(IF(AS30>AS28,1,0)+(IF(AT30>AT28,1,0)+(IF(AU30>AU28,1,0)))))","v":""},null,null,null,{"$f":"IF(AV29=FALSE,\"\",AV29)","v":""},"(V3)",null,{"$f":"IF(ISBLANK(AZ28),\"\",SUM(IF(AZ30>AZ28,1,0)+(IF(BA30>BA28,1,0)+(IF(BB30>BB28,1,0)))))","v":""},null,null,null,{"$f":"IF(BC29=FALSE,\"\",BC29)","v":""},null,null,24,null,"z",null,null,null,{"$f":"IF(ISBLANK(BI29),\"\",SUM(IF(BI30>BI29,1,0)+(IF(BJ30>BJ29,1,0)+(IF(BK30>BK29,1,0)))))","v":""},null,{"$f":"IF(BN29=FALSE,\"\",BN29)","v":""},null,null,null,{"$f":"IF(ISBLANK(BO28),\"\",SUM(IF(BO30>BO28,1,0)+(IF(BP30>BP28,1,0)+(IF(BQ30>BQ28,1,0)))))","v":""},null,null,null,null,null,null,null,null,null,null,null,null,null,{"$f":"IF(CD27=CD35,IF(BZ27=\"Bye\",BZ35,IF(BZ35=\"Bye\",BZ35)),(IF(ISBLANK(CA27),\"\",IF(CD27>CD35,BZ27,BZ35))))","v":false},null,null,null,null,null,"Se o Vencedor for P61 então disputará uma finalíssima P63",null,null,null,null,null,null,null,null,null,null,null,null,null,null,null,null,null,null,null,null,null,null,null,null,null,null,null,null,null,null,null,null,null,null,null,null,null,null,null,null,null,"19º",null,null,{"$f":"IF(AR17=AR18,IF(AV16=\"Bye\",AV18,IF(AV18=\"Bye\",AV16)),(IF(ISBLANK(AS16),\"\",IF(AR16>AR18,AV18,AV16))))","v":false},2,null,null,19,null,"s"]
[null,null,null,null,{"$f":"IF(ISBLANK(F31),\"\",SUM(IF(F31>F15,1,0)+(IF(G31>G15,1,0)+(IF(H31>H15,1,0)))))","v":""},null,null,null,{"$f":"IF(I30=FALSE,\"\",I30)","v":""},"(V15)",null,{"$f":"IF(ISBLANK(M31),\"\",SUM(IF(M31>M15,1,0)+(IF(N31>N15,1,0)+(IF(O31>O15,1,0)))))","v":""},null,null,null,{"$f":"IF(P30=FALSE,\"\",P30)","v":""},null,null,null,17,null,"P58",null,null,null,null,19,null,"P56",null,null,null,null,null,null,null,null,null,null,null,null,null,null,null,null,null,null,{"$f":"IF(AY32=AY34,IF(BC32=\"Bye\",BC34,IF(BC34=\"Bye\",BC32)),(IF(ISBLANK(AZ32),\"\",IF(AY32>AY34,BC32,BC34))))","v":false},null,null,null,null,null,null,{"$f":"IF(BL31=BL32,IF(BH31=\"Bye\",BH32,IF(BH32=\"Bye\",BH31)),(IF(ISBLANK(BI31),\"\",IF(BL31>BL32,BH32,BH31))))","v":false},null,null,25,null,"aa",null,null,null,{"$f":"IF(ISBLANK(BI31),\"\",SUM(IF(BI31>BI32,1,0)+(IF(BJ31>BJ32,1,0)+(IF(BK31>BK32,1,0)))))","v":""},"P13",{"$f":"IF(BL31=BL32,IF(BH31=\"Bye\",BH32,IF(BH32=\"Bye\",BH31)),(IF(ISBLANK(BI31),\"\",IF(BL31>BL32,BH31,BH32))))","v":false},null,null,null,null,"P29",null,null,null,null,null,null,"(V14)",null,null,null,null,null,{"$f":"IF(CF30=FALSE,\"\",CF30)","v":""},null,null,null,{"$f":"IF(ISBLANK(CG31),\"\",SUM(IF(CG31>CG15,1,0)+(IF(CH31>CH15,1,0)+(IF(CI31>CI15,1,0)))))","v":""},null,null,null,null,null,null,null,null,null,null,null,null,null,null,null,null,null,null,null,null,null,null,null,null,null,null,null,null,null,null,null,null,null,null,null,null,null,{"$f":"IF(#REF!<>\"\",IF(#REF!>I31,#REF!,IF(I31>#REF!,C31,\"Empate\")),\"\")","v":{"$error":"#REF!"}},{"$f":"IF(#REF!<>\"\",IF(#REF!<I31,#REF!,IF(I31<#REF!,C31,\"Empate\")),\"\")","v":{"$error":"#REF!"}},null,null,null,null,"20º",null,null,{"$f":"IF(AR21=AR22,IF(AV20=\"Bye\",AV22,IF(AV22=\"Bye\",AV20)),(IF(ISBLANK(AS20),\"\",IF(AR20>AR22,AV22,AV20))))","v":false},2,null,null,20,null,"t"]
[null,null,null,null,null,null,null,null,null,null,null,null,null,null,null,null,null,null,null,null,null,null,null,null,null,null,null,null,null,null,null,null,null,null,{"$f":"IF(AL33=AL37,IF(AP33=\"Bye\",AP37,IF(AP37=\"Bye\",AP33)),(IF(ISBLANK(AM33),\"\",IF(AL33>AL37,AP33,AP37))))","v":false},null,null,null,null,null,null,{"$f":"IF(AR32=AR34,IF(AV32=\"Bye\",AV34,IF(AV34=\"Bye\",AV32)),(IF(ISBLANK(AS32),\"\",IF(AR32>AR34,AV32,AV34))))","v":false},null,{"$f":"IF(ISBLANK(AS32),\"\",SUM(IF(AS32>AS34,1,0)+(IF(AT32>AT34,1,0)+(IF(AU32>AU34,1,0)))))","v":""},null,null,null,{"$f":"IF(AV31=FALSE,\"\",AV31)","v":""},null,null,{"$f":"IF(ISBLANK(AZ32),\"\",SUM(IF(AZ32>AZ34,1,0)+(IF(BA32>BA34,1,0)+(IF(BB32>BB34,1,0)))))","v":""},null,null,null,{"$f":"IF(BC31=FALSE,\"\",BC31)","v":""},null,null,26,null,"bb",null,null,null,{"$f":"IF(ISBLANK(BI31),\"\",SUM(IF(BI32>BI31,1,0)+(IF(BJ32>BJ31,1,0)+(IF(BK32>BK31,1,0)))))","v":""},null,{"$f":"IF(BN31=FALSE,\"\",BN31)","v":""},null,null,null,{"$f":"IF(ISBLANK(BO32),\"\",SUM(IF(BO32>BO34,1,0)+(IF(BP32>BP34,1,0)+(IF(BQ32>BQ34,1,0)))))","v":""},null,{"$f":"IF(BR32=BR34,IF(BN32=\"Bye\",BN34,IF(BN34=\"Bye\",BN32)),(IF(ISBLANK(BO32),\"\",IF(BR32>BR34,BN32,BN34))))","v":false},null,null,null,null,"P46",null,null,null,null,null,null,null,null,null,null,null,null,null,null,null,null,null,null,{"$f":"IF(AND(CP32=#REF!,#REF!>CQ32),#REF!,CO32)","v":{"$error":"#REF!"}},{"$f":"VLOOKUP(CR32,BM32:BX33,9,FALSE)","v":{"$error":"#REF!"}},{"$f":"VLOOKUP(CR32,BM32:BX33,8,FALSE)","v":{"$error":"#REF!"}},{"$f":"VLOOKUP(CR32,BM32:BX33,6,FALSE)","v":{"$error":"#REF!"}},{"$f":"IF(AND(CS32=#REF!,CT32=#REF!,#REF!>CU32),#REF!,CR32)","v":{"$error":"#REF!"}},{"$f":"VLOOKUP(CV32,BM32:BX33,9,FALSE)","v":{"$error":"#REF!"}},{"$f":"VLOOKUP(CV32,BM32:BX33,8,FALSE)","v":{"$error":"#REF!"}},{"$f":"VLOOKUP(CV32,BM32:BX33,6,FALSE)","v":{"$error":"#REF!"}},{"$f":"IF(AND(CW32=CW33,CX32=CX33,CY33>CY32),CV33,CV32)","v":{"$error":"#REF!"}},{"$f":"VLOOKUP(CZ32,BM32:BX33,9,FALSE)","v":{"$error":"#REF!"}},{"$f":"VLOOKUP(CZ32,BM32:BX33,8,FALSE)","v":{"$error":"#REF!"}},{"$f":"VLOOKUP(CZ32,BM32:BX33,6,FALSE)","v":{"$error":"#REF!"}},{"$f":"IF(AND(DA32=#REF!,DB32=#REF!,#REF!>DC32),#REF!,CZ32)","v":{"$error":"#REF!"}},{"$f":"VLOOKUP(DD32,BM32:BX33,9,FALSE)","v":{"$error":"#REF!"}},{"$f":"VLOOKUP(DD32,BM32:BX33,8,FALSE)","v":{"$error":"#REF!"}},{"$f":"VLOOKUP(DD32,BM32:BX33,6,FALSE)","v":{"$error":"#REF!"}},null,null,null,{"$f":"DD32","v":{"$error":"#REF!"}},{"$f":"VLOOKUP(DK32,BM32:BX33,2,FALSE)","v":{"$error":"#REF!"}},{"$f":"VLOOKUP(DK32,BM32:BX33,3,FALSE)","v":{"$error":"#REF!"}},{"$f":"VLOOKUP(DK32,BM32:BX33,4,FALSE)","v":{"$error":"#REF!"}},{"$f":"VLOOKUP(DK32,BM32:BX33,5,FALSE)","v":{"$error":"#REF!"}},{"$f":"VLOOKUP(DK32,BM32:BX33,6,FALSE)","v":{"$error":"#REF!"}},{"$f":"VLOOKUP(DK32,BM32:BX33,7,FALSE)","v":{"$error":"#REF!"}},{"$f":"VLOOKUP(DK32,BM32:BX33,8,FALSE)","v":{"$error":"#REF!"}},{"$f":"VLOOKUP(DK32,BM32:BX33,9,FALSE)","v":{"$error":"#REF!"}},null,null,{"$f":"IF(I32<>\"\",IF(I32>#REF!,C32,IF(#REF!>I32,#REF!,\"Empate\")),\"\")","v":""},{"$f":"IF(I32<>\"\",IF(I32<#REF!,C32,IF(#REF!<I32,#REF!,\"Empate\")),\"\")","v":""},null,null,null,null,"21º",null,null,{"$f":"IF(AR25=AR26,IF(AV24=\"Bye\",AV26,IF(AV26=\"Bye\",AV24)),(IF(ISBLANK(AS24),\"\",IF(AR24>AR26,AV26,AV26))))","v":false},2,null,null,21,null,"u"]
[null,null,null,null,null,null,null,null,null,null,null,null,null,null,null,null,null,null,null,null,null,null,null,null,null,null,null,null,null,null,{"$f":"IF(ISBLANK(AF33),\"\",SUM(IF(AF33>AF37,1,0)+(IF(AG33>AG37,1,0)+(IF(AH33>AH37,1,0)))))","v":""},null,null,null,{"$f":"IF(AI32=FALSE,\"\",AI32)","v":""},null,null,{"$f":"IF(ISBLANK(AM33),\"\",SUM(IF(AM33>AM37,1,0)+(IF(AN33>AN37,1,0)+(IF(AO33>AO37,1,0)))))","v":""},null,null,null,{"$f":"IF(AP32=FALSE,\"\",AP32)","v":""},null,null,null,"P39",null,{"$f":"IF(BR12=BR14,IF(BN12=\"Bye\",BN14,IF(BN14=\"Bye\",BN12)),(IF(ISBLANK(BO12),\"\",IF(BR12>BR14,BN14,BN12))))","v":false},null,null,null,null,"P31",null,{"$f":"IF(BL33=BL34,IF(BH33=\"Bye\",BH34,IF(BH34=\"Bye\",BH33)),(IF(ISBLANK(BI33),\"\",IF(BL33>BL34,BH34,BH33))))","v":false},null,null,27,null,"cc",null,null,null,{"$f":"IF(ISBLANK(BI33),\"\",SUM(IF(BI33>BI34,1,0)+(IF(BJ33>BJ34,1,0)+(IF(BK33>BK34,1,0)))))","v":""},"P14",{"$f":"IF(BL33=BL34,IF(BH33=\"Bye\",BH34,IF(BH34=\"Bye\",BH33)),(IF(ISBLANK(BI33),\"\",IF(BL33>BL34,BH33,BH34))))","v":false},null,"(V7)",null,null,null,{"$f":"IF(BT32=FALSE,\"\",BT32)","v":""},null,null,null,{"$f":"IF(ISBLANK(BU33),\"\",SUM(IF(BU33>BU37,1,0)+(IF(BV33>BV37,1,0)+(IF(BW33>BW37,1,0)))))","v":""},null,null,null,null,null,null,null,null,null,null,null,null,null,null,null,null,null,null,null,{"$f":"IF(AND(#REF!=CP33,CQ33>#REF!),#REF!,CO33)","v":{"$error":"#REF!"}},{"$f":"VLOOKUP(CR33,BM32:BX33,9,FALSE)","v":{"$error":"#REF!"}},{"$f":"VLOOKUP(CR33,BM32:BX33,8,FALSE)","v":{"$error":"#REF!"}},{"$f":"VLOOKUP(CR33,BM32:BX33,6,FALSE)","v":{"$error":"#REF!"}},{"$f":"IF(AND(CS33=#REF!,CT33=#REF!,#REF!>CU33),#REF!,CR33)","v":{"$error":"#REF!"}},{"$f":"VLOOKUP(CV33,BM32:BX33,9,FALSE)","v":{"$error":"#REF!"}},{"$f":"VLOOKUP(CV33,BM32:BX33,8,FALSE)","v":{"$error":"#REF!"}},{"$f":"VLOOKUP(CV33,BM32:BX33,6,FALSE)","v":{"$error":"#REF!"}},{"$f":"IF(AND(CW32=CW33,CX32=CX33,#REF!>CY32),CV32,CV33)","v":{"$error":"#REF!"}},{"$f":"VLOOKUP(CZ33,BM32:BX33,9,FALSE)","v":{"$error":"#REF!"}},{"$f":"VLOOKUP(CZ33,BM32:BX33,8,FALSE)","v":{"$error":"#REF!"}},{"$f":"VLOOKUP(CZ33,BM32:BX33,6,FALSE)","v":{"$error":"#REF!"}},{"$f":"IF(AND(#REF!=DA33,#REF!=DB33,DC33>#REF!),#REF!,CZ33)","v":{"$error":"#REF!"}},{"$f":"VLOOKUP(DD33,BM32:BX33,9,FALSE)","v":{"$error":"#REF!"}},{"$f":"VLOOKUP(DD33,BM32:BX33,8,FALSE)","v":{"$error":"#REF!"}},{"$f":"VLOOKUP(DD33,BM32:BX33,6,FALSE)","v":{"$error":"#REF!"}},null,null,null,{"$f":"DD33","v":{"$error":"#REF!"}},{"$f":"VLOOKUP(DK33,BM32:BX33,2,FALSE)","v":{"$error":"#REF!"}},{"$f":"VLOOKUP(DK33,BM32:BX33,3,FALSE)","v":{"$error":"#REF!"}},{"$f":"VLOOKUP(DK33,BM32:BX33,4,FALSE)","v":{"$error":"#REF!"}},{"$f":"VLOOKUP(DK33,BM32:BX33,5,FALSE)","v":{"$error":"#REF!"}},{"$f":"VLOOKUP(DK33,BM32:BX33,6,FALSE)","v":{"$error":"#REF!"}},{"$f":"VLOOKUP(DK33,BM32:BX33,7,FALSE)","v":{"$error":"#REF!"}},{"$f":"VLOOKUP(DK33,BM32:BX33,8,FALSE)","v":{"$error":"#REF!"}},{"$f":"VLOOKUP(DK33,BM32:BX33,9,FALSE)","v":{"$error":"#REF!"}},null,null,{"$f":"IF(Q33<>\"\",IF(Q33>#REF!,K33,IF(#REF!>Q33,#REF!,\"Empate\")),\"\")","v":""},{"$f":"IF(Q33<>\"\",IF(Q33<#REF!,K33,IF(#REF!<Q33,#REF!,\"Empate\")),\"\")","v":""},null,null,null,null,"22º",null,null,{"$f":"IF(AR29=AR30,IF(AV28=\"Bye\",AV30,IF(AV30=\"Bye\",AV28)),(IF(ISBLANK(AS28),\"\",IF(AR28>AR30,AV30,AV28))))","v":false},2,null,null,22,null,"v"]
[null,null,null,null,null,null,null,null,null,null,null,null,null,null,null,null,null,null,null,null,null,{"$f":"IF(CD11=CD19,IF(BZ11=\"Bye\",BZ19,IF(BZ19=\"Bye\",BZ19)),(IF(ISBLANK(CA11),\"\",IF(CD11>CD19,BZ19,BZ11))))","v":false},null,null,null,null,null,null,{"$f":"IF(AE33=AE37,IF(AI33=\"Bye\",AI37,IF(AI37=\"Bye\",AI33)),(IF(ISBLANK(AF33),\"\",IF(AE33>AE37,AI33,AI37))))","v":false},null,null,null,null,null,null,null,null,null,null,null,null,null,null,{"$f":"IF(ISBLANK(AS32),\"\",SUM(IF(AS34>AS32,1,0)+(IF(AT34>AT32,1,0)+(IF(AU34>AU32,1,0)))))","v":""},null,null,null,{"$f":"IF(AV33=FALSE,\"\",AV33)","v":""},"(V2)",null,{"$f":"IF(ISBLANK(AZ32),\"\",SUM(IF(AZ34>AZ32,1,0)+(IF(BA34>BA32,1,0)+(IF(BB34>BB32,1,0)))))","v":""},null,null,null,{"$f":"IF(BC33=FALSE,\"\",BC33)","v":""},null,null,28,null,"dd",null,null,null,{"$f":"IF(ISBLANK(BI33),\"\",SUM(IF(BI34>BI33,1,0)+(IF(BJ34>BJ33,1,0)+(IF(BK34>BK33,1,0)))))","v":""},null,{"$f":"IF(BN33=FALSE,\"\",BN33)","v":""},null,null,null,{"$f":"IF(ISBLANK(BO32),\"\",SUM(IF(BO34>BO32,1,0)+(IF(BP34>BP32,1,0)+(IF(BQ34>BQ32,1,0)))))","v":""},null,null,null,null,null,null,null,{"$f":"IF(BX33=BX37,IF(BT33=\"Bye\",BT37,IF(BT37=\"Bye\",BT37)),(IF(ISBLANK(BU33),\"\",IF(BX33>BX37,BT33,BT37))))","v":false},null,null,null,null,null,null,null,null,null,null,null,null,null,null,null,null,null,null,null,null,null,null,null,null,null,null,null,null,null,null,null,null,null,null,null,null,null,null,null,null,null,null,null,null,null,null,null,null,null,null,null,null,null,"23º",null,null,{"$f":"IF(AR33=AR34,IF(AV32=\"Bye\",AV34,IF(AV34=\"Bye\",AV32)),(IF(ISBLANK(AS32),\"\",IF(AR32>AR34,AV34,AV33))))","v":false},2,null,null,23,null,"x"]
[null,null,null,null,null,null,null,null,null,null,null,null,null,null,null,null,null,{"$f":"IF(ISBLANK(S35),\"\",SUM(IF(S35>S27,1,0)+(IF(T35>T27,1,0)+(IF(U35>U27,1,0)))))","v":""},null,null,null,{"$f":"IF(V34=FALSE,\"\",V34)","v":""},"(V13)",null,{"$f":"IF(ISBLANK(Z35),\"\",SUM(IF(Z35>Z27,1,0)+(IF(AA35>AA27,1,0)+(IF(AB35>AB27,1,0)))))","v":""},null,null,null,{"$f":"IF(AC34=FALSE,\"\",AC34)","v":""},null,"P52",null,null,null,null,null,null,"P48",null,null,null,null,null,null,null,null,null,{"$f":"IF(AY36=AY38,IF(BC36=\"Bye\",BC38,IF(BC38=\"Bye\",BC36)),(IF(ISBLANK(AZ36),\"\",IF(AY36>AY38,BC36,BC38))))","v":false},null,null,null,null,null,null,{"$f":"IF(BL35=BL36,IF(BH35=\"Bye\",BH36,IF(BH36=\"Bye\",BH35)),(IF(ISBLANK(BI35),\"\",IF(BL35>BL36,BH36,BH35))))","v":false},null,null,29,null,"ee",null,null,null,{"$f":"IF(ISBLANK(BI35),\"\",SUM(IF(BI35>BI36,1,0)+(IF(BJ35>BJ36,1,0)+(IF(BK35>BK36,1,0)))))","v":""},"P15",{"$f":"IF(BL35=BL36,IF(BH35=\"Bye\",BH36,IF(BH36=\"Bye\",BH35)),(IF(ISBLANK(BI35),\"\",IF(BL35>BL36,BH35,BH36))))","v":false},null,null,null,null,"P30","(V12)",null,null,null,null,null,{"$f":"IF(BZ34=FALSE,\"\",BZ34)","v":""},null,null,null,{"$f":"IF(ISBLANK(CA35),\"\",SUM(IF(CA35>CA27,1,0)+(IF(CB35>CB27,1,0)+(IF(CC35>CC27,1,0)))))","v":""},null,null,null,null,null,null,null,null,null,null,null,null,null,null,null,null,null,null,null,null,null,null,null,null,null,null,null,null,null,null,null,null,null,null,null,null,null,null,null,null,null,null,null,{"$f":"IF(#REF!<>\"\",IF(#REF!>I35,#REF!,IF(I35>#REF!,C35,\"Empate\")),\"\")","v":{"$error":"#REF!"}},{"$f":"IF(#REF!<>\"\",IF(#REF!<I35,#REF!,IF(I35<#REF!,C35,\"Empate\")),\"\")","v":{"$error":"#REF!"}},null,null,null,null,"24º",null,null,{"$f":"IF(AR37=AR38,IF(AV36=\"Bye\",AV38,IF(AV38=\"Bye\",AV36)),(IF(ISBLANK(AS36),\"\",IF(AR36>AR38,AV38,AV36))))","v":false},2,null,null,24,null,"z"]
[null,null,null,null,null,null,null,null,null,null,null,null,null,null,null,null,null,null,null,null,null,null,null,null,null,null,null,null,null,null,null,null,null,null,{"$f":"IF(BX25=BX29,IF(BT25=\"Bye\",BT29,IF(BT29=\"Bye\",BT29)),(IF(ISBLANK(BU25),\"\",IF(BX25>BX29,BT29,BT25))))","v":false},null,null,null,null,null,null,{"$f":"IF(AR36=AR38,IF(AV36=\"Bye\",AV38,IF(AV38=\"Bye\",AV36)),(IF(ISBLANK(AS36),\"\",IF(AR36>AR38,AV36,AV38))))","v":false},null,{"$f":"IF(ISBLANK(AS36),\"\",SUM(IF(AS36>AS38,1,0)+(IF(AT36>AT38,1,0)+(IF(AU36>AU38,1,0)))))","v":""},null,null,null,{"$f":"IF(AV35=FALSE,\"\",AV35)","v":""},null,null,{"$f":"IF(ISBLANK(AZ36),\"\",SUM(IF(AZ36>AZ38,1,0)+(IF(BA36>BA38,1,0)+(IF(BB36>BB38,1,0)))))","v":""},null,null,null,{"$f":"IF(BC35=FALSE,\"\",BC35)","v":""},null,null,30,null,"ff",null,null,null,{"$f":"IF(ISBLANK(BI35),\"\",SUM(IF(BI36>BI35,1,0)+(IF(BJ36>BJ35,1,0)+(IF(BK36>BK35,1,0)))))","v":""},null,{"$f":"IF(BN35=FALSE,\"\",BN35)","v":""},null,null,null,{"$f":"IF(ISBLANK(BO36),\"\",SUM(IF(BO36>BO38,1,0)+(IF(BP36>BP38,1,0)+(IF(BQ36>BQ38,1,0)))))","v":""},null,{"$f":"IF(BR36=BR38,IF(BN36=\"Bye\",BN38,IF(BN38=\"Bye\",BN36)),(IF(ISBLANK(BO36),\"\",IF(BR36>BR38,BN36,BN38))))","v":false},null,null,null,null,null,null,null,null,null,null,null,null,null,null,null,null,null,null,null,null,null,null,null,{"$f":"IF(AND(CP36=#REF!,#REF!>CQ36),#REF!,CO36)","v":{"$error":"#REF!"}},{"$f":"VLOOKUP(CR36,BM36:BX37,9,FALSE)","v":{"$error":"#REF!"}},{"$f":"VLOOKUP(CR36,BM36:BX37,8,FALSE)","v":{"$error":"#REF!"}},{"$f":"VLOOKUP(CR36,BM36:BX37,6,FALSE)","v":{"$error":"#REF!"}},{"$f":"IF(AND(CS36=#REF!,CT36=#REF!,#REF!>CU36),#REF!,CR36)","v":{"$error":"#REF!"}},{"$f":"VLOOKUP(CV36,BM36:BX37,9,FALSE)","v":{"$error":"#REF!"}},{"$f":"VLOOKUP(CV36,BM36:BX37,8,FALSE)","v":{"$error":"#REF!"}},{"$f":"VLOOKUP(CV36,BM36:BX37,6,FALSE)","v":{"$error":"#REF!"}},{"$f":"IF(AND(CW36=CW37,CX36=CX37,CY37>CY36),CV37,CV36)","v":{"$error":"#REF!"}},{"$f":"VLOOKUP(CZ36,BM36:BX37,9,FALSE)","v":{"$error":"#REF!"}},{"$f":"VLOOKUP(CZ36,BM36:BX37,8,FALSE)","v":{"$error":"#REF!"}},{"$f":"VLOOKUP(CZ36,BM36:BX37,6,FALSE)","v":{"$error":"#REF!"}},{"$f":"IF(AND(DA36=#REF!,DB36=#REF!,#REF!>DC36),#REF!,CZ36)","v":{"$error":"#REF!"}},{"$f":"VLOOKUP(DD36,BM36:BX37,9,FALSE)","v":{"$error":"#REF!"}},{"$f":"VLOOKUP(DD36,BM36:BX37,8,FALSE)","v":{"$error":"#REF!"}},{"$f":"VLOOKUP(DD36,BM36:BX37,6,FALSE)","v":{"$error":"#REF!"}},null,null,null,{"$f":"DD36","v":{"$error":"#REF!"}},{"$f":"VLOOKUP(DK36,BM36:BX37,2,FALSE)","v":{"$error":"#REF!"}},{"$f":"VLOOKUP(DK36,BM36:BX37,3,FALSE)","v":{"$error":"#REF!"}},{"$f":"VLOOKUP(DK36,BM36:BX37,4,FALSE)","v":{"$error":"#REF!"}},{"$f":"VLOOKUP(DK36,BM36:BX37,5,FALSE)","v":{"$error":"#REF!"}},{"$f":"VLOOKUP(DK36,BM36:BX37,6,FALSE)","v":{"$error":"#REF!"}},{"$f":"VLOOKUP(DK36,BM36:BX37,7,FALSE)","v":{"$error":"#REF!"}},{"$f":"VLOOKUP(DK36,BM36:BX37,8,FALSE)","v":{"$error":"#REF!"}},{"$f":"VLOOKUP(DK36,BM36:BX37,9,FALSE)","v":{"$error":"#REF!"}},null,null,{"$f":"IF(I36<>\"\",IF(I36>#REF!,C36,IF(#REF!>I36,#REF!,\"Empate\")),\"\")","v":""},{"$f":"IF(I36<>\"\",IF(I36<#REF!,C36,IF(#REF!<I36,#REF!,\"Empate\")),\"\")","v":""},null,null,null,null,"25º",null,null,{"$f":"IF(AY8=AY10,IF(BC8=\"Bye\",BC10,IF(BC10=\"Bye\",BC8)),(IF(ISBLANK(AZ8),\"\",IF(AY8>AY10,BC10,BC8))))","v":false},1,null,null,25,null,"aa"]
[null,null,null,null,null,null,null,null,null,null,null,null,null,null,null,null,null,null,null,null,null,null,null,null,null,null,null,null,null,null,{"$f":"IF(ISBLANK(AF33),\"\",SUM(IF(AF37>AF33,1,0)+(IF(AG37>AG33,1,0)+(IF(AH37>AH33,1,0)))))","v":""},null,null,null,{"$f":"IF(AI36=FALSE,\"\",AI36)","v":""},"(V11)",null,{"$f":"IF(ISBLANK(AM37),\"\",SUM(IF(AM37>AM33,1,0)+(IF(AN37>AN33,1,0)+(IF(AO37>AO33,1,0)))))","v":""},null,null,null,{"$f":"IF(AP36=FALSE,\"\",AP36)","v":""},null,null,null,"P40",null,{"$f":"IF(BR8=BR10,IF(BN8=\"Bye\",BN10,IF(BN10=\"Bye\",BN8)),(IF(ISBLANK(BO8),\"\",IF(BR8>BR10,BN10,BN8))))","v":false},null,null,null,null,"P32",null,{"$f":"IF(BL37=BL38,IF(BH37=\"Bye\",BH38,IF(BH38=\"Bye\",BH37)),(IF(ISBLANK(BI37),\"\",IF(BL37>BL38,BH38,BH37))))","v":false},null,null,31,null,"hh",null,null,null,{"$f":"IF(ISBLANK(BI37),\"\",SUM(IF(BI37>BI38,1,0)+(IF(BJ37>BJ38,1,0)+(IF(BK37>BK38,1,0)))))","v":""},"P16",{"$f":"IF(BL37=BL38,IF(BH37=\"Bye\",BH38,IF(BH38=\"Bye\",BH37)),(IF(ISBLANK(BI37),\"\",IF(BL37>BL38,BH37,BH38))))","v":false},null,"(V8)",null,null,null,{"$f":"IF(BT36=FALSE,\"\",BT36)","v":""},null,null,null,{"$f":"IF(ISBLANK(BU37),\"\",SUM(IF(BU37>BU33,1,0)+(IF(BV37>BV33,1,0)+(IF(BW37>BW33,1,0)))))","v":""},null,null,null,null,null,null,null,null,null,null,null,null,null,null,null,null,null,null,null,{"$f":"IF(AND(#REF!=CP37,CQ37>#REF!),#REF!,CO37)","v":{"$error":"#REF!"}},{"$f":"VLOOKUP(CR37,BM36:BX37,9,FALSE)","v":{"$error":"#REF!"}},{"$f":"VLOOKUP(CR37,BM36:BX37,8,FALSE)","v":{"$error":"#REF!"}},{"$f":"VLOOKUP(CR37,BM36:BX37,6,FALSE)","v":{"$error":"#REF!"}},{"$f":"IF(AND(CS37=#REF!,CT37=#REF!,#REF!>CU37),#REF!,CR37)","v":{"$error":"#REF!"}},{"$f":"VLOOKUP(CV37,BM36:BX37,9,FALSE)","v":{"$error":"#REF!"}},{"$f":"VLOOKUP(CV37,BM36:BX37,8,FALSE)","v":{"$error":"#REF!"}},{"$f":"VLOOKUP(CV37,BM36:BX37,6,FALSE)","v":{"$error":"#REF!"}},{"$f":"IF(AND(CW36=CW37,CX36=CX37,#REF!>CY36),CV36,CV37)","v":{"$error":"#REF!"}},{"$f":"VLOOKUP(CZ37,BM36:BX37,9,FALSE)","v":{"$error":"#REF!"}},{"$f":"VLOOKUP(CZ37,BM36:BX37,8,FALSE)","v":{"$error":"#REF!"}},{"$f":"VLOOKUP(CZ37,BM36:BX37,6,FALSE)","v":{"$error":"#REF!"}},{"$f":"IF(AND(#REF!=DA37,#REF!=DB37,DC37>#REF!),#REF!,CZ37)","v":{"$error":"#REF!"}},{"$f":"VLOOKUP(DD37,BM36:BX37,9,FALSE)","v":{"$error":"#REF!"}},{"$f":"VLOOKUP(DD37,BM36:BX37,8,FALSE)","v":{"$error":"#REF!"}},{"$f":"VLOOKUP(DD37,BM36:BX37,6,FALSE)","v":{"$error":"#REF!"}},null,null,null,{"$f":"DD37","v":{"$error":"#REF!"}},{"$f":"VLOOKUP(DK37,BM36:BX37,2,FALSE)","v":{"$error":"#REF!"}},{"$f":"VLOOKUP(DK37,BM36:BX37,3,FALSE)","v":{"$error":"#REF!"}},{"$f":"VLOOKUP(DK37,BM36:BX37,4,FALSE)","v":{"$error":"#REF!"}},{"$f":"VLOOKUP(DK37,BM36:BX37,5,FALSE)","v":{"$error":"#REF!"}},{"$f":"VLOOKUP(DK37,BM36:BX37,6,FALSE)","v":{"$error":"#REF!"}},{"$f":"VLOOKUP(DK37,BM36:BX37,7,FALSE)","v":{"$error":"#REF!"}},{"$f":"VLOOKUP(DK37,BM36:BX37,8,FALSE)","v":{"$error":"#REF!"}},{"$f":"VLOOKUP(DK37,BM36:BX37,9,FALSE)","v":{"$error":"#REF!"}},null,null,{"$f":"IF(Q37<>\"\",IF(Q37>#REF!,K37,IF(#REF!>Q37,#REF!,\"Empate\")),\"\")","v":""},{"$f":"IF(Q37<>\"\",IF(Q37<#REF!,K37,IF(#REF!<Q37,#REF!,\"Empate\")),\"\")","v":""},null,null,null,null,"26º",null,null,{"$f":"IF(AY12=AY14,IF(BC12=\"Bye\",BC14,IF(BC14=\"Bye\",BC12)),(IF(ISBLANK(AZ12),\"\",IF(AY12>AY14,BC14,BC12))))","v":false},1,null,null,26,null,"bb"]
[null,null,null,null,null,null,null,null,null,null,null,null,null,null,null,null,null,null,null,null,null,null,null,null,null,null,null,null,null,null,null,null,null,null,null,null,null,null,null,null,null,null,null,{"$f":"IF(ISBLANK(AS36),\"\",SUM(IF(AS38>AS36,1,0)+(IF(AT38>AT36,1,0)+(IF(AU38>AU36,1,0)))))","v":""},null,null,null,{"$f":"IF(AV37=FALSE,\"\",AV37)","v":""},"(V1)",null,{"$f":"IF(ISBLANK(AZ36),\"\",SUM(IF(AZ38>AZ36,1,0)+(IF(BA38>BA36,1,0)+(IF(BB38>BB36,1,0)))))","v":""},null,null,null,{"$f":"IF(BC37=FALSE,\"\",BC37)","v":""},null,null,32,null,"Paulo Águas",null,null,null,{"$f":"IF(ISBLANK(BI37),\"\",SUM(IF(BI38>BI37,1,0)+(IF(BJ38>BJ37,1,0)+(IF(BK38>BK37,1,0)))))","v":""},null,{"$f":"IF(BN37=FALSE,\"\",BN37)","v":""},null,null,null,{"$f":"IF(ISBLANK(BO36),\"\",SUM(IF(BO38>BO36,1,0)+(IF(BP38>BP36,1,0)+(IF(BQ38>BQ36,1,0)))))","v":""},null,null,null,null,null,null,null,null,null,null,null,null,null,null,null,null,null,null,null,null,null,null,null,null,null,null,null,null,null,null,null,null,null,null,null,null,null,null,null,null,null,null,null,null,null,null,null,null,null,null,null,null,null,null,null,null,null,null,null,null,null,"27º",null,null,{"$f":"IF(AY16=AY18,IF(BC16=\"Bye\",BC18,IF(BC18=\"Bye\",BC16)),(IF(ISBLANK(AZ16),\"\",IF(AY16>AY18,BC18,BC16))))","v":false},1,null,null,27,null,"cc"]
[null,null,null,null,null,null,null,null,null,null,null,null,null,null,null,null,null,null,null,null,null,null,null,null,null,null,null,null,null,null,null,null,null,null,null,null,null,null,null,null,null,null,null,null,null,null,null,null,null,null,null,null,null,null,null,null,null,null,null,null,null,null,null,null,null,null,null,null,null,null,null,null,null,null,null,null,null,null,null,null,null,null,null,null,null,null,null,null,null,null,null,null,null,null,null,null,null,null,null,null,null,null,null,null,null,null,null,null,null,null,null,null,null,null,null,null,null,null,null,null,null,null,null,null,null,null,null,null,null,null,null,"28º",null,null,{"$f":"IF(AY20=AY22,IF(BC20=\"Bye\",BC22,IF(BC22=\"Bye\",BC20)),(IF(ISBLANK(AZ20),\"\",IF(AY20>AY22,BC22,BC20))))","v":false},1,null,null,28,null,"dd"]
[null,null,null,null,null,null,null,null,null,null,null,null,null,null,null,null,null,null,null,null,null,null,null,null,null,null,null,null,null,null,null,null,null,null,null,null,null,null,null,null,null,null,null,null,null,null,null,null,null,null,null,null,null,null,null,null,null,null,null,null,null,null,null,null,null,null,null,null,null,null,null,null,null,null,null,null,null,null,null,null,null,null,null,null,null,null,null,null,null,null,null,null,null,null,null,null,null,null,null,null,null,null,null,null,null,null,null,null,null,null,null,null,null,null,null,null,null,null,null,null,null,null,null,null,null,null,null,null,null,null,null,"29º",null,null,{"$f":"IF(AY24=AY26,IF(BC24=\"Bye\",BC26,IF(BC26=\"Bye\",BC24)),(IF(ISBLANK(AZ24),\"\",IF(AY24>AY26,BC26,BC24))))","v":false},1,null,null,29,null,"ee"]
[null,null,null,null,null,null,null,null,null,null,null,null,null,null,null,null,null,null,null,null,null,null,null,null,null,null,null,null,null,null,null,null,null,null,null,null,null,null,null,null,null,null,null,null,null,null,null,null,null,null,null,null,null,null,null,null,null,null,null,null,null,null,null,null,null,null,null,null,null,null,null,null,null,null,null,null,null,null,null,null,null,null,null,null,null,null,null,null,null,null,null,null,null,null,null,null,null,null,null,null,null,null,null,null,null,null,null,null,null,null,null,null,null,null,null,null,null,null,null,null,null,null,null,null,null,null,null,null,null,null,null,"30º",null,null,{"$f":"IF(AY28=AY30,IF(BC28=\"Bye\",BC30,IF(BC30=\"Bye\",BC28)),(IF(ISBLANK(AZ28),\"\",IF(AY28>AY30,BC30,BC28))))","v":false},1,null,null,30,null,"ff"]
[null,null,null,null,null,null,null,null,null,null,null,null,null,null,null,null,null,null,null,null,null,null,null,null,null,null,null,null,null,null,null,null,null,null,null,null,null,null,null,null,null,null,null,null,null,null,null,null,null,null,null,null,null,null,null,null,null,null,null,null,null,null,null,null,null,null,null,null,null,null,null,null,null,null,null,null,null,null,null,null,null,null,null,null,null,null,null,null,null,null,null,null,null,null,null,null,null,null,null,null,null,null,null,null,null,null,null,null,null,null,null,null,null,null,null,null,null,null,null,null,null,null,null,null,null,null,null,null,null,null,null,"31º",null,null,{"$f":"IF(AY32=AY34,IF(BC32=\"Bye\",BC34,IF(BC34=\"Bye\",BC32)),(IF(ISBLANK(AZ32),\"\",IF(AY32>AY34,BC34,BC32))))","v":false},1,null,null,31,null,"hh"]
[null,null,null,null,null,null,null,null,null,null,null,null,null,null,null,null,null,null,null,null,null,null,null,null,null,null,null,null,null,null,null,null,null,null,null,null,null,null,null,null,null,null,null,null,null,null,null,null,null,null,null,null,null,null,null,null,null,null,null,null,null,null,null,null,null,null,null,null,null,null,null,null,null,null,null,null,null,null,null,null,null,null,null,null,null,null,null,null,null,null,null,null,null,null,null,null,null,null,null,null,null,null,null,null,null,null,null,null,null,null,null,null,null,null,null,null,null,null,null,null,null,null,null,null,null,null,null,null,null,null,null,"32º",null,null,{"$f":"IF(AY36=AY38,IF(BC36=\"Bye\",BC38,IF(BC38=\"Bye\",BC36)),(IF(ISBLANK(AZ36),\"\",IF(AY36>AY38,BC38,BC36))))","v":false},1,null,null,32,null,"Paulo Águas"]
[]
[]
[]
[]
[]
[]
[]
[]
[]
[]
[]
[]
[]
[]
[]
[]
[]
[]
[]
[]
[]
[]
[]
[]
[]
[]
[]
[]
[]
[]
[]
[]
[]
[]
[]
[]
[]
[]
[]
[]
[]
[]
[]
[]
[null,null,null,null,null,null,null,null,null,null,null,null,null,null,null,null,null,null,null,null,null,null,null,null,null,null,null,null,null,null,null,null,null,null,null,null,null,null,null,null,null,null,null,null,null,null,null,null,null,null,null,null,null,null,null,null,null,null,null,null,null,null,null,null,null,null,null,null,null,null,null,null,null,null,null,null,null,null,null,null,null,null,null,null,null,null,null,null,null,null,null,null,null,null,null,null,null,null,null,null,null,null,null,null,null,null,null,null,null,null,null,null,null,null,null,null,null,null,null,null,null,null,null,null,null,null,null,null,null,null,null,null,null,null,{"$f":"IF(DZ2>0,#REF!,\"\")","v":""}]

{"sheet":"4","index":21,"n_rows":79,"n_cols":59,"rows_kept":79,"cut":false,"hidden":true,"merged":[[23,16,23,20],[23,21,23,23],[24,16,24,20],[24,21,24,23],[22,16,22,20],[7,50,14,54],[8,47,9,49],[11,47,12,49],[21,21,21,23],[22,21,22,23],[0,15,1,23],[0,3,0,14],[1,3,1,14],[3,8,3,12],[1,46,1,56],[2,55,2,56],[21,16,21,20],[3,0,3,1],[3,2,3,7],[3,15,3,23],[2,15,2,21],[20,16,20,20],[20,21,20,23]]}
[null,null,null,"Direcção Regional de Educação do Algarve",null,null,null,null,null,null,null,null,null,null,null,"Ténis de Mesa",null,null,null,null,null,null,null,null,null,null,null,null,null,null,null,null,null,null,null,null,null,null,null,null,null,null,null,null,null,null,null,null,null,"Quadro para 2 a 4 Jogadores"]
[null,null,null,{"$f":"\"Ano Lectivo \"&Apoio!F10","v":"Ano Lectivo 2017/2018"},null,null,null,null,null,null,null,null,null,null,null,null,null,null,null,null,null,null,null,null,null,null,null,null,null,null,null,null,null,null,null,null,null,null,null,null,null,null,null,null,null,null,"Lista de Participantes"]
[null,null,null,null,null,null,null,null,null,null,null,null,null,null,null,{"$f":"'Ficha de Inscrição'!$J$4","v":"2018-01-17"},null,null,null,null,null,null,null,null,null,null,null,null,null,null,null,null,null,null,null,null,null,null,null,null,null,null,null,null,null,null,"Ordem","Nº","Nome (1º e último)","Escola","Abv.","Ano Nasc.","Escalão","Sexo","Observações","Insc. Prova",null,"Pontos Rank"]
["SH-Juv",null,{"$f":"LOOKUP(A4,Apoio!N9:N39,Apoio!O9:O39)","v":"Singulares Homens - Juvenis"},null,null,null,null,null,{"$f":"'Ficha de Inscrição'!$A$5","v":"Torneio Nº 4"},null,null,null,null,null,null,{"$f":"\"Escola: \"&'Ficha de Inscrição'!$D$4","v":"Escola: ACav.Silva"},null,null,null,null,null,null,null,null,null,null,null,null,null,null,null,null,null,null,null,null,null,null,null,null,null,null,null,null,null,null,1,null,null,null,null,null,null,null,null,null,null,{"$f":"IF(AW4=\"\",\"\",VLOOKUP(BG4,$P$28:$Q$31,2,FALSE))","v":""},{"$f":"AW4&\" (\"&AY4&\")\"","v":" ()"}]
[null,"Calendário",null,null,null,null,null,null,null,null,null,null,null,null,null,"2ª FASE",null,null,null,null,null,null,null,null,null,null,null,null,null,null,null,null,null,null,null,null,null,null,null,null,null,null,null,null,null,null,2,null,null,null,null,null,null,null,null,null,null,{"$f":"IF(AW5=\"\",\"\",VLOOKUP(BG5,$P$28:$Q$31,2,FALSE))","v":""},{"$f":"AW5&\" (\"&AY5&\")\"","v":" ()"}]
[null,null,null,null,null,null,null,null,null,null,null,null,null,null,null,null,null,null,null,null,null,null,null,null,null,null,null,"Colocar Equipas",null,null,null,null,null,null,null,null,"Ordenar p/ Pts 1",null,"Vencedores","Derrotados",null,null,null,null,null,null,3,null,null,null,null,null,null,null,null,null,null,{"$f":"IF(AW6=\"\",\"\",VLOOKUP(BG6,$P$28:$Q$31,2,FALSE))","v":""},{"$f":"AW6&\" (\"&AY6&\")\"","v":" ()"}]
[null,null,null,null,null,null,null,null,null,null,null,null,null,1,null,null,null,null,null,null,null,null,null,null,null,null,null,"Grupo A",null,null,null,null,null,null,null,null,null,null,{"$f":"IF(G11<>\"\",IF(G11>G10,C11,IF(G10>G11,C10,\"Empate\")),\"\")","v":""},{"$f":"IF(G11<>\"\",IF(G11<G10,C11,IF(G10<G11,C10,\"Empate\")),\"\")","v":""},null,null,null,null,null,null,4,null,null,null,null,null,null,null,null,null,null,{"$f":"IF(AW7=\"\",\"\",VLOOKUP(BG7,$P$28:$Q$31,2,FALSE))","v":""},{"$f":"AW7&\" (\"&AY7&\")\"","v":" ()"}]
[null,null,null,null,null,null,null,null,null,null,null,null,null,16,null,null,null,null,null,null,null,null,null,null,null,null,null,"Jogadores","Jg","V","E","D","GM","GS","DG","Pts","Rank","Pts",{"$f":"IF(G12<>\"\",IF(G12>G13,C12,IF(G13>G12,C13,\"Empate\")),\"\")","v":""},{"$f":"IF(G12<>\"\",IF(G12<G13,C12,IF(G13<G12,C13,\"Empate\")),\"\")","v":""}]
[null,"NºJ","Jogadores",1,2,3,"R",null,null,null,null,null,null,null,null,null,null,null,null,null,null,null,null,null,null,null,{"$f":"COUNTIF($AK$9:$AK$12,CONCATENATE(\">=\",AK9))","v":1},{"$f":"IF(P22=\"\",\"\",CONCATENATE(P22,\" (\",V22,\")\"))","v":""},{"$f":"COUNT(G11,G15,G23)","v":0},{"$f":"COUNTIF(AM7:AM12,AB9)","v":6},{"$f":"AC9-(AD9+AF9)","v":-12},{"$f":"COUNTIF(AN7:AN12,AB9)","v":6},{"$f":"SUM(D11:F11,D15:F15,D23:F23)","v":0},{"$f":"SUM(D10:F10,D16:F16,D22:F22)","v":0},{"$f":"AG9-AH9","v":0},{"$f":"IF(AC9=0,0,AD9*2+AF9*1)","v":0},{"$f":"AJ9*1000000+(AG9-AH9)*10000+AG9*100+AL9","v":4},4,{"$f":"IF(G15<>\"\",IF(G15>G16,C15,IF(G16>G15,C16,\"Empate\")),\"\")","v":""},{"$f":"IF(G15<>\"\",IF(G15<G16,C15,IF(G16<G15,C16,\"Empate\")),\"\")","v":""},null,null,null,null,null,null,null,"Se pretender efectuar altrerações apague, e volte a introduzir os jogadores que pretender nos espaços disponíveis."]
[null,{"$f":"$A$4","v":"SH-Juv"},{"$f":"AB10","v":""},null,null,null,{"$f":"IF(ISBLANK(D10),\"\",SUM(IF(D10>D11,1,0)+(IF(E10>E11,1,0)+(IF(F10>F11,1,0)))))","v":""},null,null,null,null,null,null,9,null,"Classificação",null,null,null,null,null,null,null,null,null,null,{"$f":"COUNTIF($AK$9:$AK$12,CONCATENATE(\">=\",AK10))","v":2},{"$f":"IF(P23=\"\",\"\",CONCATENATE(P23,\" (\",V23,\")\"))","v":""},{"$f":"COUNT(G10,G18,G21)","v":0},{"$f":"COUNTIF(AM7:AM12,AB10)","v":6},{"$f":"AC10-(AD10+AF10)","v":-12},{"$f":"COUNTIF(AN7:AN12,AB10)","v":6},{"$f":"SUM(D10:F10,D18:F18,D21:F21)","v":0},{"$f":"SUM(D11:F11,D17:F17,D20:F20)","v":0},{"$f":"AG10-AH10","v":0},{"$f":"IF(AC10=0,0,AD10*2+AF10*1)","v":0},{"$f":"AJ10*1000000+(AG10-AH10)*10000+AG10*100+AL10","v":3},3,{"$f":"IF(G17<>\"\",IF(G17>G18,C17,IF(G18>G17,C18,\"Empate\")),\"\")","v":""},{"$f":"IF(G17<>\"\",IF(G17<G18,C17,IF(G18<G17,C18,\"Empate\")),\"\")","v":""}]
[null,1,{"$f":"AB9","v":""},null,null,null,{"$f":"IF(ISBLANK(D10),\"\",SUM(IF(D11>D10,1,0)+(IF(E11>E10,1,0)+(IF(F11>F10,1,0)))))","v":""},null,null,null,null,null,null,8,"Cl",{"$f":"AB8","v":"Jogadores"},"Jg","V","E","D","PM","PS","DP","Pt.",null,null,{"$f":"COUNTIF($AK$9:$AK$12,CONCATENATE(\">=\",AK11))","v":3},{"$f":"IF(P24=\"\",\"\",CONCATENATE(P24,\" (\",V24,\")\"))","v":""},{"$f":"COUNT(G12,G16,G20)","v":0},{"$f":"COUNTIF(AM7:AM12,AB11)","v":6},{"$f":"AC11-(AD11+AF11)","v":-12},{"$f":"COUNTIF(AN7:AN12,AB11)","v":6},{"$f":"SUM(D12:F12,D16:F16,D20:F20)","v":0},{"$f":"SUM(D13:F13,D15:F15,D21:F21)","v":0},{"$f":"AG11-AH11","v":0},{"$f":"IF(AC11=0,0,AD11*2+AF11*1)","v":0},{"$f":"AJ11*1000000+(AG11-AH11)*10000+AG11*100+AL11","v":2},2,{"$f":"IF(G22<>\"\",IF(G22>G23,C22,IF(G23>G22,C23,\"Empate\")),\"\")","v":""},{"$f":"IF(G22<>\"\",IF(G22<G23,C22,IF(G23<G22,C23,\"Empate\")),\"\")","v":""}]
[null,{"$f":"$A$4","v":"SH-Juv"},{"$f":"IF(C13=\"\",\"\",AB11)","v":""},null,null,null,{"$f":"IF(ISBLANK(D12),\"\",SUM(IF(D12>D13,1,0)+(IF(E12>E13,1,0)+(IF(F12>F13,1,0)))))","v":""},null,null,null,null,null,null,null,1,{"$f":"VLOOKUP($O12,$AA$9:$AJ$12,2,FALSE)","v":""},{"$f":"IF(P12=\"\",\"\",VLOOKUP($O12,$AA$9:$AJ$12,3,FALSE))","v":""},{"$f":"IF(P12=\"\",\"\",VLOOKUP($O12,$AA$9:$AJ$12,4,FALSE))","v":""},{"$f":"IF(P12=\"\",\"\",VLOOKUP($O12,$AA$9:$AJ$12,5,FALSE))","v":""},{"$f":"IF(P12=\"\",\"\",VLOOKUP($O12,$AA$9:$AJ$12,6,FALSE))","v":""},{"$f":"IF(P12=\"\",\"\",VLOOKUP($O12,$AA$9:$AJ$12,7,FALSE))","v":""},{"$f":"IF(P12=\"\",\"\",VLOOKUP($O12,$AA$9:$AJ$12,8,FALSE))","v":""},{"$f":"IF(P12=\"\",\"\",VLOOKUP($O12,$AA$9:$AJ$12,9,FALSE))","v":""},{"$f":"IF(P12=\"\",\"\",VLOOKUP($O12,$AA$9:$AJ$12,10,FALSE))","v":""},null,null,{"$f":"COUNTIF($AK$9:$AK$12,CONCATENATE(\">=\",AK12))","v":4},{"$f":"IF(P25=\"\",\"\",CONCATENATE(P25,\" (\",V25,\")\"))","v":""},{"$f":"COUNT(G13,G17,G22)","v":0},{"$f":"COUNTIF(AM7:AM12,AB12)","v":6},{"$f":"AC12-(AD12+AF12)","v":-12},{"$f":"COUNTIF(AN7:AN12,AB12)","v":6},{"$f":"SUM(D13:F13,D17:F17,D22:F22)","v":0},{"$f":"SUM(D12:F12,D18:F18,D23:F23)","v":0},{"$f":"AG12-AH12","v":0},{"$f":"IF(AC12=0,0,AD12*2+AF12*1)","v":0},{"$f":"AJ12*1000000+(AG12-AH12)*10000+AG12*100+AL12","v":1},1,{"$f":"IF(G21<>\"\",IF(G21>G20,C21,IF(G20>G21,C20,\"Empate\")),\"\")","v":""},{"$f":"IF(G21<>\"\",IF(G21<G20,C21,IF(G20<G21,C20,\"Empate\")),\"\")","v":""},null,null,null,null,null,null,null,"Para efectuar alterações à de colocações nos grupos dos jogadores, altere a coluna \"ORDEM\" dando uma nova ordem de nºs e depois clique em Ordenar."]
[null,{"$f":"B11+1","v":2},{"$f":"AB12","v":""},null,null,null,{"$f":"IF(ISBLANK(D12),\"\",SUM(IF(D13>D12,1,0)+(IF(E13>E12,1,0)+(IF(F13>F12,1,0)))))","v":""},null,null,null,null,null,null,5,2,{"$f":"VLOOKUP($O13,$AA$9:$AJ$12,2,FALSE)","v":""},{"$f":"IF(P13=\"\",\"\",VLOOKUP($O13,$AA$9:$AJ$12,3,FALSE))","v":""},{"$f":"IF(P13=\"\",\"\",VLOOKUP($O13,$AA$9:$AJ$12,4,FALSE))","v":""},{"$f":"IF(P13=\"\",\"\",VLOOKUP($O13,$AA$9:$AJ$12,5,FALSE))","v":""},{"$f":"IF(P13=\"\",\"\",VLOOKUP($O13,$AA$9:$AJ$12,6,FALSE))","v":""},{"$f":"IF(P13=\"\",\"\",VLOOKUP($O13,$AA$9:$AJ$12,7,FALSE))","v":""},{"$f":"IF(P13=\"\",\"\",VLOOKUP($O13,$AA$9:$AJ$12,8,FALSE))","v":""},{"$f":"IF(P13=\"\",\"\",VLOOKUP($O13,$AA$9:$AJ$12,9,FALSE))","v":""},{"$f":"IF(P13=\"\",\"\",VLOOKUP($O13,$AA$9:$AJ$12,10,FALSE))","v":""}]
[null,null,null,null,null,null,null,null,null,null,null,null,null,12,3,{"$f":"VLOOKUP($O14,$AA$9:$AJ$12,2,FALSE)","v":""},{"$f":"IF(P14=\"\",\"\",VLOOKUP($O14,$AA$9:$AJ$12,3,FALSE))","v":""},{"$f":"IF(P14=\"\",\"\",VLOOKUP($O14,$AA$9:$AJ$12,4,FALSE))","v":""},{"$f":"IF(P14=\"\",\"\",VLOOKUP($O14,$AA$9:$AJ$12,5,FALSE))","v":""},{"$f":"IF(P14=\"\",\"\",VLOOKUP($O14,$AA$9:$AJ$12,6,FALSE))","v":""},{"$f":"IF(P14=\"\",\"\",VLOOKUP($O14,$AA$9:$AJ$12,7,FALSE))","v":""},{"$f":"IF(P14=\"\",\"\",VLOOKUP($O14,$AA$9:$AJ$12,8,FALSE))","v":""},{"$f":"IF(P14=\"\",\"\",VLOOKUP($O14,$AA$9:$AJ$12,9,FALSE))","v":""},{"$f":"IF(P14=\"\",\"\",VLOOKUP($O14,$AA$9:$AJ$12,10,FALSE))","v":""}]
[null,{"$f":"$A$4","v":"SH-Juv"},{"$f":"AB9","v":""},null,null,null,{"$f":"IF(ISBLANK(D15),\"\",SUM(IF(D15>D16,1,0)+(IF(E15>E16,1,0)+(IF(F15>F16,1,0)))))","v":""},null,null,null,null,null,null,null,4,{"$f":"VLOOKUP($O15,$AA$9:$AJ$12,2,FALSE)","v":""},{"$f":"IF(P15=\"\",\"\",VLOOKUP($O15,$AA$9:$AJ$12,3,FALSE))","v":""},{"$f":"IF(P15=\"\",\"\",VLOOKUP($O15,$AA$9:$AJ$12,4,FALSE))","v":""},{"$f":"IF(P15=\"\",\"\",VLOOKUP($O15,$AA$9:$AJ$12,5,FALSE))","v":""},{"$f":"IF(P15=\"\",\"\",VLOOKUP($O15,$AA$9:$AJ$12,6,FALSE))","v":""},{"$f":"IF(P15=\"\",\"\",VLOOKUP($O15,$AA$9:$AJ$12,7,FALSE))","v":""},{"$f":"IF(P15=\"\",\"\",VLOOKUP($O15,$AA$9:$AJ$12,8,FALSE))","v":""},{"$f":"IF(P15=\"\",\"\",VLOOKUP($O15,$AA$9:$AJ$12,9,FALSE))","v":""},{"$f":"IF(P15=\"\",\"\",VLOOKUP($O15,$AA$9:$AJ$12,10,FALSE))","v":""}]
[null,{"$f":"B13+1","v":3},{"$f":"AB11","v":""},null,null,null,{"$f":"IF(ISBLANK(D15),\"\",SUM(IF(D16>D15,1,0)+(IF(E16>E15,1,0)+(IF(F16>F15,1,0)))))","v":""},null,null,null,null,null,null,13]
[null,{"$f":"$A$4","v":"SH-Juv"},{"$f":"AB12","v":""},null,null,null,{"$f":"IF(ISBLANK(D17),\"\",SUM(IF(D17>D18,1,0)+(IF(E17>E18,1,0)+(IF(F17>F18,1,0)))))","v":""},null,null,null,null,null,null,4]
[null,{"$f":"B16+1","v":4},{"$f":"IF(C17=\"\",\"\",AB10)","v":""},null,null,null,{"$f":"IF(ISBLANK(D17),\"\",SUM(IF(D18>D17,1,0)+(IF(E18>E17,1,0)+(IF(F18>F17,1,0)))))","v":""}]
[null,null,null,null,null,null,null,null,null,null,null,null,null,3]
[null,{"$f":"$A$4","v":"SH-Juv"},{"$f":"AB11","v":""},null,null,null,{"$f":"IF(ISBLANK(D20),\"\",SUM(IF(D20>D21,1,0)+(IF(E20>E21,1,0)+(IF(F20>F21,1,0)))))","v":""},null,null,null,null,null,null,null,null,"Jogadores"]
[null,{"$f":"B18+1","v":5},{"$f":"AB10","v":""},null,null,null,{"$f":"IF(ISBLANK(D20),\"\",SUM(IF(D21>D20,1,0)+(IF(E21>E20,1,0)+(IF(F21>F20,1,0)))))","v":""},null,null,null,null,null,"#",null,"NºJ","Nome (1º e último)","Escola",null,null,null,null,"Abv.*"]
[null,{"$f":"$A$4","v":"SH-Juv"},{"$f":"AB12","v":""},null,null,null,{"$f":"IF(ISBLANK(D22),\"\",SUM(IF(D22>D23,1,0)+(IF(E22>E23,1,0)+(IF(F22>F23,1,0)))))","v":""},null,null,null,null,null,1,null,{"$f":"IF(AV4=\"\",\"\",AV4)","v":""},"","",null,null,null,null,{"$f":"IF(AY4=\"\",\"\",AY4)","v":""}]
[null,{"$f":"B21+1","v":6},{"$f":"IF(C22=\"\",\"\",AB9)","v":""},null,null,null,{"$f":"IF(ISBLANK(D22),\"\",SUM(IF(D23>D22,1,0)+(IF(E23>E22,1,0)+(IF(F23>F22,1,0)))))","v":""},null,null,null,null,null,2,null,"","","",null,null,null,null,{"$f":"IF(AY5=\"\",\"\",AY5)","v":""}]
[null,null,null,null,null,null,null,null,null,null,null,null,3,null,"","","",null,null,null,null,{"$f":"IF(AY6=\"\",\"\",AY6)","v":""}]
[null,null,null,null,null,null,null,null,null,null,null,null,4,null,"","","",null,null,null,null,{"$f":"IF(AY7=\"\",\"\",AY7)","v":""}]
[null,null,null,null,null,null,null,null,null,null,null,null,null,4]
[null,null,null,null,null,null,null,null,null,null,null,null,null,null,"Cl.","Ranking","Pt."]
[null,null,null,null,null,null,null,null,null,null,null,null,null,null,"1º",{"$f":"P12","v":""},12]
[null,null,null,null,null,null,null,null,null,null,null,null,null,null,"2º",{"$f":"P13","v":""},11]
[null,null,null,null,null,null,null,null,null,null,null,null,null,null,"3º",{"$f":"P14","v":""},10]
[null,null,null,null,null,null,null,null,null,null,null,null,null,null,"4º",{"$f":"P15","v":""},8]
[]
[]
[null,null,null,null,null,null,null,null,null,null,null,null,null,8]
[]
[]
[]
[]
[]
[]
[null,null,null,null,null,null,null,null,null,null,null,null,null,null,null,null,null,null,null,null,null,null,null,null,null,null,null,{"$f":"IF(AW13=\"\",\"\",IF($AW$15=\"\",AW13,\"\"))","v":""}]
[null,null,null,null,null,null,null,null,null,null,null,null,null,null,null,null,null,null,null,null,null,null,null,null,null,null,null,{"$f":"IF(AW14=\"\",\"\",IF($AW$15=\"\",AW14,\"\"))","v":""}]
[]
[]
[]
[null,null,null,null,null,null,null,null,null,null,null,null,null,null,null,null,null,null,null,null,null,null,null,null,null,null,null,null,"Lista ",null,"ABV","Nome"]
[null,null,null,null,null,null,null,null,null,null,null,null,null,null,null,null,null,null,null,null,null,null,null,null,null,null,null,null,0,null,"EM-Juv","Equipas Mistas - Juvenis"]
[null,null,null,null,null,null,null,null,null,null,null,null,null,null,null,null,null,null,null,null,null,null,null,null,null,null,null,null,1,null,"PH-InfA","Pares Homens - Infantis A"]
[null,null,null,null,null,null,null,null,null,null,null,null,null,null,null,null,null,null,null,null,null,null,null,null,null,null,null,null,2,null,"PH-InfB","Pares Homens - Infantis B"]
[null,null,null,null,null,null,null,null,null,null,null,null,null,null,null,null,null,null,null,null,null,null,null,null,null,null,null,null,3,null,"PH-Ini","Pares Homens - Iniciados"]
[null,null,null,null,null,null,null,null,null,null,null,null,null,null,null,null,null,null,null,null,null,null,null,null,null,null,null,null,4,null,"PH-Jun","Pares Homens - Juniores"]
[null,null,null,null,null,null,null,null,null,null,null,null,null,null,null,null,null,null,null,null,null,null,null,null,null,null,null,null,5,null,"PH-Juv","Pares Homens - Juvenis"]
[null,null,null,null,null,null,null,null,null,null,null,null,null,null,null,null,null,null,null,null,null,null,null,null,null,null,null,null,6,null,"PM-Ini","Pares Mistos - Iniciados"]
[null,null,null,null,null,null,null,null,null,null,null,null,null,null,null,null,null,null,null,null,null,null,null,null,null,null,null,null,7,null,"PS-InfA","Pares Senhoras - Infantis A"]
[null,null,null,null,null,null,null,null,null,null,null,null,null,null,null,null,null,null,null,null,null,null,null,null,null,null,null,null,8,null,"PS-InfB","Pares Senhoras - Infantis B"]
[null,null,null,null,null,null,null,null,null,null,null,null,null,null,null,null,null,null,null,null,null,null,null,null,null,null,null,null,9,null,"PS-Ini","Pares Senhoras - Iniciados"]
[null,null,null,null,null,null,null,null,null,null,null,null,null,null,null,null,null,null,null,null,null,null,null,null,null,null,null,null,10,null,"PS-Jun","Pares Senhoras - Juniores"]
[null,null,null,null,null,null,null,null,null,null,null,null,null,null,null,null,null,null,null,null,null,null,null,null,null,null,null,null,11,null,"PS-Juv","Pares Senhoras - Juvenis"]
[null,null,null,null,null,null,null,null,null,null,null,null,null,null,null,null,null,null,null,null,null,null,null,null,null,null,null,null,12,null,"SH-InfA","Singulares Homens - Infantis A"]
[null,null,null,null,null,null,null,null,null,null,null,null,null,null,null,null,null,null,null,null,null,null,null,null,null,null,null,null,13,null,"SH-InfB","Singulares Homens - Infantis B"]
[null,null,null,null,null,null,null,null,null,null,null,null,null,null,null,null,null,null,null,null,null,null,null,null,null,null,null,null,14,null,"SH-Ini","Singulares Homens - Iniciados"]
[null,null,null,null,null,null,null,null,null,null,null,null,null,null,null,null,null,null,null,null,null,null,null,null,null,null,null,null,15,null,"SH-Jun","Singulares Homens - Juniores"]
[null,null,null,null,null,null,null,null,null,null,null,null,null,null,null,null,null,null,null,null,null,null,null,null,null,null,null,null,16,null,"SH-Juv","Singulares Homens - Juvenis"]
[null,null,null,null,null,null,null,null,null,null,null,null,null,null,null,null,null,null,null,null,null,null,null,null,null,null,null,null,17,null,"SS-InfA","Singulares Senhoras - Infantis A"]
[null,null,null,null,null,null,null,null,null,null,null,null,null,null,null,null,null,null,null,null,null,null,null,null,null,null,null,null,18,null,"SS-InfB","Singulares Senhoras - Infantis B"]
[null,null,null,null,null,null,null,null,null,null,null,null,null,null,null,null,null,null,null,null,null,null,null,null,null,null,null,null,19,null,"SS-Ini","Singulares Senhoras - Iniciados"]
[null,null,null,null,null,null,null,null,null,null,null,null,null,null,null,null,null,null,null,null,null,null,null,null,null,null,null,null,20,null,"SS-Jun","Singulares Senhoras - Juniores"]
[null,null,null,null,null,null,null,null,null,null,null,null,null,null,null,null,null,null,null,null,null,null,null,null,null,null,null,null,21,null,"SS-Juv","Singulares Senhoras - Juvenis"]
[null,null,null,null,null,null,null,null,null,null,null,null,null,null,null,null,null,null,null,null,null,null,null,null,null,null,null,null,22]
[null,null,null,null,null,null,null,null,null,null,null,null,null,null,null,null,null,null,null,null,null,null,null,null,null,null,null,null,23]
[null,null,null,null,null,null,null,null,null,null,null,null,null,null,null,null,null,null,null,null,null,null,null,null,null,null,null,null,24]
[null,null,null,null,null,null,null,null,null,null,null,null,null,null,null,null,null,null,null,null,null,null,null,null,null,null,null,null,25]
[null,null,null,null,null,null,null,null,null,null,null,null,null,null,null,null,null,null,null,null,null,null,null,null,null,null,null,null,26]
[null,null,null,null,null,null,null,null,null,null,null,null,null,null,null,null,null,null,null,null,null,null,null,null,null,null,null,null,27]
[null,null,null,null,null,null,null,null,null,null,null,null,null,null,null,null,null,null,null,null,null,null,null,null,null,null,null,null,28]
[null,null,null,null,null,null,null,null,null,null,null,null,null,null,null,null,null,null,null,null,null,null,null,null,null,null,null,null,29]
[null,null,null,null,null,null,null,null,null,null,null,null,null,null,null,null,null,null,null,null,null,null,null,null,null,null,null,null,30]
[null,null,null,null,null,null,null,null,null,null,null,null,null,null,null,null,null,null,null,null,null,null,null,null,null,null,null,null,"fc"]
[null,null,null,null,null,null,null,null,null,null,null,null,null,null,null,null,null,null,null,null,null,null,null,null,null,null,null,null,"v"]